{"text_format":"1","workbook":"xlsx","n_sheets":25,"sheets":["Инструкция","проверка","Титульный","списки","данные об организации","Техн характер системы","Техн характер системы (бсх)","полезный отпуск","баланс ВО","отчет по реализации","отчет по электроэнергии","отчет по электроэнергии (бсх)","ремонт хозспособ","ремонт хозспособ (бсх)","ремонт подряд","ремонт подряд (бсх)","Смета факт","выручка по форме №2","показатели надежн и качества","отчет ПП1","отчет ПП2","НП 2015","Смета 2015","анализ факт сметы","расчет выпадающих"],"not_rendered":{"charts":0,"images":6,"macros":1,"external_links":1,"defined_names":273,"comments":1,"pivot_tables":0},"unopened":[],"bounds":{"document_bytes":16777216,"sheet_cells":100000,"rows_first":2000,"rows_last":500,"rows_between":2000,"halvings":0,"cell_chars":16384,"cell_head_chars":4096},"cells_cut":0,"cells_raw":0,"read":"whole","date_system":"1900"}

{"sheet":"Инструкция","index":0,"n_rows":0,"n_cols":0,"rows_kept":0,"cut":false,"hidden":false,"merged":[]}

{"sheet":"проверка","index":1,"n_rows":15,"n_cols":9,"rows_kept":15,"cut":false,"hidden":false,"merged":[[0,1,0,8],[14,0,14,8]]}
[null,"ЛИСТ ПРОВЕРКИ на наличие ошибок в заполнении шаблона"]
[]
[]
["Ссылка","Наименование листа","Ячейка","Должно быть","Ссылка","Наименование листа","Ячейка","Результат проверки","Примечание"]
["полезный отпуск'!M26","Полезный отпуск","М26","равно","отчет по реализации'!F40","Отчет по реализации","F40+F73",{"$f":"IF(('полезный отпуск'!M26-'отчет по реализации'!M40-'отчет по реализации'!M73)=0,\" \",\"ОШИБКА\")","v":" "},"полезный отпуск по категории потребителей \"население\" должен соответствовать его расшифровке с разбивкой по наличию приборов учета и степени благоустройства"]
["полезный отпуск'!L26","Полезный отпуск","L26","равно","отчет по реализации'!F41","Отчет по реализации","F41+F74",{"$f":"IF(('полезный отпуск'!L26-'отчет по реализации'!M41-'отчет по реализации'!M74)=0,\" \",\"ОШИБКА\")","v":" "},"полезный отпуск по категории потребителей \"бюджет\" должен соответствовать его расшифровке по наличию приборов учета"]
["полезный отпуск'!G26","Полезный отпуск","G26+N26","равно","отчет по реализации'!F42","Отчет по реализации","F42+F75",{"$f":"IF(('полезный отпуск'!G26+'полезный отпуск'!N26-'отчет по реализации'!M42-'отчет по реализации'!M75)=0,\" \",\"ОШИБКА\")","v":" "},"полезный отпуск по категории потребителей \"прочие\" должен соответствовать его расшифровке по наличию приборов учета"]
["баланс ВО'!D32","баланс ВО","D32","не равно \"0\"",null,null,null,{"$f":"IF('баланс ВО'!D32=0,\"ОШИБКА\",\" \")","v":"ОШИБКА"},"данные необходимы для заполнения отчетной формы по производственной программе и шаблонов ФАС"]
["баланс ВО'!D36","баланс ВО","D36","не равно \"0\"",null,null,null,{"$f":"IF('баланс ВО'!D36=0,\"ОШИБКА\",\" \")","v":"ОШИБКА"},"то же"]
["баланс ВО'!D38","баланс ВО","D38","не равно \"0\"",null,null,null,{"$f":"IF('баланс ВО'!D38=0,\"ОШИБКА\",\" \")","v":"ОШИБКА"},"то же"]
["выручка по форме №2'!C62","выручка по форме №2","C62","не равно \"0\"",null,null,null,{"$f":"IF('выручка по форме №2'!C62=0,\" \",\"ОШИБКА\")","v":" "},"статьи в расшифровке должны соответствовать бухгалтерской отчетности за 2015 год, представленный в налоговый орган"]
["показатели надежн и качества'!C14","показатели надежн и качества","C14","не равно \"0\"",null,null,null,{"$f":"IF('показатели надежн и качества'!D14=0,\"ОШИБКА\",\" \")","v":"ОШИБКА"},"статьи в расшифровке должны соответствовать бухгалтерской отчетности за 2015 год, представленный в налоговый орган"]
["показатели надежн и качества'!C17","показатели надежн и качества","C17","не равно \"0\"",null,null,null,{"$f":"IF('показатели надежн и качества'!D17=0,\"ОШИБКА\",\" \")","v":"ОШИБКА"},"статьи в расшифровке должны соответствовать бухгалтерской отчетности за 2015 год, представленный в налоговый орган"]
[]
["Кроме того, фактические данные по себестоимости и товарной продукции с листа \"смета факт\" должны соответствовать соответствующим строкам расшифровки формы №2 с одноименного листа по виду деятельности, на который заполняется шаблон!!!"]

{"sheet":"Титульный","index":2,"n_rows":23,"n_cols":3,"rows_kept":23,"cut":false,"hidden":false,"merged":[[1,0,1,2]]}
[]
["ОТЧЕТ О ВЫПОЛНЕНИИ ПРОИЗВОДСТВЕННОЙ ПРОГРАММЫ"]
[]
[null,"Регион РФ","Томская область"]
[]
[null,"Муниципальный район ",""]
[null,"Муниципальное образование ",""]
[]
[null,"ИНН ",""]
[null,"Наименование  организации",{"$f":"IF(Титульный!C9=\"\",\" \",INDEX(списки!M2:N300,MATCH(Титульный!C9*1,списки!M2:M300,0),2))","v":" "}]
[null,"Наименование филиала"]
[]
[null,"КПП "]
[]
[null,"Вид деятельности","Водоотведение"]
[]
[null,"период отчета","2015"]
[]
[null,"Вид  тарифа  в системе холодного водоснабжения"]
[]
[]
[]
[null,"Система налогообложения"]

{"sheet":"списки","index":3,"n_rows":300,"n_cols":14,"rows_kept":300,"cut":false,"hidden":true,"merged":[]}
["Районы",null,"Муниципальные образования",null,"Год",null,"Выбор","Вид тарифа","Система налогообложения",null,null,null,"ИНН","Наименование организации"]
[null,null,null,null,null,null,null,null,null,null,1,2,2704016508,"филиал \"Сибирский\" ОАО \"28 Электрическая сеть\""]
["Александровский",null,"Александровское",null,2011,null,"да","водоотведение","Общая",1,"прибыль","доходы",4205048280,"Открытое акционерное общество \"Кузбасс-пригород\""]
["Асиновский",null,"Анастасьевское",null,2012,null,"нет","очистка стоков","Упрощенная",2,null,"доходы минус расходы",4205130008,"Общество с ограниченной ответственностью \"ИнвестГрадСтрой\""]
["Бакчарский",null,"Асиновское городское",null,2013,null,null,"транспортировка стоков",null,null,null,null,4633017746,"Общество с ограниченной ответственностью \"Региональная энергосбытовая компания\" (ОПП)"]
["Верхнекетский",null,"Базойское",null,2014,null,null,null,null,null,null,null,4716016979,"ОАО \"ФСК ЕЭС\""]
["г. Кедровый",null,"Бакчарское",null,2015,null,null,null,null,null,null,null,5401379586,"Общество с ограниченной ответсвенностью \"Пуско-НаладкаСервис\""]
["г. Северск",null,"Баткатское",null,2016,null,null,null,null,null,null,null,5406323202,"Открытое акционерное общество \"Территориальная генерирующая компания №11\""]
["г. Стрежевой",null,"Батуринское",null,2017,null,null,null,null,null,null,null,5406686767,"Общество с ограниченной ответственностью \"Пуско-Наладка Сервис +\""]
["г. Томск",null,"Белоярское",null,2018,null,null,null,null,null,null,null,5407208153,"Общество с ограниченной ответственностью \"Газпром межрегионгаз Новосибирск\""]
["Зырянский",null,"Белоярское городское",null,2019,null,null,null,null,null,null,null,6661105959,"Закрытое акционерное общество \"Энергопромышленная компания\", г. Екатеринбург"]
["Каргасокский",null,"Берегаевское",null,2020,null,null,null,null,null,null,null,6672185635,"Общество с ограниченной ответственностью \"АРСТЭМ-ЭнергоТрейд\", г.Екатеринбург"]
["Кожевниковский",null,"Богатыревское",null,null,null,null,null,null,null,null,null,7000000331,"Открытое акционерное общество по газоснабжению и газификации Томской области \"Томскоблгаз\""]
["Колпашевский",null,"Богашевское",null,null,null,null,null,null,null,null,null,7002006723,"муниципальное бюджетное учреждение здравоохранения \"Асиновская центральная районная больница\""]
["Кривошеинский",null,"Большедороховское",null,null,null,null,null,null,null,null,null,7002010695,"Муниципальное унитарное предприятие \"Спецавтохозяйство\""]
["Молчановский",null,"Вавиловское",null,null,null,null,null,null,null,null,null,7002011508,"Муниципальное унитарное предприятие \"Большедороховское жилищно-коммунальное хозяйство\""]
["Парабельский",null,"Вертикосское",null,null,null,null,null,null,null,null,null,7002011515,"Муниципальное унитарное предприятие \"Новокусковское жилищно-коммунальное хозяйство\""]
["Первомайский",null,"Володинское",null,null,null,null,null,null,null,null,null,7002011522,"Муниципальное унитарное предприятие \"Новиковское жилищно-коммунальное хозяйство\""]
["Тегульдетский",null,"Воронинское",null,null,null,null,null,null,null,null,null,7002011530,"Муниципальное унитарное предприятие \"Батуринское жилищно-коммунальное хозяйство\""]
["Томский",null,"Высоковское",null,null,null,null,null,null,null,null,null,7002011547,"Муниципальноте унитарное предприятие \"Ягодное жилищно-коммунальное хозяйство\""]
["Чаинский",null,"Высокоярское",null,null,null,null,null,null,null,null,null,7002011787,"Муниципальное унитарное предприятие \"Новониколаевское жилищно-коммунальное хозяйство\""]
["Шегарский",null,"Галкинское",null,null,null,null,null,null,null,null,null,7002016312,"Общество с ограниченной ответственностью \"Асиновская водяная компания\""]
[null,null,"г. Кедровый",null,null,null,null,null,null,null,null,null,7002016390,"Общество с ограниченной ответсвенностью \"СтройИнженерСервис\""]
[null,null,"городской округ \"ЗАТО Северск\"",null,null,null,null,null,null,null,null,null,7002016425,"Общество с ограниченной ответственностью \"Асиновская тепло-энергетическая компания\""]
[null,null,"городской округ \"г. Стрежевой\"",null,null,null,null,null,null,null,null,null,7002016626,"Общество с ограниченной ответственностью \"Асиновская тепло-генерирующая компания-№1\""]
[null,null,"городской округ \"г. Томск\"",null,null,null,null,null,null,null,null,null,7002016873,"ОБЩЕСТВО С ОГРАНИЧЕННОЙ ОТВЕТСТВЕННОСТЬЮ \"АСИНОВСКИЙ ТЕПЛО-ЭНЕРГЕТИЧЕСКИЙ КОМПЛЕКС\""]
[null,null,"Колпашевское городское",null,null,null,null,null,null,null,null,null,7002016954,"Муниципальное унитарное предприятие \"Новокусковские коммунальные системы\""]
[null,null,"Дальненское",null,null,null,null,null,null,null,null,null,7002017027,"Общество с ограниченной ответсвенностью \"Асиновский водоканал\""]
[null,null,"Дубровское",null,null,null,null,null,null,null,null,null,7002017186,"ОБЩЕСТВО С ОГРАНИЧЕННОЙ ОТВЕТСТВЕННОСТЬЮ \"ТЕПЛОЭНЕРГОРЕСУРС №1\""]
[null,null,"Заводское",null,null,null,null,null,null,null,null,null,7002017193,"ОБЩЕСТВО С ОГРАНИЧЕННОЙ ОТВЕТСТВЕННОСТЬЮ \"ТЕПЛОЭНЕРГОРЕСУРС №2\""]
[null,null,"Заречное",null,null,null,null,null,null,null,null,null,7002017203,"ОБЩЕСТВО С ОГРАНИЧЕННОЙ ОТВЕТСТВЕННОСТЬЮ \"ТЕПЛОЭНЕРГОРЕСУРС №3\""]
[null,null,"Зональненское",null,null,null,null,null,null,null,null,null,7002017210,"ОБЩЕСТВО С ОГРАНИЧЕННОЙ ОТВЕТСТВЕННОСТЬЮ \"ТЕПЛОЭНЕРГОРЕСУРС №4\""]
[null,null,"Зоркальцевское",null,null,null,null,null,null,null,null,null,7003000185,"Закрытое акционерное общество \"Бакчаравтотранс\""]
[null,null,"Зырянское",null,null,null,null,null,null,null,null,null,7003000227,"Муниципальное унитарное предприятие Бакчарского района \"Бакчарский коммунальный комплекс\""]
[null,null,"Инкинское",null,null,null,null,null,null,null,null,null,7003000273,"Областное государственное бюджетное образовательное учреждение начального профессионального образования \"Профессиональное училище № 35\""]
[null,null,"Итатское",null,null,null,null,null,null,null,null,null,7003003130,"Открытое акционерное общество \"Агропромышленная компания \"Галкинская\""]
[null,null,"Иштанское",null,null,null,null,null,null,null,null,null,7003004207,"Общество с ограниченной ответственностью \"Бакчартеплосети\""]
[null,null,"Калтайское",null,null,null,null,null,null,null,null,null,7003005391,"Общество с ограниченной ответственностью \"Бакчартепло\""]
[null,null,"Каргасокское",null,null,null,null,null,null,null,null,null,7003005401,"Общество с ограниченной ответственностью \"Теплосервис\""]
[null,null,"Катайгинское",null,null,null,null,null,null,null,null,null,7004004182,"Муниципальное унитарное предприятие \"Лисица\""]
[null,null,"Кидальское",null,null,null,null,null,null,null,null,null,7004004746,"Общество с ограниченной ответственностью \"Гранит\""]
[null,null,"Клюквинское",null,null,null,null,null,null,null,null,null,7004005323,"Общество с ограниченной ответственностью \"БИО ТЭК Верхняя Кеть\""]
[null,null,"Кожевниковское",null,null,null,null,null,null,null,null,null,7004006052,"Общество с ограниченной ответственностью \"БИО ТЭК-С\""]
[null,null,"Коломинское",null,null,null,null,null,null,null,null,null,7004007095,"Общество с ограниченной ответственностью \"БИОПРОМ\""]
[null,null,"Комсомольское",null,null,null,null,null,null,null,null,null,7004007151,"Общество с ограниченной ответственностью \"Деметра\""]
[null,null,"Копыловское",null,null,null,null,null,null,null,null,null,7004007200,"Общество с ограниченной ответственностью \"Сайга-Энерго\""]
[null,null,"Корниловское",null,null,null,null,null,null,null,null,null,7004007240,"Общество с ограниченной ответственностью \"Коммунально-жилищный сервис Ягодное\""]
[null,null,"Красногорское",null,null,null,null,null,null,null,null,null,7004007345,"Общество с ограниченной ответственностью \"БИО ТЭК - М\""]
[null,null,"Красноярское",null,null,null,null,null,null,null,null,null,7005006305,"Муниципальное учреждение - Администрация Чердатского сельского поселения"]
[null,null,"Кривошеинское",null,null,null,null,null,null,null,null,null,7005006312,"Муниципальное учреждение - Администрация Высоковского сельского поселения"]
[null,null,"Курлекское",null,null,null,null,null,null,null,null,null,7005006344,"Муниципальное учреждение - Администрация Дубровского сельского поселения"]
[null,null,"Куяновское",null,null,null,null,null,null,null,null,null,7005006560,"Михайловское муниципальное унитарное предприятие \"Родник\""]
[null,null,"Лукашкин-Ярское",null,null,null,null,null,null,null,null,null,7005007193,"Общество с ограниченной ответственностью \"Аква-Сервис\""]
[null,null,"Макзырское",null,null,null,null,null,null,null,null,null,7005007203,"Общество с ограниченной ответственностью \"Эко-Транс\""]
[null,null,"Малиновское",null,null,null,null,null,null,null,null,null,7005015638,"Общество с ограниченной ответственностью \"КомСервис Тегульдет\""]
[null,null,"Межениновское",null,null,null,null,null,null,null,null,null,7005016590,"Муниципальное унитарное предприятие \"Прогресс\""]
[null,null,"Мирнинское",null,null,null,null,null,null,null,null,null,7006005110,"МУНИЦИПАЛЬНОЕ УНИТАРНОЕ ПРЕДПРИЯТИЕ \"КАРГАСОКСКИЙ ЖИЛИЩНО-ЭКСПЛУАТАЦИОННЫЙ УЧАСТОК\" КАРГАСОКСКОГО СЕЛЬСКОГО ПОСЕЛЕНИЯ"]
[null,null,"Михайловское",null,null,null,null,null,null,null,null,null,7006005632,"Муниципальное унитарное предприятие  Каргасокский \"Тепловодоканал\""]
[null,null,"Могочинское",null,null,null,null,null,null,null,null,null,7006005939,"Муниципальное унитарное предприятие \"Теплоэнергоснаб\" муниципального образования Новоюгинское сельское поселение"]
[null,null,"Молчановское",null,null,null,null,null,null,null,null,null,7006006139,"Муниципальное унитарное предприятие  \"ЖКХ Березовское\" муниципального образования \"Усть-Чижапское сельское поселение\""]
[null,null,"Моряковское",null,null,null,null,null,null,null,null,null,7006006146,"Муниципальное унитарное предприятие  \"ЖКХ Усть-Тымское\" муниципального образования \"Усть-Тымское сельское поселение\""]
[null,null,"Назинское",null,null,null,null,null,null,null,null,null,7006006153,"Муниципальное унитарное предприятие \"ЖКХ Сосновское\" муниципального образования \"Сосновское сельское поселение\""]
[null,null,"Наргинское",null,null,null,null,null,null,null,null,null,7006006160,"Муниципальное унитарное предприятие \"ЖКХ Молодежный\" муниципального образования \"Среднетымское сельское поселение\""]
[null,null,"Нарымское",null,null,null,null,null,null,null,null,null,7006006178,"Муниципальное унитарное предприятие \"ЖКХ Киевское\" муниципального образования \"Толпаровское сельское поселение\""]
[null,null,"Наумовское",null,null,null,null,null,null,null,null,null,7006006280,"МУНИЦИПАЛЬНОЕ УНИТАРНОЕ ПРЕДПРИЯТИЕ \"ЖКХ ТЕВРИЗСКОЕ\" МУНИЦИПАЛЬНОГО ОБРАЗОВАНИЯ \"СРЕДНЕВАСЮГАНСКОЕ СЕЛЬСКОЕ ПОСЕЛЕНИЕ\""]
[null,null,"Национальное Иванкинское",null,null,null,null,null,null,null,null,null,7006006298,"Муниципальное унитарное предприятие \"ЖКХ Тымское\" муниципального образования \"Тымское сельское поселение\""]
[null,null,"Новиковское",null,null,null,null,null,null,null,null,null,7006006749,"МУП \"ЖКХ Средневасюганское\""]
[null,null,"Нововасюганское",null,null,null,null,null,null,null,null,null,7006007407,"Муниципальное унитарное предприятие \" Нововасюганское\" муниципального образования \"Нововасюганское сельское поселение\""]
[null,null,"Новогоренское",null,null,null,null,null,null,null,null,null,7006008432,"Муниципальное унитарное предприятие \"ЖКХ Васюган\" муниципального образования \"Средневасюганское сельское поселение\""]
[null,null,"Новокривошеинское",null,null,null,null,null,null,null,null,null,7007007583,"Общество с ограниченной ответственностью \"Риск\""]
[null,null,"Новокусковское",null,null,null,null,null,null,null,null,null,7007007657,"Общество с ограниченной ответственностью \"Заря - Сервис\""]
[null,null,"Новомариинское",null,null,null,null,null,null,null,null,null,7007008033,"Общество с ограниченной ответственностью \"Теплотехник\""]
[null,null,"Новониколаевское",null,null,null,null,null,null,null,null,null,7007009950,"Общество с ограниченной ответственностью \"Колпашевская тепловая компания\""]
[null,null,"Новоникольское",null,null,null,null,null,null,null,null,null,7007010120,"Общество с ограниченной ответственностью \"Водоканал - 2\""]
[null,null,"Новопокровское",null,null,null,null,null,null,null,null,null,7007010138,"Общество с ограниченной ответственностью \"Водоканал - 1\""]
[null,null,"Новорождественское",null,null,null,null,null,null,null,null,null,7007010843,"Общество с ограниченной ответственностью \"Энергоснаб\""]
[null,null,"Новоселовское",null,null,null,null,null,null,null,null,null,7007011117,"Общество с ограниченной ответственностью \"Энергия\""]
[null,null,"Новосельцевское",null,null,null,null,null,null,null,null,null,7007011269,"Муниципальное унитарное предприятие \"Пламя\""]
[null,null,"Новоюгинское",null,null,null,null,null,null,null,null,null,7007011639,"Общество с ограниченной ответственностью \"Колпашевские очистные системы\""]
[null,null,"Октябрьское",null,null,null,null,null,null,null,null,null,7007011974,"ОБЩЕСТВО С ОГРАНИЧЕННОЙ ОТВЕТСТВЕННОСТЬЮ \" ДАЛЬЭНЕРГО\""]
[null,null,"Орловское",null,null,null,null,null,null,null,null,null,7007012047,"ОБЩЕСТВО С ОГРАНИЧЕННОЙ ОТВЕТСТВЕННОСТЬЮ \"БЛИЖНИЙ СВЕТ\""]
[null,null,"Палочкинское",null,null,null,null,null,null,null,null,null,7007012079,"МУНИЦИПАЛЬНОЕ УНИТАРНОЕ ПРЕДПРИЯТИЕ \"ТЕПЛОЭНЕРГЕТИК\""]
[null,null,"Парабельское",null,null,null,null,null,null,null,null,null,7007012093,"МУНИЦИПАЛЬНОЕ УНИТАРНОЕ ПРЕДПРИЯТИЕ \"ЭНЕРГЕТИК\""]
[null,null,"Парбигское",null,null,null,null,null,null,null,null,null,7008000630,"ОБЩЕСТВО С ОГРАНИЧЕННОЙ ОТВЕТСТВЕННОСТЬЮ \"СЛУЖБА ТЕПЛОВОЙ ЭНЕРГИИ\""]
[null,null,"Первомайское",null,null,null,null,null,null,null,null,null,7008006430,"Кожевниковское районное муниципальное унитарное предприятие \"Коммунальное ремонтно-строительное хозяйство\""]
[null,null,"Песочно-Дубровское",null,null,null,null,null,null,null,null,null,7008006448,"Общество с ограниченной ответственностью  \"Кожевниковский КОМХОЗ\""]
[null,null,"Петровское",null,null,null,null,null,null,null,null,null,7008006543,"Общество с ограниченной ответственностью \"Сибтерм - К\""]
[null,null,"Плотниковское",null,null,null,null,null,null,null,null,null,7008006582,"Общество с ограниченной ответственностью \"Коммунальные системы Кожевниково\""]
[null,null,"Побединское",null,null,null,null,null,null,null,null,null,7008007554,"Общество с ограниченной ответственностью \"Селькомхоз\""]
[null,null,"Подгорнское",null,null,null,null,null,null,null,null,null,7009003224,"Общество с ограниченной ответственностью \"ЗПК СибЛесТрейд\""]
[null,null,"Поротниковское",null,null,null,null,null,null,null,null,null,7009003383,"Общество с ограниченной ответственностью \"Теплосервис\""]
[null,null,"Пудовское",null,null,null,null,null,null,null,null,null,7009003954,"Муниципальное унитарное предприятие \"Жилищно-коммунальное хозяйство Кривошеинского сельского поселения\""]
[null,null,"Рыбаловское",null,null,null,null,null,null,null,null,null,7009004027,"Общество с ограниченной ответственностью \"H 2 O\""]
[null,null,"Сайгинское",null,null,null,null,null,null,null,null,null,7009004073,"Общество с ограниченной ответственностью \"ЭНЕРГОРЕСУРС\""]
[null,null,"Саровское",null,null,null,null,null,null,null,null,null,7010002296,"Общество с ограниченной ответственностью \"Энергия-М\""]
[null,null,"Северное",null,null,null,null,null,null,null,null,null,7010002673,"Общество с ограниченной ответственностью \"Компания экологической безопасности\""]
[null,null,"Сергеевское",null,null,null,null,null,null,null,null,null,7010002786,"Общество с ограниченной ответственностью \"Водопровод\""]
[null,null,"Сосновское",null,null,null,null,null,null,null,null,null,7010006269,"Общество с ограниченной ответственностью \"Молчановская Тепловая Компания\""]
[null,null,"Спасское",null,null,null,null,null,null,null,null,null,7011003207,"Муниципальное унитарное предприятие \"Нарымское жилищно-коммунальное хозяйство\""]
[null,null,"Средневасюганское",null,null,null,null,null,null,null,null,null,7011005155,"Муниципальное казенное учреждение Администрация Новосельцевского сельского поселения - исполнительно распорядительный орган муниципального образования Новосельцевского сельского поселения"]
[null,null,"Среднетымское",null,null,null,null,null,null,null,null,null,7011005162,"Муниципальное казенное учреждение Администрация Заводского сельского поселения - исполнительно распорядительный орган муниципального образования Заводского сельского поселения"]
[null,null,"Старицынское",null,null,null,null,null,null,null,null,null,7011006014,"Общество с ограниченной ответственностью \"Универсал-Сервис\""]
[null,null,"Староювалинское",null,null,null,null,null,null,null,null,null,7011006092,"Муниципальное унитарное Предприятие: \"Парабель - Энергокомплекс\""]
[null,null,"Степановское",null,null,null,null,null,null,null,null,null,7011006215,"Общество с ограниченной ответственностью \"Строитель\""]
[null,null,"Суйгинское",null,null,null,null,null,null,null,null,null,7012004926,"Муниципальное унитарное предприятие \"Сергеевское\""]
[null,null,"Тевризское",null,null,null,null,null,null,null,null,null,7012005831,"Общество с ограниченной ответственностью Строительно-Монтажное Предприятие \"Чулымское\""]
[null,null,"Тегульдетское",null,null,null,null,null,null,null,null,null,7012006602,"Общество с ограниченной ответственностью \"Куяновское\""]
[null,null,"Тогуровское",null,null,null,null,null,null,null,null,null,7012006779,"Общество с ограниченной ответственностью \"Луговское\""]
[null,null,"Толпаровское",null,null,null,null,null,null,null,null,null,7012007162,"ОБЩЕСТВО С ОГРАНИЧЕННОЙ ОТВЕТСТВЕННОСТЬЮ \"ЖИЛКОМФОРТ\""]
[null,null,"Трубоческое",null,null,null,null,null,null,null,null,null,7012007170,"ОБЩЕСТВО С ОГРАНИЧЕННОЙ ОТВЕТСТВЕННОСТЬЮ \"АЛЬЯНС\""]
[null,null,"Тунгуссовское",null,null,null,null,null,null,null,null,null,7014000490,"Открытое акционерное общество \"Томскснаб\""]
[null,null,"Турунтаевское",null,null,null,null,null,null,null,null,null,7014002681,"Федеральное казенное учреждение \"Томская воспитательная колония №1 Управления Федеральной службы исполнения наказаний по Томской области\""]
[null,null,"Тымское",null,null,null,null,null,null,null,null,null,7014019879,"Общество с ограниченной ответственностью \"Энергоучасток\""]
[null,null,"Улу-Юльское",null,null,null,null,null,null,null,null,null,7014027742,"Общество с ограниченной ответственностью \"Межениновская птицефабрика\""]
[null,null,"Уртамское",null,null,null,null,null,null,null,null,null,7014040790,"Общество с ограниченной ответственностью \"Тепло-энергетическое Предприятие Лоскутовское\""]
[null,null,"Усть-Бакчарское",null,null,null,null,null,null,null,null,null,7014041063,"Общество с ограниченной ответственностью \"ЖКХ Рыбаловское\""]
[null,null,"Усть-Тымское",null,null,null,null,null,null,null,null,null,7014041634,"Общество с ограниченной ответственностью  \"Санаторий Синий Утес\""]
[null,null,"Усть-Чижапское",null,null,null,null,null,null,null,null,null,7014044882,"Общество с ограниченной ответственностью \"Аэропорт Томск\""]
[null,null,"Чажемтовское",null,null,null,null,null,null,null,null,null,7014045068,"Муниципальное унитарное предприятие Богашевского сельского поселения \"Орион\""]
[null,null,"Чаинское",null,null,null,null,null,null,null,null,null,7014046216,"Общество с ограниченной ответственностью \"Тепло\""]
[null,null,"Черноярское",null,null,null,null,null,null,null,null,null,7014048076,"Общество с ограниченной ответственностью \"Восточная Инвестиционная Газовая Компания\""]
[null,null,"Чернышевское",null,null,null,null,null,null,null,null,null,7014048252,"Общество с ограниченной ответственностью \"Управляющая компания ТеплоСервис\""]
[null,null,"Четское",null,null,null,null,null,null,null,null,null,7014048816,"Общество с ограниченной ответственностью \"ПЕТРОПАВЛОВСКОЕ\""]
[null,null,"Чилинское",null,null,null,null,null,null,null,null,null,7014049866,"МУНИЦИПАЛЬНОЕ КАЗЕННОЕ ПРЕДПРИЯТИЕ ТОМСКОГО РАЙОНА \"ТЕХНОПОЛИГОН\""]
[null,null,"Шегарское",null,null,null,null,null,null,null,null,null,7014049915,"Общество с ограниченной ответственностью \"ЭКМО\""]
[null,null,"Ягоднинское",null,null,null,null,null,null,null,null,null,7014050043,"Общество с ограниченной ответсвенностью \"Газпромнефть-Аэро Томск\""]
[null,null,"Ягодное",null,null,null,null,null,null,null,null,null,7014052523,"Общество с ограниченной ответственностью \"ЭкоТон\""]
[null,null,null,null,null,null,null,null,null,null,null,null,7014053541,"Общество с ограниченной ответственностью \"Ресурс-Т\""]
[null,null,null,null,null,null,null,null,null,null,null,null,7014054440,"Общество с ограниченной ответственностью \"Водоресурс\""]
[null,null,null,null,null,null,null,null,null,null,null,null,7014054979,"МУНИЦИПАЛЬНОЕ ПРЕДПРИЯТИЕ ЗОНАЛЬНЕНСКОГО СЕЛЬСКОГО ПОСЕЛЕНИЯ \"СЛУЖБА КОММУНАЛЬНОГО СЕРВИСА\""]
[null,null,null,null,null,null,null,null,null,null,null,null,7014055027,"муниципальное унитарное предприятие Мирненского сельского поселения \"ТВК\""]
[null,null,null,null,null,null,null,null,null,null,null,null,7014055242,"Общество с ограниченной ответственностью \"Комсервис\""]
[null,null,null,null,null,null,null,null,null,null,null,null,7014055404,"Муниципальное унитарное предприятие жилищно-коммунального хозяйства \"Исток\" Новорождественского сельского поселения"]
[null,null,null,null,null,null,null,null,null,null,null,null,7014055644,"Общество с ограниченной ответственностью \"Управляющая компания \"Томскосельское\""]
[null,null,null,null,null,null,null,null,null,null,null,null,7014055796,"Общество с ограниченной ответственностью \"Восточная Водяная Компания\""]
[null,null,null,null,null,null,null,null,null,null,null,null,7014055806,"Общество с ограниченной ответственностью \"Восточная Тепловая Компания\""]
[null,null,null,null,null,null,null,null,null,null,null,null,7014055813,"Общество с ограниченной ответственностью \"Восточная Компания\""]
[null,null,null,null,null,null,null,null,null,null,null,null,7014055845,"Общество с ограниченной ответственность \"Западная Тепловая Компания\""]
[null,null,null,null,null,null,null,null,null,null,null,null,7014055884,"Общество с ограниченной ответственностью \"Южная Тепловая Компания\""]
[null,null,null,null,null,null,null,null,null,null,null,null,7014056084,"Общество с ограниченной ответственностью \"Теплогазсервис\""]
[null,null,null,null,null,null,null,null,null,null,null,null,7014056711,"Общество с ограниченной ответственностью \"Гарант\""]
[null,null,null,null,null,null,null,null,null,null,null,null,7014057257,"Муниципальное унитарное предприятие Межениновского сельского поселения \"Жилищно-коммунальное хозяйство ВодСервис\""]
[null,null,null,null,null,null,null,null,null,null,null,null,7014057320,"Муниципальное унитарное предприятие \"Жилищное коммунальное хозяйство Октябрьское\""]
[null,null,null,null,null,null,null,null,null,null,null,null,7014057377,"Общество с ограниченной ответственностью \"Комсервис+М\""]
[null,null,null,null,null,null,null,null,null,null,null,null,7014057715,"МУНИЦИПАЛЬНОЕ УНИТАРНОЕ ПРЕДПРИЯТИЕ ЗАРЕЧНОГО СЕЛЬСКОГО ПОСЕЛЕНИЯ \"ЗАРЕЧНОЕ\""]
[null,null,null,null,null,null,null,null,null,null,null,null,7014057754,"Общество с ограниченной ответсвенностью \"Водоканал\""]
[null,null,null,null,null,null,null,null,null,null,null,null,7014057916,"МУНИЦИПАЛЬНОЕ УНИТАРНОЕ ПРЕДПРИЯТИЕ \"НОРМА\""]
[null,null,null,null,null,null,null,null,null,null,null,null,7015000373,"Муниципальное унитарное предприятие Чаинского района \"Чаинское производственное объединение жилищно-коммунального хозяйства\""]
[null,null,null,null,null,null,null,null,null,null,null,null,7015000535,"ОБЛАСТНОЕ ГОСУДАРСТВЕННОЕ БЮДЖЕТНОЕ УЧРЕЖДЕНИЕ ЗДРАВООХРАНЕНИЯ \"ЧАИНСКАЯ РАЙОННАЯ БОЛЬНИЦА\""]
[null,null,null,null,null,null,null,null,null,null,null,null,7016000016,"Общество с ограниченной ответственностью \"Водоканал\""]
[null,null,null,null,null,null,null,null,null,null,null,null,7016000030,"Общество с ограниченной ответственностью \"Автотранс\""]
[null,null,null,null,null,null,null,null,null,null,null,null,7016001098,"Областное государственное автономное учреждение \"Дом-интернат для престарелых и инвалидов \"Лесная дача\""]
[null,null,null,null,null,null,null,null,null,null,null,null,7016001620,"Областное государственное автономное учреждение \"Шегарский психоневрологический интернат \"ЗАБОТА\""]
[null,null,null,null,null,null,null,null,null,null,null,null,7016003754,"Общество с ограниченной ответственностью \"ЗПП - Т\""]
[null,null,null,null,null,null,null,null,null,null,null,null,7016005617,"Общество с ограниченной ответственностью \"Шегарский водоканал\""]
[null,null,null,null,null,null,null,null,null,null,null,null,7016007156,"Общество с ограниченной ответственностью Управляющая компания \"Успех\""]
[null,null,null,null,null,null,null,null,null,null,null,null,7017001968,"Унитарное муниципальное предприятие \"Спецавтохозяйство г. Томска\""]
[null,null,null,null,null,null,null,null,null,null,null,null,7017002136,"Унитарное муниципальное предприятие г. Томска \"Комбинат Спецобслуживания\" по организации похорон и предоставлению связанных с ними услуг"]
[null,null,null,null,null,null,null,null,null,null,null,null,7017004366,"Акционерное общество \"Транснефть-Центральная Сибирь\""]
[null,null,null,null,null,null,null,null,null,null,null,null,7017005289,"Общество с ограниченной ответственностью \"Газпром трансгаз Томск\""]
[null,null,null,null,null,null,null,null,null,null,null,null,7017012254,"Акционерное общество \"Сибирская Аграрная Группа\""]
[null,null,null,null,null,null,null,null,null,null,null,null,7017020625,"Общество с ограниченной ответственностью \"Торговый дом ОАО \"Томскоблгаз\""]
[null,null,null,null,null,null,null,null,null,null,null,null,7017063682,"Закрытое акционерное общество \"Восточная Инвестиционная Газовая Компания\""]
[null,null,null,null,null,null,null,null,null,null,null,null,7017071531,"Общество с ограниченной ответственностью \"Квинта\""]
[null,null,null,null,null,null,null,null,null,null,null,null,7017074765,"Общество с ограниченной ответственностью \"Сибтерм - Эксплуатация\""]
[null,null,null,null,null,null,null,null,null,null,null,null,7017075536,"Общество с ограниченной ответственностью \"Томскнефтехим\""]
[null,null,null,null,null,null,null,null,null,null,null,null,7017079259,"Общество с ограниченной ответственностью \"Стройтехмонтаж\""]
[null,null,null,null,null,null,null,null,null,null,null,null,7017081040,"Общество с ограниченной ответственностью \"Горсети\""]
[null,null,null,null,null,null,null,null,null,null,null,null,7017095349,"Открытое акционерное общество \"Организация \"Технотрон\""]
[null,null,null,null,null,null,null,null,null,null,null,null,7017098220,"Общество с ограниченной ответственностью \"Завод приборных подшипников\""]
[null,null,null,null,null,null,null,null,null,null,null,null,7017100486,"Закрытое акционерное общество  \"Городские очистные сооружения\""]
[null,null,null,null,null,null,null,null,null,null,null,null,7017104931,"Общество с ограниченной ответственностью \"ТИЗ - Сервис\""]
[null,null,null,null,null,null,null,null,null,null,null,null,7017110131,"Закрытое акционерное общество Кондитерская фабрика \"Красная звезда\""]
[null,null,null,null,null,null,null,null,null,null,null,null,7017114672,"Публичное акционерное общество \"Томская распределительная компания\""]
[null,null,null,null,null,null,null,null,null,null,null,null,7017114680,"Публичное акционерное общество \"Томская энергосбытовая компания\""]
[null,null,null,null,null,null,null,null,null,null,null,null,7017123606,"Общество с ограниченной ответственностью \"Управляющая компания \"Томского приборного завода\""]
[null,null,null,null,null,null,null,null,null,null,null,null,7017123677,"Общество с ограниченной ответственностью \"Консоль\""]
[null,null,null,null,null,null,null,null,null,null,null,null,7017126491,"Общество с ограниченной ответственностью \"Сибавтотранс\""]
[null,null,null,null,null,null,null,null,null,null,null,null,7017134397,"Общество с ограниченной ответственностью \"ГазТехСервис\""]
[null,null,null,null,null,null,null,null,null,null,null,null,7017141443,"Общество с ограниченной ответственностью \"Академэлектросеть\""]
[null,null,null,null,null,null,null,null,null,null,null,null,7017153992,"акционерное общество \"Особая экономическая зона технико-внедренческого типа \"Томск\""]
[null,null,null,null,null,null,null,null,null,null,null,null,7017155291,"Общество с ограниченной ответственностью \"Энерго-С\""]
[null,null,null,null,null,null,null,null,null,null,null,null,7017203428,"ОБЩЕСТВО С ОГРАНИЧЕННОЙ ОТВЕТСТВЕННОСТЬЮ \"ГАЗПРОМ ГАЗОРАСПРЕДЕЛЕНИЕ ТОМСК\""]
[null,null,null,null,null,null,null,null,null,null,null,null,7017213271,"Общество с ограниченной ответственностью \"Томлесдрев\""]
[null,null,null,null,null,null,null,null,null,null,null,null,7017215078,"Общество с ограниченной ответственностью Управляющая компания «Северо-Восточный Комплекс»"]
[null,null,null,null,null,null,null,null,null,null,null,null,7017230213,"Общество с ограниченной ответственностью \"ОБЛГАЗ ремсервис\""]
[null,null,null,null,null,null,null,null,null,null,null,null,7017234955,"Закрытое акционерное общество \"Томскэнергобаланс\""]
[null,null,null,null,null,null,null,null,null,null,null,null,7017245330,"Общество с ограниченной ответственностью \"Сетевая компания ТДСК\""]
[null,null,null,null,null,null,null,null,null,null,null,null,7017253147,"Государственное унитарное предприятие Томской области  \"Областное дорожное ремонтно - строительное управление\""]
[null,null,null,null,null,null,null,null,null,null,null,null,7017253147,"Государственное унитарное предприятие Томской области \"Областное дорожное ремонтно - строительное управление\""]
[null,null,null,null,null,null,null,null,null,null,null,null,7017262173,"Общество с ограниченной ответственностью \"ГазЭкс\""]
[null,null,null,null,null,null,null,null,null,null,null,null,7017270664,"Общество с ограниченной ответственностью \"Томскводоканал\""]
[null,null,null,null,null,null,null,null,null,null,null,null,7017279410,"Общество с ограниченной ответственностью \"Электросети\""]
[null,null,null,null,null,null,null,null,null,null,null,null,7017291311,"Общество с ограниченной ответственностью \"Колос-С\""]
[null,null,null,null,null,null,null,null,null,null,null,null,7017291449,"Общество с ограниченной ответственностью \"Томсктеплоэнерго\""]
[null,null,null,null,null,null,null,null,null,null,null,null,7017301312,"Общество с ограниченной ответственностью \"Томская Строительная Компания\""]
[null,null,null,null,null,null,null,null,null,null,null,null,7017318531,"Общество с ограниченной ответственностью \"ЭнергоТЭК\""]
[null,null,null,null,null,null,null,null,null,null,null,null,7017323595,"Общество с ограниченной ответственностью \"Тепловая компания \"Стандарт\""]
[null,null,null,null,null,null,null,null,null,null,null,null,7017332670,"Общество с ограниченной ответственностью \"СМП-95 Инжиниринг\""]
[null,null,null,null,null,null,null,null,null,null,null,null,7017338351,"ОБЩЕСТВО С ОГРАНИЧЕННОЙ ОТВЕТСТВЕННОСТЬЮ УПРАВЛЯЮЩАЯ КОМПАНИЯ \"СЕВЕРО-ВОСТОЧНЫЙ КОМПЛЕКС +\""]
[null,null,null,null,null,null,null,null,null,null,null,null,7017351521,"акционерное общество \"ТомскРТС\""]
[null,null,null,null,null,null,null,null,null,null,null,null,7017353261,"Общество с ограниченной ответственностью \"Томскэнергобаланс\""]
[null,null,null,null,null,null,null,null,null,null,null,null,7018007264,"Федеральное государственное автономное образовательное учреждение высшего образования \"Национальный исследовательский Томский политехнический университет\""]
[null,null,null,null,null,null,null,null,null,null,null,null,7018011599,"Общество с ограниченной ответсвенностью \"Научно-производственное общество \"Мипор\""]
[null,null,null,null,null,null,null,null,null,null,null,null,7019035722,"Открытое акционерное общество \"Томскгазпром\""]
[null,null,null,null,null,null,null,null,null,null,null,null,7020008610,"Открытое акционерное общество Финансово-строительная компания \"Газ Химстрой Инвест\""]
[null,null,null,null,null,null,null,null,null,null,null,null,7020012261,"Акционерное общество \"Сибкабель\""]
[null,null,null,null,null,null,null,null,null,null,null,null,7020035798,"Федеральное казенное учреждение \"Исправительная колония № 3 Управления Федеральной службы исполнения наказаний по Томской области\""]
[null,null,null,null,null,null,null,null,null,null,null,null,7020037139,"Общество с ограниченной ответственностью Научно-производственное предприятие \"Томская электронная компания\""]
[null,null,null,null,null,null,null,null,null,null,null,null,7021000501,"Открытое акционерное общество \"Манотомь\""]
[null,null,null,null,null,null,null,null,null,null,null,null,7021001569,"Федеральное государственное унитарное предприятие \"Комбинат коммунальных предприятий Томского научного центра  Сибирского отделения Российской академии наук\""]
[null,null,null,null,null,null,null,null,null,null,null,null,7021020040,"Общество с ограниченной ответственностью \"Старт-М\""]
[null,null,null,null,null,null,null,null,null,null,null,null,7021056857,"Общество с ограниченной ответственностью \"Евростройинвест\""]
[null,null,null,null,null,null,null,null,null,null,null,null,7022000310,"Открытое акционерное общество \"Томскнефть\" Восточной Нефтяной Компании"]
[null,null,null,null,null,null,null,null,null,null,null,null,7022010478,"Муниципальное унитарное предприятие \"Жилкомсервис\" Александровского сельского поселения"]
[null,null,null,null,null,null,null,null,null,null,null,null,7022010799,"Общество с ограниченной ответственностью \"Энергонефть Томск\""]
[null,null,null,null,null,null,null,null,null,null,null,null,7022011087,"Общество с ограниченной ответственностью \"Стрежевой теплоэнергоснабжение\""]
[null,null,null,null,null,null,null,null,null,null,null,null,7022014560,"Закрытое акционерное общество \"ЭнергоСервис\""]
[null,null,null,null,null,null,null,null,null,null,null,null,7022014835,"Муниципальное унитарное предприятие \"Комсервис\" Лукашкин-Ярского сельского поселения Александровского района Томской области"]
[null,null,null,null,null,null,null,null,null,null,null,null,7022014842,"Муниципальное унитарное предприятие \"Жилищно-коммунальное хозяйство\" с.Назино"]
[null,null,null,null,null,null,null,null,null,null,null,null,7022014874,"Муниципальное унитарное предприятие \"Комсервис\" Александровского района Томской области"]
[null,null,null,null,null,null,null,null,null,null,null,null,7022017561,"Общество с ограниченной ответственностью \"Транспортные коммунальные системы\""]
[null,null,null,null,null,null,null,null,null,null,null,null,7022018300,"Общество с ограниченной ответственностью \"Жилстрой\""]
[null,null,null,null,null,null,null,null,null,null,null,null,7022019336,"Общество с ограниченной ответственностью \"ТРАНССИБ\""]
[null,null,null,null,null,null,null,null,null,null,null,null,7023005209,"Общество с ограниченной ответственностью \"Северная Тепловая Компания\""]
[null,null,null,null,null,null,null,null,null,null,null,null,7024021972,"Общество с ограниченной ответственностью \"Экополис\""]
[null,null,null,null,null,null,null,null,null,null,null,null,7024024719,"Открытое акционерное общество \"Городские электрические сети\""]
[null,null,null,null,null,null,null,null,null,null,null,null,7024024853,"Открытое акционерное общество \"Северский водоканал\""]
[null,null,null,null,null,null,null,null,null,null,null,null,7024024860,"Открытое акционерное общество \"Тепловые сети\""]
[null,null,null,null,null,null,null,null,null,null,null,null,7024028054,"Общество с ограниченной ответственностью \"Полигон твердых бытовых отходов комбината благоустройства\""]
[null,null,null,null,null,null,null,null,null,null,null,null,7024029499,"Акционерное общество \"Сибирский химический комбинат\""]
[null,null,null,null,null,null,null,null,null,null,null,null,7024032100,"Общество с ограниченной ответственностью \"ВКХ\""]
[null,null,null,null,null,null,null,null,null,null,null,null,7024032117,"Общество с ограниченной ответственностью \"Тепло\""]
[null,null,null,null,null,null,null,null,null,null,null,null,7024032131,"Общество с ограниченной ответственностью \"Сети\""]
[null,null,null,null,null,null,null,null,null,null,null,null,7024033488,"Общество с ограниченной ответственностью \"Управление энергоснабжения\""]
[null,null,null,null,null,null,null,null,null,null,null,null,7024035693,"Общество с ограничеснной ответственностью \"Электросети\""]
[null,null,null,null,null,null,null,null,null,null,null,null,7024037595,"Общество с ограниченной ответственностью \"СЕВЕРСКИЕ ЭНЕРГЕТИЧЕСКИЕ СЕТИ\""]
[null,null,null,null,null,null,null,null,null,null,null,null,7024038704,"ОБЩЕСТВО С ОГРАНИЧЕННОЙ ОТВЕТСТВЕННОСТЬЮ \"ТЕПЛО ПЛЮС\""]
[null,null,null,null,null,null,null,null,null,null,null,null,7024038856,"ОБЩЕСТВО С ОГРАНИЧЕННОЙ ОТВЕТСТВЕННОСТЬЮ \"ТЕПЛОВОДОСНАБЖАЮЩАЯ КОМПАНИЯ \"ОРЛОВСКАЯ\""]
[null,null,null,null,null,null,null,null,null,null,null,null,7024038863,"ОБЩЕСТВО С ОГРАНИЧЕННОЙ ОТВЕТСТВЕННОСТЬЮ \"ВКХ \"САМУСЬ\""]
[null,null,null,null,null,null,null,null,null,null,null,null,7224031400,"Акционерное общество \"Сибирская Аграрная Группа Мясопереработка\""]
[null,null,null,null,null,null,null,null,null,null,null,null,7702707386,"Филиал \"Новосибирский\" ОАО \"Славянка\""]
[null,null,null,null,null,null,null,null,null,null,null,null,7703591134,"Акционерное общество \"Особые экономические зоны\""]
[null,null,null,null,null,null,null,null,null,null,null,null,7704726225,"филиал \"Сибирский\" ОАО \"Оборонэнерго\""]
[null,null,null,null,null,null,null,null,null,null,null,null,7704731218,"Акционерное общество \"Оборонэнергосбыт\""]
[null,null,null,null,null,null,null,null,null,null,null,null,7704731218,"Открытое акционерное общество \"Оборонэнергосбыт\""]
[null,null,null,null,null,null,null,null,null,null,null,null,7705750968,"ОАО \"Межрегионэнергосбыт\""]
[null,null,null,null,null,null,null,null,null,null,null,null,7706284124,"Общество с ограниченной ответственностью \"РУСЭНЕРГОСБЫТ\""]
[null,null,null,null,null,null,null,null,null,null,null,null,7706288496,"Общество с ограниченной ответственностью \"Русэнергоресурс\""]
[null,null,null,null,null,null,null,null,null,null,null,null,7706525041,"Общество с ограниченной ответственностью \"РН-Энерго\""]
[null,null,null,null,null,null,null,null,null,null,null,null,7706757331,"Акционерное общество \"ОБЪЕДИНЕННАЯ ТЕПЛОЭНЕРГЕТИЧЕСКАЯ КОМПАНИЯ\" (АО \"ОТЭК\") Филиал в г.Северске"]
[null,null,null,null,null,null,null,null,null,null,null,null,7707049388,"МРФ \"Сибирь\" ОАО \"Ростелеком\""]
[null,null,null,null,null,null,null,null,null,null,null,null,7708503727,"Кузбасский территорильный  участок Западно-Сибирской дирекции по тепловодоснабжению - структурного подразделения Центральной дирекции по тепловодоснабжению-филиал ОАО \"РЖД\""]
[null,null,null,null,null,null,null,null,null,null,null,null,7708670340,"Открытое акционерное общество \"ТрансВудСервис\""]
[null,null,null,null,null,null,null,null,null,null,null,null,7714783092,"открытое акционерное общество «Ремонтно-эксплуатационное управление»"]
[null,null,null,null,null,null,null,null,null,null,null,null,7717127211,"Федеральное государственное унитарное предприятие \"Российская телевизионная и радиовещательная сеть\""]
[null,null,null,null,null,null,null,null,null,null,null,null,7722292838,"Федеральное государственное унитарное предприятие \"Научно-производственное объединение по медицинским иммунобиологическим препаратам \"Микроген\" Министерства здравоохранения Российской Федерации"]
[null,null,null,null,null,null,null,null,null,null,null,null,7723011906,"Открытое акционерное общество \"Связь объектов транспорта и добычи нефти\""]
[null,null,null,null,null,null,null,null,null,null,null,null,7724261610,"ФГУП \"Почта России\""]
[null,null,null,null,null,null,null,null,null,null,null,null,7727276526,"ОАО \"Сибурэнергоменеджмент\""]
[null,null,null,null,null,null,null,null,null,null,null,null,7736520080,"ОАО \"Мосэнергосбыт\""]
[null,null,null,null,null,null,null,null,null,null,null,null,8601022317,"ОАО \"ЮТЭК\""]
[null,null,null,null,null,null,null,null,null,null,null,null,543310909351,"Индивидуальный предприниматель Суханов Олег Николаевич"]
[null,null,null,null,null,null,null,null,null,null,null,null,700400687080,"Индивидуальный предприниматель Ковыряхин Юрий Анатольевич"]
[null,null,null,null,null,null,null,null,null,null,null,null,700500339834,"Индивидуальный предприниматель Маслов Сергей Афанасьевич"]
[null,null,null,null,null,null,null,null,null,null,null,null,700501702507,"Индивидуальный предприниматель Антипин Андрей Федорович"]
[null,null,null,null,null,null,null,null,null,null,null,null,700700053744,"Индивидуальный предприниматель Волшуков Виктор Николаевич"]
[null,null,null,null,null,null,null,null,null,null,null,null,700702236158,"Индивидуальный предприниматель Петров Василий Николаевич"]
[null,null,null,null,null,null,null,null,null,null,null,null,700703630277,"Индивидуальный предприниматель Бурцев Дмитрий Валерьевич"]
[null,null,null,null,null,null,null,null,null,null,null,null,700704480874,"Индивидуальный предприниматель Воронин Сергей Петрович"]
[null,null,null,null,null,null,null,null,null,null,null,null,701000127664,"Индивидуальный предприниматель Сысоев Владимир Геннадьевич"]
[null,null,null,null,null,null,null,null,null,null,null,null,701100720660,"Индивидуальный предприниматель Стрельников Сергей Владимирович"]
[null,null,null,null,null,null,null,null,null,null,null,null,701101197192,"Индивидуальный предприниматель Михайлов Андрей Васильевич"]
[null,null,null,null,null,null,null,null,null,null,null,null,701401371204,"Индивидуальный предприниматель Тимофеев Юрий Никитович"]
[null,null,null,null,null,null,null,null,null,null,null,null,701401633450,"Ииндивидуальный предприниматель Градовец Александр Владимирович"]
[null,null,null,null,null,null,null,null,null,null,null,null,702280350128,"Индивидуальный предприниматель Голованов Андрей Николаевич"]
[null,null,null,null,null,null,null,null,null,null,null,null,7017373959,"Акционерное общество \"Томская генерация\""]
[null,null,null,null,null,null,null,null,null,null,null,null,7014058606,"ОБЩЕСТВО С ОГРАНИЧЕННОЙ ОТВЕТСТВЕННОСТЬЮ \"СМП-95 ЭНЕРГО\""]
[null,null,null,null,null,null,null,null,null,null,null,null,5116000922,"Акционерное общество \"Главное управление жилищно-коммунального хозяйства\""]
[null,null,null,null,null,null,null,null,null,null,null,null,7017374014,"Общество с ограниченной ответсвенностью \"Городские очистные сооружения\""]
[null,null,null,null,null,null,null,null,null,null,null,null,7014046745,"Общество с ограниченной ответственностью \"Энергопарк\""]
[null,null,null,null,null,null,null,null,null,null,null,null,7017137302,"Общество с ограниченной ответственностью \"Топ Венд\""]
[null,null,null,null,null,null,null,null,null,null,null,null,7017379728,"Общество с ограниченной ответственностью \"ЭНЕРГОБАЛАНС\""]
[null,null,null,null,null,null,null,null,null,null,null,null,7017326170,"Общество с ограниченной ответственностью \"Аргентум\""]
[null,null,null,null,null,null,null,null,null,null,null,null,7024040076,"Общество с ограниченной ответственностью \"СЕТИ Плюс\""]
[null,null,null,null,null,null,null,null,null,null,null,null,7017380970,"Общество с ограниченной ответственностью \"Томские электрические сети\""]
[null,null,null,null,null,null,null,null,null,null,null,null,7010002916,"Общество с ограниченной ответственностью \"Водовод\""]
[null,null,null,null,null,null,null,null,null,null,null,null,7002017059,"Общество с ограниченной ответственностью \"АКОС\""]
[null,null,null,null,null,null,null,null,null,null,null,null,7014059920,"Муниципальное унитарное предприятие Спасского сельского поселения \"ТЕХНИК\""]
[null,null,null,null,null,null,null,null,null,null,null,null,7014057779,"Муниципальное унитарное предприятие \"ТУРУНТАЕВО-ПАРТНЕР\""]
[null,null,null,null,null,null,null,null,null,null,null,null,7017375240,"Общество с ограниченной ответственностью \"ДНР\""]
[null,null,null,null,null,null,null,null,null,null,null,null,7706284445,"Общество с ограниченной ответственностью \"ЭНЕРГОПРОМСБЫТ\""]
[null,null,null,null,null,null,null,null,null,null,null,null,7014059825,"Муниципальное унитарное предприятие Мирненского сельского поселения \"ВК\""]
[null,null,null,null,null,null,null,null,null,null,null,null,7017243477,"Общество с ограниченной ответственностью \"Стройтехмонтаж\""]
[null,null,null,null,null,null,null,null,null,null,null,null,7017302404,"Общество с ограниченной ответственностью \"Томск-Стирол\""]
[null,null,null,null,null,null,null,null,null,null,null,null,7010005579,"Администрация Тунгусовского сельского поселения"]
[null,null,null,null,null,null,null,null,null,null,null,null,7014060130,"ООО \"СИБТЕРМ-К ТОМСКОЕ\""]
[null,null,null,null,null,null,null,null,null,null,null,null,7017387422,"Общество с ограниченной ответственностью \"Сетевая компания Северска\""]
[null,null,null,null,null,null,null,null,null,null,null,null,7012005831,"Общество с ограниченной ответственностью СМП \"Чулымское\""]
[null,null,null,null,null,null,null,null,null,null,null,null,7708503727,"Западно-Сибирская дирекция по энергообеспечению-Трансэнерго, филиала ОАО \"РЖД\""]

{"sheet":"данные об организации","index":4,"n_rows":45,"n_cols":11,"rows_kept":45,"cut":false,"hidden":false,"merged":[[16,5,16,9],[17,5,17,9],[25,0,25,3],[21,5,21,9],[22,5,22,9],[22,0,22,3],[21,0,21,3],[25,5,25,9],[14,0,14,3],[15,0,15,3],[13,5,13,9],[14,5,14,9],[15,5,15,9],[1,0,1,9],[10,0,10,9],[12,4,12,9],[12,0,12,3],[13,0,13,3],[3,0,3,1],[4,0,4,1],[5,0,5,1],[6,0,6,1],[8,2,8,9],[7,0,7,1],[8,0,8,1],[29,0,30,0],[29,1,30,2],[29,3,30,3],[3,2,3,9],[4,2,4,9],[5,2,5,9],[6,2,6,9],[7,2,7,9],[20,5,20,9],[20,0,20,3],[19,5,19,9],[19,0,19,3],[18,5,18,9],[16,0,16,3],[17,0,17,3],[18,0,18,3],[32,1,32,8],[27,1,27,2],[34,1,34,3],[39,1,39,8],[41,1,41,3],[29,5,30,5],[29,6,30,6]]}
[]
["Краткие сведения об организации"]
[]
["Наименование организации:",null,{"$f":"Титульный!C10","v":" "}]
["Юридический адрес:"]
["Тел/факс:"]
["E-mail:"]
["Должность руководителя"]
["Ф.И.О. (полностью)"]
[]
["Перечень населенных пунктов, в которых организация осуществляет деятельность по водоотведению"]
[]
["Наименование МО",null,null,null,"Наименование населенного пункта"]
[null,null,null,null,1]
[null,null,null,null,2]
[null,null,null,null,3]
[null,null,null,null,4]
[null,null,null,null,5]
[null,null,null,null,6]
[null,null,null,null,7]
[null,null,null,null,8]
[null,null,null,null,9]
[null,null,null,null,10]
[]
[]
["Налогообложение",null,null,null,null,"Сведения об установленных тарифах на 2015 год"]
[]
["система налогообложения","объект налогообложения",null,"налоговая ставка",null,"№ приказа ДТР ТО","дата приказа","срок действия тарифа","величина тарифа, руб/куб.м.","НДС"]
[]
[{"$f":"Титульный!C23","v":0},null,null,{"$f":"IF(B30=\"доходы\",6,IF(B30=\"доходы минус расходы\",10,20))","v":20},null,null,null,null,null,{"$f":"IF(A30=\"Общая\",\"без учета НДС\",\"НДС не предусмотрен\")","v":"НДС не предусмотрен"},"1-е полугодие"]
[null,null,null,null,null,null,null,null,null,{"$f":"IF(A30=\"Общая\",\"без учета НДС\",\"НДС не предусмотрен\")","v":"НДС не предусмотрен"},"2-е полугодие"]
[]
[null,"Сведения об установленной инвестиционной надбавке на 2015 год"]
[]
[null,"Наименование документа",null,null,"№ документа","дата ","срок действия надбавки","величина надбавки, руб/куб.м.","НДС"]
[]
[null,null,null,null,null,null,null,null,{"$f":"J30","v":"НДС не предусмотрен"},"1-е полугодие"]
[null,null,null,null,null,null,null,null,{"$f":"J31","v":"НДС не предусмотрен"},"2-е полугодие"]
[]
[null,"Сведения о компенсации до установленного тарифа на 2015 год"]
[]
[null,"Наименование документа",null,null,"№ документа","дата ","срок действия компенсации","разница в тарифах, руб/куб.м.","НДС"]
[]
[null,null,null,null,null,null,null,null,{"$f":"I37","v":"НДС не предусмотрен"},"1-е полугодие"]
[null,null,null,null,null,null,null,null,{"$f":"I38","v":"НДС не предусмотрен"},"2-е полугодие"]

{"sheet":"Техн характер системы","index":5,"n_rows":111,"n_cols":10,"rows_kept":111,"cut":false,"hidden":false,"merged":[[43,0,53,0],[55,0,65,0],[66,0,76,0],[78,0,79,0],[0,0,0,9],[7,0,9,0],[7,1,9,1],[7,2,9,2],[32,0,42,0],[3,0,3,9],[84,5,86,5],[84,6,84,9],[85,6,85,7],[85,8,85,9],[84,0,86,0],[84,1,86,1],[84,2,86,2],[84,3,86,3],[84,4,86,4]]}
[{"$f":"Титульный!C10","v":" "}]
[]
[]
["Имущество, переданное по договору аренды (концессионному соглашению) и (или) принадлежащее на праве собственности"]
[]
["Станции очистки сточных вод"]
[]
["Наименование показателя","Ед.изм","Количество"]
[]
[]
["Оборудование"]
["Приемная камера","шт."]
["Решетки","шт."]
["Сооружения по обработке осадка","шт."]
["Песколовки","шт."]
["Аэротенки","шт."]
["Биофильтры","шт."]
["Отстойники","шт."]
["Другие","шт."]
["Вид очистки сточных вод:"]
["Механическая","м3"]
["Биологическая","м3"]
["Физико-химическая","м3"]
["Дезинфекция","м3"]
[]
["Производительность","м3/час"]
["Время работы в году","час"]
["Годовая производительность","м3",{"$f":"C26*C27","v":0}]
["Эффективность очистки сточных вод","%"]
[]
[]
["Напорные сети"]
["протяженность сетей, м","всего",{"$f":"SUM(C34:C43)","v":0}]
[null,"диаметр, мм"]
[null,"диаметр, мм"]
[null,"диаметр, мм"]
[null,"диаметр, мм"]
[null,"диаметр, мм"]
[null,"диаметр, мм"]
[null,"диаметр, мм"]
[null,"диаметр, мм"]
[null,"диаметр, мм"]
[null,"диаметр, мм"]
["протяженность сетей, нуждающихся в замене, м","всего",{"$f":"SUM(C45:C54)","v":0}]
[null,"диаметр, мм"]
[null,"диаметр, мм"]
[null,"диаметр, мм"]
[null,"диаметр, мм"]
[null,"диаметр, мм"]
[null,"диаметр, мм"]
[null,"диаметр, мм"]
[null,"диаметр, мм"]
[null,"диаметр, мм"]
[null,"диаметр, мм"]
["Безнапорные сети"]
["протяженность сетей, м","всего",{"$f":"SUM(C57:C66)","v":0}]
[null,"диаметр, мм"]
[null,"диаметр, мм"]
[null,"диаметр, мм"]
[null,"диаметр, мм"]
[null,"диаметр, мм"]
[null,"диаметр, мм"]
[null,"диаметр, мм"]
[null,"диаметр, мм"]
[null,"диаметр, мм"]
[null,"диаметр, мм"]
["протяженность сетей, нуждающихся в замене, м","всего",{"$f":"SUM(C68:C77)","v":0}]
[null,"диаметр, мм"]
[null,"диаметр, мм"]
[null,"диаметр, мм"]
[null,"диаметр, мм"]
[null,"диаметр, мм"]
[null,"диаметр, мм"]
[null,"диаметр, мм"]
[null,"диаметр, мм"]
[null,"диаметр, мм"]
[null,"диаметр, мм"]
["Всего канализационных сетей","м",{"$f":"C33+C56","v":0}]
["в том числе, нуждающихся в замене","м",{"$f":"C44+C67","v":0}]
[null,"%",{"$f":"IF(C78=0,0,C79/C78*100)","v":0}]
[]
[]
["Основное оборудование канализационных насосных станций и очистных сооружений"]
[]
["Наименование показателя","Количество одновременно в работе","Марка оборудования (насоса)","Производительность оборудования (насоса), куб.м./час","Продолжительность работы в году, час","Мощность оборудования (насоса), кВт","Отопление (обогрев) объектов"]
[null,null,null,null,null,null,"ТЭН",null,"Тепловая энергия от котельных"]
[null,null,null,null,null,null,"количество, шт","Суммарная мощность, кВт","Объем, Гкал","Наименование организации-поставщика тепловой энергии "]
["Станции очистки сточных вод"]
["Насосное оборудование"]
[]
[]
[]
[]
[]
[]
[]
[]
[]
[]
[]
["Оборудование очистных сооружений"]
[]
[]
[]
[]
[]
[]
[]
[]
[]
["Оборудование канализационных насосных станций"]

{"sheet":"Техн характер системы (бсх)","index":6,"n_rows":111,"n_cols":10,"rows_kept":111,"cut":false,"hidden":false,"merged":[[84,6,84,9],[85,6,85,7],[85,8,85,9],[84,1,86,1],[0,0,0,9],[3,0,3,9],[7,0,9,0],[7,1,9,1],[7,2,9,2],[32,0,42,0],[43,0,53,0],[55,0,65,0],[66,0,76,0],[78,0,79,0],[84,0,86,0],[84,2,86,2],[84,3,86,3],[84,4,86,4],[84,5,86,5]]}
[{"$f":"Титульный!C10","v":" "}]
[]
[]
["Бесхозяйное имущество"]
[]
["Станции очистки сточных вод"]
[]
["Наименование показателя","Ед.изм","Количество"]
[]
[]
["Оборудование"]
["Приемная камера","шт."]
["Решетки","шт."]
["Сооружения по обработке осадка","шт."]
["Песколовки","шт."]
["Аэротенки","шт."]
["Биофильтры","шт."]
["Отстойники","шт."]
["Другие","шт."]
["Вид очистки сточных вод:"]
["Механическая","м3"]
["Биологическая","м3"]
["Физико-химическая","м3"]
["Дезинфекция","м3"]
[]
["Производительность","м3/час"]
["Время работы в году","час"]
["Годовая производительность","м3",{"$f":"C26*C27","v":0}]
["Эффективность очистки сточных вод","%"]
[]
[]
["Напорные сети"]
["протяженность сетей, м","всего",{"$f":"SUM(C34:C43)","v":0}]
[null,"диаметр, мм"]
[null,"диаметр, мм"]
[null,"диаметр, мм"]
[null,"диаметр, мм"]
[null,"диаметр, мм"]
[null,"диаметр, мм"]
[null,"диаметр, мм"]
[null,"диаметр, мм"]
[null,"диаметр, мм"]
[null,"диаметр, мм"]
["протяженность сетей, нуждающихся в замене, м","всего",{"$f":"SUM(C45:C54)","v":0}]
[null,"диаметр, мм"]
[null,"диаметр, мм"]
[null,"диаметр, мм"]
[null,"диаметр, мм"]
[null,"диаметр, мм"]
[null,"диаметр, мм"]
[null,"диаметр, мм"]
[null,"диаметр, мм"]
[null,"диаметр, мм"]
[null,"диаметр, мм"]
["Безнапорные сети"]
["протяженность сетей, м","всего",{"$f":"SUM(C57:C66)","v":0}]
[null,"диаметр, мм"]
[null,"диаметр, мм"]
[null,"диаметр, мм"]
[null,"диаметр, мм"]
[null,"диаметр, мм"]
[null,"диаметр, мм"]
[null,"диаметр, мм"]
[null,"диаметр, мм"]
[null,"диаметр, мм"]
[null,"диаметр, мм"]
["протяженность сетей, нуждающихся в замене, м","всего",{"$f":"SUM(C68:C77)","v":0}]
[null,"диаметр, мм"]
[null,"диаметр, мм"]
[null,"диаметр, мм"]
[null,"диаметр, мм"]
[null,"диаметр, мм"]
[null,"диаметр, мм"]
[null,"диаметр, мм"]
[null,"диаметр, мм"]
[null,"диаметр, мм"]
[null,"диаметр, мм"]
["Всего канализационных сетей","м",{"$f":"C33+C56","v":0}]
["в том числе, нуждающихся в замене","м",{"$f":"C44+C67","v":0}]
[null,"%",{"$f":"IF(C78=0,0,C79/C78*100)","v":0}]
[]
[]
["Основное оборудование канализационных насосных станций и очистных сооружений"]
[]
["Наименование показателя","Количество одновременно в работе","Марка оборудования (насоса)","Производительность оборудования (насоса), куб.м./час","Продолжительность работы в году, час","Мощность оборудования (насоса), кВт","Отопление (обогрев) объектов"]
[null,null,null,null,null,null,"ТЭН",null,"Тепловая энергия от котельных"]
[null,null,null,null,null,null,"количество, шт","Суммарная мощность, кВт","Объем, Гкал","Наименование организации-поставщика тепловой энергии "]
["Станции очистки сточных вод"]
["Насосное оборудование"]
[]
[]
[]
[]
[]
[]
[]
[]
[]
[]
[]
["Оборудование очистных сооружений"]
[]
[]
[]
[]
[]
[]
[]
[]
[]
["Оборудование канализационных насосных станций"]

{"sheet":"полезный отпуск","index":7,"n_rows":26,"n_cols":144,"rows_kept":26,"cut":false,"hidden":false,"merged":[[12,133,12,135],[12,42,12,44],[12,55,12,57],[12,68,12,70],[12,81,12,83],[12,94,12,96],[12,137,12,139],[10,128,12,128],[10,129,12,129],[10,130,12,130],[12,124,12,126],[12,111,12,113],[10,101,12,101],[10,102,12,102],[10,103,12,103],[10,104,12,104],[12,98,12,100],[12,85,12,87],[10,75,12,75],[10,76,12,76],[10,77,12,77],[10,78,12,78],[12,72,12,74],[12,59,12,61],[9,2,9,5],[9,6,9,9],[10,2,12,2],[10,3,10,5],[10,6,12,6],[10,7,10,9],[10,10,12,10],[5,131,5,143],[6,131,6,143],[7,131,7,143],[8,131,12,131],[8,132,8,143],[9,132,9,135],[9,136,9,139],[9,141,9,143],[10,132,12,132],[10,133,10,135],[10,136,12,136],[10,137,10,139],[10,140,12,140],[10,141,12,141],[10,142,12,142],[10,143,12,143],[10,127,12,127],[5,118,5,130],[6,118,6,130],[7,118,7,130],[8,118,12,118],[8,119,8,130],[9,119,9,122],[9,123,9,126],[9,128,9,130],[10,119,12,119],[10,120,10,122],[10,123,12,123],[10,124,10,126],[12,120,12,122],[5,105,5,117],[6,105,6,117],[7,105,7,117],[8,105,12,105],[8,106,8,117],[9,106,9,109],[9,110,9,113],[9,115,9,117],[10,106,12,106],[10,107,10,109],[10,110,12,110],[10,111,10,113],[10,114,12,114],[10,115,12,115],[10,116,12,116],[10,117,12,117],[12,107,12,109],[5,92,5,104],[6,92,6,104],[7,92,7,104],[8,92,12,92],[8,93,8,104],[9,93,9,96],[9,97,9,100],[9,102,9,104],[10,93,12,93],[10,94,10,96],[10,97,12,97],[10,98,10,100],[5,79,5,91],[6,79,6,91],[7,79,7,91],[8,79,12,79],[8,80,8,91],[9,80,9,83],[9,84,9,87],[9,89,9,91],[10,80,12,80],[10,81,10,83],[10,84,12,84],[10,85,10,87],[10,88,12,88],[10,89,12,89],[10,90,12,90],[10,91,12,91],[5,66,5,78],[6,66,6,78],[7,66,7,78],[8,66,12,66],[8,67,8,78],[9,67,9,70],[9,71,9,74],[9,76,9,78],[10,67,12,67],[10,68,10,70],[10,71,12,71],[10,72,10,74],[5,53,5,65],[6,53,6,65],[7,53,7,65],[8,53,12,53],[8,54,8,65],[9,54,9,57],[9,58,9,61],[9,63,9,65],[10,54,12,54],[10,55,10,57],[10,58,12,58],[10,59,10,61],[10,62,12,62],[10,63,12,63],[10,64,12,64],[12,33,12,35],[12,29,12,31],[10,24,12,24],[10,25,12,25],[10,26,12,26],[8,40,12,40],[8,41,8,52],[9,41,9,44],[9,45,9,48],[9,50,9,52],[10,41,12,41],[10,42,10,44],[10,45,12,45],[10,46,10,48],[10,49,12,49],[10,50,12,50],[10,51,12,51],[10,52,12,52],[12,46,12,48],[9,15,9,18],[10,16,10,18],[6,1,7,13],[5,1,5,13],[8,2,8,13],[9,11,9,13],[10,13,12,13],[10,23,12,23],[5,27,5,39],[6,27,6,39],[7,27,7,39],[8,27,12,27],[8,28,8,39],[9,28,9,31],[9,32,9,35],[9,37,9,39],[10,28,12,28],[10,29,10,31],[10,32,12,32],[10,33,10,35],[10,36,12,36],[10,37,12,37],[10,38,12,38],[10,39,12,39],[0,0,0,13],[1,0,1,13],[9,19,9,22],[10,20,10,22],[10,19,12,19],[12,20,12,22],[7,40,7,52],[10,65,12,65],[5,40,5,52],[6,40,6,52],[5,14,5,26],[6,14,6,26],[8,15,8,26],[9,24,9,26],[7,14,7,26],[8,14,12,14],[10,15,12,15],[12,16,12,18],[5,0,12,0],[8,1,12,1],[10,11,12,11],[10,12,12,12],[12,7,12,9],[12,3,12,5]]}
["Сводный отчет об объемах водоотведения (реализации) от собственного потребления и сторонних потребителей"]
[{"$f":"Титульный!C10","v":" "}]
["Район",{"$f":"Титульный!C6","v":""},null,null,null,null,null,"МО",{"$f":"Титульный!C7","v":""}]
[]
[]
["Период","Объем реализации, куб.м.",null,null,null,null,null,null,null,null,null,null,null,null,"Объем реализации, куб.м.",null,null,null,null,null,null,null,null,null,null,null,null,"Объем реализации, куб.м.",null,null,null,null,null,null,null,null,null,null,null,null,"Объем реализации, куб.м.",null,null,null,null,null,null,null,null,null,null,null,null,"Объем реализации, куб.м.",null,null,null,null,null,null,null,null,null,null,null,null,"Объем реализации, куб.м.",null,null,null,null,null,null,null,null,null,null,null,null,"Объем реализации, куб.м.",null,null,null,null,null,null,null,null,null,null,null,null,"Объем реализации, куб.м.",null,null,null,null,null,null,null,null,null,null,null,null,"Объем реализации, куб.м.",null,null,null,null,null,null,null,null,null,null,null,null,"Объем реализации, куб.м.",null,null,null,null,null,null,null,null,null,null,null,null,"Объем реализации, куб.м."]
[null,"ВСЕГО по тарифу",null,null,null,null,null,null,null,null,null,null,null,null,{"$f":"'данные об организации'!$F$14","v":0},null,null,null,null,null,null,null,null,null,null,null,null,{"$f":"'данные об организации'!$F$15","v":0},null,null,null,null,null,null,null,null,null,null,null,null,{"$f":"'данные об организации'!$F$16","v":0},null,null,null,null,null,null,null,null,null,null,null,null,{"$f":"'данные об организации'!$F$17","v":0},null,null,null,null,null,null,null,null,null,null,null,null,{"$f":"'данные об организации'!$F$18","v":0},null,null,null,null,null,null,null,null,null,null,null,null,{"$f":"'данные об организации'!$F$19","v":0},null,null,null,null,null,null,null,null,null,null,null,null,{"$f":"'данные об организации'!$F$20","v":0},null,null,null,null,null,null,null,null,null,null,null,null,{"$f":"'данные об организации'!$F$21","v":0},null,null,null,null,null,null,null,null,null,null,null,null,{"$f":"'данные об организации'!$F$22","v":0},null,null,null,null,null,null,null,null,null,null,null,null,{"$f":"'данные об организации'!$F$23","v":0}]
[null,null,null,null,null,null,null,null,null,null,null,null,null,null,"(наименование населенного пункта)",null,null,null,null,null,null,null,null,null,null,null,null,"(наименование населенного пункта)",null,null,null,null,null,null,null,null,null,null,null,null,"(наименование населенного пункта)",null,null,null,null,null,null,null,null,null,null,null,null,"(наименование населенного пункта)",null,null,null,null,null,null,null,null,null,null,null,null,"(наименование населенного пункта)",null,null,null,null,null,null,null,null,null,null,null,null,"(наименование населенного пункта)",null,null,null,null,null,null,null,null,null,null,null,null,"(наименование населенного пункта)",null,null,null,null,null,null,null,null,null,null,null,null,"(наименование населенного пункта)",null,null,null,null,null,null,null,null,null,null,null,null,"(наименование населенного пункта)",null,null,null,null,null,null,null,null,null,null,null,null,"(наименование населенного пункта)"]
[null,"всего","в том числе:",null,null,null,null,null,null,null,null,null,null,null,"всего","в том числе:",null,null,null,null,null,null,null,null,null,null,null,"всего","в том числе:",null,null,null,null,null,null,null,null,null,null,null,"всего","в том числе:",null,null,null,null,null,null,null,null,null,null,null,"всего","в том числе:",null,null,null,null,null,null,null,null,null,null,null,"всего","в том числе:",null,null,null,null,null,null,null,null,null,null,null,"всего","в том числе:",null,null,null,null,null,null,null,null,null,null,null,"всего","в том числе:",null,null,null,null,null,null,null,null,null,null,null,"всего","в том числе:",null,null,null,null,null,null,null,null,null,null,null,"всего","в том числе:",null,null,null,null,null,null,null,null,null,null,null,"всего","в том числе:"]
[null,null,"собственное потребление",null,null,null,"принято стоков от других систем водоотведения",null,null,null,null,"сторонние потребители",null,null,null,"собственное потребление",null,null,null,"принято стоков от других систем водоотведения",null,null,null,null,"сторонние потребители",null,null,null,"собственное потребление",null,null,null,"принято стоков от других систем водоотведения",null,null,null,null,"сторонние потребители",null,null,null,"собственное потребление",null,null,null,"принято стоков от других систем водоотведения",null,null,null,null,"сторонние потребители",null,null,null,"собственное потребление",null,null,null,"принято стоков от других систем водоотведения",null,null,null,null,"сторонние потребители",null,null,null,"собственное потребление",null,null,null,"принято стоков от других систем водоотведения",null,null,null,null,"сторонние потребители",null,null,null,"собственное потребление",null,null,null,"принято стоков от других систем водоотведения",null,null,null,null,"сторонние потребители",null,null,null,"собственное потребление",null,null,null,"принято стоков от других систем водоотведения",null,null,null,null,"сторонние потребители",null,null,null,"собственное потребление",null,null,null,"принято стоков от других систем водоотведения",null,null,null,null,"сторонние потребители",null,null,null,"собственное потребление",null,null,null,"принято стоков от других систем водоотведения",null,null,null,null,"сторонние потребители",null,null,null,"собственное потребление",null,null,null,"принято стоков от других систем водоотведения",null,null,null,null,"сторонние потребители"]
[null,null,"Итого","в том числе",null,null,"Итого","в том числе",null,null,"Итого","бюджет","население","прочие",null,"Итого","в том числе",null,null,"Итого","в том числе",null,null,"Итого","бюджет","население","прочие",null,"Итого","в том числе",null,null,"Итого","в том числе",null,null,"Итого","бюджет","население","прочие",null,"Итого","в том числе",null,null,"Итого","в том числе",null,null,"Итого","бюджет","население","прочие",null,"Итого","в том числе",null,null,"Итого","в том числе",null,null,"Итого","бюджет","население","прочие",null,"Итого","в том числе",null,null,"Итого","в том числе",null,null,"Итого","бюджет","население","прочие",null,"Итого","в том числе",null,null,"Итого","в том числе",null,null,"Итого","бюджет","население","прочие",null,"Итого","в том числе",null,null,"Итого","в том числе",null,null,"Итого","бюджет","население","прочие",null,"Итого","в том числе",null,null,"Итого","в том числе",null,null,"Итого","бюджет","население","прочие",null,"Итого","в том числе",null,null,"Итого","в том числе",null,null,"Итого","бюджет","население","прочие",null,"Итого","в том числе",null,null,"Итого","в том числе",null,null,"Итого","бюджет","население","прочие"]
[null,null,null,null,null,null,null,null,null,null,null,null,null,null,null,null,{"$f":"D12","v":0},{"$f":"E12","v":0},{"$f":"F12","v":0},null,{"$f":"H12","v":0},{"$f":"I12","v":0},{"$f":"J12","v":0},null,null,null,null,null,null,{"$f":"Q12","v":0},{"$f":"R12","v":0},{"$f":"S12","v":0},null,{"$f":"U12","v":0},{"$f":"V12","v":0},{"$f":"W12","v":0},null,null,null,null,null,null,{"$f":"AD12","v":0},{"$f":"AE12","v":0},{"$f":"AF12","v":0},null,{"$f":"AH12","v":0},{"$f":"AI12","v":0},{"$f":"AJ12","v":0},null,null,null,null,null,null,{"$f":"AQ12","v":0},{"$f":"AR12","v":0},{"$f":"AS12","v":0},null,{"$f":"AU12","v":0},{"$f":"AV12","v":0},{"$f":"AW12","v":0},null,null,null,null,null,null,{"$f":"BD12","v":0},{"$f":"BE12","v":0},{"$f":"BF12","v":0},null,{"$f":"BH12","v":0},{"$f":"BI12","v":0},{"$f":"BJ12","v":0},null,null,null,null,null,null,{"$f":"BQ12","v":0},{"$f":"BR12","v":0},{"$f":"BS12","v":0},null,{"$f":"BU12","v":0},{"$f":"BV12","v":0},{"$f":"BW12","v":0},null,null,null,null,null,null,{"$f":"CD12","v":0},{"$f":"CE12","v":0},{"$f":"CF12","v":0},null,{"$f":"CH12","v":0},{"$f":"CI12","v":0},{"$f":"CJ12","v":0},null,null,null,null,null,null,{"$f":"CQ12","v":0},{"$f":"CR12","v":0},{"$f":"CS12","v":0},null,{"$f":"CU12","v":0},{"$f":"CV12","v":0},{"$f":"CW12","v":0},null,null,null,null,null,null,{"$f":"DD12","v":0},{"$f":"DE12","v":0},{"$f":"DF12","v":0},null,{"$f":"DH12","v":0},{"$f":"DI12","v":0},{"$f":"DJ12","v":0},null,null,null,null,null,null,{"$f":"DQ12","v":0},{"$f":"DR12","v":0},{"$f":"DS12","v":0},null,{"$f":"DU12","v":0},{"$f":"DV12","v":0},{"$f":"DW12","v":0}]
[null,null,null,"(наименование расходов)",null,null,null,"(наименование организаций)",null,null,null,null,null,null,null,null,"(наименование расходов)",null,null,null,"(наименование организаций)",null,null,null,null,null,null,null,null,"(наименование расходов)",null,null,null,"(наименование организаций)",null,null,null,null,null,null,null,null,"(наименование расходов)",null,null,null,"(наименование организаций)",null,null,null,null,null,null,null,null,"(наименование расходов)",null,null,null,"(наименование организаций)",null,null,null,null,null,null,null,null,"(наименование расходов)",null,null,null,"(наименование организаций)",null,null,null,null,null,null,null,null,"(наименование расходов)",null,null,null,"(наименование организаций)",null,null,null,null,null,null,null,null,"(наименование расходов)",null,null,null,"(наименование организаций)",null,null,null,null,null,null,null,null,"(наименование расходов)",null,null,null,"(наименование организаций)",null,null,null,null,null,null,null,null,"(наименование расходов)",null,null,null,"(наименование организаций)",null,null,null,null,null,null,null,null,"(наименование расходов)",null,null,null,"(наименование организаций)"]
["Январь",{"$f":"C14+G14+K14","v":0},{"$f":"SUM(D14:F14)","v":0},{"$f":"Q14+AD14+AQ14+BD14+BQ14+CD14+CQ14+DD14+DQ14+ED14","v":0},{"$f":"R14+AE14+AR14+BE14+BR14+CE14+CR14+DE14+DR14+EE14","v":0},{"$f":"S14+AF14+AS14+BF14+BS14+CF14+CS14+DF14+DS14+EF14","v":0},{"$f":"SUM(H14:J14)","v":0},{"$f":"U14+AH14+AU14+BH14+BU14+CH14+CU14+DH14+DU14+EH14","v":0},{"$f":"V14+AI14+AV14+BI14+BV14+CI14+CV14+DI14+DV14+EI14","v":0},{"$f":"W14+AJ14+AW14+BJ14+BW14+CJ14+CW14+DJ14+DW14+EJ14","v":0},{"$f":"SUM(L14:N14)","v":0},{"$f":"Y14+AL14+AY14+BL14+BY14+CL14+CY14+DL14+DY14+EL14","v":0},{"$f":"Z14+AM14+AZ14+BM14+BZ14+CM14+CZ14+DM14+DZ14+EM14","v":0},{"$f":"AA14+AN14+BA14+BN14+CA14+CN14+DA14+DN14+EA14+EN14","v":0},{"$f":"P14+T14+X14","v":0},{"$f":"SUM(Q14:S14)","v":0},null,null,null,{"$f":"SUM(U14:W14)","v":0},null,null,null,{"$f":"SUM(Y14:AA14)","v":0},null,null,null,{"$f":"AC14+AG14+AK14","v":0},{"$f":"SUM(AD14:AF14)","v":0},null,null,null,{"$f":"SUM(AH14:AJ14)","v":0},null,null,null,{"$f":"SUM(AL14:AN14)","v":0},null,null,null,{"$f":"AP14+AT14+AX14","v":0},{"$f":"SUM(AQ14:AS14)","v":0},null,null,null,{"$f":"SUM(AU14:AW14)","v":0},null,null,null,{"$f":"SUM(AY14:BA14)","v":0},null,null,null,{"$f":"BC14+BG14+BK14","v":0},{"$f":"SUM(BD14:BF14)","v":0},null,null,null,{"$f":"SUM(BH14:BJ14)","v":0},null,null,null,{"$f":"SUM(BL14:BN14)","v":0},null,null,null,{"$f":"BP14+BT14+BX14","v":0},{"$f":"SUM(BQ14:BS14)","v":0},null,null,null,{"$f":"SUM(BU14:BW14)","v":0},null,null,null,{"$f":"SUM(BY14:CA14)","v":0},null,null,null,{"$f":"CC14+CG14+CK14","v":0},{"$f":"SUM(CD14:CF14)","v":0},null,null,null,{"$f":"SUM(CH14:CJ14)","v":0},null,null,null,{"$f":"SUM(CL14:CN14)","v":0},null,null,null,{"$f":"CP14+CT14+CX14","v":0},{"$f":"SUM(CQ14:CS14)","v":0},null,null,null,{"$f":"SUM(CU14:CW14)","v":0},null,null,null,{"$f":"SUM(CY14:DA14)","v":0},null,null,null,{"$f":"DC14+DG14+DK14","v":0},{"$f":"SUM(DD14:DF14)","v":0},null,null,null,{"$f":"SUM(DH14:DJ14)","v":0},null,null,null,{"$f":"SUM(DL14:DN14)","v":0},null,null,null,{"$f":"DP14+DT14+DX14","v":0},{"$f":"SUM(DQ14:DS14)","v":0},null,null,null,{"$f":"SUM(DU14:DW14)","v":0},null,null,null,{"$f":"SUM(DY14:EA14)","v":0},null,null,null,{"$f":"EC14+EG14+EK14","v":0},{"$f":"SUM(ED14:EF14)","v":0},null,null,null,{"$f":"SUM(EH14:EJ14)","v":0},null,null,null,{"$f":"SUM(EL14:EN14)","v":0}]
["Февраль",{"$f":"C15+G15+K15","v":0},{"$f":"SUM(D15:F15)","v":0},{"$f":"Q15+AD15+AQ15+BD15+BQ15+CD15+CQ15+DD15+DQ15+ED15","v":0},{"$f":"R15+AE15+AR15+BE15+BR15+CE15+CR15+DE15+DR15+EE15","v":0},{"$f":"S15+AF15+AS15+BF15+BS15+CF15+CS15+DF15+DS15+EF15","v":0},{"$f":"SUM(H15:J15)","v":0},{"$f":"U15+AH15+AU15+BH15+BU15+CH15+CU15+DH15+DU15+EH15","v":0},0,0,{"$f":"SUM(L15:N15)","v":0},{"$f":"Y15+AL15+AY15+BL15+BY15+CL15+CY15+DL15+DY15+EL15","v":0},0,0,{"$f":"P15+T15+X15","v":0},{"$f":"SUM(Q15:S15)","v":0},null,null,null,{"$f":"SUM(U15:W15)","v":0},null,null,null,{"$f":"SUM(Y15:AA15)","v":0},null,null,null,{"$f":"AC15+AG15+AK15","v":0},{"$f":"SUM(AD15:AF15)","v":0},null,null,null,{"$f":"SUM(AH15:AJ15)","v":0},null,null,null,{"$f":"SUM(AL15:AN15)","v":0},null,null,null,{"$f":"AP15+AT15+AX15","v":0},{"$f":"SUM(AQ15:AS15)","v":0},null,null,null,{"$f":"SUM(AU15:AW15)","v":0},null,null,null,{"$f":"SUM(AY15:BA15)","v":0},null,null,null,{"$f":"BC15+BG15+BK15","v":0},{"$f":"SUM(BD15:BF15)","v":0},null,null,null,{"$f":"SUM(BH15:BJ15)","v":0},null,null,null,{"$f":"SUM(BL15:BN15)","v":0},null,null,null,{"$f":"BP15+BT15+BX15","v":0},{"$f":"SUM(BQ15:BS15)","v":0},null,null,null,{"$f":"SUM(BU15:BW15)","v":0},null,null,null,{"$f":"SUM(BY15:CA15)","v":0},null,null,null,{"$f":"CC15+CG15+CK15","v":0},{"$f":"SUM(CD15:CF15)","v":0},null,null,null,{"$f":"SUM(CH15:CJ15)","v":0},null,null,null,{"$f":"SUM(CL15:CN15)","v":0},null,null,null,{"$f":"CP15+CT15+CX15","v":0},{"$f":"SUM(CQ15:CS15)","v":0},null,null,null,{"$f":"SUM(CU15:CW15)","v":0},null,null,null,{"$f":"SUM(CY15:DA15)","v":0},null,null,null,{"$f":"DC15+DG15+DK15","v":0},{"$f":"SUM(DD15:DF15)","v":0},null,null,null,{"$f":"SUM(DH15:DJ15)","v":0},null,null,null,{"$f":"SUM(DL15:DN15)","v":0},null,null,null,{"$f":"DP15+DT15+DX15","v":0},{"$f":"SUM(DQ15:DS15)","v":0},null,null,null,{"$f":"SUM(DU15:DW15)","v":0},null,null,null,{"$f":"SUM(DY15:EA15)","v":0},null,null,null,{"$f":"EC15+EG15+EK15","v":0},{"$f":"SUM(ED15:EF15)","v":0},null,null,null,{"$f":"SUM(EH15:EJ15)","v":0},null,null,null,{"$f":"SUM(EL15:EN15)","v":0}]
["Март",0,0,0,0,0,0,0,0,0,0,0,0,0,0,0,null,null,null,0,null,null,null,0,null,null,null,0,0,null,null,null,0,null,null,null,0,null,null,null,0,0,null,null,null,0,null,null,null,0,null,null,null,0,0,null,null,null,0,null,null,null,0,null,null,null,0,0,null,null,null,0,null,null,null,0,null,null,null,0,0,null,null,null,0,null,null,null,0,null,null,null,0,0,null,null,null,0,null,null,null,0,null,null,null,0,0,null,null,null,0,null,null,null,0,null,null,null,0,0,null,null,null,0,null,null,null,0,null,null,null,0,0,null,null,null,0,null,null,null,0]
["Апрель",0,0,0,0,0,0,0,0,0,0,0,0,0,0,0,null,null,null,0,null,null,null,0,null,null,null,0,0,null,null,null,0,null,null,null,0,null,null,null,0,0,null,null,null,0,null,null,null,0,null,null,null,0,0,null,null,null,0,null,null,null,0,null,null,null,0,0,null,null,null,0,null,null,null,0,null,null,null,0,0,null,null,null,0,null,null,null,0,null,null,null,0,0,null,null,null,0,null,null,null,0,null,null,null,0,0,null,null,null,0,null,null,null,0,null,null,null,0,0,null,null,null,0,null,null,null,0,null,null,null,0,0,null,null,null,0,null,null,null,0]
["Май",0,0,0,0,0,0,0,0,0,0,0,0,0,0,0,null,null,null,0,null,null,null,0,null,null,null,0,0,null,null,null,0,null,null,null,0,null,null,null,0,0,null,null,null,0,null,null,null,0,null,null,null,0,0,null,null,null,0,null,null,null,0,null,null,null,0,0,null,null,null,0,null,null,null,0,null,null,null,0,0,null,null,null,0,null,null,null,0,null,null,null,0,0,null,null,null,0,null,null,null,0,null,null,null,0,0,null,null,null,0,null,null,null,0,null,null,null,0,0,null,null,null,0,null,null,null,0,null,null,null,0,0,null,null,null,0,null,null,null,0]
["Июнь",0,0,0,0,0,0,0,0,0,0,0,0,0,0,0,null,null,null,0,null,null,null,0,null,null,null,0,0,null,null,null,0,null,null,null,0,null,null,null,0,0,null,null,null,0,null,null,null,0,null,null,null,0,0,null,null,null,0,null,null,null,0,null,null,null,0,0,null,null,null,0,null,null,null,0,null,null,null,0,0,null,null,null,0,null,null,null,0,null,null,null,0,0,null,null,null,0,null,null,null,0,null,null,null,0,0,null,null,null,0,null,null,null,0,null,null,null,0,0,null,null,null,0,null,null,null,0,null,null,null,0,0,null,null,null,0,null,null,null,0]
["Июль",0,0,0,0,0,0,0,0,0,0,0,0,0,0,0,null,null,null,0,null,null,null,0,null,null,null,0,0,null,null,null,0,null,null,null,0,null,null,null,0,0,null,null,null,0,null,null,null,0,null,null,null,0,0,null,null,null,0,null,null,null,0,null,null,null,0,0,null,null,null,0,null,null,null,0,null,null,null,0,0,null,null,null,0,null,null,null,0,null,null,null,0,0,null,null,null,0,null,null,null,0,null,null,null,0,0,null,null,null,0,null,null,null,0,null,null,null,0,0,null,null,null,0,null,null,null,0,null,null,null,0,0,null,null,null,0,null,null,null,0]
["Август",0,0,0,0,0,0,0,0,0,0,0,0,0,0,0,null,null,null,0,null,null,null,0,null,null,null,0,0,null,null,null,0,null,null,null,0,null,null,null,0,0,null,null,null,0,null,null,null,0,null,null,null,0,0,null,null,null,0,null,null,null,0,null,null,null,0,0,null,null,null,0,null,null,null,0,null,null,null,0,0,null,null,null,0,null,null,null,0,null,null,null,0,0,null,null,null,0,null,null,null,0,null,null,null,0,0,null,null,null,0,null,null,null,0,null,null,null,0,0,null,null,null,0,null,null,null,0,null,null,null,0,0,null,null,null,0,null,null,null,0]
["Сентябрь",0,0,0,0,0,0,0,0,0,0,0,0,0,0,0,null,null,null,0,null,null,null,0,null,null,null,0,0,null,null,null,0,null,null,null,0,null,null,null,0,0,null,null,null,0,null,null,null,0,null,null,null,0,0,null,null,null,0,null,null,null,0,null,null,null,0,0,null,null,null,0,null,null,null,0,null,null,null,0,0,null,null,null,0,null,null,null,0,null,null,null,0,0,null,null,null,0,null,null,null,0,null,null,null,0,0,null,null,null,0,null,null,null,0,null,null,null,0,0,null,null,null,0,null,null,null,0,null,null,null,0,0,null,null,null,0,null,null,null,0]
["Октябрь",0,0,0,0,0,0,0,0,0,0,0,0,0,0,0,null,null,null,0,null,null,null,0,null,null,null,0,0,null,null,null,0,null,null,null,0,null,null,null,0,0,null,null,null,0,null,null,null,0,null,null,null,0,0,null,null,null,0,null,null,null,0,null,null,null,0,0,null,null,null,0,null,null,null,0,null,null,null,0,0,null,null,null,0,null,null,null,0,null,null,null,0,0,null,null,null,0,null,null,null,0,null,null,null,0,0,null,null,null,0,null,null,null,0,null,null,null,0,0,null,null,null,0,null,null,null,0,null,null,null,0,0,null,null,null,0,null,null,null,0]
["Ноябрь",0,0,0,0,0,0,0,0,0,0,0,0,0,0,0,null,null,null,0,null,null,null,0,null,null,null,0,0,null,null,null,0,null,null,null,0,null,null,null,0,0,null,null,null,0,null,null,null,0,null,null,null,0,0,null,null,null,0,null,null,null,0,null,null,null,0,0,null,null,null,0,null,null,null,0,null,null,null,0,0,null,null,null,0,null,null,null,0,null,null,null,0,0,null,null,null,0,null,null,null,0,null,null,null,0,0,null,null,null,0,null,null,null,0,null,null,null,0,0,null,null,null,0,null,null,null,0,null,null,null,0,0,null,null,null,0,null,null,null,0]
["Декабрь",0,0,0,0,0,0,0,0,0,0,0,0,0,0,0,null,null,null,0,null,null,null,0,null,null,null,0,0,null,null,null,0,null,null,null,0,null,null,null,0,0,null,null,null,0,null,null,null,0,null,null,null,0,0,null,null,null,0,null,null,null,0,null,null,null,0,0,null,null,null,0,null,null,null,0,null,null,null,0,0,null,null,null,0,null,null,null,0,null,null,null,0,0,null,null,null,0,null,null,null,0,null,null,null,0,0,null,null,null,0,null,null,null,0,null,null,null,0,0,null,null,null,0,null,null,null,0,null,null,null,0,0,null,null,null,0,null,null,null,0]
["Итого год",{"$f":"SUM(B14:B25)","v":0},{"$f":"SUM(C14:C25)","v":0},{"$f":"SUM(D14:D25)","v":0},{"$f":"SUM(E14:E25)","v":0},{"$f":"SUM(F14:F25)","v":0},{"$f":"SUM(G14:G25)","v":0},{"$f":"SUM(H14:H25)","v":0},{"$f":"SUM(I14:I25)","v":0},{"$f":"SUM(J14:J25)","v":0},{"$f":"SUM(K14:K25)","v":0},{"$f":"SUM(L14:L25)","v":0},{"$f":"SUM(M14:M25)","v":0},{"$f":"SUM(N14:N25)","v":0},{"$f":"SUM(O14:O25)","v":0},{"$f":"SUM(P14:P25)","v":0},{"$f":"SUM(Q14:Q25)","v":0},{"$f":"SUM(R14:R25)","v":0},{"$f":"SUM(S14:S25)","v":0},0,{"$f":"SUM(U14:U25)","v":0},{"$f":"SUM(V14:V25)","v":0},{"$f":"SUM(W14:W25)","v":0},{"$f":"SUM(X14:X25)","v":0},{"$f":"SUM(Y14:Y25)","v":0},{"$f":"SUM(Z14:Z25)","v":0},{"$f":"SUM(AA14:AA25)","v":0},{"$f":"SUM(AB14:AB25)","v":0},{"$f":"SUM(AC14:AC25)","v":0},{"$f":"SUM(AD14:AD25)","v":0},{"$f":"SUM(AE14:AE25)","v":0},{"$f":"SUM(AF14:AF25)","v":0},{"$f":"SUM(AG14:AG25)","v":0},{"$f":"SUM(AH14:AH25)","v":0},{"$f":"SUM(AI14:AI25)","v":0},{"$f":"SUM(AJ14:AJ25)","v":0},{"$f":"SUM(AK14:AK25)","v":0},{"$f":"SUM(AL14:AL25)","v":0},{"$f":"SUM(AM14:AM25)","v":0},{"$f":"SUM(AN14:AN25)","v":0},{"$f":"SUM(AO14:AO25)","v":0},{"$f":"SUM(AP14:AP25)","v":0},{"$f":"SUM(AQ14:AQ25)","v":0},{"$f":"SUM(AR14:AR25)","v":0},{"$f":"SUM(AS14:AS25)","v":0},{"$f":"SUM(AT14:AT25)","v":0},{"$f":"SUM(AU14:AU25)","v":0},{"$f":"SUM(AV14:AV25)","v":0},{"$f":"SUM(AW14:AW25)","v":0},{"$f":"SUM(AX14:AX25)","v":0},{"$f":"SUM(AY14:AY25)","v":0},{"$f":"SUM(AZ14:AZ25)","v":0},{"$f":"SUM(BA14:BA25)","v":0},{"$f":"SUM(BB14:BB25)","v":0},{"$f":"SUM(BC14:BC25)","v":0},{"$f":"SUM(BD14:BD25)","v":0},{"$f":"SUM(BE14:BE25)","v":0},{"$f":"SUM(BF14:BF25)","v":0},{"$f":"SUM(BG14:BG25)","v":0},{"$f":"SUM(BH14:BH25)","v":0},{"$f":"SUM(BI14:BI25)","v":0},{"$f":"SUM(BJ14:BJ25)","v":0},{"$f":"SUM(BK14:BK25)","v":0},{"$f":"SUM(BL14:BL25)","v":0},{"$f":"SUM(BM14:BM25)","v":0},{"$f":"SUM(BN14:BN25)","v":0},{"$f":"SUM(BO14:BO25)","v":0},{"$f":"SUM(BP14:BP25)","v":0},{"$f":"SUM(BQ14:BQ25)","v":0},{"$f":"SUM(BR14:BR25)","v":0},{"$f":"SUM(BS14:BS25)","v":0},{"$f":"SUM(BT14:BT25)","v":0},{"$f":"SUM(BU14:BU25)","v":0},{"$f":"SUM(BV14:BV25)","v":0},{"$f":"SUM(BW14:BW25)","v":0},{"$f":"SUM(BX14:BX25)","v":0},{"$f":"SUM(BY14:BY25)","v":0},{"$f":"SUM(BZ14:BZ25)","v":0},{"$f":"SUM(CA14:CA25)","v":0},{"$f":"SUM(CB14:CB25)","v":0},{"$f":"SUM(CC14:CC25)","v":0},{"$f":"SUM(CD14:CD25)","v":0},{"$f":"SUM(CE14:CE25)","v":0},{"$f":"SUM(CF14:CF25)","v":0},{"$f":"SUM(CG14:CG25)","v":0},{"$f":"SUM(CH14:CH25)","v":0},{"$f":"SUM(CI14:CI25)","v":0},{"$f":"SUM(CJ14:CJ25)","v":0},{"$f":"SUM(CK14:CK25)","v":0},{"$f":"SUM(CL14:CL25)","v":0},{"$f":"SUM(CM14:CM25)","v":0},{"$f":"SUM(CN14:CN25)","v":0},{"$f":"SUM(CO14:CO25)","v":0},{"$f":"SUM(CP14:CP25)","v":0},{"$f":"SUM(CQ14:CQ25)","v":0},{"$f":"SUM(CR14:CR25)","v":0},{"$f":"SUM(CS14:CS25)","v":0},{"$f":"SUM(CT14:CT25)","v":0},{"$f":"SUM(CU14:CU25)","v":0},{"$f":"SUM(CV14:CV25)","v":0},{"$f":"SUM(CW14:CW25)","v":0},{"$f":"SUM(CX14:CX25)","v":0},{"$f":"SUM(CY14:CY25)","v":0},{"$f":"SUM(CZ14:CZ25)","v":0},{"$f":"SUM(DA14:DA25)","v":0},{"$f":"SUM(DB14:DB25)","v":0},{"$f":"SUM(DC14:DC25)","v":0},{"$f":"SUM(DD14:DD25)","v":0},{"$f":"SUM(DE14:DE25)","v":0},{"$f":"SUM(DF14:DF25)","v":0},{"$f":"SUM(DG14:DG25)","v":0},{"$f":"SUM(DH14:DH25)","v":0},{"$f":"SUM(DI14:DI25)","v":0},{"$f":"SUM(DJ14:DJ25)","v":0},{"$f":"SUM(DK14:DK25)","v":0},{"$f":"SUM(DL14:DL25)","v":0},{"$f":"SUM(DM14:DM25)","v":0},{"$f":"SUM(DN14:DN25)","v":0},{"$f":"SUM(DO14:DO25)","v":0},{"$f":"SUM(DP14:DP25)","v":0},{"$f":"SUM(DQ14:DQ25)","v":0},{"$f":"SUM(DR14:DR25)","v":0},{"$f":"SUM(DS14:DS25)","v":0},{"$f":"SUM(DT14:DT25)","v":0},{"$f":"SUM(DU14:DU25)","v":0},{"$f":"SUM(DV14:DV25)","v":0},{"$f":"SUM(DW14:DW25)","v":0},{"$f":"SUM(DX14:DX25)","v":0},{"$f":"SUM(DY14:DY25)","v":0},{"$f":"SUM(DZ14:DZ25)","v":0},{"$f":"SUM(EA14:EA25)","v":0},{"$f":"SUM(EB14:EB25)","v":0},{"$f":"SUM(EC14:EC25)","v":0},{"$f":"SUM(ED14:ED25)","v":0},{"$f":"SUM(EE14:EE25)","v":0},{"$f":"SUM(EF14:EF25)","v":0},{"$f":"SUM(EG14:EG25)","v":0},{"$f":"SUM(EH14:EH25)","v":0},{"$f":"SUM(EI14:EI25)","v":0},{"$f":"SUM(EJ14:EJ25)","v":0},{"$f":"SUM(EK14:EK25)","v":0},{"$f":"SUM(EL14:EL25)","v":0},{"$f":"SUM(EM14:EM25)","v":0},{"$f":"SUM(EN14:EN25)","v":0}]

{"sheet":"баланс ВО","index":8,"n_rows":38,"n_cols":14,"rows_kept":38,"cut":false,"hidden":false,"merged":[[7,9,8,9],[7,10,8,10],[7,13,8,13],[7,8,8,8],[7,11,8,11],[7,12,8,12],[0,0,0,3],[2,0,2,3],[5,3,6,3],[7,3,8,3],[7,7,8,7],[7,4,8,4],[1,0,1,3],[5,0,8,0],[5,1,8,1],[5,2,8,2],[7,5,8,5],[7,6,8,6]]}
["БАЛАНС ВОДООТВЕДЕНИЯ"]
[{"$f":"Титульный!C10","v":" "}]
[{"$f":"Титульный!C19","v":0}]
["Район",{"$f":"Титульный!C6","v":""},null,"МО",{"$f":"Титульный!C7","v":""}]
[]
["№ п/п","Наименование показателей","Единица измерения","ВСЕГО по тарифу",{"$f":"'данные об организации'!$F$14","v":0},{"$f":"'данные об организации'!$F$15","v":0},{"$f":"'данные об организации'!$F$16","v":0},{"$f":"'данные об организации'!$F$17","v":0},{"$f":"'данные об организации'!$F$18","v":0},{"$f":"'данные об организации'!$F$19","v":0},{"$f":"'данные об организации'!$F$20","v":0},{"$f":"'данные об организации'!$F$21","v":0},{"$f":"'данные об организации'!$F$22","v":0},{"$f":"'данные об организации'!$F$23","v":0}]
[null,null,null,null,"(наименование населенного пункта)","(наименование населенного пункта)","(наименование населенного пункта)","(наименование населенного пункта)","(наименование населенного пункта)","(наименование населенного пункта)","(наименование населенного пункта)","(наименование населенного пункта)","(наименование населенного пункта)","(наименование населенного пункта)"]
[null,null,null,"факт","факт","факт","факт","факт","факт","факт","факт","факт","факт","факт"]
[]
["I.","Прием сточных вод","куб.м",{"$f":"D11+D12+D13+D14","v":0},{"$f":"E11+E12+E13+E14","v":0},{"$f":"F11+F12+F13+F14","v":0},0,0,0,0,0,0,0,0]
["1.","технологические нужды предприятия","куб.м",{"$f":"SUM(E11:N11)","v":0}]
["2.","поверхностные воды","куб.м",{"$f":"SUM(D13:D13)","v":0}]
["2.1.","неучтенный приток","куб.м",{"$f":"SUM(E13:N13)","v":0}]
["3.","Объем реализации сточных вод","куб.м",{"$f":"D16+D17+D18+D19+D23","v":0},{"$f":"E16+E17+E18+E19+E23","v":0},{"$f":"F16+F17+F18+F19+F23","v":0},0,0,0,0,0,0,0,0]
[null,"по категориям потребителей, в том числе:","куб.м"]
["3.1.","бюджет","куб.м",{"$f":"SUM(E16:N16)","v":0},{"$f":"'полезный отпуск'!Y26","v":0},{"$f":"'полезный отпуск'!AL26","v":0},{"$f":"'полезный отпуск'!AY26","v":0},{"$f":"'полезный отпуск'!BL26","v":0},{"$f":"'полезный отпуск'!BY26","v":0},{"$f":"'полезный отпуск'!CL26","v":0},{"$f":"'полезный отпуск'!CY26","v":0},{"$f":"'полезный отпуск'!DL26","v":0},{"$f":"'полезный отпуск'!DY26","v":0},{"$f":"'полезный отпуск'!EL26","v":0}]
["3.2.","население","куб.м",0,{"$f":"'полезный отпуск'!Z26","v":0},{"$f":"'полезный отпуск'!AM26","v":0},{"$f":"'полезный отпуск'!AZ26","v":0},{"$f":"'полезный отпуск'!BM26","v":0},{"$f":"'полезный отпуск'!BZ26","v":0},{"$f":"'полезный отпуск'!CM26","v":0},{"$f":"'полезный отпуск'!CZ26","v":0},{"$f":"'полезный отпуск'!DM26","v":0},{"$f":"'полезный отпуск'!DZ26","v":0},{"$f":"'полезный отпуск'!EM26","v":0}]
["3.3.","прочие (кроме организаций, осуществляющих водоотведение)","куб.м",0,{"$f":"'полезный отпуск'!AA26","v":0},{"$f":"'полезный отпуск'!AN26","v":0},{"$f":"'полезный отпуск'!BA26","v":0},{"$f":"'полезный отпуск'!BN26","v":0},{"$f":"'полезный отпуск'!CA26","v":0},{"$f":"'полезный отпуск'!CN26","v":0},{"$f":"'полезный отпуск'!DA26","v":0},{"$f":"'полезный отпуск'!DN26","v":0},{"$f":"'полезный отпуск'!EA26","v":0},{"$f":"'полезный отпуск'!EN26","v":0}]
["3.4.","от других организаций, осуществляющих водоотведение","куб.м",{"$f":"SUM(D20:D22)","v":0},{"$f":"SUM(E20:E22)","v":0},{"$f":"SUM(F20:F22)","v":0},0,0,0,0,0,0,0,0]
["3.4.1.",{"$f":"'полезный отпуск'!H12","v":0},"куб.м",{"$f":"SUM(E20:N20)","v":0},{"$f":"'полезный отпуск'!U26","v":0},{"$f":"'полезный отпуск'!AH26","v":0},{"$f":"'полезный отпуск'!AU26","v":0},{"$f":"'полезный отпуск'!BH26","v":0},{"$f":"'полезный отпуск'!BU26","v":0},{"$f":"'полезный отпуск'!CH26","v":0},{"$f":"'полезный отпуск'!CU26","v":0},{"$f":"'полезный отпуск'!DH26","v":0},{"$f":"'полезный отпуск'!DU26","v":0},{"$f":"'полезный отпуск'!EH26","v":0}]
["3.4.2.",{"$f":"'полезный отпуск'!I12","v":0},"куб.м",0,{"$f":"'полезный отпуск'!V26","v":0},{"$f":"'полезный отпуск'!AI26","v":0},{"$f":"'полезный отпуск'!AV26","v":0},{"$f":"'полезный отпуск'!BI26","v":0},{"$f":"'полезный отпуск'!BV26","v":0},{"$f":"'полезный отпуск'!CI26","v":0},{"$f":"'полезный отпуск'!CV26","v":0},{"$f":"'полезный отпуск'!DI26","v":0},{"$f":"'полезный отпуск'!DV26","v":0},{"$f":"'полезный отпуск'!EI26","v":0}]
["3.4.3.",{"$f":"'полезный отпуск'!J12","v":0},"куб.м",0,{"$f":"'полезный отпуск'!W26","v":0},{"$f":"'полезный отпуск'!AJ26","v":0},{"$f":"'полезный отпуск'!AW26","v":0},{"$f":"'полезный отпуск'!BJ26","v":0},{"$f":"'полезный отпуск'!BW26","v":0},{"$f":"'полезный отпуск'!CJ26","v":0},{"$f":"'полезный отпуск'!CW26","v":0},{"$f":"'полезный отпуск'!DJ26","v":0},{"$f":"'полезный отпуск'!DW26","v":0},{"$f":"'полезный отпуск'!EJ26","v":0}]
["3.5.","от собственных абонентов","куб.м",0,{"$f":"'полезный отпуск'!P26","v":0},{"$f":"'полезный отпуск'!AC26","v":0},{"$f":"'полезный отпуск'!AP26","v":0},{"$f":"'полезный отпуск'!BC26","v":0},{"$f":"'полезный отпуск'!BP26","v":0},{"$f":"'полезный отпуск'!CC26","v":0},{"$f":"'полезный отпуск'!CP26","v":0},{"$f":"'полезный отпуск'!DC26","v":0},{"$f":"'полезный отпуск'!DP26","v":0},{"$f":"'полезный отпуск'!EC26","v":0}]
["II.","Объем транспортируемых сточных вод","куб.м",{"$f":"D25+D26","v":0},0,0,0,0,0,0,0,0,0,0]
["5.","На собственные очистные сооружения","куб.м",{"$f":"SUM(E25:N25)","v":0}]
["6.","Передано сточных вод другим организациям","куб.м",0]
["III.","Объем сточных вод, поступивших на очистные сооружения","куб.м",{"$f":"SUM(E27:N27)","v":0},{"$f":"SUM(E28:E29)","v":0},{"$f":"SUM(F28:F29)","v":0},0,0,0,0,0,0,0,0]
["7.","Объем сточных вод, сбрасываемых в централизованные системы и прошедших очистку","куб.м",{"$f":"SUM(E28:N28)","v":0}]
["8.","Объемы поверхностных сточных вод, прошедших очистку","куб.м",0]
["IV.","Сбросы сточных вод в пределах нормативов и лимитов","куб.м",0]
["V.","Объем обезвоженного осадка сточных вод","куб.м",0]
["8.","Объем потребленной электроэнергии","кВтч",0]
["9.","Удельный расход электроэнергии на реализацию стоков","кВт*ч/куб.м",{"$f":"IF(D14=0,0,D32/D14)","v":0},{"$f":"IF(E14=0,0,E32/E14)","v":0},{"$f":"IF(F14=0,0,F32/F14)","v":0},0,0,0,0,0,0,0,0]
["10.","Объем отведенных стоков от населения","куб.м/ч",{"$f":"D17/(24*365)","v":0},{"$f":"E17/(24*365)","v":0},{"$f":"F17/(24*365)","v":0},0,0,0,0,0,0,0,0]
["11.","Объем отведенных стоков на 1 человека в мес","куб.м",{"$f":"IF((12*D38)=0,0,D17/(12*D38))","v":0},{"$f":"IF((12*E38)=0,0,E17/(12*E38))","v":0},{"$f":"IF((12*F38)=0,0,F17/(12*F38))","v":0},0,0,0,0,0,0,0,0]
["12.","Присоединенная мощность потребителей товаров (услуг)","куб.м/ч",{"$f":"SUM(E36:N36)","v":0}]
[null,"Справочно:","куб.м"]
["13.","Численность населения, получающего услуги организации, чел","чел",{"$f":"SUM(E38:N38)","v":0}]

{"sheet":"отчет по реализации","index":9,"n_rows":818,"n_cols":15,"rows_kept":818,"cut":false,"hidden":false,"merged":[[785,7,815,7],[785,11,815,11],[785,13,815,13],[752,7,782,7],[752,11,782,11],[752,13,782,13],[747,7,749,7],[747,8,747,10],[747,11,748,12],[747,13,748,14],[748,8,748,9],[748,10,749,10],[783,0,783,14],[750,0,750,14],[747,0,749,0],[747,1,749,1],[747,2,749,2],[747,4,747,6],[747,3,749,3],[711,7,741,7],[711,11,741,11],[711,13,741,13],[746,4,746,6],[745,0,745,14],[748,4,748,5],[748,6,749,6],[678,7,708,7],[678,11,708,11],[678,13,708,13],[709,0,709,14],[673,7,675,7],[673,8,673,10],[673,11,674,12],[673,13,674,14],[674,4,674,5],[674,6,675,6],[674,8,674,9],[674,10,675,10],[673,0,675,0],[673,1,675,1],[673,2,675,2],[673,4,673,6],[673,3,675,3],[637,7,667,7],[637,11,667,11],[637,13,667,13],[672,4,672,6],[671,0,671,14],[604,7,634,7],[604,11,634,11],[604,13,634,13],[599,7,601,7],[599,8,599,10],[599,11,600,12],[599,13,600,14],[600,4,600,5],[600,6,601,6],[600,8,600,9],[600,10,601,10],[599,0,601,0],[599,1,601,1],[599,2,601,2],[599,4,599,6],[599,3,601,3],[489,11,519,11],[489,13,519,13],[524,4,524,6],[523,0,523,14],[563,7,593,7],[563,11,593,11],[563,13,593,13],[598,4,598,6],[597,0,597,14],[530,7,560,7],[530,11,560,11],[530,13,560,13],[525,7,527,7],[525,8,525,10],[525,11,526,12],[525,13,526,14],[526,4,526,5],[526,6,527,6],[526,8,526,9],[526,10,527,10],[525,3,527,3],[452,4,452,5],[452,6,453,6],[452,8,452,9],[452,10,453,10],[525,0,527,0],[525,1,527,1],[525,2,527,2],[525,4,525,6],[489,7,519,7],[451,3,453,3],[382,7,412,7],[382,11,412,11],[382,13,412,13],[377,7,379,7],[377,8,377,10],[377,11,378,12],[377,13,378,14],[378,4,378,5],[378,6,379,6],[378,8,378,9],[378,10,379,10],[380,0,380,14],[377,0,379,0],[377,1,379,1],[377,2,379,2],[377,4,377,6],[377,3,379,3],[341,7,371,7],[341,11,371,11],[341,13,371,13],[376,4,376,6],[375,0,375,14],[308,7,338,7],[308,11,338,11],[308,13,338,13],[303,7,305,7],[303,8,303,10],[303,11,304,12],[303,13,304,14],[304,4,304,5],[304,6,305,6],[304,8,304,9],[304,10,305,10],[303,0,305,0],[303,1,305,1],[303,2,305,2],[303,4,303,6],[339,0,339,14],[306,0,306,14],[303,3,305,3],[267,7,297,7],[267,11,297,11],[267,13,297,13],[302,4,302,6],[301,0,301,14],[234,7,264,7],[234,11,264,11],[234,13,264,13],[229,7,231,7],[229,8,229,10],[229,11,230,12],[229,13,230,14],[230,4,230,5],[230,6,231,6],[230,8,230,9],[230,10,231,10],[229,0,231,0],[229,1,231,1],[229,2,231,2],[229,4,229,6],[265,0,265,14],[232,0,232,14],[229,3,231,3],[193,7,223,7],[193,11,223,11],[193,13,223,13],[228,4,228,6],[227,0,227,14],[160,7,190,7],[160,11,190,11],[160,13,190,13],[155,7,157,7],[155,8,155,10],[155,11,156,12],[155,13,156,14],[156,4,156,5],[156,6,157,6],[156,8,156,9],[156,10,157,10],[191,0,191,14],[158,0,158,14],[155,3,157,3],[154,4,154,6],[155,0,157,0],[155,1,157,1],[155,2,157,2],[155,4,155,6],[80,4,80,6],[86,7,116,7],[153,0,153,14],[117,0,117,14],[84,0,84,14],[81,0,83,0],[81,1,83,1],[81,2,83,2],[81,4,81,6],[81,3,83,3],[0,0,0,10],[7,0,9,0],[7,1,9,1],[7,2,9,2],[7,4,7,6],[7,7,9,7],[7,8,7,10],[1,0,1,10],[2,0,2,10],[3,8,3,10],[4,4,4,6],[8,4,8,5],[8,6,9,6],[8,8,8,9],[5,0,5,14],[7,13,8,14],[7,3,9,3],[12,13,42,13],[45,13,75,13],[45,7,75,7],[12,11,42,11],[7,11,8,12],[45,11,75,11],[8,10,9,10],[12,7,42,7],[10,0,10,14],[43,0,43,14],[676,0,676,14],[635,0,635,14],[602,0,602,14],[561,0,561,14],[528,0,528,14],[487,0,487,14],[454,0,454,14],[413,0,413,14],[451,0,453,0],[451,1,453,1],[451,2,453,2],[451,4,451,6],[415,7,445,7],[415,11,445,11],[415,13,445,13],[450,4,450,6],[449,0,449,14],[456,7,486,7],[456,11,486,11],[456,13,486,13],[451,7,453,7],[451,8,451,10],[451,11,452,12],[451,13,452,14],[79,0,79,14],[86,11,116,11],[86,13,116,13],[119,7,149,7],[119,11,149,11],[119,13,149,13],[81,7,83,7],[81,8,81,10],[81,11,82,12],[81,13,82,14],[82,4,82,5],[82,6,83,6],[82,8,82,9],[82,10,83,10]]}
["Сводный отчет по выручке от реализации холодной воды"]
[{"$f":"Титульный!C10","v":" "}]
[{"$f":"Титульный!C19","v":0}]
[null,"Район",{"$f":"Титульный!C6","v":""},null,null,null,null,"МО",{"$f":"Титульный!C7","v":""}]
[]
["ВСЕГО по тарифу"]
[]
["№","Вид потребителя","Степень благоустройства, наименование скота","Нормы водоотведения, куб.м. в месяц (на 1 чел)","Фактический годовой объем реализации,  куб.м.",null,null,"тариф, руб/куб.м.","Сумма, руб",null,null,"инвестиционная надбавка",null,"компенсация до установленного тарифа"]
[null,null,null,null,"водоотведение",null,"ВСЕГО",null,{"$f":"E9","v":"водоотведение"},null,"ИТОГО"]
[null,null,null,null,"норматив","прибор учета",null,null,"норматив","прибор учета",null,"размер, руб/куб.м.","Сумма, руб","размер, руб/куб.м.","Сумма, руб"]
["1-е полугодие 2015года"]
["1.","Население "]
["1.1.","водоотведение","Квартиры с ваннами сидячими, оборудованными душами",null,{"$f":"E87+E161+E235+E309+E383+E457+E531+E605+E679+E753","v":0},{"$f":"F87+F161+F235+F309+F383+F457+F531+F605+F679+F753","v":0},{"$f":"SUM(E13:F13)","v":0},{"$f":"'данные об организации'!$I$30","v":0},{"$f":"I87+I161+I235+I309+I383+I457+I531+I605+I679+I753","v":0},0,{"$f":"SUM(I13:J13)","v":0},{"$f":"'данные об организации'!$H$37","v":0},{"$f":"M87+M161+M235+M309+M383+M457+M531+M605+M679+M753","v":0},{"$f":"'данные об организации'!$H$44","v":0},{"$f":"O87+O161+O235+O309+O383+O457+O531+O605+O679+O753","v":0}]
["1.2.","водоотведение","Квартиры с ваннами длиной от 1500 до 1700 мм, оборудованными душами",null,{"$f":"E88+E162+E236+E310+E384+E458+E532+E606+E680+E754","v":0},0,{"$f":"SUM(E14:F14)","v":0},null,{"$f":"I88+I162+I236+I310+I384+I458+I532+I606+I680+I754","v":0},0,0,null,{"$f":"M88+M162+M236+M310+M384+M458+M532+M606+M680+M754","v":0},null,{"$f":"O88+O162+O236+O310+O384+O458+O532+O606+O680+O754","v":0}]
["1.3.","водоотведение",null,null,{"$f":"E89+E163+E237+E311+E385+E459+E533+E607+E681+E755","v":0},0,0,null,{"$f":"I89+I163+I237+I311+I385+I459+I533+I607+I681+I755","v":0},0,0,null,{"$f":"M89+M163+M237+M311+M385+M459+M533+M607+M681+M755","v":0},null,{"$f":"O89+O163+O237+O311+O385+O459+O533+O607+O681+O755","v":0}]
["1.4.","водоотведение",null,null,{"$f":"E90+E164+E238+E312+E386+E460+E534+E608+E682+E756","v":0},0,0,null,{"$f":"I90+I164+I238+I312+I386+I460+I534+I608+I682+I756","v":0},0,0,null,{"$f":"M90+M164+M238+M312+M386+M460+M534+M608+M682+M756","v":0},null,{"$f":"O90+O164+O238+O312+O386+O460+O534+O608+O682+O756","v":0}]
["1.5.","водоотведение",null,null,{"$f":"E91+E165+E239+E313+E387+E461+E535+E609+E683+E757","v":0},0,0,null,{"$f":"I91+I165+I239+I313+I387+I461+I535+I609+I683+I757","v":0},0,0,null,{"$f":"M91+M165+M239+M313+M387+M461+M535+M609+M683+M757","v":0},null,{"$f":"O91+O165+O239+O313+O387+O461+O535+O609+O683+O757","v":0}]
["1.6.","водоотведение",null,null,{"$f":"E92+E166+E240+E314+E388+E462+E536+E610+E684+E758","v":0},0,0,null,{"$f":"I92+I166+I240+I314+I388+I462+I536+I610+I684+I758","v":0},0,0,null,{"$f":"M92+M166+M240+M314+M388+M462+M536+M610+M684+M758","v":0},null,{"$f":"O92+O166+O240+O314+O388+O462+O536+O610+O684+O758","v":0}]
["1.7.","водоотведение",null,null,{"$f":"E93+E167+E241+E315+E389+E463+E537+E611+E685+E759","v":0},0,0,null,{"$f":"I93+I167+I241+I315+I389+I463+I537+I611+I685+I759","v":0},0,0,null,{"$f":"M93+M167+M241+M315+M389+M463+M537+M611+M685+M759","v":0},null,{"$f":"O93+O167+O241+O315+O389+O463+O537+O611+O685+O759","v":0}]
["1.8.","водоотведение",null,null,{"$f":"E94+E168+E242+E316+E390+E464+E538+E612+E686+E760","v":0},0,0,null,{"$f":"I94+I168+I242+I316+I390+I464+I538+I612+I686+I760","v":0},0,0,null,{"$f":"M94+M168+M242+M316+M390+M464+M538+M612+M686+M760","v":0},null,{"$f":"O94+O168+O242+O316+O390+O464+O538+O612+O686+O760","v":0}]
["1.9.","водоотведение",null,null,{"$f":"E95+E169+E243+E317+E391+E465+E539+E613+E687+E761","v":0},0,0,null,{"$f":"I95+I169+I243+I317+I391+I465+I539+I613+I687+I761","v":0},0,0,null,{"$f":"M95+M169+M243+M317+M391+M465+M539+M613+M687+M761","v":0},null,{"$f":"O95+O169+O243+O317+O391+O465+O539+O613+O687+O761","v":0}]
["1.10.","водоотведение",null,null,{"$f":"E96+E170+E244+E318+E392+E466+E540+E614+E688+E762","v":0},0,0,null,{"$f":"I96+I170+I244+I318+I392+I466+I540+I614+I688+I762","v":0},0,0,null,{"$f":"M96+M170+M244+M318+M392+M466+M540+M614+M688+M762","v":0},null,{"$f":"O96+O170+O244+O318+O392+O466+O540+O614+O688+O762","v":0}]
["1.11.","водоотведение",null,null,{"$f":"E97+E171+E245+E319+E393+E467+E541+E615+E689+E763","v":0},0,0,null,{"$f":"I97+I171+I245+I319+I393+I467+I541+I615+I689+I763","v":0},0,0,null,{"$f":"M97+M171+M245+M319+M393+M467+M541+M615+M689+M763","v":0},null,{"$f":"O97+O171+O245+O319+O393+O467+O541+O615+O689+O763","v":0}]
["1.12.","водоотведение",null,null,{"$f":"E98+E172+E246+E320+E394+E468+E542+E616+E690+E764","v":0},0,0,null,{"$f":"I98+I172+I246+I320+I394+I468+I542+I616+I690+I764","v":0},0,0,null,{"$f":"M98+M172+M246+M320+M394+M468+M542+M616+M690+M764","v":0},null,{"$f":"O98+O172+O246+O320+O394+O468+O542+O616+O690+O764","v":0}]
["1.13.","водоотведение",null,null,{"$f":"E99+E173+E247+E321+E395+E469+E543+E617+E691+E765","v":0},0,0,null,{"$f":"I99+I173+I247+I321+I395+I469+I543+I617+I691+I765","v":0},0,0,null,{"$f":"M99+M173+M247+M321+M395+M469+M543+M617+M691+M765","v":0},null,{"$f":"O99+O173+O247+O321+O395+O469+O543+O617+O691+O765","v":0}]
["1.14.","водоотведение",null,null,{"$f":"E100+E174+E248+E322+E396+E470+E544+E618+E692+E766","v":0},0,0,null,{"$f":"I100+I174+I248+I322+I396+I470+I544+I618+I692+I766","v":0},0,0,null,{"$f":"M100+M174+M248+M322+M396+M470+M544+M618+M692+M766","v":0},null,{"$f":"O100+O174+O248+O322+O396+O470+O544+O618+O692+O766","v":0}]
["1.15.","водоотведение",null,null,{"$f":"E101+E175+E249+E323+E397+E471+E545+E619+E693+E767","v":0},0,0,null,{"$f":"I101+I175+I249+I323+I397+I471+I545+I619+I693+I767","v":0},0,0,null,{"$f":"M101+M175+M249+M323+M397+M471+M545+M619+M693+M767","v":0},null,{"$f":"O101+O175+O249+O323+O397+O471+O545+O619+O693+O767","v":0}]
["1.16.","водоотведение",null,null,{"$f":"E102+E176+E250+E324+E398+E472+E546+E620+E694+E768","v":0},0,0,null,{"$f":"I102+I176+I250+I324+I398+I472+I546+I620+I694+I768","v":0},0,0,null,{"$f":"M102+M176+M250+M324+M398+M472+M546+M620+M694+M768","v":0},null,{"$f":"O102+O176+O250+O324+O398+O472+O546+O620+O694+O768","v":0}]
["1.17.","водоотведение",null,null,{"$f":"E103+E177+E251+E325+E399+E473+E547+E621+E695+E769","v":0},0,0,null,{"$f":"I103+I177+I251+I325+I399+I473+I547+I621+I695+I769","v":0},0,0,null,{"$f":"M103+M177+M251+M325+M399+M473+M547+M621+M695+M769","v":0},null,{"$f":"O103+O177+O251+O325+O399+O473+O547+O621+O695+O769","v":0}]
["1.18.","водоотведение",null,null,{"$f":"E104+E178+E252+E326+E400+E474+E548+E622+E696+E770","v":0},0,0,null,{"$f":"I104+I178+I252+I326+I400+I474+I548+I622+I696+I770","v":0},0,0,null,{"$f":"M104+M178+M252+M326+M400+M474+M548+M622+M696+M770","v":0},null,{"$f":"O104+O178+O252+O326+O400+O474+O548+O622+O696+O770","v":0}]
["1.19.","водоотведение",null,null,{"$f":"E105+E179+E253+E327+E401+E475+E549+E623+E697+E771","v":0},0,0,null,{"$f":"I105+I179+I253+I327+I401+I475+I549+I623+I697+I771","v":0},0,0,null,{"$f":"M105+M179+M253+M327+M401+M475+M549+M623+M697+M771","v":0},null,{"$f":"O105+O179+O253+O327+O401+O475+O549+O623+O697+O771","v":0}]
["1.20.","водоотведение",null,null,{"$f":"E106+E180+E254+E328+E402+E476+E550+E624+E698+E772","v":0},0,0,null,{"$f":"I106+I180+I254+I328+I402+I476+I550+I624+I698+I772","v":0},0,0,null,{"$f":"M106+M180+M254+M328+M402+M476+M550+M624+M698+M772","v":0},null,{"$f":"O106+O180+O254+O328+O402+O476+O550+O624+O698+O772","v":0}]
["1.21.","водоотведение",null,null,{"$f":"E107+E181+E255+E329+E403+E477+E551+E625+E699+E773","v":0},0,0,null,{"$f":"I107+I181+I255+I329+I403+I477+I551+I625+I699+I773","v":0},0,0,null,{"$f":"M107+M181+M255+M329+M403+M477+M551+M625+M699+M773","v":0},null,{"$f":"O107+O181+O255+O329+O403+O477+O551+O625+O699+O773","v":0}]
["1.22.","водоотведение",null,null,{"$f":"E108+E182+E256+E330+E404+E478+E552+E626+E700+E774","v":0},0,0,null,{"$f":"I108+I182+I256+I330+I404+I478+I552+I626+I700+I774","v":0},0,0,null,{"$f":"M108+M182+M256+M330+M404+M478+M552+M626+M700+M774","v":0},null,{"$f":"O108+O182+O256+O330+O404+O478+O552+O626+O700+O774","v":0}]
["1.23.","водоотведение",null,null,{"$f":"E109+E183+E257+E331+E405+E479+E553+E627+E701+E775","v":0},0,0,null,{"$f":"I109+I183+I257+I331+I405+I479+I553+I627+I701+I775","v":0},0,0,null,{"$f":"M109+M183+M257+M331+M405+M479+M553+M627+M701+M775","v":0},null,{"$f":"O109+O183+O257+O331+O405+O479+O553+O627+O701+O775","v":0}]
["1.24.","водоотведение",null,null,{"$f":"E110+E184+E258+E332+E406+E480+E554+E628+E702+E776","v":0},0,0,null,{"$f":"I110+I184+I258+I332+I406+I480+I554+I628+I702+I776","v":0},0,0,null,{"$f":"M110+M184+M258+M332+M406+M480+M554+M628+M702+M776","v":0},null,{"$f":"O110+O184+O258+O332+O406+O480+O554+O628+O702+O776","v":0}]
["1.25.","водоотведение",null,null,{"$f":"E111+E185+E259+E333+E407+E481+E555+E629+E703+E777","v":0},0,0,null,{"$f":"I111+I185+I259+I333+I407+I481+I555+I629+I703+I777","v":0},0,0,null,{"$f":"M111+M185+M259+M333+M407+M481+M555+M629+M703+M777","v":0},null,{"$f":"O111+O185+O259+O333+O407+O481+O555+O629+O703+O777","v":0}]
["1.26.","водоотведение",null,null,{"$f":"E112+E186+E260+E334+E408+E482+E556+E630+E704+E778","v":0},0,0,null,{"$f":"I112+I186+I260+I334+I408+I482+I556+I630+I704+I778","v":0},0,0,null,{"$f":"M112+M186+M260+M334+M408+M482+M556+M630+M704+M778","v":0},null,{"$f":"O112+O186+O260+O334+O408+O482+O556+O630+O704+O778","v":0}]
[null,"перерасчеты",null,null,"х","х","х",null,"х","х",{"$f":"K113+K187+K261+K335+K409+K483+K557+K631+K705+K779","v":0},null,{"$f":"M113+M187+M261+M335+M409+M483+M557+M631+M705+M779","v":0},null,{"$f":"O113+O187+O261+O335+O409+O483+O557+O631+O705+O779","v":0}]
[null,"Итого население",null,null,{"$f":"SUM(E13:E38)","v":0},0,0,null,0,0,{"$f":"SUM(K13:K39)","v":0},null,{"$f":"SUM(M13:M39)","v":0},null,{"$f":"SUM(O13:O39)","v":0}]
["2.","Итого бюджет",null,null,{"$f":"E115+E189+E263+E337+E411+E485+E559+E633+E707+E781","v":0},0,0,null,{"$f":"I115+I189+I263+I337+I411+I485+I559+I633+I707+I781","v":0},0,{"$f":"SUM(I41:J41)","v":0},null,{"$f":"M115+M189+M263+M337+M411+M485+M559+M633+M707+M781","v":0},null,{"$f":"O115+O189+O263+O337+O411+O485+O559+O633+O707+O781","v":0}]
["3.","Итого прочие",null,null,{"$f":"E116+E190+E264+E338+E412+E486+E560+E634+E708+E782","v":0},0,0,null,{"$f":"I116+I190+I264+I338+I412+I486+I560+I634+I708+I782","v":0},0,{"$f":"SUM(I42:J42)","v":0},null,{"$f":"M116+M190+M264+M338+M412+M486+M560+M634+M708+M782","v":0},null,{"$f":"O116+O190+O264+O338+O412+O486+O560+O634+O708+O782","v":0}]
["4.","ВСЕГО 1-е полугодие",null,null,{"$f":"SUM(E40:E42)","v":0},{"$f":"SUM(F40:F42)","v":0},0,null,0,0,0,null,{"$f":"SUM(M40:M42)","v":0},null,{"$f":"SUM(O40:O42)","v":0}]
["2-е полугодие 2015 года"]
["1.","Население "]
[{"$f":"A13","v":"1.1."},{"$f":"B13","v":"водоотведение"},"Квартиры с ваннами сидячими, оборудованными душами",{"$f":"D13","v":0},{"$f":"E120+E194+E268+E342+E416+E490+E564+E638+E712+E786","v":0},0,{"$f":"SUM(E46:F46)","v":0},{"$f":"'данные об организации'!$I$31","v":0},{"$f":"I120+I194+I268+I342+I416+I490+I564+I638+I712+I786","v":0},0,{"$f":"SUM(I46:J46)","v":0},{"$f":"'данные об организации'!$H$38","v":0},{"$f":"M120+M194+M268+M342+M416+M490+M564+M638+M712+M786","v":0},{"$f":"'данные об организации'!$H$45","v":0},{"$f":"O120+O194+O268+O342+O416+O490+O564+O638+O712+O786","v":0}]
[{"$f":"A14","v":"1.2."},"водоотведение","Квартиры с ваннами длиной от 1500 до 1700 мм, оборудованными душами",0,{"$f":"E121+E195+E269+E343+E417+E491+E565+E639+E713+E787","v":0},0,0,null,{"$f":"I121+I195+I269+I343+I417+I491+I565+I639+I713+I787","v":0},0,0,null,{"$f":"M121+M195+M269+M343+M417+M491+M565+M639+M713+M787","v":0},null,{"$f":"O121+O195+O269+O343+O417+O491+O565+O639+O713+O787","v":0}]
[{"$f":"A15","v":"1.3."},"водоотведение",0,0,{"$f":"E122+E196+E270+E344+E418+E492+E566+E640+E714+E788","v":0},0,0,null,{"$f":"I122+I196+I270+I344+I418+I492+I566+I640+I714+I788","v":0},0,0,null,{"$f":"M122+M196+M270+M344+M418+M492+M566+M640+M714+M788","v":0},null,{"$f":"O122+O196+O270+O344+O418+O492+O566+O640+O714+O788","v":0}]
[{"$f":"A16","v":"1.4."},"водоотведение",0,0,{"$f":"E123+E197+E271+E345+E419+E493+E567+E641+E715+E789","v":0},0,0,null,{"$f":"I123+I197+I271+I345+I419+I493+I567+I641+I715+I789","v":0},0,0,null,{"$f":"M123+M197+M271+M345+M419+M493+M567+M641+M715+M789","v":0},null,{"$f":"O123+O197+O271+O345+O419+O493+O567+O641+O715+O789","v":0}]
[{"$f":"A17","v":"1.5."},"водоотведение",0,0,{"$f":"E124+E198+E272+E346+E420+E494+E568+E642+E716+E790","v":0},0,0,null,{"$f":"I124+I198+I272+I346+I420+I494+I568+I642+I716+I790","v":0},0,0,null,{"$f":"M124+M198+M272+M346+M420+M494+M568+M642+M716+M790","v":0},null,{"$f":"O124+O198+O272+O346+O420+O494+O568+O642+O716+O790","v":0}]
[{"$f":"A18","v":"1.6."},"водоотведение",0,0,{"$f":"E125+E199+E273+E347+E421+E495+E569+E643+E717+E791","v":0},0,0,null,{"$f":"I125+I199+I273+I347+I421+I495+I569+I643+I717+I791","v":0},0,0,null,{"$f":"M125+M199+M273+M347+M421+M495+M569+M643+M717+M791","v":0},null,{"$f":"O125+O199+O273+O347+O421+O495+O569+O643+O717+O791","v":0}]
[{"$f":"A19","v":"1.7."},"водоотведение",0,0,{"$f":"E126+E200+E274+E348+E422+E496+E570+E644+E718+E792","v":0},0,0,null,{"$f":"I126+I200+I274+I348+I422+I496+I570+I644+I718+I792","v":0},0,0,null,{"$f":"M126+M200+M274+M348+M422+M496+M570+M644+M718+M792","v":0},null,{"$f":"O126+O200+O274+O348+O422+O496+O570+O644+O718+O792","v":0}]
[{"$f":"A20","v":"1.8."},"водоотведение",0,0,{"$f":"E127+E201+E275+E349+E423+E497+E571+E645+E719+E793","v":0},0,0,null,{"$f":"I127+I201+I275+I349+I423+I497+I571+I645+I719+I793","v":0},0,0,null,{"$f":"M127+M201+M275+M349+M423+M497+M571+M645+M719+M793","v":0},null,{"$f":"O127+O201+O275+O349+O423+O497+O571+O645+O719+O793","v":0}]
[{"$f":"A21","v":"1.9."},"водоотведение",0,0,{"$f":"E128+E202+E276+E350+E424+E498+E572+E646+E720+E794","v":0},0,0,null,{"$f":"I128+I202+I276+I350+I424+I498+I572+I646+I720+I794","v":0},0,0,null,{"$f":"M128+M202+M276+M350+M424+M498+M572+M646+M720+M794","v":0},null,{"$f":"O128+O202+O276+O350+O424+O498+O572+O646+O720+O794","v":0}]
[{"$f":"A22","v":"1.10."},"водоотведение",0,0,{"$f":"E129+E203+E277+E351+E425+E499+E573+E647+E721+E795","v":0},0,0,null,{"$f":"I129+I203+I277+I351+I425+I499+I573+I647+I721+I795","v":0},0,0,null,{"$f":"M129+M203+M277+M351+M425+M499+M573+M647+M721+M795","v":0},null,{"$f":"O129+O203+O277+O351+O425+O499+O573+O647+O721+O795","v":0}]
[{"$f":"A23","v":"1.11."},"водоотведение",0,0,{"$f":"E130+E204+E278+E352+E426+E500+E574+E648+E722+E796","v":0},0,0,null,{"$f":"I130+I204+I278+I352+I426+I500+I574+I648+I722+I796","v":0},0,0,null,{"$f":"M130+M204+M278+M352+M426+M500+M574+M648+M722+M796","v":0},null,{"$f":"O130+O204+O278+O352+O426+O500+O574+O648+O722+O796","v":0}]
[{"$f":"A24","v":"1.12."},"водоотведение",0,0,{"$f":"E131+E205+E279+E353+E427+E501+E575+E649+E723+E797","v":0},0,0,null,{"$f":"I131+I205+I279+I353+I427+I501+I575+I649+I723+I797","v":0},0,0,null,{"$f":"M131+M205+M279+M353+M427+M501+M575+M649+M723+M797","v":0},null,{"$f":"O131+O205+O279+O353+O427+O501+O575+O649+O723+O797","v":0}]
[{"$f":"A25","v":"1.13."},"водоотведение",0,0,{"$f":"E132+E206+E280+E354+E428+E502+E576+E650+E724+E798","v":0},0,0,null,{"$f":"I132+I206+I280+I354+I428+I502+I576+I650+I724+I798","v":0},0,0,null,{"$f":"M132+M206+M280+M354+M428+M502+M576+M650+M724+M798","v":0},null,{"$f":"O132+O206+O280+O354+O428+O502+O576+O650+O724+O798","v":0}]
[{"$f":"A26","v":"1.14."},"водоотведение",0,0,{"$f":"E133+E207+E281+E355+E429+E503+E577+E651+E725+E799","v":0},0,0,null,{"$f":"I133+I207+I281+I355+I429+I503+I577+I651+I725+I799","v":0},0,0,null,{"$f":"M133+M207+M281+M355+M429+M503+M577+M651+M725+M799","v":0},null,{"$f":"O133+O207+O281+O355+O429+O503+O577+O651+O725+O799","v":0}]
[{"$f":"A27","v":"1.15."},"водоотведение",0,0,{"$f":"E134+E208+E282+E356+E430+E504+E578+E652+E726+E800","v":0},0,0,null,{"$f":"I134+I208+I282+I356+I430+I504+I578+I652+I726+I800","v":0},0,0,null,{"$f":"M134+M208+M282+M356+M430+M504+M578+M652+M726+M800","v":0},null,{"$f":"O134+O208+O282+O356+O430+O504+O578+O652+O726+O800","v":0}]
[{"$f":"A28","v":"1.16."},"водоотведение",0,0,{"$f":"E135+E209+E283+E357+E431+E505+E579+E653+E727+E801","v":0},0,0,null,{"$f":"I135+I209+I283+I357+I431+I505+I579+I653+I727+I801","v":0},0,0,null,{"$f":"M135+M209+M283+M357+M431+M505+M579+M653+M727+M801","v":0},null,{"$f":"O135+O209+O283+O357+O431+O505+O579+O653+O727+O801","v":0}]
[{"$f":"A29","v":"1.17."},"водоотведение",0,0,{"$f":"E136+E210+E284+E358+E432+E506+E580+E654+E728+E802","v":0},0,0,null,{"$f":"I136+I210+I284+I358+I432+I506+I580+I654+I728+I802","v":0},0,0,null,{"$f":"M136+M210+M284+M358+M432+M506+M580+M654+M728+M802","v":0},null,{"$f":"O136+O210+O284+O358+O432+O506+O580+O654+O728+O802","v":0}]
[{"$f":"A30","v":"1.18."},"водоотведение",0,0,{"$f":"E137+E211+E285+E359+E433+E507+E581+E655+E729+E803","v":0},0,0,null,{"$f":"I137+I211+I285+I359+I433+I507+I581+I655+I729+I803","v":0},0,0,null,{"$f":"M137+M211+M285+M359+M433+M507+M581+M655+M729+M803","v":0},null,{"$f":"O137+O211+O285+O359+O433+O507+O581+O655+O729+O803","v":0}]
[{"$f":"A31","v":"1.19."},"водоотведение",0,0,{"$f":"E138+E212+E286+E360+E434+E508+E582+E656+E730+E804","v":0},0,0,null,{"$f":"I138+I212+I286+I360+I434+I508+I582+I656+I730+I804","v":0},0,0,null,{"$f":"M138+M212+M286+M360+M434+M508+M582+M656+M730+M804","v":0},null,{"$f":"O138+O212+O286+O360+O434+O508+O582+O656+O730+O804","v":0}]
[{"$f":"A32","v":"1.20."},"водоотведение",0,0,{"$f":"E139+E213+E287+E361+E435+E509+E583+E657+E731+E805","v":0},0,0,null,{"$f":"I139+I213+I287+I361+I435+I509+I583+I657+I731+I805","v":0},0,0,null,{"$f":"M139+M213+M287+M361+M435+M509+M583+M657+M731+M805","v":0},null,{"$f":"O139+O213+O287+O361+O435+O509+O583+O657+O731+O805","v":0}]
[{"$f":"A33","v":"1.21."},"водоотведение",0,0,{"$f":"E140+E214+E288+E362+E436+E510+E584+E658+E732+E806","v":0},0,0,null,{"$f":"I140+I214+I288+I362+I436+I510+I584+I658+I732+I806","v":0},0,0,null,{"$f":"M140+M214+M288+M362+M436+M510+M584+M658+M732+M806","v":0},null,{"$f":"O140+O214+O288+O362+O436+O510+O584+O658+O732+O806","v":0}]
[{"$f":"A34","v":"1.22."},"водоотведение",0,0,{"$f":"E141+E215+E289+E363+E437+E511+E585+E659+E733+E807","v":0},0,0,null,{"$f":"I141+I215+I289+I363+I437+I511+I585+I659+I733+I807","v":0},0,0,null,{"$f":"M141+M215+M289+M363+M437+M511+M585+M659+M733+M807","v":0},null,{"$f":"O141+O215+O289+O363+O437+O511+O585+O659+O733+O807","v":0}]
[{"$f":"A35","v":"1.23."},"водоотведение",0,0,{"$f":"E142+E216+E290+E364+E438+E512+E586+E660+E734+E808","v":0},0,0,null,{"$f":"I142+I216+I290+I364+I438+I512+I586+I660+I734+I808","v":0},0,0,null,{"$f":"M142+M216+M290+M364+M438+M512+M586+M660+M734+M808","v":0},null,{"$f":"O142+O216+O290+O364+O438+O512+O586+O660+O734+O808","v":0}]
[{"$f":"A36","v":"1.24."},"водоотведение",0,0,{"$f":"E143+E217+E291+E365+E439+E513+E587+E661+E735+E809","v":0},0,0,null,{"$f":"I143+I217+I291+I365+I439+I513+I587+I661+I735+I809","v":0},0,0,null,{"$f":"M143+M217+M291+M365+M439+M513+M587+M661+M735+M809","v":0},null,{"$f":"O143+O217+O291+O365+O439+O513+O587+O661+O735+O809","v":0}]
[{"$f":"A37","v":"1.25."},"водоотведение",0,0,{"$f":"E144+E218+E292+E366+E440+E514+E588+E662+E736+E810","v":0},0,0,null,{"$f":"I144+I218+I292+I366+I440+I514+I588+I662+I736+I810","v":0},0,0,null,{"$f":"M144+M218+M292+M366+M440+M514+M588+M662+M736+M810","v":0},null,{"$f":"O144+O218+O292+O366+O440+O514+O588+O662+O736+O810","v":0}]
[{"$f":"A38","v":"1.26."},"водоотведение",0,0,{"$f":"E145+E219+E293+E367+E441+E515+E589+E663+E737+E811","v":0},0,0,null,{"$f":"I145+I219+I293+I367+I441+I515+I589+I663+I737+I811","v":0},0,0,null,{"$f":"M145+M219+M293+M367+M441+M515+M589+M663+M737+M811","v":0},null,{"$f":"O145+O219+O293+O367+O441+O515+O589+O663+O737+O811","v":0}]
[null,"перерасчеты",null,null,"х","х","х",null,"х","х",0,null,{"$f":"M146+M220+M294+M368+M442+M516+M590+M664+M738+M812","v":0},null,{"$f":"O146+O220+O294+O368+O442+O516+O590+O664+O738+O812","v":0}]
[null,"Итого население",null,null,{"$f":"SUM(E46:E71)","v":0},0,{"$f":"SUM(E73:F73)","v":0},null,{"$f":"SUM(I46:I71)","v":0},0,{"$f":"SUM(K46:K72)","v":0},null,{"$f":"SUM(M46:M72)","v":0},null,{"$f":"SUM(O46:O72)","v":0}]
["2.","Итого бюджет",null,null,{"$f":"E148+E222+E296+E370+E444+E518+E592+E666+E740+E814","v":0},0,0,null,{"$f":"I148+I222+I296+I370+I444+I518+I592+I666+I740+I814","v":0},0,{"$f":"SUM(I74:J74)","v":0},null,{"$f":"M148+M222+M296+M370+M444+M518+M592+M666+M740+M814","v":0},null,{"$f":"O148+O222+O296+O370+O444+O518+O592+O666+O740+O814","v":0}]
["3.","Итого прочие",null,null,{"$f":"E149+E223+E297+E371+E445+E519+E593+E667+E741+E815","v":0},0,0,null,{"$f":"I149+I223+I297+I371+I445+I519+I593+I667+I741+I815","v":0},0,{"$f":"SUM(I75:J75)","v":0},null,{"$f":"M149+M223+M297+M371+M445+M519+M593+M667+M741+M815","v":0},null,{"$f":"O149+O223+O297+O371+O445+O519+O593+O667+O741+O815","v":0}]
["4.","ВСЕГО 2-е полугодие",null,null,{"$f":"SUM(E73:E75)","v":0},{"$f":"SUM(F73:F75)","v":0},{"$f":"SUM(G73:G75)","v":0},null,{"$f":"SUM(I73:I75)","v":0},{"$f":"SUM(J73:J75)","v":0},{"$f":"SUM(K73:K75)","v":0},null,{"$f":"SUM(M73:M75)","v":0},null,{"$f":"SUM(O73:O75)","v":0}]
[]
["5.","ГОД ВСЕГО",null,null,{"$f":"E43+E76","v":0},{"$f":"F43+F76","v":0},0,null,0,0,0,null,{"$f":"M43+M76","v":0},null,{"$f":"O43+O76","v":0}]
[]
[{"$f":"'данные об организации'!F14","v":0}]
[]
["№","Вид потребителя","Степень благоустройства, наименование скота","Нормы водоотведения, куб.м. в месяц (на 1 чел)","Фактический годовой объем реализации,  куб.м.",null,null,"тариф, руб/куб.м.","Сумма, руб",null,null,"инвестиционная надбавка",null,"компенсация до установленного тарифа"]
[null,null,null,null,"водоотведение",null,"ВСЕГО",null,{"$f":"E83","v":"водоотведение"},null,"ИТОГО"]
[null,null,null,null,"норматив","прибор учета",null,null,"норматив","прибор учета",null,"размер, руб/куб.м.","Сумма, руб","размер, руб/куб.м.","Сумма, руб"]
["1-е полугодие 2015года"]
["1.","Население "]
[{"$f":"A13","v":"1.1."},{"$f":"B13","v":"водоотведение"},{"$f":"C13","v":"Квартиры с ваннами сидячими, оборудованными душами"},null,null,null,{"$f":"SUM(E87:F87)","v":0},{"$f":"'данные об организации'!$I$30","v":0},{"$f":"E87*$H$13","v":0},{"$f":"F87*$H$13","v":0},{"$f":"SUM(I87:J87)","v":0},{"$f":"'данные об организации'!$H$37","v":0},{"$f":"G87*$L$13","v":0},{"$f":"'данные об организации'!$H$44","v":0},{"$f":"G87*$N$13","v":0}]
[{"$f":"A14","v":"1.2."},{"$f":"B14","v":"водоотведение"},"Квартиры с ваннами длиной от 1500 до 1700 мм, оборудованными душами",null,null,null,{"$f":"SUM(E88:F88)","v":0},null,0,0,0,null,0,null,0]
["1.3.",{"$f":"B15","v":"водоотведение"},0,null,null,null,0,null,0,0,0,null,0,null,0]
["1.4.",{"$f":"B16","v":"водоотведение"},0,null,null,null,0,null,0,0,0,null,0,null,0]
["1.5.",{"$f":"B17","v":"водоотведение"},0,null,null,null,0,null,0,0,0,null,0,null,0]
["1.6.",{"$f":"B18","v":"водоотведение"},0,null,null,null,0,null,0,0,0,null,0,null,0]
["1.7.",{"$f":"B19","v":"водоотведение"},0,null,null,null,0,null,0,0,0,null,0,null,0]
["1.8.",{"$f":"B20","v":"водоотведение"},0,null,null,null,0,null,0,0,0,null,0,null,0]
["1.9.",{"$f":"B21","v":"водоотведение"},0,null,null,null,0,null,0,0,0,null,0,null,0]
["1.10.",{"$f":"B22","v":"водоотведение"},0,null,null,null,0,null,0,0,0,null,0,null,0]
["1.11.",{"$f":"B23","v":"водоотведение"},0,null,null,null,0,null,0,0,0,null,0,null,0]
["1.12.",{"$f":"B24","v":"водоотведение"},0,null,null,null,0,null,0,0,0,null,0,null,0]
["1.13.",{"$f":"B25","v":"водоотведение"},0,null,null,null,0,null,0,0,0,null,0,null,0]
["1.14.",{"$f":"B26","v":"водоотведение"},0,null,null,null,0,null,0,0,0,null,0,null,0]
["1.15.",{"$f":"B27","v":"водоотведение"},0,null,null,null,0,null,0,0,0,null,0,null,0]
["1.16.",{"$f":"B28","v":"водоотведение"},0,null,null,null,0,null,0,0,0,null,0,null,0]
["1.17.",{"$f":"B29","v":"водоотведение"},0,null,null,null,0,null,0,0,0,null,0,null,0]
["1.18.",{"$f":"B30","v":"водоотведение"},0,null,null,null,0,null,0,0,0,null,0,null,0]
["1.19.",{"$f":"B31","v":"водоотведение"},0,null,null,null,0,null,0,0,0,null,0,null,0]
["1.20.",{"$f":"B32","v":"водоотведение"},0,null,null,null,0,null,0,0,0,null,0,null,0]
["1.21.",{"$f":"B33","v":"водоотведение"},0,null,null,null,0,null,0,0,0,null,0,null,0]
["1.22.",{"$f":"B34","v":"водоотведение"},0,null,null,null,0,null,0,0,0,null,0,null,0]
["1.23.",{"$f":"B35","v":"водоотведение"},0,null,null,null,0,null,0,0,0,null,0,null,0]
["1.24.",{"$f":"B36","v":"водоотведение"},0,null,null,null,0,null,0,0,0,null,0,null,0]
["1.25.",{"$f":"B37","v":"водоотведение"},0,null,null,null,0,null,0,0,0,null,0,null,0]
["1.26.",{"$f":"B38","v":"водоотведение"},0,null,null,null,0,null,0,0,0,null,0,null,0]
[null,"перерасчеты",null,null,"х","х","х",null,"х","х"]
[null,"Итого население",null,null,{"$f":"SUM(E87:E112)","v":0},0,0,null,{"$f":"SUM(I87:I112)","v":0},0,{"$f":"SUM(K87:K113)","v":0},null,{"$f":"SUM(M87:M113)","v":0},null,{"$f":"SUM(O87:O113)","v":0}]
["2.","Итого бюджет",null,null,null,null,0,null,{"$f":"E115*$H$13","v":0},{"$f":"F115*$H$13","v":0},{"$f":"SUM(I115:J115)","v":0},null,{"$f":"G115*$L$13","v":0}]
["3.","Итого прочие",null,null,null,null,0,null,{"$f":"E116*$H$13","v":0},{"$f":"F116*$H$13","v":0},{"$f":"SUM(I116:J116)","v":0},null,{"$f":"G116*$L$13","v":0}]
["4.","ВСЕГО 1-е полугодие",null,null,{"$f":"SUM(E114:E116)","v":0},{"$f":"SUM(F114:F116)","v":0},0,null,{"$f":"SUM(I114:I116)","v":0},0,0,null,{"$f":"SUM(M114:M116)","v":0},null,{"$f":"SUM(O114:O116)","v":0}]
["2-е полугодие 2015 года"]
["1.","Население "]
[{"$f":"A87","v":"1.1."},{"$f":"B46","v":"водоотведение"},"Квартиры с ваннами сидячими, оборудованными душами",{"$f":"D87","v":0},null,null,{"$f":"SUM(E120:F120)","v":0},{"$f":"'данные об организации'!$I$31","v":0},{"$f":"E120*$H$46","v":0},{"$f":"F120*$H$46","v":0},{"$f":"SUM(I120:J120)","v":0},{"$f":"'данные об организации'!$H$38","v":0},{"$f":"G120*$L$46","v":0},{"$f":"'данные об организации'!$H$45","v":0},{"$f":"G120*$N$46","v":0}]
[{"$f":"A88","v":"1.2."},{"$f":"B47","v":"водоотведение"},"Квартиры с ваннами длиной от 1500 до 1700 мм, оборудованными душами",{"$f":"D88","v":0},null,null,{"$f":"SUM(E121:F121)","v":0},null,0,0,0,null,0,null,0]
[{"$f":"A89","v":"1.3."},{"$f":"B48","v":"водоотведение"},0,0,null,null,0,null,0,0,0,null,0,null,0]
[{"$f":"A90","v":"1.4."},{"$f":"B49","v":"водоотведение"},0,0,null,null,0,null,0,0,0,null,0,null,0]
[{"$f":"A91","v":"1.5."},{"$f":"B50","v":"водоотведение"},0,0,null,null,0,null,0,0,0,null,0,null,0]
[{"$f":"A92","v":"1.6."},{"$f":"B51","v":"водоотведение"},0,0,null,null,0,null,0,0,0,null,0,null,0]
[{"$f":"A93","v":"1.7."},{"$f":"B52","v":"водоотведение"},0,0,null,null,0,null,0,0,0,null,0,null,0]
[{"$f":"A94","v":"1.8."},{"$f":"B53","v":"водоотведение"},0,0,null,null,0,null,0,0,0,null,0,null,0]
[{"$f":"A95","v":"1.9."},{"$f":"B54","v":"водоотведение"},0,0,null,null,0,null,0,0,0,null,0,null,0]
[{"$f":"A96","v":"1.10."},{"$f":"B55","v":"водоотведение"},0,0,null,null,0,null,0,0,0,null,0,null,0]
[{"$f":"A97","v":"1.11."},{"$f":"B56","v":"водоотведение"},0,0,null,null,0,null,0,0,0,null,0,null,0]
[{"$f":"A98","v":"1.12."},{"$f":"B57","v":"водоотведение"},0,0,null,null,0,null,0,0,0,null,0,null,0]
[{"$f":"A99","v":"1.13."},{"$f":"B58","v":"водоотведение"},0,0,null,null,0,null,0,0,0,null,0,null,0]
[{"$f":"A100","v":"1.14."},{"$f":"B59","v":"водоотведение"},0,0,null,null,0,null,0,0,0,null,0,null,0]
[{"$f":"A101","v":"1.15."},{"$f":"B60","v":"водоотведение"},0,0,null,null,0,null,0,0,0,null,0,null,0]
[{"$f":"A102","v":"1.16."},{"$f":"B61","v":"водоотведение"},0,0,null,null,0,null,0,0,0,null,0,null,0]
[{"$f":"A103","v":"1.17."},{"$f":"B62","v":"водоотведение"},0,0,null,null,0,null,0,0,0,null,0,null,0]
[{"$f":"A104","v":"1.18."},{"$f":"B63","v":"водоотведение"},0,0,null,null,0,null,0,0,0,null,0,null,0]
[{"$f":"A105","v":"1.19."},{"$f":"B64","v":"водоотведение"},0,0,null,null,0,null,0,0,0,null,0,null,0]
[{"$f":"A106","v":"1.20."},{"$f":"B65","v":"водоотведение"},0,0,null,null,0,null,0,0,0,null,0,null,0]
[{"$f":"A107","v":"1.21."},{"$f":"B66","v":"водоотведение"},0,0,null,null,0,null,0,0,0,null,0,null,0]
[{"$f":"A108","v":"1.22."},{"$f":"B67","v":"водоотведение"},0,0,null,null,0,null,0,0,0,null,0,null,0]
[{"$f":"A109","v":"1.23."},{"$f":"B68","v":"водоотведение"},0,0,null,null,0,null,0,0,0,null,0,null,0]
[{"$f":"A110","v":"1.24."},{"$f":"B69","v":"водоотведение"},0,0,null,null,0,null,0,0,0,null,0,null,0]
[{"$f":"A111","v":"1.25."},{"$f":"B70","v":"водоотведение"},0,0,null,null,0,null,0,0,0,null,0,null,0]
[{"$f":"A112","v":"1.26."},{"$f":"B71","v":"водоотведение"},0,0,null,null,0,null,0,0,0,null,0,null,0]
[null,"перерасчеты",null,null,"х","х","х",null,"х","х"]
[null,"Итого население",null,null,{"$f":"SUM(E120:E145)","v":0},0,0,null,{"$f":"SUM(I120:I145)","v":0},0,{"$f":"SUM(K120:K146)","v":0},null,{"$f":"SUM(M120:M146)","v":0},null,{"$f":"SUM(O120:O146)","v":0}]
["2.","Итого бюджет",null,null,null,null,0,null,{"$f":"E148*$H$46","v":0},{"$f":"F148*$H$46","v":0},{"$f":"SUM(I148:J148)","v":0},null,{"$f":"G148*$L$46","v":0}]
["3.","Итого прочие",null,null,null,null,0,null,{"$f":"E149*$H$46","v":0},{"$f":"F149*$H$46","v":0},{"$f":"SUM(I149:J149)","v":0},null,{"$f":"G149*$L$46","v":0}]
["4.","ВСЕГО 2-е полугодие",null,null,{"$f":"SUM(E147:E149)","v":0},{"$f":"SUM(F147:F149)","v":0},0,null,{"$f":"SUM(I147:I149)","v":0},0,0,null,{"$f":"SUM(M147:M149)","v":0},null,{"$f":"SUM(O147:O149)","v":0}]
[]
["5.","ГОД ВСЕГО",null,null,{"$f":"E117+E150","v":0},{"$f":"F117+F150","v":0},0,null,{"$f":"I117+I150","v":0},0,0,null,{"$f":"M117+M150","v":0},null,{"$f":"O117+O150","v":0}]
[]
[{"$f":"'данные об организации'!F15","v":0}]
[]
["№","Вид потребителя","Степень благоустройства, наименование скота","Нормы водоотведения, куб.м. в месяц (на 1 чел)","Фактический годовой объем реализации,  куб.м.",null,null,"тариф, руб/куб.м.","Сумма, руб",null,null,"инвестиционная надбавка",null,"компенсация до установленного тарифа"]
[null,null,null,null,"водоотведение",null,"ВСЕГО",null,{"$f":"E157","v":"водоотведение"},null,"ИТОГО"]
[null,null,null,null,"норматив","прибор учета",null,null,"норматив","прибор учета",null,"размер, руб/куб.м.","Сумма, руб","размер, руб/куб.м.","Сумма, руб"]
["1-е полугодие 2015года"]
["1.","Население "]
[{"$f":"A87","v":"1.1."},{"$f":"B87","v":"водоотведение"},{"$f":"C87","v":"Квартиры с ваннами сидячими, оборудованными душами"},null,null,null,{"$f":"SUM(E161:F161)","v":0},{"$f":"'данные об организации'!$I$30","v":0},{"$f":"E161*$H$13","v":0},{"$f":"F161*$H$13","v":0},{"$f":"SUM(I161:J161)","v":0},{"$f":"'данные об организации'!$H$37","v":0},{"$f":"G161*$L$13","v":0},{"$f":"'данные об организации'!$H$44","v":0},{"$f":"G161*$N$13","v":0}]
[{"$f":"A88","v":"1.2."},{"$f":"B88","v":"водоотведение"},"Квартиры с ваннами длиной от 1500 до 1700 мм, оборудованными душами",null,null,null,{"$f":"SUM(E162:F162)","v":0},null,0,0,0,null,0,null,0]
["1.3.",{"$f":"B89","v":"водоотведение"},0,null,null,null,0,null,0,0,0,null,0,null,0]
["1.4.",{"$f":"B90","v":"водоотведение"},0,null,null,null,0,null,0,0,0,null,0,null,0]
["1.5.",{"$f":"B91","v":"водоотведение"},0,null,null,null,0,null,0,0,0,null,0,null,0]
["1.6.",{"$f":"B92","v":"водоотведение"},0,null,null,null,0,null,0,0,0,null,0,null,0]
["1.7.",{"$f":"B93","v":"водоотведение"},0,null,null,null,0,null,0,0,0,null,0,null,0]
["1.8.",{"$f":"B94","v":"водоотведение"},0,null,null,null,0,null,0,0,0,null,0,null,0]
["1.9.",{"$f":"B95","v":"водоотведение"},0,null,null,null,0,null,0,0,0,null,0,null,0]
["1.10.",{"$f":"B96","v":"водоотведение"},0,null,null,null,0,null,0,0,0,null,0,null,0]
["1.11.",{"$f":"B97","v":"водоотведение"},0,null,null,null,0,null,0,0,0,null,0,null,0]
["1.12.",{"$f":"B98","v":"водоотведение"},0,null,null,null,0,null,0,0,0,null,0,null,0]
["1.13.",{"$f":"B99","v":"водоотведение"},0,null,null,null,0,null,0,0,0,null,0,null,0]
["1.14.",{"$f":"B100","v":"водоотведение"},0,null,null,null,0,null,0,0,0,null,0,null,0]
["1.15.",{"$f":"B101","v":"водоотведение"},0,null,null,null,0,null,0,0,0,null,0,null,0]
["1.16.",{"$f":"B102","v":"водоотведение"},0,null,null,null,0,null,0,0,0,null,0,null,0]
["1.17.",{"$f":"B103","v":"водоотведение"},0,null,null,null,0,null,0,0,0,null,0,null,0]
["1.18.",{"$f":"B104","v":"водоотведение"},0,null,null,null,0,null,0,0,0,null,0,null,0]
["1.19.",{"$f":"B105","v":"водоотведение"},0,null,null,null,0,null,0,0,0,null,0,null,0]
["1.20.",{"$f":"B106","v":"водоотведение"},0,null,null,null,0,null,0,0,0,null,0,null,0]
["1.21.",{"$f":"B107","v":"водоотведение"},0,null,null,null,0,null,0,0,0,null,0,null,0]
["1.22.",{"$f":"B108","v":"водоотведение"},0,null,null,null,0,null,0,0,0,null,0,null,0]
["1.23.",{"$f":"B109","v":"водоотведение"},0,null,null,null,0,null,0,0,0,null,0,null,0]
["1.24.",{"$f":"B110","v":"водоотведение"},0,null,null,null,0,null,0,0,0,null,0,null,0]
["1.25.",{"$f":"B111","v":"водоотведение"},0,null,null,null,0,null,0,0,0,null,0,null,0]
["1.26.",{"$f":"B112","v":"водоотведение"},0,null,null,null,0,null,0,0,0,null,0,null,0]
[null,"перерасчеты",null,null,"х","х","х",null,"х","х"]
[null,"Итого население",null,null,{"$f":"SUM(E161:E186)","v":0},0,0,null,{"$f":"SUM(I161:I186)","v":0},0,{"$f":"SUM(K161:K187)","v":0},null,{"$f":"SUM(M161:M187)","v":0},null,{"$f":"SUM(O161:O187)","v":0}]
["2.","Итого бюджет",null,null,null,null,0,null,{"$f":"E189*$H$13","v":0},{"$f":"F189*$H$13","v":0},{"$f":"SUM(I189:J189)","v":0},null,{"$f":"G189*$L$13","v":0}]
["3.","Итого прочие",null,null,null,null,0,null,{"$f":"E190*$H$13","v":0},{"$f":"F190*$H$13","v":0},{"$f":"SUM(I190:J190)","v":0},null,{"$f":"G190*$L$13","v":0}]
["4.","ВСЕГО 1-е полугодие",null,null,{"$f":"SUM(E188:E190)","v":0},{"$f":"SUM(F188:F190)","v":0},0,null,{"$f":"SUM(I188:I190)","v":0},0,0,null,{"$f":"SUM(M188:M190)","v":0},null,{"$f":"SUM(O188:O190)","v":0}]
["2-е полугодие 2015 года"]
["1.","Население "]
[{"$f":"A161","v":"1.1."},{"$f":"B120","v":"водоотведение"},"Квартиры с ваннами сидячими, оборудованными душами",{"$f":"D161","v":0},null,null,{"$f":"SUM(E194:F194)","v":0},{"$f":"'данные об организации'!$I$31","v":0},{"$f":"E194*$H$46","v":0},{"$f":"F194*$H$46","v":0},{"$f":"SUM(I194:J194)","v":0},{"$f":"'данные об организации'!$H$38","v":0},{"$f":"G194*$L$46","v":0},{"$f":"'данные об организации'!$H$45","v":0},{"$f":"G194*$N$46","v":0}]
[{"$f":"A162","v":"1.2."},{"$f":"B121","v":"водоотведение"},"Квартиры с ваннами длиной от 1500 до 1700 мм, оборудованными душами",{"$f":"D162","v":0},null,null,{"$f":"SUM(E195:F195)","v":0},null,0,0,0,null,0,null,0]
[{"$f":"A163","v":"1.3."},{"$f":"B122","v":"водоотведение"},0,0,null,null,0,null,0,0,0,null,0,null,0]
[{"$f":"A164","v":"1.4."},{"$f":"B123","v":"водоотведение"},0,0,null,null,0,null,0,0,0,null,0,null,0]
[{"$f":"A165","v":"1.5."},{"$f":"B124","v":"водоотведение"},0,0,null,null,0,null,0,0,0,null,0,null,0]
[{"$f":"A166","v":"1.6."},{"$f":"B125","v":"водоотведение"},0,0,null,null,0,null,0,0,0,null,0,null,0]
[{"$f":"A167","v":"1.7."},{"$f":"B126","v":"водоотведение"},0,0,null,null,0,null,0,0,0,null,0,null,0]
[{"$f":"A168","v":"1.8."},{"$f":"B127","v":"водоотведение"},0,0,null,null,0,null,0,0,0,null,0,null,0]
[{"$f":"A169","v":"1.9."},{"$f":"B128","v":"водоотведение"},0,0,null,null,0,null,0,0,0,null,0,null,0]
[{"$f":"A170","v":"1.10."},{"$f":"B129","v":"водоотведение"},0,0,null,null,0,null,0,0,0,null,0,null,0]
[{"$f":"A171","v":"1.11."},{"$f":"B130","v":"водоотведение"},0,0,null,null,0,null,0,0,0,null,0,null,0]
[{"$f":"A172","v":"1.12."},{"$f":"B131","v":"водоотведение"},0,0,null,null,0,null,0,0,0,null,0,null,0]
[{"$f":"A173","v":"1.13."},{"$f":"B132","v":"водоотведение"},0,0,null,null,0,null,0,0,0,null,0,null,0]
[{"$f":"A174","v":"1.14."},{"$f":"B133","v":"водоотведение"},0,0,null,null,0,null,0,0,0,null,0,null,0]
[{"$f":"A175","v":"1.15."},{"$f":"B134","v":"водоотведение"},0,0,null,null,0,null,0,0,0,null,0,null,0]
[{"$f":"A176","v":"1.16."},{"$f":"B135","v":"водоотведение"},0,0,null,null,0,null,0,0,0,null,0,null,0]
[{"$f":"A177","v":"1.17."},{"$f":"B136","v":"водоотведение"},0,0,null,null,0,null,0,0,0,null,0,null,0]
[{"$f":"A178","v":"1.18."},{"$f":"B137","v":"водоотведение"},0,0,null,null,0,null,0,0,0,null,0,null,0]
[{"$f":"A179","v":"1.19."},{"$f":"B138","v":"водоотведение"},0,0,null,null,0,null,0,0,0,null,0,null,0]
[{"$f":"A180","v":"1.20."},{"$f":"B139","v":"водоотведение"},0,0,null,null,0,null,0,0,0,null,0,null,0]
[{"$f":"A181","v":"1.21."},{"$f":"B140","v":"водоотведение"},0,0,null,null,0,null,0,0,0,null,0,null,0]
[{"$f":"A182","v":"1.22."},{"$f":"B141","v":"водоотведение"},0,0,null,null,0,null,0,0,0,null,0,null,0]
[{"$f":"A183","v":"1.23."},{"$f":"B142","v":"водоотведение"},0,0,null,null,0,null,0,0,0,null,0,null,0]
[{"$f":"A184","v":"1.24."},{"$f":"B143","v":"водоотведение"},0,0,null,null,0,null,0,0,0,null,0,null,0]
[{"$f":"A185","v":"1.25."},{"$f":"B144","v":"водоотведение"},0,0,null,null,0,null,0,0,0,null,0,null,0]
[{"$f":"A186","v":"1.26."},{"$f":"B145","v":"водоотведение"},0,0,null,null,0,null,0,0,0,null,0,null,0]
[null,"перерасчеты",null,null,"х","х","х",null,"х","х"]
[null,"Итого население",null,null,{"$f":"SUM(E194:E219)","v":0},0,0,null,{"$f":"SUM(I194:I219)","v":0},0,{"$f":"SUM(K194:K220)","v":0},null,{"$f":"SUM(M194:M220)","v":0},null,{"$f":"SUM(O194:O220)","v":0}]
["2.","Итого бюджет",null,null,null,null,0,null,{"$f":"E222*$H$46","v":0},{"$f":"F222*$H$46","v":0},{"$f":"SUM(I222:J222)","v":0},null,{"$f":"G222*$L$46","v":0}]
["3.","Итого прочие",null,null,null,null,0,null,{"$f":"E223*$H$46","v":0},{"$f":"F223*$H$46","v":0},{"$f":"SUM(I223:J223)","v":0},null,{"$f":"G223*$L$46","v":0}]
["4.","ВСЕГО 2-е полугодие",null,null,{"$f":"SUM(E221:E223)","v":0},{"$f":"SUM(F221:F223)","v":0},0,null,{"$f":"SUM(I221:I223)","v":0},0,0,null,{"$f":"SUM(M221:M223)","v":0},null,{"$f":"SUM(O221:O223)","v":0}]
[]
["5.","ГОД ВСЕГО",null,null,{"$f":"E191+E224","v":0},{"$f":"F191+F224","v":0},0,null,{"$f":"I191+I224","v":0},0,0,null,{"$f":"M191+M224","v":0},null,{"$f":"O191+O224","v":0}]
[]
[{"$f":"'данные об организации'!F16","v":0}]
[]
["№","Вид потребителя","Степень благоустройства, наименование скота","Нормы водоотведения, куб.м. в месяц (на 1 чел)","Фактический годовой объем реализации,  куб.м.",null,null,"тариф, руб/куб.м.","Сумма, руб",null,null,"инвестиционная надбавка",null,"компенсация до установленного тарифа"]
[null,null,null,null,"водоотведение",null,"ВСЕГО",null,{"$f":"E231","v":"водоотведение"},null,"ИТОГО"]
[null,null,null,null,"норматив","прибор учета",null,null,"норматив","прибор учета",null,"размер, руб/куб.м.","Сумма, руб","размер, руб/куб.м.","Сумма, руб"]
["1-е полугодие 2015года"]
["1.","Население "]
[{"$f":"A161","v":"1.1."},{"$f":"B161","v":"водоотведение"},{"$f":"C161","v":"Квартиры с ваннами сидячими, оборудованными душами"},null,null,null,{"$f":"SUM(E235:F235)","v":0},{"$f":"'данные об организации'!$I$30","v":0},{"$f":"E235*$H$13","v":0},{"$f":"F235*$H$13","v":0},{"$f":"SUM(I235:J235)","v":0},{"$f":"'данные об организации'!$H$37","v":0},{"$f":"G235*$L$13","v":0},{"$f":"'данные об организации'!$H$44","v":0},{"$f":"G235*$N$13","v":0}]
[{"$f":"A162","v":"1.2."},{"$f":"B162","v":"водоотведение"},"Квартиры с ваннами длиной от 1500 до 1700 мм, оборудованными душами",null,null,null,{"$f":"SUM(E236:F236)","v":0},null,0,0,0,null,0,null,0]
["1.3.",{"$f":"B163","v":"водоотведение"},0,null,null,null,0,null,0,0,0,null,0,null,0]
["1.4.",{"$f":"B164","v":"водоотведение"},0,null,null,null,0,null,0,0,0,null,0,null,0]
["1.5.",{"$f":"B165","v":"водоотведение"},0,null,null,null,0,null,0,0,0,null,0,null,0]
["1.6.",{"$f":"B166","v":"водоотведение"},0,null,null,null,0,null,0,0,0,null,0,null,0]
["1.7.",{"$f":"B167","v":"водоотведение"},0,null,null,null,0,null,0,0,0,null,0,null,0]
["1.8.",{"$f":"B168","v":"водоотведение"},0,null,null,null,0,null,0,0,0,null,0,null,0]
["1.9.",{"$f":"B169","v":"водоотведение"},0,null,null,null,0,null,0,0,0,null,0,null,0]
["1.10.",{"$f":"B170","v":"водоотведение"},0,null,null,null,0,null,0,0,0,null,0,null,0]
["1.11.",{"$f":"B171","v":"водоотведение"},0,null,null,null,0,null,0,0,0,null,0,null,0]
["1.12.",{"$f":"B172","v":"водоотведение"},0,null,null,null,0,null,0,0,0,null,0,null,0]
["1.13.",{"$f":"B173","v":"водоотведение"},0,null,null,null,0,null,0,0,0,null,0,null,0]
["1.14.",{"$f":"B174","v":"водоотведение"},0,null,null,null,0,null,0,0,0,null,0,null,0]
["1.15.",{"$f":"B175","v":"водоотведение"},0,null,null,null,0,null,0,0,0,null,0,null,0]
["1.16.",{"$f":"B176","v":"водоотведение"},0,null,null,null,0,null,0,0,0,null,0,null,0]
["1.17.",{"$f":"B177","v":"водоотведение"},0,null,null,null,0,null,0,0,0,null,0,null,0]
["1.18.",{"$f":"B178","v":"водоотведение"},0,null,null,null,0,null,0,0,0,null,0,null,0]
["1.19.",{"$f":"B179","v":"водоотведение"},0,null,null,null,0,null,0,0,0,null,0,null,0]
["1.20.",{"$f":"B180","v":"водоотведение"},0,null,null,null,0,null,0,0,0,null,0,null,0]
["1.21.",{"$f":"B181","v":"водоотведение"},0,null,null,null,0,null,0,0,0,null,0,null,0]
["1.22.",{"$f":"B182","v":"водоотведение"},0,null,null,null,0,null,0,0,0,null,0,null,0]
["1.23.",{"$f":"B183","v":"водоотведение"},0,null,null,null,0,null,0,0,0,null,0,null,0]
["1.24.",{"$f":"B184","v":"водоотведение"},0,null,null,null,0,null,0,0,0,null,0,null,0]
["1.25.",{"$f":"B185","v":"водоотведение"},0,null,null,null,0,null,0,0,0,null,0,null,0]
["1.26.",{"$f":"B186","v":"водоотведение"},0,null,null,null,0,null,0,0,0,null,0,null,0]
[null,"перерасчеты",null,null,"х","х","х",null,"х","х"]
[null,"Итого население",null,null,{"$f":"SUM(E235:E260)","v":0},0,0,null,{"$f":"SUM(I235:I260)","v":0},0,{"$f":"SUM(K235:K261)","v":0},null,{"$f":"SUM(M235:M261)","v":0},null,{"$f":"SUM(O235:O261)","v":0}]
["2.","Итого бюджет",null,null,null,null,0,null,{"$f":"E263*$H$13","v":0},{"$f":"F263*$H$13","v":0},{"$f":"SUM(I263:J263)","v":0},null,{"$f":"G263*$L$13","v":0}]
["3.","Итого прочие",null,null,null,null,0,null,{"$f":"E264*$H$13","v":0},{"$f":"F264*$H$13","v":0},{"$f":"SUM(I264:J264)","v":0},null,{"$f":"G264*$L$13","v":0}]
["4.","ВСЕГО 1-е полугодие",null,null,{"$f":"SUM(E262:E264)","v":0},{"$f":"SUM(F262:F264)","v":0},0,null,{"$f":"SUM(I262:I264)","v":0},0,0,null,{"$f":"SUM(M262:M264)","v":0},null,{"$f":"SUM(O262:O264)","v":0}]
["2-е полугодие 2015 года"]
["1.","Население "]
[{"$f":"A235","v":"1.1."},{"$f":"B194","v":"водоотведение"},"Квартиры с ваннами сидячими, оборудованными душами",{"$f":"D235","v":0},null,null,{"$f":"SUM(E268:F268)","v":0},{"$f":"'данные об организации'!$I$31","v":0},{"$f":"E268*$H$46","v":0},{"$f":"F268*$H$46","v":0},{"$f":"SUM(I268:J268)","v":0},{"$f":"'данные об организации'!$H$38","v":0},{"$f":"G268*$L$46","v":0},{"$f":"'данные об организации'!$H$45","v":0},{"$f":"G268*$N$46","v":0}]
[{"$f":"A236","v":"1.2."},{"$f":"B195","v":"водоотведение"},"Квартиры с ваннами длиной от 1500 до 1700 мм, оборудованными душами",{"$f":"D236","v":0},null,null,{"$f":"SUM(E269:F269)","v":0},null,0,0,0,null,0,null,0]
[{"$f":"A237","v":"1.3."},{"$f":"B196","v":"водоотведение"},0,0,null,null,0,null,0,0,0,null,0,null,0]
[{"$f":"A238","v":"1.4."},{"$f":"B197","v":"водоотведение"},0,0,null,null,0,null,0,0,0,null,0,null,0]
[{"$f":"A239","v":"1.5."},{"$f":"B198","v":"водоотведение"},0,0,null,null,0,null,0,0,0,null,0,null,0]
[{"$f":"A240","v":"1.6."},{"$f":"B199","v":"водоотведение"},0,0,null,null,0,null,0,0,0,null,0,null,0]
[{"$f":"A241","v":"1.7."},{"$f":"B200","v":"водоотведение"},0,0,null,null,0,null,0,0,0,null,0,null,0]
[{"$f":"A242","v":"1.8."},{"$f":"B201","v":"водоотведение"},0,0,null,null,0,null,0,0,0,null,0,null,0]
[{"$f":"A243","v":"1.9."},{"$f":"B202","v":"водоотведение"},0,0,null,null,0,null,0,0,0,null,0,null,0]
[{"$f":"A244","v":"1.10."},{"$f":"B203","v":"водоотведение"},0,0,null,null,0,null,0,0,0,null,0,null,0]
[{"$f":"A245","v":"1.11."},{"$f":"B204","v":"водоотведение"},0,0,null,null,0,null,0,0,0,null,0,null,0]
[{"$f":"A246","v":"1.12."},{"$f":"B205","v":"водоотведение"},0,0,null,null,0,null,0,0,0,null,0,null,0]
[{"$f":"A247","v":"1.13."},{"$f":"B206","v":"водоотведение"},0,0,null,null,0,null,0,0,0,null,0,null,0]
[{"$f":"A248","v":"1.14."},{"$f":"B207","v":"водоотведение"},0,0,null,null,0,null,0,0,0,null,0,null,0]
[{"$f":"A249","v":"1.15."},{"$f":"B208","v":"водоотведение"},0,0,null,null,0,null,0,0,0,null,0,null,0]
[{"$f":"A250","v":"1.16."},{"$f":"B209","v":"водоотведение"},0,0,null,null,0,null,0,0,0,null,0,null,0]
[{"$f":"A251","v":"1.17."},{"$f":"B210","v":"водоотведение"},0,0,null,null,0,null,0,0,0,null,0,null,0]
[{"$f":"A252","v":"1.18."},{"$f":"B211","v":"водоотведение"},0,0,null,null,0,null,0,0,0,null,0,null,0]
[{"$f":"A253","v":"1.19."},{"$f":"B212","v":"водоотведение"},0,0,null,null,0,null,0,0,0,null,0,null,0]
[{"$f":"A254","v":"1.20."},{"$f":"B213","v":"водоотведение"},0,0,null,null,0,null,0,0,0,null,0,null,0]
[{"$f":"A255","v":"1.21."},{"$f":"B214","v":"водоотведение"},0,0,null,null,0,null,0,0,0,null,0,null,0]
[{"$f":"A256","v":"1.22."},{"$f":"B215","v":"водоотведение"},0,0,null,null,0,null,0,0,0,null,0,null,0]
[{"$f":"A257","v":"1.23."},{"$f":"B216","v":"водоотведение"},0,0,null,null,0,null,0,0,0,null,0,null,0]
[{"$f":"A258","v":"1.24."},{"$f":"B217","v":"водоотведение"},0,0,null,null,0,null,0,0,0,null,0,null,0]
[{"$f":"A259","v":"1.25."},{"$f":"B218","v":"водоотведение"},0,0,null,null,0,null,0,0,0,null,0,null,0]
[{"$f":"A260","v":"1.26."},{"$f":"B219","v":"водоотведение"},0,0,null,null,0,null,0,0,0,null,0,null,0]
[null,"перерасчеты",null,null,"х","х","х",null,"х","х"]
[null,"Итого население",null,null,{"$f":"SUM(E268:E293)","v":0},0,0,null,{"$f":"SUM(I268:I293)","v":0},0,{"$f":"SUM(K268:K294)","v":0},null,{"$f":"SUM(M268:M294)","v":0},null,{"$f":"SUM(O268:O294)","v":0}]
["2.","Итого бюджет",null,null,null,null,0,null,{"$f":"E296*$H$46","v":0},{"$f":"F296*$H$46","v":0},{"$f":"SUM(I296:J296)","v":0},null,{"$f":"G296*$L$46","v":0}]
["3.","Итого прочие",null,null,null,null,0,null,{"$f":"E297*$H$46","v":0},{"$f":"F297*$H$46","v":0},{"$f":"SUM(I297:J297)","v":0},null,{"$f":"G297*$L$46","v":0}]
["4.","ВСЕГО 2-е полугодие",null,null,{"$f":"SUM(E295:E297)","v":0},{"$f":"SUM(F295:F297)","v":0},0,null,{"$f":"SUM(I295:I297)","v":0},0,0,null,{"$f":"SUM(M295:M297)","v":0},null,{"$f":"SUM(O295:O297)","v":0}]
[]
["5.","ГОД ВСЕГО",null,null,{"$f":"E265+E298","v":0},{"$f":"F265+F298","v":0},0,null,{"$f":"I265+I298","v":0},0,0,null,{"$f":"M265+M298","v":0},null,{"$f":"O265+O298","v":0}]
[]
[{"$f":"'данные об организации'!F17","v":0}]
[]
["№","Вид потребителя","Степень благоустройства, наименование скота","Нормы водоотведения, куб.м. в месяц (на 1 чел)","Фактический годовой объем реализации,  куб.м.",null,null,"тариф, руб/куб.м.","Сумма, руб",null,null,"инвестиционная надбавка",null,"компенсация до установленного тарифа"]
[null,null,null,null,"водоотведение",null,"ВСЕГО",null,{"$f":"E305","v":"водоотведение"},null,"ИТОГО"]
[null,null,null,null,"норматив","прибор учета",null,null,"норматив","прибор учета",null,"размер, руб/куб.м.","Сумма, руб","размер, руб/куб.м.","Сумма, руб"]
["1-е полугодие 2015года"]
["1.","Население "]
[{"$f":"A235","v":"1.1."},{"$f":"B235","v":"водоотведение"},{"$f":"C235","v":"Квартиры с ваннами сидячими, оборудованными душами"},null,null,null,{"$f":"SUM(E309:F309)","v":0},{"$f":"'данные об организации'!$I$30","v":0},{"$f":"E309*$H$13","v":0},{"$f":"F309*$H$13","v":0},{"$f":"SUM(I309:J309)","v":0},{"$f":"'данные об организации'!$H$37","v":0},{"$f":"G309*$L$13","v":0},{"$f":"'данные об организации'!$H$44","v":0},{"$f":"G309*$N$13","v":0}]
[{"$f":"A236","v":"1.2."},{"$f":"B236","v":"водоотведение"},"Квартиры с ваннами длиной от 1500 до 1700 мм, оборудованными душами",null,null,null,{"$f":"SUM(E310:F310)","v":0},null,0,0,0,null,0,null,0]
["1.3.",{"$f":"B237","v":"водоотведение"},0,null,null,null,0,null,0,0,0,null,0,null,0]
["1.4.",{"$f":"B238","v":"водоотведение"},0,null,null,null,0,null,0,0,0,null,0,null,0]
["1.5.",{"$f":"B239","v":"водоотведение"},0,null,null,null,0,null,0,0,0,null,0,null,0]
["1.6.",{"$f":"B240","v":"водоотведение"},0,null,null,null,0,null,0,0,0,null,0,null,0]
["1.7.",{"$f":"B241","v":"водоотведение"},0,null,null,null,0,null,0,0,0,null,0,null,0]
["1.8.",{"$f":"B242","v":"водоотведение"},0,null,null,null,0,null,0,0,0,null,0,null,0]
["1.9.",{"$f":"B243","v":"водоотведение"},0,null,null,null,0,null,0,0,0,null,0,null,0]
["1.10.",{"$f":"B244","v":"водоотведение"},0,null,null,null,0,null,0,0,0,null,0,null,0]
["1.11.",{"$f":"B245","v":"водоотведение"},0,null,null,null,0,null,0,0,0,null,0,null,0]
["1.12.",{"$f":"B246","v":"водоотведение"},0,null,null,null,0,null,0,0,0,null,0,null,0]
["1.13.",{"$f":"B247","v":"водоотведение"},0,null,null,null,0,null,0,0,0,null,0,null,0]
["1.14.",{"$f":"B248","v":"водоотведение"},0,null,null,null,0,null,0,0,0,null,0,null,0]
["1.15.",{"$f":"B249","v":"водоотведение"},0,null,null,null,0,null,0,0,0,null,0,null,0]
["1.16.",{"$f":"B250","v":"водоотведение"},0,null,null,null,0,null,0,0,0,null,0,null,0]
["1.17.",{"$f":"B251","v":"водоотведение"},0,null,null,null,0,null,0,0,0,null,0,null,0]
["1.18.",{"$f":"B252","v":"водоотведение"},0,null,null,null,0,null,0,0,0,null,0,null,0]
["1.19.",{"$f":"B253","v":"водоотведение"},0,null,null,null,0,null,0,0,0,null,0,null,0]
["1.20.",{"$f":"B254","v":"водоотведение"},0,null,null,null,0,null,0,0,0,null,0,null,0]
["1.21.",{"$f":"B255","v":"водоотведение"},0,null,null,null,0,null,0,0,0,null,0,null,0]
["1.22.",{"$f":"B256","v":"водоотведение"},0,null,null,null,0,null,0,0,0,null,0,null,0]
["1.23.",{"$f":"B257","v":"водоотведение"},0,null,null,null,0,null,0,0,0,null,0,null,0]
["1.24.",{"$f":"B258","v":"водоотведение"},0,null,null,null,0,null,0,0,0,null,0,null,0]
["1.25.",{"$f":"B259","v":"водоотведение"},0,null,null,null,0,null,0,0,0,null,0,null,0]
["1.26.",{"$f":"B260","v":"водоотведение"},0,null,null,null,0,null,0,0,0,null,0,null,0]
[null,"перерасчеты",null,null,"х","х","х",null,"х","х"]
[null,"Итого население",null,null,{"$f":"SUM(E309:E334)","v":0},0,0,null,{"$f":"SUM(I309:I334)","v":0},0,{"$f":"SUM(K309:K335)","v":0},null,{"$f":"SUM(M309:M335)","v":0},null,{"$f":"SUM(O309:O335)","v":0}]
["2.","Итого бюджет",null,null,null,null,0,null,{"$f":"E337*$H$13","v":0},{"$f":"F337*$H$13","v":0},{"$f":"SUM(I337:J337)","v":0},null,{"$f":"G337*$L$13","v":0}]
["3.","Итого прочие",null,null,null,null,0,null,{"$f":"E338*$H$13","v":0},{"$f":"F338*$H$13","v":0},{"$f":"SUM(I338:J338)","v":0},null,{"$f":"G338*$L$13","v":0}]
["4.","ВСЕГО 1-е полугодие",null,null,{"$f":"SUM(E336:E338)","v":0},{"$f":"SUM(F336:F338)","v":0},0,null,{"$f":"SUM(I336:I338)","v":0},0,0,null,{"$f":"SUM(M336:M338)","v":0},null,{"$f":"SUM(O336:O338)","v":0}]
["2-е полугодие 2015 года"]
["1.","Население "]
[{"$f":"A309","v":"1.1."},{"$f":"B268","v":"водоотведение"},"Квартиры с ваннами сидячими, оборудованными душами",{"$f":"D309","v":0},null,null,{"$f":"SUM(E342:F342)","v":0},{"$f":"'данные об организации'!$I$31","v":0},{"$f":"E342*$H$46","v":0},{"$f":"F342*$H$46","v":0},{"$f":"SUM(I342:J342)","v":0},{"$f":"'данные об организации'!$H$38","v":0},{"$f":"G342*$L$46","v":0},{"$f":"'данные об организации'!$H$45","v":0},{"$f":"G342*$N$46","v":0}]
[{"$f":"A310","v":"1.2."},{"$f":"B269","v":"водоотведение"},"Квартиры с ваннами длиной от 1500 до 1700 мм, оборудованными душами",{"$f":"D310","v":0},null,null,{"$f":"SUM(E343:F343)","v":0},null,0,0,0,null,0,null,0]
[{"$f":"A311","v":"1.3."},{"$f":"B270","v":"водоотведение"},0,0,null,null,0,null,0,0,0,null,0,null,0]
[{"$f":"A312","v":"1.4."},{"$f":"B271","v":"водоотведение"},0,0,null,null,0,null,0,0,0,null,0,null,0]
[{"$f":"A313","v":"1.5."},{"$f":"B272","v":"водоотведение"},0,0,null,null,0,null,0,0,0,null,0,null,0]
[{"$f":"A314","v":"1.6."},{"$f":"B273","v":"водоотведение"},0,0,null,null,0,null,0,0,0,null,0,null,0]
[{"$f":"A315","v":"1.7."},{"$f":"B274","v":"водоотведение"},0,0,null,null,0,null,0,0,0,null,0,null,0]
[{"$f":"A316","v":"1.8."},{"$f":"B275","v":"водоотведение"},0,0,null,null,0,null,0,0,0,null,0,null,0]
[{"$f":"A317","v":"1.9."},{"$f":"B276","v":"водоотведение"},0,0,null,null,0,null,0,0,0,null,0,null,0]
[{"$f":"A318","v":"1.10."},{"$f":"B277","v":"водоотведение"},0,0,null,null,0,null,0,0,0,null,0,null,0]
[{"$f":"A319","v":"1.11."},{"$f":"B278","v":"водоотведение"},0,0,null,null,0,null,0,0,0,null,0,null,0]
[{"$f":"A320","v":"1.12."},{"$f":"B279","v":"водоотведение"},0,0,null,null,0,null,0,0,0,null,0,null,0]
[{"$f":"A321","v":"1.13."},{"$f":"B280","v":"водоотведение"},0,0,null,null,0,null,0,0,0,null,0,null,0]
[{"$f":"A322","v":"1.14."},{"$f":"B281","v":"водоотведение"},0,0,null,null,0,null,0,0,0,null,0,null,0]
[{"$f":"A323","v":"1.15."},{"$f":"B282","v":"водоотведение"},0,0,null,null,0,null,0,0,0,null,0,null,0]
[{"$f":"A324","v":"1.16."},{"$f":"B283","v":"водоотведение"},0,0,null,null,0,null,0,0,0,null,0,null,0]
[{"$f":"A325","v":"1.17."},{"$f":"B284","v":"водоотведение"},0,0,null,null,0,null,0,0,0,null,0,null,0]
[{"$f":"A326","v":"1.18."},{"$f":"B285","v":"водоотведение"},0,0,null,null,0,null,0,0,0,null,0,null,0]
[{"$f":"A327","v":"1.19."},{"$f":"B286","v":"водоотведение"},0,0,null,null,0,null,0,0,0,null,0,null,0]
[{"$f":"A328","v":"1.20."},{"$f":"B287","v":"водоотведение"},0,0,null,null,0,null,0,0,0,null,0,null,0]
[{"$f":"A329","v":"1.21."},{"$f":"B288","v":"водоотведение"},0,0,null,null,0,null,0,0,0,null,0,null,0]
[{"$f":"A330","v":"1.22."},{"$f":"B289","v":"водоотведение"},0,0,null,null,0,null,0,0,0,null,0,null,0]
[{"$f":"A331","v":"1.23."},{"$f":"B290","v":"водоотведение"},0,0,null,null,0,null,0,0,0,null,0,null,0]
[{"$f":"A332","v":"1.24."},{"$f":"B291","v":"водоотведение"},0,0,null,null,0,null,0,0,0,null,0,null,0]
[{"$f":"A333","v":"1.25."},{"$f":"B292","v":"водоотведение"},0,0,null,null,0,null,0,0,0,null,0,null,0]
[{"$f":"A334","v":"1.26."},{"$f":"B293","v":"водоотведение"},0,0,null,null,0,null,0,0,0,null,0,null,0]
[null,"перерасчеты",null,null,"х","х","х",null,"х","х"]
[null,"Итого население",null,null,{"$f":"SUM(E342:E367)","v":0},0,0,null,{"$f":"SUM(I342:I367)","v":0},0,{"$f":"SUM(K342:K368)","v":0},null,{"$f":"SUM(M342:M368)","v":0},null,{"$f":"SUM(O342:O368)","v":0}]
["2.","Итого бюджет",null,null,null,null,0,null,{"$f":"E370*$H$46","v":0},{"$f":"F370*$H$46","v":0},{"$f":"SUM(I370:J370)","v":0},null,{"$f":"G370*$L$46","v":0}]
["3.","Итого прочие",null,null,null,null,0,null,{"$f":"E371*$H$46","v":0},{"$f":"F371*$H$46","v":0},{"$f":"SUM(I371:J371)","v":0},null,{"$f":"G371*$L$46","v":0}]
["4.","ВСЕГО 2-е полугодие",null,null,{"$f":"SUM(E369:E371)","v":0},{"$f":"SUM(F369:F371)","v":0},0,null,{"$f":"SUM(I369:I371)","v":0},0,0,null,{"$f":"SUM(M369:M371)","v":0},null,{"$f":"SUM(O369:O371)","v":0}]
[]
["5.","ГОД ВСЕГО",null,null,{"$f":"E339+E372","v":0},{"$f":"F339+F372","v":0},0,null,{"$f":"I339+I372","v":0},0,0,null,{"$f":"M339+M372","v":0},null,{"$f":"O339+O372","v":0}]
[]
[{"$f":"'данные об организации'!F18","v":0}]
[]
["№","Вид потребителя","Степень благоустройства, наименование скота","Нормы водоотведения, куб.м. в месяц (на 1 чел)","Фактический годовой объем реализации,  куб.м.",null,null,"тариф, руб/куб.м.","Сумма, руб",null,null,"инвестиционная надбавка",null,"компенсация до установленного тарифа"]
[null,null,null,null,"водоотведение",null,"ВСЕГО",null,{"$f":"E379","v":"водоотведение"},null,"ИТОГО"]
[null,null,null,null,"норматив","прибор учета",null,null,"норматив","прибор учета",null,"размер, руб/куб.м.","Сумма, руб","размер, руб/куб.м.","Сумма, руб"]
["1-е полугодие 2015года"]
["1.","Население "]
[{"$f":"A309","v":"1.1."},{"$f":"B309","v":"водоотведение"},{"$f":"C309","v":"Квартиры с ваннами сидячими, оборудованными душами"},null,null,null,{"$f":"SUM(E383:F383)","v":0},{"$f":"'данные об организации'!$I$30","v":0},{"$f":"E383*$H$13","v":0},{"$f":"F383*$H$13","v":0},{"$f":"SUM(I383:J383)","v":0},{"$f":"'данные об организации'!$H$37","v":0},{"$f":"G383*$L$13","v":0},{"$f":"'данные об организации'!$H$44","v":0},{"$f":"G383*$N$13","v":0}]
[{"$f":"A310","v":"1.2."},{"$f":"B310","v":"водоотведение"},"Квартиры с ваннами длиной от 1500 до 1700 мм, оборудованными душами",null,null,null,{"$f":"SUM(E384:F384)","v":0},null,0,0,0,null,0,null,0]
["1.3.",{"$f":"B311","v":"водоотведение"},0,null,null,null,0,null,0,0,0,null,0,null,0]
["1.4.",{"$f":"B312","v":"водоотведение"},0,null,null,null,0,null,0,0,0,null,0,null,0]
["1.5.",{"$f":"B313","v":"водоотведение"},0,null,null,null,0,null,0,0,0,null,0,null,0]
["1.6.",{"$f":"B314","v":"водоотведение"},0,null,null,null,0,null,0,0,0,null,0,null,0]
["1.7.",{"$f":"B315","v":"водоотведение"},0,null,null,null,0,null,0,0,0,null,0,null,0]
["1.8.",{"$f":"B316","v":"водоотведение"},0,null,null,null,0,null,0,0,0,null,0,null,0]
["1.9.",{"$f":"B317","v":"водоотведение"},0,null,null,null,0,null,0,0,0,null,0,null,0]
["1.10.",{"$f":"B318","v":"водоотведение"},0,null,null,null,0,null,0,0,0,null,0,null,0]
["1.11.",{"$f":"B319","v":"водоотведение"},0,null,null,null,0,null,0,0,0,null,0,null,0]
["1.12.",{"$f":"B320","v":"водоотведение"},0,null,null,null,0,null,0,0,0,null,0,null,0]
["1.13.",{"$f":"B321","v":"водоотведение"},0,null,null,null,0,null,0,0,0,null,0,null,0]
["1.14.",{"$f":"B322","v":"водоотведение"},0,null,null,null,0,null,0,0,0,null,0,null,0]
["1.15.",{"$f":"B323","v":"водоотведение"},0,null,null,null,0,null,0,0,0,null,0,null,0]
["1.16.",{"$f":"B324","v":"водоотведение"},0,null,null,null,0,null,0,0,0,null,0,null,0]
["1.17.",{"$f":"B325","v":"водоотведение"},0,null,null,null,0,null,0,0,0,null,0,null,0]
["1.18.",{"$f":"B326","v":"водоотведение"},0,null,null,null,0,null,0,0,0,null,0,null,0]
["1.19.",{"$f":"B327","v":"водоотведение"},0,null,null,null,0,null,0,0,0,null,0,null,0]
["1.20.",{"$f":"B328","v":"водоотведение"},0,null,null,null,0,null,0,0,0,null,0,null,0]
["1.21.",{"$f":"B329","v":"водоотведение"},0,null,null,null,0,null,0,0,0,null,0,null,0]
["1.22.",{"$f":"B330","v":"водоотведение"},0,null,null,null,0,null,0,0,0,null,0,null,0]
["1.23.",{"$f":"B331","v":"водоотведение"},0,null,null,null,0,null,0,0,0,null,0,null,0]
["1.24.",{"$f":"B332","v":"водоотведение"},0,null,null,null,0,null,0,0,0,null,0,null,0]
["1.25.",{"$f":"B333","v":"водоотведение"},0,null,null,null,0,null,0,0,0,null,0,null,0]
["1.26.",{"$f":"B334","v":"водоотведение"},0,null,null,null,0,null,0,0,0,null,0,null,0]
[null,"перерасчеты",null,null,"х","х","х",null,"х","х"]
[null,"Итого население",null,null,{"$f":"SUM(E383:E408)","v":0},0,0,null,{"$f":"SUM(I383:I408)","v":0},0,{"$f":"SUM(K383:K409)","v":0},null,{"$f":"SUM(M383:M409)","v":0},null,{"$f":"SUM(O383:O409)","v":0}]
["2.","Итого бюджет",null,null,null,null,0,null,{"$f":"E411*$H$13","v":0},{"$f":"F411*$H$13","v":0},{"$f":"SUM(I411:J411)","v":0},null,{"$f":"G411*$L$13","v":0}]
["3.","Итого прочие",null,null,null,null,0,null,{"$f":"E412*$H$13","v":0},{"$f":"F412*$H$13","v":0},{"$f":"SUM(I412:J412)","v":0},null,{"$f":"G412*$L$13","v":0}]
["4.","ВСЕГО 1-е полугодие",null,null,{"$f":"SUM(E410:E412)","v":0},{"$f":"SUM(F410:F412)","v":0},0,null,{"$f":"SUM(I410:I412)","v":0},0,0,null,{"$f":"SUM(M410:M412)","v":0},null,{"$f":"SUM(O410:O412)","v":0}]
["2-е полугодие 2015 года"]
["1.","Население "]
[{"$f":"A383","v":"1.1."},{"$f":"B342","v":"водоотведение"},"Квартиры с ваннами сидячими, оборудованными душами",{"$f":"D383","v":0},null,null,{"$f":"SUM(E416:F416)","v":0},{"$f":"'данные об организации'!$I$31","v":0},{"$f":"E416*$H$46","v":0},{"$f":"F416*$H$46","v":0},{"$f":"SUM(I416:J416)","v":0},{"$f":"'данные об организации'!$H$38","v":0},{"$f":"G416*$L$46","v":0},{"$f":"'данные об организации'!$H$45","v":0},{"$f":"G416*$N$46","v":0}]
[{"$f":"A384","v":"1.2."},{"$f":"B343","v":"водоотведение"},"Квартиры с ваннами длиной от 1500 до 1700 мм, оборудованными душами",{"$f":"D384","v":0},null,null,{"$f":"SUM(E417:F417)","v":0},null,0,0,0,null,0,null,0]
[{"$f":"A385","v":"1.3."},{"$f":"B344","v":"водоотведение"},0,0,null,null,0,null,0,0,0,null,0,null,0]
[{"$f":"A386","v":"1.4."},{"$f":"B345","v":"водоотведение"},0,0,null,null,0,null,0,0,0,null,0,null,0]
[{"$f":"A387","v":"1.5."},{"$f":"B346","v":"водоотведение"},0,0,null,null,0,null,0,0,0,null,0,null,0]
[{"$f":"A388","v":"1.6."},{"$f":"B347","v":"водоотведение"},0,0,null,null,0,null,0,0,0,null,0,null,0]
[{"$f":"A389","v":"1.7."},{"$f":"B348","v":"водоотведение"},0,0,null,null,0,null,0,0,0,null,0,null,0]
[{"$f":"A390","v":"1.8."},{"$f":"B349","v":"водоотведение"},0,0,null,null,0,null,0,0,0,null,0,null,0]
[{"$f":"A391","v":"1.9."},{"$f":"B350","v":"водоотведение"},0,0,null,null,0,null,0,0,0,null,0,null,0]
[{"$f":"A392","v":"1.10."},{"$f":"B351","v":"водоотведение"},0,0,null,null,0,null,0,0,0,null,0,null,0]
[{"$f":"A393","v":"1.11."},{"$f":"B352","v":"водоотведение"},0,0,null,null,0,null,0,0,0,null,0,null,0]
[{"$f":"A394","v":"1.12."},{"$f":"B353","v":"водоотведение"},0,0,null,null,0,null,0,0,0,null,0,null,0]
[{"$f":"A395","v":"1.13."},{"$f":"B354","v":"водоотведение"},0,0,null,null,0,null,0,0,0,null,0,null,0]
[{"$f":"A396","v":"1.14."},{"$f":"B355","v":"водоотведение"},0,0,null,null,0,null,0,0,0,null,0,null,0]
[{"$f":"A397","v":"1.15."},{"$f":"B356","v":"водоотведение"},0,0,null,null,0,null,0,0,0,null,0,null,0]
[{"$f":"A398","v":"1.16."},{"$f":"B357","v":"водоотведение"},0,0,null,null,0,null,0,0,0,null,0,null,0]
[{"$f":"A399","v":"1.17."},{"$f":"B358","v":"водоотведение"},0,0,null,null,0,null,0,0,0,null,0,null,0]
[{"$f":"A400","v":"1.18."},{"$f":"B359","v":"водоотведение"},0,0,null,null,0,null,0,0,0,null,0,null,0]
[{"$f":"A401","v":"1.19."},{"$f":"B360","v":"водоотведение"},0,0,null,null,0,null,0,0,0,null,0,null,0]
[{"$f":"A402","v":"1.20."},{"$f":"B361","v":"водоотведение"},0,0,null,null,0,null,0,0,0,null,0,null,0]
[{"$f":"A403","v":"1.21."},{"$f":"B362","v":"водоотведение"},0,0,null,null,0,null,0,0,0,null,0,null,0]
[{"$f":"A404","v":"1.22."},{"$f":"B363","v":"водоотведение"},0,0,null,null,0,null,0,0,0,null,0,null,0]
[{"$f":"A405","v":"1.23."},{"$f":"B364","v":"водоотведение"},0,0,null,null,0,null,0,0,0,null,0,null,0]
[{"$f":"A406","v":"1.24."},{"$f":"B365","v":"водоотведение"},0,0,null,null,0,null,0,0,0,null,0,null,0]
[{"$f":"A407","v":"1.25."},{"$f":"B366","v":"водоотведение"},0,0,null,null,0,null,0,0,0,null,0,null,0]
[{"$f":"A408","v":"1.26."},{"$f":"B367","v":"водоотведение"},0,0,null,null,0,null,0,0,0,null,0,null,0]
[null,"перерасчеты",null,null,"х","х","х",null,"х","х"]
[null,"Итого население",null,null,{"$f":"SUM(E416:E441)","v":0},0,0,null,{"$f":"SUM(I416:I441)","v":0},0,{"$f":"SUM(K416:K442)","v":0},null,{"$f":"SUM(M416:M442)","v":0},null,{"$f":"SUM(O416:O442)","v":0}]
["2.","Итого бюджет",null,null,null,null,0,null,{"$f":"E444*$H$46","v":0},{"$f":"F444*$H$46","v":0},{"$f":"SUM(I444:J444)","v":0},null,{"$f":"G444*$L$46","v":0}]
["3.","Итого прочие",null,null,null,null,0,null,{"$f":"E445*$H$46","v":0},{"$f":"F445*$H$46","v":0},{"$f":"SUM(I445:J445)","v":0},null,{"$f":"G445*$L$46","v":0}]
["4.","ВСЕГО 2-е полугодие",null,null,{"$f":"SUM(E443:E445)","v":0},{"$f":"SUM(F443:F445)","v":0},0,null,{"$f":"SUM(I443:I445)","v":0},0,0,null,{"$f":"SUM(M443:M445)","v":0},null,{"$f":"SUM(O443:O445)","v":0}]
[]
["5.","ГОД ВСЕГО",null,null,{"$f":"E413+E446","v":0},{"$f":"F413+F446","v":0},0,null,{"$f":"I413+I446","v":0},0,0,null,{"$f":"M413+M446","v":0},null,{"$f":"O413+O446","v":0}]
[]
[{"$f":"'данные об организации'!F19","v":0}]
[]
["№","Вид потребителя","Степень благоустройства, наименование скота","Нормы водоотведения, куб.м. в месяц (на 1 чел)","Фактический годовой объем реализации,  куб.м.",null,null,"тариф, руб/куб.м.","Сумма, руб",null,null,"инвестиционная надбавка",null,"компенсация до установленного тарифа"]
[null,null,null,null,"водоотведение",null,"ВСЕГО",null,{"$f":"E453","v":"водоотведение"},null,"ИТОГО"]
[null,null,null,null,"норматив","прибор учета",null,null,"норматив","прибор учета",null,"размер, руб/куб.м.","Сумма, руб","размер, руб/куб.м.","Сумма, руб"]
["1-е полугодие 2015года"]
["1.","Население "]
[{"$f":"A383","v":"1.1."},{"$f":"B383","v":"водоотведение"},{"$f":"C383","v":"Квартиры с ваннами сидячими, оборудованными душами"},null,null,null,{"$f":"SUM(E457:F457)","v":0},{"$f":"'данные об организации'!$I$30","v":0},{"$f":"E457*$H$13","v":0},{"$f":"F457*$H$13","v":0},{"$f":"SUM(I457:J457)","v":0},{"$f":"'данные об организации'!$H$37","v":0},{"$f":"G457*$L$13","v":0},{"$f":"'данные об организации'!$H$44","v":0},{"$f":"G457*$N$13","v":0}]
[{"$f":"A384","v":"1.2."},{"$f":"B384","v":"водоотведение"},"Квартиры с ваннами длиной от 1500 до 1700 мм, оборудованными душами",null,null,null,{"$f":"SUM(E458:F458)","v":0},null,0,0,0,null,0,null,0]
["1.3.",{"$f":"B385","v":"водоотведение"},0,null,null,null,0,null,0,0,0,null,0,null,0]
["1.4.",{"$f":"B386","v":"водоотведение"},0,null,null,null,0,null,0,0,0,null,0,null,0]
["1.5.",{"$f":"B387","v":"водоотведение"},0,null,null,null,0,null,0,0,0,null,0,null,0]
["1.6.",{"$f":"B388","v":"водоотведение"},0,null,null,null,0,null,0,0,0,null,0,null,0]
["1.7.",{"$f":"B389","v":"водоотведение"},0,null,null,null,0,null,0,0,0,null,0,null,0]
["1.8.",{"$f":"B390","v":"водоотведение"},0,null,null,null,0,null,0,0,0,null,0,null,0]
["1.9.",{"$f":"B391","v":"водоотведение"},0,null,null,null,0,null,0,0,0,null,0,null,0]
["1.10.",{"$f":"B392","v":"водоотведение"},0,null,null,null,0,null,0,0,0,null,0,null,0]
["1.11.",{"$f":"B393","v":"водоотведение"},0,null,null,null,0,null,0,0,0,null,0,null,0]
["1.12.",{"$f":"B394","v":"водоотведение"},0,null,null,null,0,null,0,0,0,null,0,null,0]
["1.13.",{"$f":"B395","v":"водоотведение"},0,null,null,null,0,null,0,0,0,null,0,null,0]
["1.14.",{"$f":"B396","v":"водоотведение"},0,null,null,null,0,null,0,0,0,null,0,null,0]
["1.15.",{"$f":"B397","v":"водоотведение"},0,null,null,null,0,null,0,0,0,null,0,null,0]
["1.16.",{"$f":"B398","v":"водоотведение"},0,null,null,null,0,null,0,0,0,null,0,null,0]
["1.17.",{"$f":"B399","v":"водоотведение"},0,null,null,null,0,null,0,0,0,null,0,null,0]
["1.18.",{"$f":"B400","v":"водоотведение"},0,null,null,null,0,null,0,0,0,null,0,null,0]
["1.19.",{"$f":"B401","v":"водоотведение"},0,null,null,null,0,null,0,0,0,null,0,null,0]
["1.20.",{"$f":"B402","v":"водоотведение"},0,null,null,null,0,null,0,0,0,null,0,null,0]
["1.21.",{"$f":"B403","v":"водоотведение"},0,null,null,null,0,null,0,0,0,null,0,null,0]
["1.22.",{"$f":"B404","v":"водоотведение"},0,null,null,null,0,null,0,0,0,null,0,null,0]
["1.23.",{"$f":"B405","v":"водоотведение"},0,null,null,null,0,null,0,0,0,null,0,null,0]
["1.24.",{"$f":"B406","v":"водоотведение"},0,null,null,null,0,null,0,0,0,null,0,null,0]
["1.25.",{"$f":"B407","v":"водоотведение"},0,null,null,null,0,null,0,0,0,null,0,null,0]
["1.26.",{"$f":"B408","v":"водоотведение"},0,null,null,null,0,null,0,0,0,null,0,null,0]
[null,"перерасчеты",null,null,"х","х","х",null,"х","х"]
[null,"Итого население",null,null,{"$f":"SUM(E457:E482)","v":0},0,0,null,{"$f":"SUM(I457:I482)","v":0},0,{"$f":"SUM(K457:K483)","v":0},null,{"$f":"SUM(M457:M483)","v":0},null,{"$f":"SUM(O457:O483)","v":0}]
["2.","Итого бюджет",null,null,null,null,0,null,{"$f":"E485*$H$13","v":0},{"$f":"F485*$H$13","v":0},{"$f":"SUM(I485:J485)","v":0},null,{"$f":"G485*$L$13","v":0}]
["3.","Итого прочие",null,null,null,null,0,null,{"$f":"E486*$H$13","v":0},{"$f":"F486*$H$13","v":0},{"$f":"SUM(I486:J486)","v":0},null,{"$f":"G486*$L$13","v":0}]
["4.","ВСЕГО 1-е полугодие",null,null,{"$f":"SUM(E484:E486)","v":0},{"$f":"SUM(F484:F486)","v":0},0,null,{"$f":"SUM(I484:I486)","v":0},0,0,null,{"$f":"SUM(M484:M486)","v":0},null,{"$f":"SUM(O484:O486)","v":0}]
["2-е полугодие 2015 года"]
["1.","Население "]
[{"$f":"A457","v":"1.1."},{"$f":"B416","v":"водоотведение"},"Квартиры с ваннами сидячими, оборудованными душами",{"$f":"D457","v":0},null,null,{"$f":"SUM(E490:F490)","v":0},{"$f":"'данные об организации'!$I$31","v":0},{"$f":"E490*$H$46","v":0},{"$f":"F490*$H$46","v":0},{"$f":"SUM(I490:J490)","v":0},{"$f":"'данные об организации'!$H$38","v":0},{"$f":"G490*$L$46","v":0},{"$f":"'данные об организации'!$H$45","v":0},{"$f":"G490*$N$46","v":0}]
[{"$f":"A458","v":"1.2."},{"$f":"B417","v":"водоотведение"},"Квартиры с ваннами длиной от 1500 до 1700 мм, оборудованными душами",{"$f":"D458","v":0},null,null,{"$f":"SUM(E491:F491)","v":0},null,0,0,0,null,0,null,0]
[{"$f":"A459","v":"1.3."},{"$f":"B418","v":"водоотведение"},0,0,null,null,0,null,0,0,0,null,0,null,0]
[{"$f":"A460","v":"1.4."},{"$f":"B419","v":"водоотведение"},0,0,null,null,0,null,0,0,0,null,0,null,0]
[{"$f":"A461","v":"1.5."},{"$f":"B420","v":"водоотведение"},0,0,null,null,0,null,0,0,0,null,0,null,0]
[{"$f":"A462","v":"1.6."},{"$f":"B421","v":"водоотведение"},0,0,null,null,0,null,0,0,0,null,0,null,0]
[{"$f":"A463","v":"1.7."},{"$f":"B422","v":"водоотведение"},0,0,null,null,0,null,0,0,0,null,0,null,0]
[{"$f":"A464","v":"1.8."},{"$f":"B423","v":"водоотведение"},0,0,null,null,0,null,0,0,0,null,0,null,0]
[{"$f":"A465","v":"1.9."},{"$f":"B424","v":"водоотведение"},0,0,null,null,0,null,0,0,0,null,0,null,0]
[{"$f":"A466","v":"1.10."},{"$f":"B425","v":"водоотведение"},0,0,null,null,0,null,0,0,0,null,0,null,0]
[{"$f":"A467","v":"1.11."},{"$f":"B426","v":"водоотведение"},0,0,null,null,0,null,0,0,0,null,0,null,0]
[{"$f":"A468","v":"1.12."},{"$f":"B427","v":"водоотведение"},0,0,null,null,0,null,0,0,0,null,0,null,0]
[{"$f":"A469","v":"1.13."},{"$f":"B428","v":"водоотведение"},0,0,null,null,0,null,0,0,0,null,0,null,0]
[{"$f":"A470","v":"1.14."},{"$f":"B429","v":"водоотведение"},0,0,null,null,0,null,0,0,0,null,0,null,0]
[{"$f":"A471","v":"1.15."},{"$f":"B430","v":"водоотведение"},0,0,null,null,0,null,0,0,0,null,0,null,0]
[{"$f":"A472","v":"1.16."},{"$f":"B431","v":"водоотведение"},0,0,null,null,0,null,0,0,0,null,0,null,0]
[{"$f":"A473","v":"1.17."},{"$f":"B432","v":"водоотведение"},0,0,null,null,0,null,0,0,0,null,0,null,0]
[{"$f":"A474","v":"1.18."},{"$f":"B433","v":"водоотведение"},0,0,null,null,0,null,0,0,0,null,0,null,0]
[{"$f":"A475","v":"1.19."},{"$f":"B434","v":"водоотведение"},0,0,null,null,0,null,0,0,0,null,0,null,0]
[{"$f":"A476","v":"1.20."},{"$f":"B435","v":"водоотведение"},0,0,null,null,0,null,0,0,0,null,0,null,0]
[{"$f":"A477","v":"1.21."},{"$f":"B436","v":"водоотведение"},0,0,null,null,0,null,0,0,0,null,0,null,0]
[{"$f":"A478","v":"1.22."},{"$f":"B437","v":"водоотведение"},0,0,null,null,0,null,0,0,0,null,0,null,0]
[{"$f":"A479","v":"1.23."},{"$f":"B438","v":"водоотведение"},0,0,null,null,0,null,0,0,0,null,0,null,0]
[{"$f":"A480","v":"1.24."},{"$f":"B439","v":"водоотведение"},0,0,null,null,0,null,0,0,0,null,0,null,0]
[{"$f":"A481","v":"1.25."},{"$f":"B440","v":"водоотведение"},0,0,null,null,0,null,0,0,0,null,0,null,0]
[{"$f":"A482","v":"1.26."},{"$f":"B441","v":"водоотведение"},0,0,null,null,0,null,0,0,0,null,0,null,0]
[null,"перерасчеты",null,null,"х","х","х",null,"х","х"]
[null,"Итого население",null,null,{"$f":"SUM(E490:E515)","v":0},0,0,null,{"$f":"SUM(I490:I515)","v":0},0,{"$f":"SUM(K490:K516)","v":0},null,{"$f":"SUM(M490:M516)","v":0},null,{"$f":"SUM(O490:O516)","v":0}]
["2.","Итого бюджет",null,null,null,null,0,null,{"$f":"E518*$H$46","v":0},{"$f":"F518*$H$46","v":0},{"$f":"SUM(I518:J518)","v":0},null,{"$f":"G518*$L$46","v":0}]
["3.","Итого прочие",null,null,null,null,0,null,{"$f":"E519*$H$46","v":0},{"$f":"F519*$H$46","v":0},{"$f":"SUM(I519:J519)","v":0},null,{"$f":"G519*$L$46","v":0}]
["4.","ВСЕГО 2-е полугодие",null,null,{"$f":"SUM(E517:E519)","v":0},{"$f":"SUM(F517:F519)","v":0},0,null,{"$f":"SUM(I517:I519)","v":0},0,0,null,{"$f":"SUM(M517:M519)","v":0},null,{"$f":"SUM(O517:O519)","v":0}]
[]
["5.","ГОД ВСЕГО",null,null,{"$f":"E487+E520","v":0},{"$f":"F487+F520","v":0},0,null,{"$f":"I487+I520","v":0},0,0,null,{"$f":"M487+M520","v":0},null,{"$f":"O487+O520","v":0}]
[]
[{"$f":"'данные об организации'!F20","v":0}]
[]
["№","Вид потребителя","Степень благоустройства, наименование скота","Нормы водоотведения, куб.м. в месяц (на 1 чел)","Фактический годовой объем реализации,  куб.м.",null,null,"тариф, руб/куб.м.","Сумма, руб",null,null,"инвестиционная надбавка",null,"компенсация до установленного тарифа"]
[null,null,null,null,"водоотведение",null,"ВСЕГО",null,{"$f":"E527","v":"водоотведение"},null,"ИТОГО"]
[null,null,null,null,"норматив","прибор учета",null,null,"норматив","прибор учета",null,"размер, руб/куб.м.","Сумма, руб","размер, руб/куб.м.","Сумма, руб"]
["1-е полугодие 2015года"]
["1.","Население "]
[{"$f":"A457","v":"1.1."},{"$f":"B457","v":"водоотведение"},{"$f":"C457","v":"Квартиры с ваннами сидячими, оборудованными душами"},null,null,null,{"$f":"SUM(E531:F531)","v":0},{"$f":"'данные об организации'!$I$30","v":0},{"$f":"E531*$H$13","v":0},{"$f":"F531*$H$13","v":0},{"$f":"SUM(I531:J531)","v":0},{"$f":"'данные об организации'!$H$37","v":0},{"$f":"G531*$L$13","v":0},{"$f":"'данные об организации'!$H$44","v":0},{"$f":"G531*$N$13","v":0}]
[{"$f":"A458","v":"1.2."},{"$f":"B458","v":"водоотведение"},"Квартиры с ваннами длиной от 1500 до 1700 мм, оборудованными душами",null,null,null,{"$f":"SUM(E532:F532)","v":0},null,0,0,0,null,0,null,0]
["1.3.",{"$f":"B459","v":"водоотведение"},0,null,null,null,0,null,0,0,0,null,0,null,0]
["1.4.",{"$f":"B460","v":"водоотведение"},0,null,null,null,0,null,0,0,0,null,0,null,0]
["1.5.",{"$f":"B461","v":"водоотведение"},0,null,null,null,0,null,0,0,0,null,0,null,0]
["1.6.",{"$f":"B462","v":"водоотведение"},0,null,null,null,0,null,0,0,0,null,0,null,0]
["1.7.",{"$f":"B463","v":"водоотведение"},0,null,null,null,0,null,0,0,0,null,0,null,0]
["1.8.",{"$f":"B464","v":"водоотведение"},0,null,null,null,0,null,0,0,0,null,0,null,0]
["1.9.",{"$f":"B465","v":"водоотведение"},0,null,null,null,0,null,0,0,0,null,0,null,0]
["1.10.",{"$f":"B466","v":"водоотведение"},0,null,null,null,0,null,0,0,0,null,0,null,0]
["1.11.",{"$f":"B467","v":"водоотведение"},0,null,null,null,0,null,0,0,0,null,0,null,0]
["1.12.",{"$f":"B468","v":"водоотведение"},0,null,null,null,0,null,0,0,0,null,0,null,0]
["1.13.",{"$f":"B469","v":"водоотведение"},0,null,null,null,0,null,0,0,0,null,0,null,0]
["1.14.",{"$f":"B470","v":"водоотведение"},0,null,null,null,0,null,0,0,0,null,0,null,0]
["1.15.",{"$f":"B471","v":"водоотведение"},0,null,null,null,0,null,0,0,0,null,0,null,0]
["1.16.",{"$f":"B472","v":"водоотведение"},0,null,null,null,0,null,0,0,0,null,0,null,0]
["1.17.",{"$f":"B473","v":"водоотведение"},0,null,null,null,0,null,0,0,0,null,0,null,0]
["1.18.",{"$f":"B474","v":"водоотведение"},0,null,null,null,0,null,0,0,0,null,0,null,0]
["1.19.",{"$f":"B475","v":"водоотведение"},0,null,null,null,0,null,0,0,0,null,0,null,0]
["1.20.",{"$f":"B476","v":"водоотведение"},0,null,null,null,0,null,0,0,0,null,0,null,0]
["1.21.",{"$f":"B477","v":"водоотведение"},0,null,null,null,0,null,0,0,0,null,0,null,0]
["1.22.",{"$f":"B478","v":"водоотведение"},0,null,null,null,0,null,0,0,0,null,0,null,0]
["1.23.",{"$f":"B479","v":"водоотведение"},0,null,null,null,0,null,0,0,0,null,0,null,0]
["1.24.",{"$f":"B480","v":"водоотведение"},0,null,null,null,0,null,0,0,0,null,0,null,0]
["1.25.",{"$f":"B481","v":"водоотведение"},0,null,null,null,0,null,0,0,0,null,0,null,0]
["1.26.",{"$f":"B482","v":"водоотведение"},0,null,null,null,0,null,0,0,0,null,0,null,0]
[null,"перерасчеты",null,null,"х","х","х",null,"х","х"]
[null,"Итого население",null,null,{"$f":"SUM(E531:E556)","v":0},0,0,null,{"$f":"SUM(I531:I556)","v":0},0,{"$f":"SUM(K531:K557)","v":0},null,{"$f":"SUM(M531:M557)","v":0},null,{"$f":"SUM(O531:O557)","v":0}]
["2.","Итого бюджет",null,null,null,null,0,null,{"$f":"E559*$H$13","v":0},{"$f":"F559*$H$13","v":0},{"$f":"SUM(I559:J559)","v":0},null,{"$f":"G559*$L$13","v":0}]
["3.","Итого прочие",null,null,null,null,0,null,{"$f":"E560*$H$13","v":0},{"$f":"F560*$H$13","v":0},{"$f":"SUM(I560:J560)","v":0},null,{"$f":"G560*$L$13","v":0}]
["4.","ВСЕГО 1-е полугодие",null,null,{"$f":"SUM(E558:E560)","v":0},{"$f":"SUM(F558:F560)","v":0},0,null,{"$f":"SUM(I558:I560)","v":0},0,0,null,{"$f":"SUM(M558:M560)","v":0},null,{"$f":"SUM(O558:O560)","v":0}]
["2-е полугодие 2015 года"]
["1.","Население "]
[{"$f":"A531","v":"1.1."},{"$f":"B490","v":"водоотведение"},"Квартиры с ваннами сидячими, оборудованными душами",{"$f":"D531","v":0},null,null,{"$f":"SUM(E564:F564)","v":0},{"$f":"'данные об организации'!$I$31","v":0},{"$f":"E564*$H$46","v":0},{"$f":"F564*$H$46","v":0},{"$f":"SUM(I564:J564)","v":0},{"$f":"'данные об организации'!$H$38","v":0},{"$f":"G564*$L$46","v":0},{"$f":"'данные об организации'!$H$45","v":0},{"$f":"G564*$N$46","v":0}]
[{"$f":"A532","v":"1.2."},{"$f":"B491","v":"водоотведение"},"Квартиры с ваннами длиной от 1500 до 1700 мм, оборудованными душами",{"$f":"D532","v":0},null,null,{"$f":"SUM(E565:F565)","v":0},null,0,0,0,null,0,null,0]
[{"$f":"A533","v":"1.3."},{"$f":"B492","v":"водоотведение"},0,0,null,null,0,null,0,0,0,null,0,null,0]
[{"$f":"A534","v":"1.4."},{"$f":"B493","v":"водоотведение"},0,0,null,null,0,null,0,0,0,null,0,null,0]
[{"$f":"A535","v":"1.5."},{"$f":"B494","v":"водоотведение"},0,0,null,null,0,null,0,0,0,null,0,null,0]
[{"$f":"A536","v":"1.6."},{"$f":"B495","v":"водоотведение"},0,0,null,null,0,null,0,0,0,null,0,null,0]
[{"$f":"A537","v":"1.7."},{"$f":"B496","v":"водоотведение"},0,0,null,null,0,null,0,0,0,null,0,null,0]
[{"$f":"A538","v":"1.8."},{"$f":"B497","v":"водоотведение"},0,0,null,null,0,null,0,0,0,null,0,null,0]
[{"$f":"A539","v":"1.9."},{"$f":"B498","v":"водоотведение"},0,0,null,null,0,null,0,0,0,null,0,null,0]
[{"$f":"A540","v":"1.10."},{"$f":"B499","v":"водоотведение"},0,0,null,null,0,null,0,0,0,null,0,null,0]
[{"$f":"A541","v":"1.11."},{"$f":"B500","v":"водоотведение"},0,0,null,null,0,null,0,0,0,null,0,null,0]
[{"$f":"A542","v":"1.12."},{"$f":"B501","v":"водоотведение"},0,0,null,null,0,null,0,0,0,null,0,null,0]
[{"$f":"A543","v":"1.13."},{"$f":"B502","v":"водоотведение"},0,0,null,null,0,null,0,0,0,null,0,null,0]
[{"$f":"A544","v":"1.14."},{"$f":"B503","v":"водоотведение"},0,0,null,null,0,null,0,0,0,null,0,null,0]
[{"$f":"A545","v":"1.15."},{"$f":"B504","v":"водоотведение"},0,0,null,null,0,null,0,0,0,null,0,null,0]
[{"$f":"A546","v":"1.16."},{"$f":"B505","v":"водоотведение"},0,0,null,null,0,null,0,0,0,null,0,null,0]
[{"$f":"A547","v":"1.17."},{"$f":"B506","v":"водоотведение"},0,0,null,null,0,null,0,0,0,null,0,null,0]
[{"$f":"A548","v":"1.18."},{"$f":"B507","v":"водоотведение"},0,0,null,null,0,null,0,0,0,null,0,null,0]
[{"$f":"A549","v":"1.19."},{"$f":"B508","v":"водоотведение"},0,0,null,null,0,null,0,0,0,null,0,null,0]
[{"$f":"A550","v":"1.20."},{"$f":"B509","v":"водоотведение"},0,0,null,null,0,null,0,0,0,null,0,null,0]
[{"$f":"A551","v":"1.21."},{"$f":"B510","v":"водоотведение"},0,0,null,null,0,null,0,0,0,null,0,null,0]
[{"$f":"A552","v":"1.22."},{"$f":"B511","v":"водоотведение"},0,0,null,null,0,null,0,0,0,null,0,null,0]
[{"$f":"A553","v":"1.23."},{"$f":"B512","v":"водоотведение"},0,0,null,null,0,null,0,0,0,null,0,null,0]
[{"$f":"A554","v":"1.24."},{"$f":"B513","v":"водоотведение"},0,0,null,null,0,null,0,0,0,null,0,null,0]
[{"$f":"A555","v":"1.25."},{"$f":"B514","v":"водоотведение"},0,0,null,null,0,null,0,0,0,null,0,null,0]
[{"$f":"A556","v":"1.26."},{"$f":"B515","v":"водоотведение"},0,0,null,null,0,null,0,0,0,null,0,null,0]
[null,"перерасчеты",null,null,"х","х","х",null,"х","х"]
[null,"Итого население",null,null,{"$f":"SUM(E564:E589)","v":0},0,0,null,{"$f":"SUM(I564:I589)","v":0},0,{"$f":"SUM(K564:K590)","v":0},null,{"$f":"SUM(M564:M590)","v":0},null,{"$f":"SUM(O564:O590)","v":0}]
["2.","Итого бюджет",null,null,null,null,0,null,{"$f":"E592*$H$46","v":0},{"$f":"F592*$H$46","v":0},{"$f":"SUM(I592:J592)","v":0},null,{"$f":"G592*$L$46","v":0}]
["3.","Итого прочие",null,null,null,null,0,null,{"$f":"E593*$H$46","v":0},{"$f":"F593*$H$46","v":0},{"$f":"SUM(I593:J593)","v":0},null,{"$f":"G593*$L$46","v":0}]
["4.","ВСЕГО 2-е полугодие",null,null,{"$f":"SUM(E591:E593)","v":0},{"$f":"SUM(F591:F593)","v":0},0,null,{"$f":"SUM(I591:I593)","v":0},0,0,null,{"$f":"SUM(M591:M593)","v":0},null,{"$f":"SUM(O591:O593)","v":0}]
[]
["5.","ГОД ВСЕГО",null,null,{"$f":"E561+E594","v":0},{"$f":"F561+F594","v":0},0,null,{"$f":"I561+I594","v":0},0,0,null,{"$f":"M561+M594","v":0},null,{"$f":"O561+O594","v":0}]
[]
[{"$f":"'данные об организации'!F21","v":0}]
[]
["№","Вид потребителя","Степень благоустройства, наименование скота","Нормы водоотведения, куб.м. в месяц (на 1 чел)","Фактический годовой объем реализации,  куб.м.",null,null,"тариф, руб/куб.м.","Сумма, руб",null,null,"инвестиционная надбавка",null,"компенсация до установленного тарифа"]
[null,null,null,null,"водоотведение",null,"ВСЕГО",null,{"$f":"E601","v":"водоотведение"},null,"ИТОГО"]
[null,null,null,null,"норматив","прибор учета",null,null,"норматив","прибор учета",null,"размер, руб/куб.м.","Сумма, руб","размер, руб/куб.м.","Сумма, руб"]
["1-е полугодие 2015года"]
["1.","Население "]
[{"$f":"A531","v":"1.1."},{"$f":"B531","v":"водоотведение"},{"$f":"C531","v":"Квартиры с ваннами сидячими, оборудованными душами"},null,null,null,{"$f":"SUM(E605:F605)","v":0},{"$f":"'данные об организации'!$I$30","v":0},{"$f":"E605*$H$13","v":0},{"$f":"F605*$H$13","v":0},{"$f":"SUM(I605:J605)","v":0},{"$f":"'данные об организации'!$H$37","v":0},{"$f":"G605*$L$13","v":0},{"$f":"'данные об организации'!$H$44","v":0},{"$f":"G605*$N$13","v":0}]
[{"$f":"A532","v":"1.2."},{"$f":"B532","v":"водоотведение"},"Квартиры с ваннами длиной от 1500 до 1700 мм, оборудованными душами",null,null,null,{"$f":"SUM(E606:F606)","v":0},null,0,0,0,null,0,null,0]
["1.3.",{"$f":"B533","v":"водоотведение"},0,null,null,null,0,null,0,0,0,null,0,null,0]
["1.4.",{"$f":"B534","v":"водоотведение"},0,null,null,null,0,null,0,0,0,null,0,null,0]
["1.5.",{"$f":"B535","v":"водоотведение"},0,null,null,null,0,null,0,0,0,null,0,null,0]
["1.6.",{"$f":"B536","v":"водоотведение"},0,null,null,null,0,null,0,0,0,null,0,null,0]
["1.7.",{"$f":"B537","v":"водоотведение"},0,null,null,null,0,null,0,0,0,null,0,null,0]
["1.8.",{"$f":"B538","v":"водоотведение"},0,null,null,null,0,null,0,0,0,null,0,null,0]
["1.9.",{"$f":"B539","v":"водоотведение"},0,null,null,null,0,null,0,0,0,null,0,null,0]
["1.10.",{"$f":"B540","v":"водоотведение"},0,null,null,null,0,null,0,0,0,null,0,null,0]
["1.11.",{"$f":"B541","v":"водоотведение"},0,null,null,null,0,null,0,0,0,null,0,null,0]
["1.12.",{"$f":"B542","v":"водоотведение"},0,null,null,null,0,null,0,0,0,null,0,null,0]
["1.13.",{"$f":"B543","v":"водоотведение"},0,null,null,null,0,null,0,0,0,null,0,null,0]
["1.14.",{"$f":"B544","v":"водоотведение"},0,null,null,null,0,null,0,0,0,null,0,null,0]
["1.15.",{"$f":"B545","v":"водоотведение"},0,null,null,null,0,null,0,0,0,null,0,null,0]
["1.16.",{"$f":"B546","v":"водоотведение"},0,null,null,null,0,null,0,0,0,null,0,null,0]
["1.17.",{"$f":"B547","v":"водоотведение"},0,null,null,null,0,null,0,0,0,null,0,null,0]
["1.18.",{"$f":"B548","v":"водоотведение"},0,null,null,null,0,null,0,0,0,null,0,null,0]
["1.19.",{"$f":"B549","v":"водоотведение"},0,null,null,null,0,null,0,0,0,null,0,null,0]
["1.20.",{"$f":"B550","v":"водоотведение"},0,null,null,null,0,null,0,0,0,null,0,null,0]
["1.21.",{"$f":"B551","v":"водоотведение"},0,null,null,null,0,null,0,0,0,null,0,null,0]
["1.22.",{"$f":"B552","v":"водоотведение"},0,null,null,null,0,null,0,0,0,null,0,null,0]
["1.23.",{"$f":"B553","v":"водоотведение"},0,null,null,null,0,null,0,0,0,null,0,null,0]
["1.24.",{"$f":"B554","v":"водоотведение"},0,null,null,null,0,null,0,0,0,null,0,null,0]
["1.25.",{"$f":"B555","v":"водоотведение"},0,null,null,null,0,null,0,0,0,null,0,null,0]
["1.26.",{"$f":"B556","v":"водоотведение"},0,null,null,null,0,null,0,0,0,null,0,null,0]
[null,"перерасчеты",null,null,"х","х","х",null,"х","х"]
[null,"Итого население",null,null,{"$f":"SUM(E605:E630)","v":0},0,0,null,{"$f":"SUM(I605:I630)","v":0},0,{"$f":"SUM(K605:K631)","v":0},null,{"$f":"SUM(M605:M631)","v":0},null,{"$f":"SUM(O605:O631)","v":0}]
["2.","Итого бюджет",null,null,null,null,0,null,{"$f":"E633*$H$13","v":0},{"$f":"F633*$H$13","v":0},{"$f":"SUM(I633:J633)","v":0},null,{"$f":"G633*$L$13","v":0}]
["3.","Итого прочие",null,null,null,null,0,null,{"$f":"E634*$H$13","v":0},{"$f":"F634*$H$13","v":0},{"$f":"SUM(I634:J634)","v":0},null,{"$f":"G634*$L$13","v":0}]
["4.","ВСЕГО 1-е полугодие",null,null,{"$f":"SUM(E632:E634)","v":0},{"$f":"SUM(F632:F634)","v":0},0,null,{"$f":"SUM(I632:I634)","v":0},0,0,null,{"$f":"SUM(M632:M634)","v":0},null,{"$f":"SUM(O632:O634)","v":0}]
["2-е полугодие 2015 года"]
["1.","Население "]
[{"$f":"A605","v":"1.1."},{"$f":"B564","v":"водоотведение"},"Квартиры с ваннами сидячими, оборудованными душами",{"$f":"D605","v":0},null,null,{"$f":"SUM(E638:F638)","v":0},{"$f":"'данные об организации'!$I$31","v":0},{"$f":"E638*$H$46","v":0},{"$f":"F638*$H$46","v":0},{"$f":"SUM(I638:J638)","v":0},{"$f":"'данные об организации'!$H$38","v":0},{"$f":"G638*$L$46","v":0},{"$f":"'данные об организации'!$H$45","v":0},{"$f":"G638*$N$46","v":0}]
[{"$f":"A606","v":"1.2."},{"$f":"B565","v":"водоотведение"},"Квартиры с ваннами длиной от 1500 до 1700 мм, оборудованными душами",{"$f":"D606","v":0},null,null,{"$f":"SUM(E639:F639)","v":0},null,0,0,0,null,0,null,0]
[{"$f":"A607","v":"1.3."},{"$f":"B566","v":"водоотведение"},0,0,null,null,0,null,0,0,0,null,0,null,0]
[{"$f":"A608","v":"1.4."},{"$f":"B567","v":"водоотведение"},0,0,null,null,0,null,0,0,0,null,0,null,0]
[{"$f":"A609","v":"1.5."},{"$f":"B568","v":"водоотведение"},0,0,null,null,0,null,0,0,0,null,0,null,0]
[{"$f":"A610","v":"1.6."},{"$f":"B569","v":"водоотведение"},0,0,null,null,0,null,0,0,0,null,0,null,0]
[{"$f":"A611","v":"1.7."},{"$f":"B570","v":"водоотведение"},0,0,null,null,0,null,0,0,0,null,0,null,0]
[{"$f":"A612","v":"1.8."},{"$f":"B571","v":"водоотведение"},0,0,null,null,0,null,0,0,0,null,0,null,0]
[{"$f":"A613","v":"1.9."},{"$f":"B572","v":"водоотведение"},0,0,null,null,0,null,0,0,0,null,0,null,0]
[{"$f":"A614","v":"1.10."},{"$f":"B573","v":"водоотведение"},0,0,null,null,0,null,0,0,0,null,0,null,0]
[{"$f":"A615","v":"1.11."},{"$f":"B574","v":"водоотведение"},0,0,null,null,0,null,0,0,0,null,0,null,0]
[{"$f":"A616","v":"1.12."},{"$f":"B575","v":"водоотведение"},0,0,null,null,0,null,0,0,0,null,0,null,0]
[{"$f":"A617","v":"1.13."},{"$f":"B576","v":"водоотведение"},0,0,null,null,0,null,0,0,0,null,0,null,0]
[{"$f":"A618","v":"1.14."},{"$f":"B577","v":"водоотведение"},0,0,null,null,0,null,0,0,0,null,0,null,0]
[{"$f":"A619","v":"1.15."},{"$f":"B578","v":"водоотведение"},0,0,null,null,0,null,0,0,0,null,0,null,0]
[{"$f":"A620","v":"1.16."},{"$f":"B579","v":"водоотведение"},0,0,null,null,0,null,0,0,0,null,0,null,0]
[{"$f":"A621","v":"1.17."},{"$f":"B580","v":"водоотведение"},0,0,null,null,0,null,0,0,0,null,0,null,0]
[{"$f":"A622","v":"1.18."},{"$f":"B581","v":"водоотведение"},0,0,null,null,0,null,0,0,0,null,0,null,0]
[{"$f":"A623","v":"1.19."},{"$f":"B582","v":"водоотведение"},0,0,null,null,0,null,0,0,0,null,0,null,0]
[{"$f":"A624","v":"1.20."},{"$f":"B583","v":"водоотведение"},0,0,null,null,0,null,0,0,0,null,0,null,0]
[{"$f":"A625","v":"1.21."},{"$f":"B584","v":"водоотведение"},0,0,null,null,0,null,0,0,0,null,0,null,0]
[{"$f":"A626","v":"1.22."},{"$f":"B585","v":"водоотведение"},0,0,null,null,0,null,0,0,0,null,0,null,0]
[{"$f":"A627","v":"1.23."},{"$f":"B586","v":"водоотведение"},0,0,null,null,0,null,0,0,0,null,0,null,0]
[{"$f":"A628","v":"1.24."},{"$f":"B587","v":"водоотведение"},0,0,null,null,0,null,0,0,0,null,0,null,0]
[{"$f":"A629","v":"1.25."},{"$f":"B588","v":"водоотведение"},0,0,null,null,0,null,0,0,0,null,0,null,0]
[{"$f":"A630","v":"1.26."},{"$f":"B589","v":"водоотведение"},0,0,null,null,0,null,0,0,0,null,0,null,0]
[null,"перерасчеты",null,null,"х","х","х",null,"х","х"]
[null,"Итого население",null,null,{"$f":"SUM(E638:E663)","v":0},0,0,null,{"$f":"SUM(I638:I663)","v":0},0,{"$f":"SUM(K638:K664)","v":0},null,{"$f":"SUM(M638:M664)","v":0},null,{"$f":"SUM(O638:O664)","v":0}]
["2.","Итого бюджет",null,null,null,null,0,null,{"$f":"E666*$H$46","v":0},{"$f":"F666*$H$46","v":0},{"$f":"SUM(I666:J666)","v":0},null,{"$f":"G666*$L$46","v":0}]
["3.","Итого прочие",null,null,null,null,0,null,{"$f":"E667*$H$46","v":0},{"$f":"F667*$H$46","v":0},{"$f":"SUM(I667:J667)","v":0},null,{"$f":"G667*$L$46","v":0}]
["4.","ВСЕГО 2-е полугодие",null,null,{"$f":"SUM(E665:E667)","v":0},{"$f":"SUM(F665:F667)","v":0},0,null,{"$f":"SUM(I665:I667)","v":0},0,0,null,{"$f":"SUM(M665:M667)","v":0},null,{"$f":"SUM(O665:O667)","v":0}]
[]
["5.","ГОД ВСЕГО",null,null,{"$f":"E635+E668","v":0},{"$f":"F635+F668","v":0},0,null,{"$f":"I635+I668","v":0},0,0,null,{"$f":"M635+M668","v":0},null,{"$f":"O635+O668","v":0}]
[]
[{"$f":"'данные об организации'!F22","v":0}]
[]
["№","Вид потребителя","Степень благоустройства, наименование скота","Нормы водоотведения, куб.м. в месяц (на 1 чел)","Фактический годовой объем реализации,  куб.м.",null,null,"тариф, руб/куб.м.","Сумма, руб",null,null,"инвестиционная надбавка",null,"компенсация до установленного тарифа"]
[null,null,null,null,"водоотведение",null,"ВСЕГО",null,{"$f":"E675","v":"водоотведение"},null,"ИТОГО"]
[null,null,null,null,"норматив","прибор учета",null,null,"норматив","прибор учета",null,"размер, руб/куб.м.","Сумма, руб","размер, руб/куб.м.","Сумма, руб"]
["1-е полугодие 2015года"]
["1.","Население "]
[{"$f":"A605","v":"1.1."},{"$f":"B605","v":"водоотведение"},{"$f":"C605","v":"Квартиры с ваннами сидячими, оборудованными душами"},null,null,null,{"$f":"SUM(E679:F679)","v":0},{"$f":"'данные об организации'!$I$30","v":0},{"$f":"E679*$H$13","v":0},{"$f":"F679*$H$13","v":0},{"$f":"SUM(I679:J679)","v":0},{"$f":"'данные об организации'!$H$37","v":0},{"$f":"G679*$L$13","v":0},{"$f":"'данные об организации'!$H$44","v":0},{"$f":"G679*$N$13","v":0}]
[{"$f":"A606","v":"1.2."},{"$f":"B606","v":"водоотведение"},"Квартиры с ваннами длиной от 1500 до 1700 мм, оборудованными душами",null,null,null,{"$f":"SUM(E680:F680)","v":0},null,0,0,0,null,0,null,0]
["1.3.",{"$f":"B607","v":"водоотведение"},0,null,null,null,0,null,0,0,0,null,0,null,0]
["1.4.",{"$f":"B608","v":"водоотведение"},0,null,null,null,0,null,0,0,0,null,0,null,0]
["1.5.",{"$f":"B609","v":"водоотведение"},0,null,null,null,0,null,0,0,0,null,0,null,0]
["1.6.",{"$f":"B610","v":"водоотведение"},0,null,null,null,0,null,0,0,0,null,0,null,0]
["1.7.",{"$f":"B611","v":"водоотведение"},0,null,null,null,0,null,0,0,0,null,0,null,0]
["1.8.",{"$f":"B612","v":"водоотведение"},0,null,null,null,0,null,0,0,0,null,0,null,0]
["1.9.",{"$f":"B613","v":"водоотведение"},0,null,null,null,0,null,0,0,0,null,0,null,0]
["1.10.",{"$f":"B614","v":"водоотведение"},0,null,null,null,0,null,0,0,0,null,0,null,0]
["1.11.",{"$f":"B615","v":"водоотведение"},0,null,null,null,0,null,0,0,0,null,0,null,0]
["1.12.",{"$f":"B616","v":"водоотведение"},0,null,null,null,0,null,0,0,0,null,0,null,0]
["1.13.",{"$f":"B617","v":"водоотведение"},0,null,null,null,0,null,0,0,0,null,0,null,0]
["1.14.",{"$f":"B618","v":"водоотведение"},0,null,null,null,0,null,0,0,0,null,0,null,0]
["1.15.",{"$f":"B619","v":"водоотведение"},0,null,null,null,0,null,0,0,0,null,0,null,0]
["1.16.",{"$f":"B620","v":"водоотведение"},0,null,null,null,0,null,0,0,0,null,0,null,0]
["1.17.",{"$f":"B621","v":"водоотведение"},0,null,null,null,0,null,0,0,0,null,0,null,0]
["1.18.",{"$f":"B622","v":"водоотведение"},0,null,null,null,0,null,0,0,0,null,0,null,0]
["1.19.",{"$f":"B623","v":"водоотведение"},0,null,null,null,0,null,0,0,0,null,0,null,0]
["1.20.",{"$f":"B624","v":"водоотведение"},0,null,null,null,0,null,0,0,0,null,0,null,0]
["1.21.",{"$f":"B625","v":"водоотведение"},0,null,null,null,0,null,0,0,0,null,0,null,0]
["1.22.",{"$f":"B626","v":"водоотведение"},0,null,null,null,0,null,0,0,0,null,0,null,0]
["1.23.",{"$f":"B627","v":"водоотведение"},0,null,null,null,0,null,0,0,0,null,0,null,0]
["1.24.",{"$f":"B628","v":"водоотведение"},0,null,null,null,0,null,0,0,0,null,0,null,0]
["1.25.",{"$f":"B629","v":"водоотведение"},0,null,null,null,0,null,0,0,0,null,0,null,0]
["1.26.",{"$f":"B630","v":"водоотведение"},0,null,null,null,0,null,0,0,0,null,0,null,0]
[null,"перерасчеты",null,null,"х","х","х",null,"х","х"]
[null,"Итого население",null,null,{"$f":"SUM(E679:E704)","v":0},0,0,null,{"$f":"SUM(I679:I704)","v":0},0,{"$f":"SUM(K679:K705)","v":0},null,{"$f":"SUM(M679:M705)","v":0},null,{"$f":"SUM(O679:O705)","v":0}]
["2.","Итого бюджет",null,null,null,null,0,null,{"$f":"E707*$H$13","v":0},{"$f":"F707*$H$13","v":0},{"$f":"SUM(I707:J707)","v":0},null,{"$f":"G707*$L$13","v":0}]
["3.","Итого прочие",null,null,null,null,0,null,{"$f":"E708*$H$13","v":0},{"$f":"F708*$H$13","v":0},{"$f":"SUM(I708:J708)","v":0},null,{"$f":"G708*$L$13","v":0}]
["4.","ВСЕГО 1-е полугодие",null,null,{"$f":"SUM(E706:E708)","v":0},{"$f":"SUM(F706:F708)","v":0},0,null,{"$f":"SUM(I706:I708)","v":0},0,0,null,{"$f":"SUM(M706:M708)","v":0},null,{"$f":"SUM(O706:O708)","v":0}]
["2-е полугодие 2015 года"]
["1.","Население "]
[{"$f":"A679","v":"1.1."},{"$f":"B638","v":"водоотведение"},"Квартиры с ваннами сидячими, оборудованными душами",{"$f":"D679","v":0},null,null,{"$f":"SUM(E712:F712)","v":0},{"$f":"'данные об организации'!$I$31","v":0},{"$f":"E712*$H$46","v":0},{"$f":"F712*$H$46","v":0},{"$f":"SUM(I712:J712)","v":0},{"$f":"'данные об организации'!$H$38","v":0},{"$f":"G712*$L$46","v":0},{"$f":"'данные об организации'!$H$45","v":0},{"$f":"G712*$N$46","v":0}]
[{"$f":"A680","v":"1.2."},{"$f":"B639","v":"водоотведение"},"Квартиры с ваннами длиной от 1500 до 1700 мм, оборудованными душами",{"$f":"D680","v":0},null,null,{"$f":"SUM(E713:F713)","v":0},null,0,0,0,null,0,null,0]
[{"$f":"A681","v":"1.3."},{"$f":"B640","v":"водоотведение"},0,0,null,null,0,null,0,0,0,null,0,null,0]
[{"$f":"A682","v":"1.4."},{"$f":"B641","v":"водоотведение"},0,0,null,null,0,null,0,0,0,null,0,null,0]
[{"$f":"A683","v":"1.5."},{"$f":"B642","v":"водоотведение"},0,0,null,null,0,null,0,0,0,null,0,null,0]
[{"$f":"A684","v":"1.6."},{"$f":"B643","v":"водоотведение"},0,0,null,null,0,null,0,0,0,null,0,null,0]
[{"$f":"A685","v":"1.7."},{"$f":"B644","v":"водоотведение"},0,0,null,null,0,null,0,0,0,null,0,null,0]
[{"$f":"A686","v":"1.8."},{"$f":"B645","v":"водоотведение"},0,0,null,null,0,null,0,0,0,null,0,null,0]
[{"$f":"A687","v":"1.9."},{"$f":"B646","v":"водоотведение"},0,0,null,null,0,null,0,0,0,null,0,null,0]
[{"$f":"A688","v":"1.10."},{"$f":"B647","v":"водоотведение"},0,0,null,null,0,null,0,0,0,null,0,null,0]
[{"$f":"A689","v":"1.11."},{"$f":"B648","v":"водоотведение"},0,0,null,null,0,null,0,0,0,null,0,null,0]
[{"$f":"A690","v":"1.12."},{"$f":"B649","v":"водоотведение"},0,0,null,null,0,null,0,0,0,null,0,null,0]
[{"$f":"A691","v":"1.13."},{"$f":"B650","v":"водоотведение"},0,0,null,null,0,null,0,0,0,null,0,null,0]
[{"$f":"A692","v":"1.14."},{"$f":"B651","v":"водоотведение"},0,0,null,null,0,null,0,0,0,null,0,null,0]
[{"$f":"A693","v":"1.15."},{"$f":"B652","v":"водоотведение"},0,0,null,null,0,null,0,0,0,null,0,null,0]
[{"$f":"A694","v":"1.16."},{"$f":"B653","v":"водоотведение"},0,0,null,null,0,null,0,0,0,null,0,null,0]
[{"$f":"A695","v":"1.17."},{"$f":"B654","v":"водоотведение"},0,0,null,null,0,null,0,0,0,null,0,null,0]
[{"$f":"A696","v":"1.18."},{"$f":"B655","v":"водоотведение"},0,0,null,null,0,null,0,0,0,null,0,null,0]
[{"$f":"A697","v":"1.19."},{"$f":"B656","v":"водоотведение"},0,0,null,null,0,null,0,0,0,null,0,null,0]
[{"$f":"A698","v":"1.20."},{"$f":"B657","v":"водоотведение"},0,0,null,null,0,null,0,0,0,null,0,null,0]
[{"$f":"A699","v":"1.21."},{"$f":"B658","v":"водоотведение"},0,0,null,null,0,null,0,0,0,null,0,null,0]
[{"$f":"A700","v":"1.22."},{"$f":"B659","v":"водоотведение"},0,0,null,null,0,null,0,0,0,null,0,null,0]
[{"$f":"A701","v":"1.23."},{"$f":"B660","v":"водоотведение"},0,0,null,null,0,null,0,0,0,null,0,null,0]
[{"$f":"A702","v":"1.24."},{"$f":"B661","v":"водоотведение"},0,0,null,null,0,null,0,0,0,null,0,null,0]
[{"$f":"A703","v":"1.25."},{"$f":"B662","v":"водоотведение"},0,0,null,null,0,null,0,0,0,null,0,null,0]
[{"$f":"A704","v":"1.26."},{"$f":"B663","v":"водоотведение"},0,0,null,null,0,null,0,0,0,null,0,null,0]
[null,"перерасчеты",null,null,"х","х","х",null,"х","х"]
[null,"Итого население",null,null,{"$f":"SUM(E712:E737)","v":0},0,0,null,{"$f":"SUM(I712:I737)","v":0},0,{"$f":"SUM(K712:K738)","v":0},null,{"$f":"SUM(M712:M738)","v":0},null,{"$f":"SUM(O712:O738)","v":0}]
["2.","Итого бюджет",null,null,null,null,0,null,{"$f":"E740*$H$46","v":0},{"$f":"F740*$H$46","v":0},{"$f":"SUM(I740:J740)","v":0},null,{"$f":"G740*$L$46","v":0}]
["3.","Итого прочие",null,null,null,null,0,null,{"$f":"E741*$H$46","v":0},{"$f":"F741*$H$46","v":0},{"$f":"SUM(I741:J741)","v":0},null,{"$f":"G741*$L$46","v":0}]
["4.","ВСЕГО 2-е полугодие",null,null,{"$f":"SUM(E739:E741)","v":0},{"$f":"SUM(F739:F741)","v":0},0,null,{"$f":"SUM(I739:I741)","v":0},0,0,null,{"$f":"SUM(M739:M741)","v":0},null,{"$f":"SUM(O739:O741)","v":0}]
[]
["5.","ГОД ВСЕГО",null,null,{"$f":"E709+E742","v":0},{"$f":"F709+F742","v":0},0,null,{"$f":"I709+I742","v":0},0,0,null,{"$f":"M709+M742","v":0},null,{"$f":"O709+O742","v":0}]
[]
[{"$f":"'данные об организации'!F23","v":0}]
[]
["№","Вид потребителя","Степень благоустройства, наименование скота","Нормы водоотведения, куб.м. в месяц (на 1 чел)","Фактический годовой объем реализации,  куб.м.",null,null,"тариф, руб/куб.м.","Сумма, руб",null,null,"инвестиционная надбавка",null,"компенсация до установленного тарифа"]
[null,null,null,null,"водоотведение",null,"ВСЕГО",null,{"$f":"E749","v":"водоотведение"},null,"ИТОГО"]
[null,null,null,null,"норматив","прибор учета",null,null,"норматив","прибор учета",null,"размер, руб/куб.м.","Сумма, руб","размер, руб/куб.м.","Сумма, руб"]
["1-е полугодие 2015года"]
["1.","Население "]
[{"$f":"A679","v":"1.1."},{"$f":"B679","v":"водоотведение"},{"$f":"C679","v":"Квартиры с ваннами сидячими, оборудованными душами"},null,null,null,{"$f":"SUM(E753:F753)","v":0},{"$f":"'данные об организации'!$I$30","v":0},{"$f":"E753*$H$13","v":0},{"$f":"F753*$H$13","v":0},{"$f":"SUM(I753:J753)","v":0},{"$f":"'данные об организации'!$H$37","v":0},{"$f":"G753*$L$13","v":0},{"$f":"'данные об организации'!$H$44","v":0},{"$f":"G753*$N$13","v":0}]
[{"$f":"A680","v":"1.2."},{"$f":"B680","v":"водоотведение"},"Квартиры с ваннами длиной от 1500 до 1700 мм, оборудованными душами",null,null,null,{"$f":"SUM(E754:F754)","v":0},null,0,0,0,null,0,null,0]
["1.3.",{"$f":"B681","v":"водоотведение"},0,null,null,null,0,null,0,0,0,null,0,null,0]
["1.4.",{"$f":"B682","v":"водоотведение"},0,null,null,null,0,null,0,0,0,null,0,null,0]
["1.5.",{"$f":"B683","v":"водоотведение"},0,null,null,null,0,null,0,0,0,null,0,null,0]
["1.6.",{"$f":"B684","v":"водоотведение"},0,null,null,null,0,null,0,0,0,null,0,null,0]
["1.7.",{"$f":"B685","v":"водоотведение"},0,null,null,null,0,null,0,0,0,null,0,null,0]
["1.8.",{"$f":"B686","v":"водоотведение"},0,null,null,null,0,null,0,0,0,null,0,null,0]
["1.9.",{"$f":"B687","v":"водоотведение"},0,null,null,null,0,null,0,0,0,null,0,null,0]
["1.10.",{"$f":"B688","v":"водоотведение"},0,null,null,null,0,null,0,0,0,null,0,null,0]
["1.11.",{"$f":"B689","v":"водоотведение"},0,null,null,null,0,null,0,0,0,null,0,null,0]
["1.12.",{"$f":"B690","v":"водоотведение"},0,null,null,null,0,null,0,0,0,null,0,null,0]
["1.13.",{"$f":"B691","v":"водоотведение"},0,null,null,null,0,null,0,0,0,null,0,null,0]
["1.14.",{"$f":"B692","v":"водоотведение"},0,null,null,null,0,null,0,0,0,null,0,null,0]
["1.15.",{"$f":"B693","v":"водоотведение"},0,null,null,null,0,null,0,0,0,null,0,null,0]
["1.16.",{"$f":"B694","v":"водоотведение"},0,null,null,null,0,null,0,0,0,null,0,null,0]
["1.17.",{"$f":"B695","v":"водоотведение"},0,null,null,null,0,null,0,0,0,null,0,null,0]
["1.18.",{"$f":"B696","v":"водоотведение"},0,null,null,null,0,null,0,0,0,null,0,null,0]
["1.19.",{"$f":"B697","v":"водоотведение"},0,null,null,null,0,null,0,0,0,null,0,null,0]
["1.20.",{"$f":"B698","v":"водоотведение"},0,null,null,null,0,null,0,0,0,null,0,null,0]
["1.21.",{"$f":"B699","v":"водоотведение"},0,null,null,null,0,null,0,0,0,null,0,null,0]
["1.22.",{"$f":"B700","v":"водоотведение"},0,null,null,null,0,null,0,0,0,null,0,null,0]
["1.23.",{"$f":"B701","v":"водоотведение"},0,null,null,null,0,null,0,0,0,null,0,null,0]
["1.24.",{"$f":"B702","v":"водоотведение"},0,null,null,null,0,null,0,0,0,null,0,null,0]
["1.25.",{"$f":"B703","v":"водоотведение"},0,null,null,null,0,null,0,0,0,null,0,null,0]
["1.26.",{"$f":"B704","v":"водоотведение"},0,null,null,null,0,null,0,0,0,null,0,null,0]
[null,"перерасчеты",null,null,"х","х","х",null,"х","х"]
[null,"Итого население",null,null,{"$f":"SUM(E753:E778)","v":0},0,0,null,{"$f":"SUM(I753:I778)","v":0},0,{"$f":"SUM(K753:K779)","v":0},null,{"$f":"SUM(M753:M779)","v":0},null,{"$f":"SUM(O753:O779)","v":0}]
["2.","Итого бюджет",null,null,null,null,0,null,{"$f":"E781*$H$13","v":0},{"$f":"F781*$H$13","v":0},{"$f":"SUM(I781:J781)","v":0},null,{"$f":"G781*$L$13","v":0}]
["3.","Итого прочие",null,null,null,null,0,null,{"$f":"E782*$H$13","v":0},{"$f":"F782*$H$13","v":0},{"$f":"SUM(I782:J782)","v":0},null,{"$f":"G782*$L$13","v":0}]
["4.","ВСЕГО 1-е полугодие",null,null,{"$f":"SUM(E780:E782)","v":0},{"$f":"SUM(F780:F782)","v":0},0,null,{"$f":"SUM(I780:I782)","v":0},0,0,null,{"$f":"SUM(M780:M782)","v":0},null,{"$f":"SUM(O780:O782)","v":0}]
["2-е полугодие 2015 года"]
["1.","Население "]
[{"$f":"A753","v":"1.1."},{"$f":"B712","v":"водоотведение"},"Квартиры с ваннами сидячими, оборудованными душами",{"$f":"D753","v":0},null,null,{"$f":"SUM(E786:F786)","v":0},{"$f":"'данные об организации'!$I$31","v":0},{"$f":"E786*$H$46","v":0},{"$f":"F786*$H$46","v":0},{"$f":"SUM(I786:J786)","v":0},{"$f":"'данные об организации'!$H$38","v":0},{"$f":"G786*$L$46","v":0},{"$f":"'данные об организации'!$H$45","v":0},{"$f":"G786*$N$46","v":0}]
[{"$f":"A754","v":"1.2."},{"$f":"B713","v":"водоотведение"},"Квартиры с ваннами длиной от 1500 до 1700 мм, оборудованными душами",{"$f":"D754","v":0},null,null,{"$f":"SUM(E787:F787)","v":0},null,0,0,0,null,0,null,0]
[{"$f":"A755","v":"1.3."},{"$f":"B714","v":"водоотведение"},0,0,null,null,0,null,0,0,0,null,0,null,0]
[{"$f":"A756","v":"1.4."},{"$f":"B715","v":"водоотведение"},0,0,null,null,0,null,0,0,0,null,0,null,0]
[{"$f":"A757","v":"1.5."},{"$f":"B716","v":"водоотведение"},0,0,null,null,0,null,0,0,0,null,0,null,0]
[{"$f":"A758","v":"1.6."},{"$f":"B717","v":"водоотведение"},0,0,null,null,0,null,0,0,0,null,0,null,0]
[{"$f":"A759","v":"1.7."},{"$f":"B718","v":"водоотведение"},0,0,null,null,0,null,0,0,0,null,0,null,0]
[{"$f":"A760","v":"1.8."},{"$f":"B719","v":"водоотведение"},0,0,null,null,0,null,0,0,0,null,0,null,0]
[{"$f":"A761","v":"1.9."},{"$f":"B720","v":"водоотведение"},0,0,null,null,0,null,0,0,0,null,0,null,0]
[{"$f":"A762","v":"1.10."},{"$f":"B721","v":"водоотведение"},0,0,null,null,0,null,0,0,0,null,0,null,0]
[{"$f":"A763","v":"1.11."},{"$f":"B722","v":"водоотведение"},0,0,null,null,0,null,0,0,0,null,0,null,0]
[{"$f":"A764","v":"1.12."},{"$f":"B723","v":"водоотведение"},0,0,null,null,0,null,0,0,0,null,0,null,0]
[{"$f":"A765","v":"1.13."},{"$f":"B724","v":"водоотведение"},0,0,null,null,0,null,0,0,0,null,0,null,0]
[{"$f":"A766","v":"1.14."},{"$f":"B725","v":"водоотведение"},0,0,null,null,0,null,0,0,0,null,0,null,0]
[{"$f":"A767","v":"1.15."},{"$f":"B726","v":"водоотведение"},0,0,null,null,0,null,0,0,0,null,0,null,0]
[{"$f":"A768","v":"1.16."},{"$f":"B727","v":"водоотведение"},0,0,null,null,0,null,0,0,0,null,0,null,0]
[{"$f":"A769","v":"1.17."},{"$f":"B728","v":"водоотведение"},0,0,null,null,0,null,0,0,0,null,0,null,0]
[{"$f":"A770","v":"1.18."},{"$f":"B729","v":"водоотведение"},0,0,null,null,0,null,0,0,0,null,0,null,0]
[{"$f":"A771","v":"1.19."},{"$f":"B730","v":"водоотведение"},0,0,null,null,0,null,0,0,0,null,0,null,0]
[{"$f":"A772","v":"1.20."},{"$f":"B731","v":"водоотведение"},0,0,null,null,0,null,0,0,0,null,0,null,0]
[{"$f":"A773","v":"1.21."},{"$f":"B732","v":"водоотведение"},0,0,null,null,0,null,0,0,0,null,0,null,0]
[{"$f":"A774","v":"1.22."},{"$f":"B733","v":"водоотведение"},0,0,null,null,0,null,0,0,0,null,0,null,0]
[{"$f":"A775","v":"1.23."},{"$f":"B734","v":"водоотведение"},0,0,null,null,0,null,0,0,0,null,0,null,0]
[{"$f":"A776","v":"1.24."},{"$f":"B735","v":"водоотведение"},0,0,null,null,0,null,0,0,0,null,0,null,0]
[{"$f":"A777","v":"1.25."},{"$f":"B736","v":"водоотведение"},0,0,null,null,0,null,0,0,0,null,0,null,0]
[{"$f":"A778","v":"1.26."},{"$f":"B737","v":"водоотведение"},0,0,null,null,0,null,0,0,0,null,0,null,0]
[null,"перерасчеты",null,null,"х","х","х",null,"х","х"]
[null,"Итого население",null,null,{"$f":"SUM(E786:E811)","v":0},0,0,null,{"$f":"SUM(I786:I811)","v":0},0,{"$f":"SUM(K786:K812)","v":0},null,{"$f":"SUM(M786:M812)","v":0},null,{"$f":"SUM(O786:O812)","v":0}]
["2.","Итого бюджет",null,null,null,null,0,null,{"$f":"E814*$H$46","v":0},{"$f":"F814*$H$46","v":0},{"$f":"SUM(I814:J814)","v":0},null,{"$f":"G814*$L$46","v":0}]
["3.","Итого прочие",null,null,null,null,0,null,{"$f":"E815*$H$46","v":0},{"$f":"F815*$H$46","v":0},{"$f":"SUM(I815:J815)","v":0},null,{"$f":"G815*$L$46","v":0}]
["4.","ВСЕГО 2-е полугодие",null,null,{"$f":"SUM(E813:E815)","v":0},{"$f":"SUM(F813:F815)","v":0},0,null,{"$f":"SUM(I813:I815)","v":0},0,0,null,{"$f":"SUM(M813:M815)","v":0},null,{"$f":"SUM(O813:O815)","v":0}]
[]
["5.","ГОД ВСЕГО",null,null,{"$f":"E783+E816","v":0},{"$f":"F783+F816","v":0},0,null,{"$f":"I783+I816","v":0},0,0,null,{"$f":"M783+M816","v":0},null,{"$f":"O783+O816","v":0}]

{"sheet":"отчет по электроэнергии","index":10,"n_rows":37,"n_cols":68,"rows_kept":37,"cut":false,"hidden":false,"merged":[[36,0,36,1],[35,0,35,1],[0,0,0,12],[1,0,1,12],[2,0,2,12],[5,0,5,9],[6,2,9,2],[7,3,7,7],[4,2,4,4],[6,3,6,67],[3,2,3,7],[8,3,9,3],[8,4,8,7],[7,8,7,12],[8,8,9,8],[8,9,8,12],[6,1,9,1],[6,0,9,0],[7,13,7,17],[8,13,9,13],[8,14,8,17],[7,18,7,22],[7,23,7,27],[8,18,9,18],[8,19,8,22],[8,23,9,23],[8,24,8,27],[7,28,7,32],[7,33,7,37],[7,38,7,42],[7,43,7,47],[8,28,9,28],[8,29,8,32],[8,33,9,33],[8,34,8,37],[8,38,9,38],[8,39,8,42],[8,43,9,43],[8,44,8,47],[7,48,7,52],[8,48,9,48],[8,49,8,52],[7,53,7,57],[7,58,7,62],[7,63,7,67],[8,53,9,53],[8,54,8,57],[8,58,9,58],[8,59,8,62],[8,63,9,63],[8,64,8,67]]}
["Отчет по стоимости и объему потребленной электроэнергии и мощности"]
[{"$f":"Титульный!C10","v":" "}]
[{"$f":"Титульный!C19","v":0}]
[null,null,"имущество, переданное по договору аренды или принадлежащее на праве собственности"]
[null,"Район",{"$f":"Титульный!C6","v":""},null,null,null,"МО",{"$f":"Титульный!C7","v":""}]
[]
["№ п/п","Наименование направления расхода электрической энергии","Ед.изм","ВСЕГО по тарифу"]
[null,null,null,"2015 год всего",null,null,null,null,"январь",null,null,null,null,"февраль",null,null,null,null,"март",null,null,null,null,"апрель",null,null,null,null,"май",null,null,null,null,"июнь",null,null,null,null,"июль",null,null,null,null,"август",null,null,null,null,"сентябрь",null,null,null,null,"октябрь",null,null,null,null,"ноябрь",null,null,null,null,"декабрь"]
[null,null,null,"всего","в том числе по уровням напряжения",null,null,null,"всего","в том числе по уровням напряжения",null,null,null,"всего","в том числе по уровням напряжения",null,null,null,"всего","в том числе по уровням напряжения",null,null,null,"всего","в том числе по уровням напряжения",null,null,null,"всего","в том числе по уровням напряжения",null,null,null,"всего","в том числе по уровням напряжения",null,null,null,"всего","в том числе по уровням напряжения",null,null,null,"всего","в том числе по уровням напряжения",null,null,null,"всего","в том числе по уровням напряжения",null,null,null,"всего","в том числе по уровням напряжения",null,null,null,"всего","в том числе по уровням напряжения",null,null,null,"всего","в том числе по уровням напряжения"]
[null,null,null,null,"ВН","СН1","СН2","НН",null,"ВН","СН1","СН2","НН",null,"ВН","СН1","СН2","НН",null,"ВН","СН1","СН2","НН",null,"ВН","СН1","СН2","НН",null,"ВН","СН1","СН2","НН",null,"ВН","СН1","СН2","НН",null,"ВН","СН1","СН2","НН",null,"ВН","СН1","СН2","НН",null,"ВН","СН1","СН2","НН",null,"ВН","СН1","СН2","НН",null,"ВН","СН1","СН2","НН",null,"ВН","СН1","СН2","НН"]
[null,"ВСЕГО стоимость покупной электроэнергии и мощности","руб",{"$f":"SUM(E11:H11)","v":0},{"$f":"E12+E20","v":0},{"$f":"F12+F20","v":0},{"$f":"G12+G20","v":0},{"$f":"H12+H20","v":0},{"$f":"SUM(J11:M11)","v":0},{"$f":"J12+J20","v":0},{"$f":"K12+K20","v":0},{"$f":"L12+L20","v":0},{"$f":"M12+M20","v":0},{"$f":"SUM(O11:R11)","v":0},{"$f":"O12+O20","v":0},{"$f":"P12+P20","v":0},{"$f":"Q12+Q20","v":0},{"$f":"R12+R20","v":0},{"$f":"SUM(T11:W11)","v":0},{"$f":"T12+T20","v":0},{"$f":"U12+U20","v":0},{"$f":"V12+V20","v":0},{"$f":"W12+W20","v":0},{"$f":"SUM(Y11:AB11)","v":0},{"$f":"Y12+Y20","v":0},{"$f":"Z12+Z20","v":0},{"$f":"AA12+AA20","v":0},{"$f":"AB12+AB20","v":0},{"$f":"SUM(AD11:AG11)","v":0},{"$f":"AD12+AD20","v":0},{"$f":"AE12+AE20","v":0},{"$f":"AF12+AF20","v":0},{"$f":"AG12+AG20","v":0},{"$f":"SUM(AI11:AL11)","v":0},{"$f":"AI12+AI20","v":0},{"$f":"AJ12+AJ20","v":0},{"$f":"AK12+AK20","v":0},{"$f":"AL12+AL20","v":0},{"$f":"SUM(AN11:AQ11)","v":0},{"$f":"AN12+AN20","v":0},{"$f":"AO12+AO20","v":0},{"$f":"AP12+AP20","v":0},{"$f":"AQ12+AQ20","v":0},{"$f":"SUM(AS11:AV11)","v":0},{"$f":"AS12+AS20","v":0},{"$f":"AT12+AT20","v":0},{"$f":"AU12+AU20","v":0},{"$f":"AV12+AV20","v":0},{"$f":"SUM(AX11:BA11)","v":0},{"$f":"AX12+AX20","v":0},{"$f":"AY12+AY20","v":0},{"$f":"AZ12+AZ20","v":0},{"$f":"BA12+BA20","v":0},{"$f":"SUM(BC11:BF11)","v":0},{"$f":"BC12+BC20","v":0},{"$f":"BD12+BD20","v":0},{"$f":"BE12+BE20","v":0},{"$f":"BF12+BF20","v":0},{"$f":"SUM(BH11:BK11)","v":0},{"$f":"BH12+BH20","v":0},{"$f":"BI12+BI20","v":0},{"$f":"BJ12+BJ20","v":0},{"$f":"BK12+BK20","v":0},{"$f":"SUM(BM11:BP11)","v":0},{"$f":"BM12+BM20","v":0},{"$f":"BN12+BN20","v":0},{"$f":"BO12+BO20","v":0},{"$f":"BP12+BP20","v":0}]
["I.","Покупная электроэнергия по одноставочному тарифу","руб",{"$f":"SUM(E12:H12)","v":0},{"$f":"J12+O12+T12+Y12+AD12+AI12+AN12+AS12+AX12+BC12+BH12+BM12","v":0},{"$f":"K12+P12+U12+Z12+AE12+AJ12+AO12+AT12+AY12+BD12+BI12+BN12","v":0},0,0,{"$f":"SUM(J12:M12)","v":0},{"$f":"J13*J14","v":0},{"$f":"K13*K14","v":0},0,0,{"$f":"SUM(O12:R12)","v":0},{"$f":"O13*O14","v":0},{"$f":"P13*P14","v":0},{"$f":"Q13*Q14","v":0},{"$f":"R13*R14","v":0},{"$f":"SUM(T12:W12)","v":0},{"$f":"T13*T14","v":0},{"$f":"U13*U14","v":0},{"$f":"V13*V14","v":0},{"$f":"W13*W14","v":0},{"$f":"SUM(Y12:AB12)","v":0},{"$f":"Y13*Y14","v":0},{"$f":"Z13*Z14","v":0},{"$f":"AA13*AA14","v":0},{"$f":"AB13*AB14","v":0},{"$f":"SUM(AD12:AG12)","v":0},{"$f":"AD13*AD14","v":0},{"$f":"AE13*AE14","v":0},{"$f":"AF13*AF14","v":0},{"$f":"AG13*AG14","v":0},{"$f":"SUM(AI12:AL12)","v":0},{"$f":"AI13*AI14","v":0},{"$f":"AJ13*AJ14","v":0},{"$f":"AK13*AK14","v":0},{"$f":"AL13*AL14","v":0},{"$f":"SUM(AN12:AQ12)","v":0},{"$f":"AN13*AN14","v":0},{"$f":"AO13*AO14","v":0},{"$f":"AP13*AP14","v":0},{"$f":"AQ13*AQ14","v":0},{"$f":"SUM(AS12:AV12)","v":0},{"$f":"AS13*AS14","v":0},{"$f":"AT13*AT14","v":0},{"$f":"AU13*AU14","v":0},{"$f":"AV13*AV14","v":0},{"$f":"SUM(AX12:BA12)","v":0},{"$f":"AX13*AX14","v":0},{"$f":"AY13*AY14","v":0},{"$f":"AZ13*AZ14","v":0},{"$f":"BA13*BA14","v":0},{"$f":"SUM(BC12:BF12)","v":0},{"$f":"BC13*BC14","v":0},{"$f":"BD13*BD14","v":0},{"$f":"BE13*BE14","v":0},{"$f":"BF13*BF14","v":0},{"$f":"SUM(BH12:BK12)","v":0},{"$f":"BH13*BH14","v":0},{"$f":"BI13*BI14","v":0},{"$f":"BJ13*BJ14","v":0},{"$f":"BK13*BK14","v":0},{"$f":"SUM(BM12:BP12)","v":0},{"$f":"BM13*BM14","v":0},{"$f":"BN13*BN14","v":0},{"$f":"BO13*BO14","v":0},{"$f":"BP13*BP14","v":0}]
["1.","Тариф на электроэнергию","руб./кВт.ч",{"$f":"IF(D14=0,0,D12/D14)","v":0},0,0,0,0,{"$f":"IF(I14=0,0,I12/I14)","v":0},null,null,null,null,{"$f":"IF(N14=0,0,N12/N14)","v":0},null,null,null,null,{"$f":"IF(S14=0,0,S12/S14)","v":0},null,null,null,null,{"$f":"IF(X14=0,0,X12/X14)","v":0},null,null,null,null,{"$f":"IF(AC14=0,0,AC12/AC14)","v":0},null,null,null,null,{"$f":"IF(AH14=0,0,AH12/AH14)","v":0},null,null,null,null,{"$f":"IF(AM14=0,0,AM12/AM14)","v":0},null,null,null,null,{"$f":"IF(AR14=0,0,AR12/AR14)","v":0},null,null,null,null,{"$f":"IF(AW14=0,0,AW12/AW14)","v":0},null,null,null,null,{"$f":"IF(BB14=0,0,BB12/BB14)","v":0},null,null,null,null,{"$f":"IF(BG14=0,0,BG12/BG14)","v":0},null,null,null,null,{"$f":"IF(BL14=0,0,BL12/BL14)","v":0}]
["2.","Объем электроэнергии всего","кВт.ч",{"$f":"SUM(D16:D18)","v":0},{"$f":"SUM(E16:E18)","v":0},0,0,0,0,0,0,0,0,0,0,0,0,0,0,0,0,0,0,0,0,0,0,0,0,0,0,0,0,0,0,0,0,0,0,0,0,0,0,0,0,0,0,0,0,0,0,0,0,0,0,0,0,0,0,0,0,0,0,0,0,0,0,0]
[null,"в том числе:","кВт.ч"]
["2.1.","Прием и транспортировка (перекачка) стоков"," кВт.ч",{"$f":"E16+F16+G16+H16","v":0},{"$f":"J16+O16+T16+Y16+AD16+AI16+AN16+AS16+AX16+BC16+BH16+BM16","v":0},{"$f":"K16+P16+U16+Z16+AE16+AJ16+AO16+AT16+AY16+BD16+BI16+BN16","v":0},{"$f":"L16+Q16+V16+AA16+AF16+AK16+AP16+AU16+AZ16+BE16+BJ16+BO16","v":0},{"$f":"M16+R16+W16+AB16+AG16+AL16+AQ16+AV16+BA16+BF16+BK16+BP16","v":0},{"$f":"J16+K16+L16+M16","v":0},null,null,null,null,{"$f":"O16+P16+Q16+R16","v":0},null,null,null,null,{"$f":"T16+U16+V16+W16","v":0},null,null,null,null,{"$f":"Y16+Z16+AA16+AB16","v":0},null,null,null,null,{"$f":"AD16+AE16+AF16+AG16","v":0},null,null,null,null,{"$f":"AI16+AJ16+AK16+AL16","v":0},null,null,null,null,{"$f":"AN16+AO16+AP16+AQ16","v":0},null,null,null,null,{"$f":"AS16+AT16+AU16+AV16","v":0},null,null,null,null,{"$f":"AX16+AY16+AZ16+BA16","v":0},null,null,null,null,{"$f":"BC16+BD16+BE16+BF16","v":0},null,null,null,null,{"$f":"BH16+BI16+BJ16+BK16","v":0},null,null,null,null,{"$f":"BM16+BN16+BO16+BP16","v":0}]
["2.2."," Очистка стоков"," кВт.ч",{"$f":"E17+F17+G17+H17","v":0},0,0,0,0,{"$f":"J17+K17+L17+M17","v":0},null,null,null,null,{"$f":"O17+P17+Q17+R17","v":0},null,null,null,null,{"$f":"T17+U17+V17+W17","v":0},null,null,null,null,{"$f":"Y17+Z17+AA17+AB17","v":0},null,null,null,null,{"$f":"AD17+AE17+AF17+AG17","v":0},null,null,null,null,{"$f":"AI17+AJ17+AK17+AL17","v":0},null,null,null,null,{"$f":"AN17+AO17+AP17+AQ17","v":0},null,null,null,null,{"$f":"AS17+AT17+AU17+AV17","v":0},null,null,null,null,{"$f":"AX17+AY17+AZ17+BA17","v":0},null,null,null,null,0,null,null,null,null,0,null,null,null,null,0]
["2.3.","Утилизация осадка и его захоронение"," кВт.ч",0,0,0,0,0,0,null,null,null,null,0,null,null,null,null,0,null,null,null,null,0,null,null,null,null,0,null,null,null,null,0,null,null,null,null,0,null,null,null,null,0,null,null,null,null,0,null,null,null,null,0,null,null,null,null,0,null,null,null,null,0]
[]
["II.","Покупная электроэнергия по двухставочному тарифу","руб",{"$f":"SUM(E20:H20)","v":0},{"$f":"E21+E28","v":0},{"$f":"F21+F28","v":0},{"$f":"G21+G28","v":0},{"$f":"H21+H28","v":0},{"$f":"SUM(J20:M20)","v":0},{"$f":"J21+J28","v":0},{"$f":"K21+K28","v":0},{"$f":"L21+L28","v":0},{"$f":"M21+M28","v":0},{"$f":"SUM(O20:R20)","v":0},{"$f":"O21+O28","v":0},{"$f":"P21+P28","v":0},{"$f":"Q21+Q28","v":0},{"$f":"R21+R28","v":0},{"$f":"SUM(T20:W20)","v":0},{"$f":"T21+T28","v":0},{"$f":"U21+U28","v":0},{"$f":"V21+V28","v":0},{"$f":"W21+W28","v":0},{"$f":"SUM(Y20:AB20)","v":0},{"$f":"Y21+Y28","v":0},{"$f":"Z21+Z28","v":0},{"$f":"AA21+AA28","v":0},{"$f":"AB21+AB28","v":0},{"$f":"SUM(AD20:AG20)","v":0},{"$f":"AD21+AD28","v":0},{"$f":"AE21+AE28","v":0},{"$f":"AF21+AF28","v":0},{"$f":"AG21+AG28","v":0},{"$f":"SUM(AI20:AL20)","v":0},{"$f":"AI21+AI28","v":0},{"$f":"AJ21+AJ28","v":0},{"$f":"AK21+AK28","v":0},{"$f":"AL21+AL28","v":0},{"$f":"SUM(AN20:AQ20)","v":0},{"$f":"AN21+AN28","v":0},{"$f":"AO21+AO28","v":0},{"$f":"AP21+AP28","v":0},{"$f":"AQ21+AQ28","v":0},{"$f":"SUM(AS20:AV20)","v":0},{"$f":"AS21+AS28","v":0},{"$f":"AT21+AT28","v":0},{"$f":"AU21+AU28","v":0},{"$f":"AV21+AV28","v":0},{"$f":"SUM(AX20:BA20)","v":0},{"$f":"AX21+AX28","v":0},{"$f":"AY21+AY28","v":0},{"$f":"AZ21+AZ28","v":0},{"$f":"BA21+BA28","v":0},{"$f":"SUM(BC20:BF20)","v":0},{"$f":"BC21+BC28","v":0},{"$f":"BD21+BD28","v":0},{"$f":"BE21+BE28","v":0},{"$f":"BF21+BF28","v":0},{"$f":"SUM(BH20:BK20)","v":0},{"$f":"BH21+BH28","v":0},{"$f":"BI21+BI28","v":0},{"$f":"BJ21+BJ28","v":0},{"$f":"BK21+BK28","v":0},{"$f":"SUM(BM20:BP20)","v":0},{"$f":"BM21+BM28","v":0},{"$f":"BN21+BN28","v":0},{"$f":"BO21+BO28","v":0},{"$f":"BP21+BP28","v":0}]
["1.","Мощность","руб",{"$f":"E21+F21+G21+H21","v":0},{"$f":"J21+O21+T21+Y21+AD21+AI21+AN21+AS21+AX21+BC21+BH21+BM21","v":0},{"$f":"K21+P21+U21+Z21+AE21+AJ21+AO21+AT21+AY21+BD21+BI21+BN21","v":0},{"$f":"L21+Q21+V21+AA21+AF21+AK21+AP21+AU21+AZ21+BE21+BJ21+BO21","v":0},{"$f":"M21+R21+W21+AB21+AG21+AL21+AQ21+AV21+BA21+BF21+BK21+BP21","v":0},{"$f":"SUM(J21:M21)","v":0},{"$f":"J22*J23","v":0},{"$f":"K22*K23","v":0},0,0,{"$f":"SUM(O21:R21)","v":0},{"$f":"O22*O23","v":0},{"$f":"P22*P23","v":0},{"$f":"Q22*Q23","v":0},{"$f":"R22*R23","v":0},{"$f":"SUM(T21:W21)","v":0},{"$f":"T22*T23","v":0},{"$f":"U22*U23","v":0},{"$f":"V22*V23","v":0},{"$f":"W22*W23","v":0},{"$f":"SUM(Y21:AB21)","v":0},{"$f":"Y22*Y23","v":0},{"$f":"Z22*Z23","v":0},{"$f":"AA22*AA23","v":0},{"$f":"AB22*AB23","v":0},{"$f":"SUM(AD21:AG21)","v":0},{"$f":"AD22*AD23","v":0},{"$f":"AE22*AE23","v":0},{"$f":"AF22*AF23","v":0},{"$f":"AG22*AG23","v":0},{"$f":"SUM(AI21:AL21)","v":0},{"$f":"AI22*AI23","v":0},{"$f":"AJ22*AJ23","v":0},{"$f":"AK22*AK23","v":0},{"$f":"AL22*AL23","v":0},{"$f":"SUM(AN21:AQ21)","v":0},{"$f":"AN22*AN23","v":0},{"$f":"AO22*AO23","v":0},{"$f":"AP22*AP23","v":0},{"$f":"AQ22*AQ23","v":0},{"$f":"SUM(AS21:AV21)","v":0},{"$f":"AS22*AS23","v":0},{"$f":"AT22*AT23","v":0},{"$f":"AU22*AU23","v":0},{"$f":"AV22*AV23","v":0},{"$f":"SUM(AX21:BA21)","v":0},{"$f":"AX22*AX23","v":0},{"$f":"AY22*AY23","v":0},{"$f":"AZ22*AZ23","v":0},{"$f":"BA22*BA23","v":0},{"$f":"SUM(BC21:BF21)","v":0},{"$f":"BC22*BC23","v":0},{"$f":"BD22*BD23","v":0},{"$f":"BE22*BE23","v":0},{"$f":"BF22*BF23","v":0},{"$f":"SUM(BH21:BK21)","v":0},{"$f":"BH22*BH23","v":0},{"$f":"BI22*BI23","v":0},{"$f":"BJ22*BJ23","v":0},{"$f":"BK22*BK23","v":0},{"$f":"SUM(BM21:BP21)","v":0},{"$f":"BM22*BM23","v":0},{"$f":"BN22*BN23","v":0},{"$f":"BO22*BO23","v":0},{"$f":"BP22*BP23","v":0}]
["1.1.","Тариф на мощность","руб/кВт",{"$f":"IF(D23=0,0,D21/D23)","v":0},{"$f":"IF(E23=0,0,E21/E23)","v":0},{"$f":"IF(F23=0,0,F21/F23)","v":0},{"$f":"IF(G23=0,0,G21/G23)","v":0},{"$f":"IF(H23=0,0,H21/H23)","v":0},{"$f":"IF(I23=0,0,I21/I23)","v":0},null,null,null,null,{"$f":"IF(N23=0,0,N21/N23)","v":0},null,null,null,null,{"$f":"IF(S23=0,0,S21/S23)","v":0},null,null,null,null,{"$f":"IF(X23=0,0,X21/X23)","v":0},null,null,null,null,{"$f":"IF(AC23=0,0,AC21/AC23)","v":0},null,null,null,null,{"$f":"IF(AH23=0,0,AH21/AH23)","v":0},null,null,null,null,{"$f":"IF(AM23=0,0,AM21/AM23)","v":0},null,null,null,null,{"$f":"IF(AR23=0,0,AR21/AR23)","v":0},null,null,null,null,{"$f":"IF(AW23=0,0,AW21/AW23)","v":0},null,null,null,null,{"$f":"IF(BB23=0,0,BB21/BB23)","v":0},null,null,null,null,{"$f":"IF(BG23=0,0,BG21/BG23)","v":0},null,null,null,null,{"$f":"IF(BL23=0,0,BL21/BL23)","v":0}]
["1.2.","Объем мощности всего","кВт",{"$f":"SUM(D25:D27)","v":0},{"$f":"SUM(E25:E27)","v":0},0,0,0,0,0,0,0,0,0,0,0,0,0,0,0,0,0,0,0,0,0,0,0,0,0,0,0,0,0,0,0,0,0,0,0,0,0,0,0,0,0,0,0,0,0,0,0,0,0,0,0,0,0,0,0,0,0,0,0,0,0,0,0]
[null,"в том числе:","кВт "]
["1.2.1","Прием и транспортировка (перекачка) стоков","кВт ",{"$f":"E25+F25+G25+H25","v":0},{"$f":"J25+O25+T25+Y25+AD25+AI25+AN25+AS25+AX25+BC25+BH25+BM25","v":0},{"$f":"K25+P25+U25+Z25+AE25+AJ25+AO25+AT25+AY25+BD25+BI25+BN25","v":0},{"$f":"L25+Q25+V25+AA25+AF25+AK25+AP25+AU25+AZ25+BE25+BJ25+BO25","v":0},{"$f":"M25+R25+W25+AB25+AG25+AL25+AQ25+AV25+BA25+BF25+BK25+BP25","v":0},{"$f":"J25+K25+L25+M25","v":0},null,null,null,null,{"$f":"O25+P25+Q25+R25","v":0},null,null,null,null,{"$f":"T25+U25+V25+W25","v":0},null,null,null,null,{"$f":"Y25+Z25+AA25+AB25","v":0},null,null,null,null,{"$f":"AD25+AE25+AF25+AG25","v":0},null,null,null,null,{"$f":"AI25+AJ25+AK25+AL25","v":0},null,null,null,null,{"$f":"AN25+AO25+AP25+AQ25","v":0},null,null,null,null,{"$f":"AS25+AT25+AU25+AV25","v":0},null,null,null,null,{"$f":"AX25+AY25+AZ25+BA25","v":0},null,null,null,null,{"$f":"BC25+BD25+BE25+BF25","v":0},null,null,null,null,{"$f":"BH25+BI25+BJ25+BK25","v":0},null,null,null,null,{"$f":"BM25+BN25+BO25+BP25","v":0}]
["1.2.2"," Очистка стоков","кВт ",{"$f":"E26+F26+G26+H26","v":0},0,0,0,0,{"$f":"J26+K26+L26+M26","v":0},null,null,null,null,{"$f":"O26+P26+Q26+R26","v":0},null,null,null,null,{"$f":"T26+U26+V26+W26","v":0},null,null,null,null,{"$f":"Y26+Z26+AA26+AB26","v":0},null,null,null,null,{"$f":"AD26+AE26+AF26+AG26","v":0},null,null,null,null,{"$f":"AI26+AJ26+AK26+AL26","v":0},null,null,null,null,{"$f":"AN26+AO26+AP26+AQ26","v":0},null,null,null,null,{"$f":"AS26+AT26+AU26+AV26","v":0},null,null,null,null,{"$f":"AX26+AY26+AZ26+BA26","v":0},null,null,null,null,0,null,null,null,null,0,null,null,null,null,0]
["1.2.3","Утилизация осадка и его захоронение","кВт ",0,0,0,0,0,0,null,null,null,null,0,null,null,null,null,0,null,null,null,null,0,null,null,null,null,0,null,null,null,null,0,null,null,null,null,0,null,null,null,null,0,null,null,null,null,0,null,null,null,null,0,null,null,null,null,0,null,null,null,null,0]
["2.","Активная электроэнергия","руб",{"$f":"E28+F28+G28+H28","v":0},{"$f":"J28+O28+T28+Y28+AD28+AI28+AN28+AS28+AX28+BC28+BH28+BM28","v":0},{"$f":"K28+P28+U28+Z28+AE28+AJ28+AO28+AT28+AY28+BD28+BI28+BN28","v":0},{"$f":"L28+Q28+V28+AA28+AF28+AK28+AP28+AU28+AZ28+BE28+BJ28+BO28","v":0},{"$f":"M28+R28+W28+AB28+AG28+AL28+AQ28+AV28+BA28+BF28+BK28+BP28","v":0},{"$f":"SUM(J28:M28)","v":0},{"$f":"J29*J30","v":0},{"$f":"K29*K30","v":0},0,0,{"$f":"SUM(O28:R28)","v":0},{"$f":"O29*O30","v":0},{"$f":"P29*P30","v":0},{"$f":"Q29*Q30","v":0},{"$f":"R29*R30","v":0},{"$f":"SUM(T28:W28)","v":0},{"$f":"T29*T30","v":0},{"$f":"U29*U30","v":0},{"$f":"V29*V30","v":0},{"$f":"W29*W30","v":0},{"$f":"SUM(Y28:AB28)","v":0},{"$f":"Y29*Y30","v":0},{"$f":"Z29*Z30","v":0},{"$f":"AA29*AA30","v":0},{"$f":"AB29*AB30","v":0},{"$f":"SUM(AD28:AG28)","v":0},{"$f":"AD29*AD30","v":0},{"$f":"AE29*AE30","v":0},{"$f":"AF29*AF30","v":0},{"$f":"AG29*AG30","v":0},{"$f":"SUM(AI28:AL28)","v":0},{"$f":"AI29*AI30","v":0},{"$f":"AJ29*AJ30","v":0},{"$f":"AK29*AK30","v":0},{"$f":"AL29*AL30","v":0},{"$f":"SUM(AN28:AQ28)","v":0},{"$f":"AN29*AN30","v":0},{"$f":"AO29*AO30","v":0},{"$f":"AP29*AP30","v":0},{"$f":"AQ29*AQ30","v":0},{"$f":"SUM(AS28:AV28)","v":0},{"$f":"AS29*AS30","v":0},{"$f":"AT29*AT30","v":0},{"$f":"AU29*AU30","v":0},{"$f":"AV29*AV30","v":0},{"$f":"SUM(AX28:BA28)","v":0},{"$f":"AX29*AX30","v":0},{"$f":"AY29*AY30","v":0},{"$f":"AZ29*AZ30","v":0},{"$f":"BA29*BA30","v":0},{"$f":"SUM(BC28:BF28)","v":0},{"$f":"BC29*BC30","v":0},{"$f":"BD29*BD30","v":0},{"$f":"BE29*BE30","v":0},{"$f":"BF29*BF30","v":0},{"$f":"SUM(BH28:BK28)","v":0},{"$f":"BH29*BH30","v":0},{"$f":"BI29*BI30","v":0},{"$f":"BJ29*BJ30","v":0},{"$f":"BK29*BK30","v":0},{"$f":"SUM(BM28:BP28)","v":0},{"$f":"BM29*BM30","v":0},{"$f":"BN29*BN30","v":0},{"$f":"BO29*BO30","v":0},{"$f":"BP29*BP30","v":0}]
["2.1.","Тариф на электроэнергию","руб/кВт.ч",{"$f":"IF(D30=0,0,D28/D30)","v":0},{"$f":"IF(E30=0,0,E28/E30)","v":0},{"$f":"IF(F30=0,0,F28/F30)","v":0},{"$f":"IF(G30=0,0,G28/G30)","v":0},{"$f":"IF(H30=0,0,H28/H30)","v":0},{"$f":"IF(I30=0,0,I28/I30)","v":0},null,null,null,null,{"$f":"IF(N30=0,0,N28/N30)","v":0},null,null,null,null,{"$f":"IF(S30=0,0,S28/S30)","v":0},null,null,null,null,{"$f":"IF(X30=0,0,X28/X30)","v":0},null,null,null,null,{"$f":"IF(AC30=0,0,AC28/AC30)","v":0},null,null,null,null,{"$f":"IF(AH30=0,0,AH28/AH30)","v":0},null,null,null,null,{"$f":"IF(AM30=0,0,AM28/AM30)","v":0},null,null,null,null,{"$f":"IF(AR30=0,0,AR28/AR30)","v":0},null,null,null,null,{"$f":"IF(AW30=0,0,AW28/AW30)","v":0},null,null,null,null,{"$f":"IF(BB30=0,0,BB28/BB30)","v":0},null,null,null,null,{"$f":"IF(BG30=0,0,BG28/BG30)","v":0},null,null,null,null,{"$f":"IF(BL30=0,0,BL28/BL30)","v":0}]
["2.2.","Объем электроэнергии всего","кВт.ч",{"$f":"SUM(D32:D34)","v":0},{"$f":"SUM(E32:E34)","v":0},0,0,0,0,0,0,0,0,0,0,0,0,0,0,0,0,0,0,0,0,0,0,0,0,0,0,0,0,0,0,0,0,0,0,0,0,0,0,0,0,0,0,0,0,0,0,0,0,0,0,0,0,0,0,0,0,0,0,0,0,0,0,0]
[null,"в том числе:","кВт.ч"]
["2.2.1","Прием и транспортировка (перекачка) стоков"," кВт.ч",{"$f":"E32+F32+G32+H32","v":0},{"$f":"J32+O32+T32+Y32+AD32+AI32+AN32+AS32+AX32+BC32+BH32+BM32","v":0},{"$f":"K32+P32+U32+Z32+AE32+AJ32+AO32+AT32+AY32+BD32+BI32+BN32","v":0},{"$f":"L32+Q32+V32+AA32+AF32+AK32+AP32+AU32+AZ32+BE32+BJ32+BO32","v":0},{"$f":"M32+R32+W32+AB32+AG32+AL32+AQ32+AV32+BA32+BF32+BK32+BP32","v":0},{"$f":"J32+K32+L32+M32","v":0},null,null,null,null,{"$f":"O32+P32+Q32+R32","v":0},null,null,null,null,{"$f":"T32+U32+V32+W32","v":0},null,null,null,null,{"$f":"Y32+Z32+AA32+AB32","v":0},null,null,null,null,{"$f":"AD32+AE32+AF32+AG32","v":0},null,null,null,null,{"$f":"AI32+AJ32+AK32+AL32","v":0},null,null,null,null,{"$f":"AN32+AO32+AP32+AQ32","v":0},null,null,null,null,{"$f":"AS32+AT32+AU32+AV32","v":0},null,null,null,null,{"$f":"AX32+AY32+AZ32+BA32","v":0},null,null,null,null,{"$f":"BC32+BD32+BE32+BF32","v":0},null,null,null,null,{"$f":"BH32+BI32+BJ32+BK32","v":0},null,null,null,null,{"$f":"BM32+BN32+BO32+BP32","v":0}]
["2.2.2"," Очистка стоков"," кВт.ч",{"$f":"E33+F33+G33+H33","v":0},0,0,0,0,{"$f":"J33+K33+L33+M33","v":0},null,null,null,null,{"$f":"O33+P33+Q33+R33","v":0},null,null,null,null,{"$f":"T33+U33+V33+W33","v":0},null,null,null,null,{"$f":"Y33+Z33+AA33+AB33","v":0},null,null,null,null,{"$f":"AD33+AE33+AF33+AG33","v":0},null,null,null,null,{"$f":"AI33+AJ33+AK33+AL33","v":0},null,null,null,null,{"$f":"AN33+AO33+AP33+AQ33","v":0},null,null,null,null,{"$f":"AS33+AT33+AU33+AV33","v":0},null,null,null,null,{"$f":"AX33+AY33+AZ33+BA33","v":0},null,null,null,null,0,null,null,null,null,0,null,null,null,null,0]
["2.2.3","Утилизация осадка и его захоронение"," кВт.ч",0,0,0,0,0,0,null,null,null,null,0,null,null,null,null,0,null,null,null,null,0,null,null,null,null,0,null,null,null,null,0,null,null,null,null,0,null,null,null,null,0,null,null,null,null,0,null,null,null,null,0,null,null,null,null,0,null,null,null,null,0]
[]
["расход электроэнергии на транспортировку стоков",null,"кВт.ч",{"$f":"D16+D32","v":0},{"$f":"E16+E32","v":0},0,0,0,0,0,0,0,0,0,0,0,0,0,0,0,0,0,0,0,0,0,0,0,0,0,0,0,0,0,0,0,0,0,0,0,0,0,0,0,0,0,0,0,0,0,0,0,0,0,0,0,0,0,0,0,0,0,0,0,0,0,0,0]
["расход электроэнергии на очистку стоков",null,"кВт.ч",{"$f":"D17+D18+D33+D34","v":0},{"$f":"E17+E18+E33+E34","v":0},0,0,0,0,0,0,0,0,0,0,0,0,0,0,0,0,0,0,0,0,0,0,0,0,0,0,0,0,0,0,0,0,0,0,0,0,0,0,0,0,0,0,0,0,0,0,0,0,0,0,0,0,0,0,0,0,0,0,0,0,0,0,0]

{"sheet":"отчет по электроэнергии (бсх)","index":11,"n_rows":37,"n_cols":68,"rows_kept":37,"cut":false,"hidden":false,"merged":[[6,0,9,0],[6,1,9,1],[6,2,9,2],[6,3,6,67],[7,3,7,7],[7,58,7,62],[7,63,7,67],[7,8,7,12],[7,13,7,17],[7,18,7,22],[7,23,7,27],[7,28,7,32],[7,33,7,37],[8,14,8,17],[7,38,7,42],[7,43,7,47],[0,0,0,12],[1,0,1,12],[2,0,2,12],[4,2,4,4],[5,0,5,9],[7,48,7,52],[7,53,7,57],[8,3,9,3],[8,4,8,7],[8,8,9,8],[8,9,8,12],[8,13,9,13],[8,44,8,47],[8,18,9,18],[8,19,8,22],[8,23,9,23],[8,24,8,27],[8,28,9,28],[8,29,8,32],[8,63,9,63],[8,64,8,67],[35,0,35,1],[36,0,36,1],[3,2,3,7],[8,48,9,48],[8,49,8,52],[8,53,9,53],[8,54,8,57],[8,58,9,58],[8,59,8,62],[8,33,9,33],[8,34,8,37],[8,38,9,38],[8,39,8,42],[8,43,9,43]]}
["Отчет по объему потребленной электроэнергии и мощности"]
[{"$f":"Титульный!C10","v":" "}]
[{"$f":"Титульный!C19","v":0}]
[null,null,"бесхозяйное имущество"]
[null,"Район",{"$f":"Титульный!C6","v":""},null,null,null,"МО",{"$f":"Титульный!C7","v":""}]
[]
["№ п/п","Наименование направления расхода электрической энергии","Ед.изм","ВСЕГО по тарифу"]
[null,null,null,"2015 год всего",null,null,null,null,"январь",null,null,null,null,"февраль",null,null,null,null,"март",null,null,null,null,"апрель",null,null,null,null,"май",null,null,null,null,"июнь",null,null,null,null,"июль",null,null,null,null,"август",null,null,null,null,"сентябрь",null,null,null,null,"октябрь",null,null,null,null,"ноябрь",null,null,null,null,"декабрь"]
[null,null,null,"всего","в том числе по уровням напряжения",null,null,null,"всего","в том числе по уровням напряжения",null,null,null,"всего","в том числе по уровням напряжения",null,null,null,"всего","в том числе по уровням напряжения",null,null,null,"всего","в том числе по уровням напряжения",null,null,null,"всего","в том числе по уровням напряжения",null,null,null,"всего","в том числе по уровням напряжения",null,null,null,"всего","в том числе по уровням напряжения",null,null,null,"всего","в том числе по уровням напряжения",null,null,null,"всего","в том числе по уровням напряжения",null,null,null,"всего","в том числе по уровням напряжения",null,null,null,"всего","в том числе по уровням напряжения",null,null,null,"всего","в том числе по уровням напряжения"]
[null,null,null,null,"ВН","СН1","СН2","НН",null,"ВН","СН1","СН2","НН",null,"ВН","СН1","СН2","НН",null,"ВН","СН1","СН2","НН",null,"ВН","СН1","СН2","НН",null,"ВН","СН1","СН2","НН",null,"ВН","СН1","СН2","НН",null,"ВН","СН1","СН2","НН",null,"ВН","СН1","СН2","НН",null,"ВН","СН1","СН2","НН",null,"ВН","СН1","СН2","НН",null,"ВН","СН1","СН2","НН",null,"ВН","СН1","СН2","НН"]
[null,"ВСЕГО стоимость покупной электроэнергии и мощности","руб",{"$f":"SUM(E11:H11)","v":0},{"$f":"E12+E20","v":0},{"$f":"F12+F20","v":0},{"$f":"G12+G20","v":0},{"$f":"H12+H20","v":0},{"$f":"SUM(J11:M11)","v":0},{"$f":"J12+J20","v":0},{"$f":"K12+K20","v":0},{"$f":"L12+L20","v":0},{"$f":"M12+M20","v":0},{"$f":"SUM(O11:R11)","v":0},{"$f":"O12+O20","v":0},{"$f":"P12+P20","v":0},{"$f":"Q12+Q20","v":0},{"$f":"R12+R20","v":0},{"$f":"SUM(T11:W11)","v":0},{"$f":"T12+T20","v":0},{"$f":"U12+U20","v":0},{"$f":"V12+V20","v":0},{"$f":"W12+W20","v":0},{"$f":"SUM(Y11:AB11)","v":0},{"$f":"Y12+Y20","v":0},{"$f":"Z12+Z20","v":0},{"$f":"AA12+AA20","v":0},{"$f":"AB12+AB20","v":0},{"$f":"SUM(AD11:AG11)","v":0},{"$f":"AD12+AD20","v":0},{"$f":"AE12+AE20","v":0},{"$f":"AF12+AF20","v":0},{"$f":"AG12+AG20","v":0},{"$f":"SUM(AI11:AL11)","v":0},{"$f":"AI12+AI20","v":0},{"$f":"AJ12+AJ20","v":0},{"$f":"AK12+AK20","v":0},{"$f":"AL12+AL20","v":0},{"$f":"SUM(AN11:AQ11)","v":0},{"$f":"AN12+AN20","v":0},{"$f":"AO12+AO20","v":0},{"$f":"AP12+AP20","v":0},{"$f":"AQ12+AQ20","v":0},{"$f":"SUM(AS11:AV11)","v":0},{"$f":"AS12+AS20","v":0},{"$f":"AT12+AT20","v":0},{"$f":"AU12+AU20","v":0},{"$f":"AV12+AV20","v":0},{"$f":"SUM(AX11:BA11)","v":0},{"$f":"AX12+AX20","v":0},{"$f":"AY12+AY20","v":0},{"$f":"AZ12+AZ20","v":0},{"$f":"BA12+BA20","v":0},{"$f":"SUM(BC11:BF11)","v":0},{"$f":"BC12+BC20","v":0},{"$f":"BD12+BD20","v":0},{"$f":"BE12+BE20","v":0},{"$f":"BF12+BF20","v":0},{"$f":"SUM(BH11:BK11)","v":0},{"$f":"BH12+BH20","v":0},{"$f":"BI12+BI20","v":0},{"$f":"BJ12+BJ20","v":0},{"$f":"BK12+BK20","v":0},{"$f":"SUM(BM11:BP11)","v":0},{"$f":"BM12+BM20","v":0},{"$f":"BN12+BN20","v":0},{"$f":"BO12+BO20","v":0},{"$f":"BP12+BP20","v":0}]
["I.","Покупная электроэнергия по одноставочному тарифу","руб",{"$f":"SUM(E12:H12)","v":0},{"$f":"J12+O12+T12+Y12+AD12+AI12+AN12+AS12+AX12+BC12+BH12+BM12","v":0},{"$f":"K12+P12+U12+Z12+AE12+AJ12+AO12+AT12+AY12+BD12+BI12+BN12","v":0},0,0,{"$f":"SUM(J12:M12)","v":0},{"$f":"J13*J14","v":0},{"$f":"K13*K14","v":0},0,0,{"$f":"SUM(O12:R12)","v":0},{"$f":"O13*O14","v":0},{"$f":"P13*P14","v":0},0,0,{"$f":"SUM(T12:W12)","v":0},{"$f":"T13*T14","v":0},{"$f":"U13*U14","v":0},0,0,{"$f":"SUM(Y12:AB12)","v":0},{"$f":"Y13*Y14","v":0},{"$f":"Z13*Z14","v":0},0,0,{"$f":"SUM(AD12:AG12)","v":0},{"$f":"AD13*AD14","v":0},{"$f":"AE13*AE14","v":0},0,0,{"$f":"SUM(AI12:AL12)","v":0},{"$f":"AI13*AI14","v":0},{"$f":"AJ13*AJ14","v":0},0,0,{"$f":"SUM(AN12:AQ12)","v":0},{"$f":"AN13*AN14","v":0},{"$f":"AO13*AO14","v":0},0,0,{"$f":"SUM(AS12:AV12)","v":0},{"$f":"AS13*AS14","v":0},{"$f":"AT13*AT14","v":0},0,0,{"$f":"SUM(AX12:BA12)","v":0},{"$f":"AX13*AX14","v":0},{"$f":"AY13*AY14","v":0},0,0,{"$f":"SUM(BC12:BF12)","v":0},{"$f":"BC13*BC14","v":0},0,0,0,{"$f":"SUM(BH12:BK12)","v":0},{"$f":"BH13*BH14","v":0},0,0,0,{"$f":"SUM(BM12:BP12)","v":0},{"$f":"BM13*BM14","v":0},0,0,0]
["1.","Тариф на электроэнергию","руб./кВт.ч",{"$f":"IF(D14=0,0,D12/D14)","v":0},0,0,0,0,{"$f":"IF(I14=0,0,I12/I14)","v":0},null,null,null,null,{"$f":"IF(N14=0,0,N12/N14)","v":0},null,null,null,null,{"$f":"IF(S14=0,0,S12/S14)","v":0},null,null,null,null,{"$f":"IF(X14=0,0,X12/X14)","v":0},null,null,null,null,{"$f":"IF(AC14=0,0,AC12/AC14)","v":0},null,null,null,null,{"$f":"IF(AH14=0,0,AH12/AH14)","v":0},null,null,null,null,{"$f":"IF(AM14=0,0,AM12/AM14)","v":0},null,null,null,null,{"$f":"IF(AR14=0,0,AR12/AR14)","v":0},null,null,null,null,{"$f":"IF(AW14=0,0,AW12/AW14)","v":0},null,null,null,null,{"$f":"IF(BB14=0,0,BB12/BB14)","v":0},null,null,null,null,{"$f":"IF(BG14=0,0,BG12/BG14)","v":0},null,null,null,null,{"$f":"IF(BL14=0,0,BL12/BL14)","v":0}]
["2.","Объем электроэнергии всего","кВт.ч",{"$f":"SUM(D16:D18)","v":0},{"$f":"SUM(E16:E18)","v":0},0,0,0,0,0,0,0,0,0,0,0,0,0,0,0,0,0,0,0,0,0,0,0,0,0,0,0,0,0,0,0,0,0,0,0,0,0,0,0,0,0,0,0,0,0,0,0,0,0,0,0,0,0,0,0,0,0,0,0,0,0,0,0]
[null,"в том числе:","кВт.ч"]
["2.1.","Прием и транспортировка (перекачка) стоков"," кВт.ч",{"$f":"E16+F16+G16+H16","v":0},{"$f":"J16+O16+T16+Y16+AD16+AI16+AN16+AS16+AX16+BC16+BH16+BM16","v":0},0,0,0,{"$f":"J16+K16+L16+M16","v":0},null,null,null,null,{"$f":"O16+P16+Q16+R16","v":0},null,null,null,null,{"$f":"T16+U16+V16+W16","v":0},null,null,null,null,{"$f":"Y16+Z16+AA16+AB16","v":0},null,null,null,null,{"$f":"AD16+AE16+AF16+AG16","v":0},null,null,null,null,{"$f":"AI16+AJ16+AK16+AL16","v":0},null,null,null,null,{"$f":"AN16+AO16+AP16+AQ16","v":0},null,null,null,null,{"$f":"AS16+AT16+AU16+AV16","v":0},null,null,null,null,{"$f":"AX16+AY16+AZ16+BA16","v":0},null,null,null,null,{"$f":"BC16+BD16+BE16+BF16","v":0},null,null,null,null,{"$f":"BH16+BI16+BJ16+BK16","v":0},null,null,null,null,{"$f":"BM16+BN16+BO16+BP16","v":0}]
["2.2."," Очистка стоков"," кВт.ч",{"$f":"E17+F17+G17+H17","v":0},0,0,0,0,{"$f":"J17+K17+L17+M17","v":0},null,null,null,null,{"$f":"O17+P17+Q17+R17","v":0},null,null,null,null,{"$f":"T17+U17+V17+W17","v":0},null,null,null,null,{"$f":"Y17+Z17+AA17+AB17","v":0},null,null,null,null,{"$f":"AD17+AE17+AF17+AG17","v":0},null,null,null,null,{"$f":"AI17+AJ17+AK17+AL17","v":0},null,null,null,null,{"$f":"AN17+AO17+AP17+AQ17","v":0},null,null,null,null,{"$f":"AS17+AT17+AU17+AV17","v":0},null,null,null,null,{"$f":"AX17+AY17+AZ17+BA17","v":0},null,null,null,null,0,null,null,null,null,0,null,null,null,null,0]
["2.3.","Утилизация осадка и его захоронение"," кВт.ч",0,0,0,0,0,0,null,null,null,null,0,null,null,null,null,0,null,null,null,null,0,null,null,null,null,0,null,null,null,null,0,null,null,null,null,0,null,null,null,null,0,null,null,null,null,0,null,null,null,null,0,null,null,null,null,0,null,null,null,null,0]
[]
["II.","Покупная электроэнергия по двухставочному тарифу","руб",{"$f":"SUM(E20:H20)","v":0},{"$f":"E21+E28","v":0},{"$f":"F21+F28","v":0},{"$f":"G21+G28","v":0},{"$f":"H21+H28","v":0},{"$f":"SUM(J20:M20)","v":0},{"$f":"J21+J28","v":0},{"$f":"K21+K28","v":0},{"$f":"L21+L28","v":0},{"$f":"M21+M28","v":0},{"$f":"SUM(O20:R20)","v":0},{"$f":"O21+O28","v":0},{"$f":"P21+P28","v":0},{"$f":"Q21+Q28","v":0},{"$f":"R21+R28","v":0},{"$f":"SUM(T20:W20)","v":0},{"$f":"T21+T28","v":0},{"$f":"U21+U28","v":0},{"$f":"V21+V28","v":0},{"$f":"W21+W28","v":0},{"$f":"SUM(Y20:AB20)","v":0},{"$f":"Y21+Y28","v":0},{"$f":"Z21+Z28","v":0},{"$f":"AA21+AA28","v":0},{"$f":"AB21+AB28","v":0},{"$f":"SUM(AD20:AG20)","v":0},{"$f":"AD21+AD28","v":0},{"$f":"AE21+AE28","v":0},{"$f":"AF21+AF28","v":0},{"$f":"AG21+AG28","v":0},{"$f":"SUM(AI20:AL20)","v":0},{"$f":"AI21+AI28","v":0},{"$f":"AJ21+AJ28","v":0},{"$f":"AK21+AK28","v":0},{"$f":"AL21+AL28","v":0},{"$f":"SUM(AN20:AQ20)","v":0},{"$f":"AN21+AN28","v":0},{"$f":"AO21+AO28","v":0},{"$f":"AP21+AP28","v":0},{"$f":"AQ21+AQ28","v":0},{"$f":"SUM(AS20:AV20)","v":0},{"$f":"AS21+AS28","v":0},{"$f":"AT21+AT28","v":0},{"$f":"AU21+AU28","v":0},{"$f":"AV21+AV28","v":0},{"$f":"SUM(AX20:BA20)","v":0},{"$f":"AX21+AX28","v":0},{"$f":"AY21+AY28","v":0},{"$f":"AZ21+AZ28","v":0},{"$f":"BA21+BA28","v":0},{"$f":"SUM(BC20:BF20)","v":0},{"$f":"BC21+BC28","v":0},{"$f":"BD21+BD28","v":0},{"$f":"BE21+BE28","v":0},{"$f":"BF21+BF28","v":0},{"$f":"SUM(BH20:BK20)","v":0},{"$f":"BH21+BH28","v":0},{"$f":"BI21+BI28","v":0},{"$f":"BJ21+BJ28","v":0},{"$f":"BK21+BK28","v":0},{"$f":"SUM(BM20:BP20)","v":0},{"$f":"BM21+BM28","v":0},{"$f":"BN21+BN28","v":0},{"$f":"BO21+BO28","v":0},{"$f":"BP21+BP28","v":0}]
["1.","Мощность","руб",{"$f":"E21+F21+G21+H21","v":0},{"$f":"J21+O21+T21+Y21+AD21+AI21+AN21+AS21+AX21+BC21+BH21+BM21","v":0},0,0,0,{"$f":"SUM(J21:M21)","v":0},{"$f":"J22*J23","v":0},{"$f":"K22*K23","v":0},0,0,{"$f":"SUM(O21:R21)","v":0},{"$f":"O22*O23","v":0},{"$f":"P22*P23","v":0},0,0,{"$f":"SUM(T21:W21)","v":0},{"$f":"T22*T23","v":0},{"$f":"U22*U23","v":0},0,0,{"$f":"SUM(Y21:AB21)","v":0},{"$f":"Y22*Y23","v":0},{"$f":"Z22*Z23","v":0},0,0,{"$f":"SUM(AD21:AG21)","v":0},{"$f":"AD22*AD23","v":0},{"$f":"AE22*AE23","v":0},0,0,{"$f":"SUM(AI21:AL21)","v":0},{"$f":"AI22*AI23","v":0},{"$f":"AJ22*AJ23","v":0},0,0,{"$f":"SUM(AN21:AQ21)","v":0},{"$f":"AN22*AN23","v":0},{"$f":"AO22*AO23","v":0},0,0,{"$f":"SUM(AS21:AV21)","v":0},{"$f":"AS22*AS23","v":0},{"$f":"AT22*AT23","v":0},0,0,{"$f":"SUM(AX21:BA21)","v":0},{"$f":"AX22*AX23","v":0},{"$f":"AY22*AY23","v":0},0,0,{"$f":"SUM(BC21:BF21)","v":0},{"$f":"BC22*BC23","v":0},{"$f":"BD22*BD23","v":0},0,0,{"$f":"SUM(BH21:BK21)","v":0},{"$f":"BH22*BH23","v":0},{"$f":"BI22*BI23","v":0},0,0,{"$f":"SUM(BM21:BP21)","v":0},{"$f":"BM22*BM23","v":0},{"$f":"BN22*BN23","v":0},0,0]
["1.1.","Тариф на мощность","руб/кВт",{"$f":"IF(D23=0,0,D21/D23)","v":0},0,0,0,0,{"$f":"IF(I23=0,0,I21/I23)","v":0},null,null,null,null,{"$f":"IF(N23=0,0,N21/N23)","v":0},null,null,null,null,{"$f":"IF(S23=0,0,S21/S23)","v":0},null,null,null,null,{"$f":"IF(X23=0,0,X21/X23)","v":0},null,null,null,null,{"$f":"IF(AC23=0,0,AC21/AC23)","v":0},null,null,null,null,{"$f":"IF(AH23=0,0,AH21/AH23)","v":0},null,null,null,null,{"$f":"IF(AM23=0,0,AM21/AM23)","v":0},null,null,null,null,{"$f":"IF(AR23=0,0,AR21/AR23)","v":0},null,null,null,null,{"$f":"IF(AW23=0,0,AW21/AW23)","v":0},null,null,null,null,{"$f":"IF(BB23=0,0,BB21/BB23)","v":0},null,null,null,null,{"$f":"IF(BG23=0,0,BG21/BG23)","v":0},null,null,null,null,{"$f":"IF(BL23=0,0,BL21/BL23)","v":0}]
["1.2.","Объем мощности всего","кВт",{"$f":"SUM(D25:D27)","v":0},{"$f":"SUM(E25:E27)","v":0},0,0,0,0,0,0,0,0,0,0,0,0,0,0,0,0,0,0,0,0,0,0,0,0,0,0,0,0,0,0,0,0,0,0,0,0,0,0,0,0,0,0,0,0,0,0,0,0,0,0,0,0,0,0,0,0,0,0,0,0,0,0,0]
[null,"в том числе:","кВт "]
["1.2.1","Прием и транспортировка (перекачка) стоков","кВт ",{"$f":"E25+F25+G25+H25","v":0},{"$f":"J25+O25+T25+Y25+AD25+AI25+AN25+AS25+AX25+BC25+BH25+BM25","v":0},0,0,0,{"$f":"J25+K25+L25+M25","v":0},null,null,null,null,{"$f":"O25+P25+Q25+R25","v":0},null,null,null,null,{"$f":"T25+U25+V25+W25","v":0},null,null,null,null,{"$f":"Y25+Z25+AA25+AB25","v":0},null,null,null,null,{"$f":"AD25+AE25+AF25+AG25","v":0},null,null,null,null,{"$f":"AI25+AJ25+AK25+AL25","v":0},null,null,null,null,{"$f":"AN25+AO25+AP25+AQ25","v":0},null,null,null,null,{"$f":"AS25+AT25+AU25+AV25","v":0},null,null,null,null,{"$f":"AX25+AY25+AZ25+BA25","v":0},null,null,null,null,{"$f":"BC25+BD25+BE25+BF25","v":0},null,null,null,null,{"$f":"BH25+BI25+BJ25+BK25","v":0},null,null,null,null,{"$f":"BM25+BN25+BO25+BP25","v":0}]
["1.2.2"," Очистка стоков","кВт ",{"$f":"E26+F26+G26+H26","v":0},0,0,0,0,{"$f":"J26+K26+L26+M26","v":0},null,null,null,null,{"$f":"O26+P26+Q26+R26","v":0},null,null,null,null,{"$f":"T26+U26+V26+W26","v":0},null,null,null,null,{"$f":"Y26+Z26+AA26+AB26","v":0},null,null,null,null,{"$f":"AD26+AE26+AF26+AG26","v":0},null,null,null,null,{"$f":"AI26+AJ26+AK26+AL26","v":0},null,null,null,null,{"$f":"AN26+AO26+AP26+AQ26","v":0},null,null,null,null,{"$f":"AS26+AT26+AU26+AV26","v":0},null,null,null,null,{"$f":"AX26+AY26+AZ26+BA26","v":0},null,null,null,null,0,null,null,null,null,0,null,null,null,null,0]
["1.2.3","Утилизация осадка и его захоронение","кВт ",0,0,0,0,0,0,null,null,null,null,0,null,null,null,null,0,null,null,null,null,0,null,null,null,null,0,null,null,null,null,0,null,null,null,null,0,null,null,null,null,0,null,null,null,null,0,null,null,null,null,0,null,null,null,null,0,null,null,null,null,0]
["2.","Активная электроэнергия","руб",{"$f":"E28+F28+G28+H28","v":0},{"$f":"J28+O28+T28+Y28+AD28+AI28+AN28+AS28+AX28+BC28+BH28+BM28","v":0},0,0,0,{"$f":"SUM(J28:M28)","v":0},{"$f":"J29*J30","v":0},{"$f":"K29*K30","v":0},0,0,{"$f":"SUM(O28:R28)","v":0},{"$f":"O29*O30","v":0},{"$f":"P29*P30","v":0},0,0,{"$f":"SUM(T28:W28)","v":0},{"$f":"T29*T30","v":0},{"$f":"U29*U30","v":0},0,0,{"$f":"SUM(Y28:AB28)","v":0},{"$f":"Y29*Y30","v":0},{"$f":"Z29*Z30","v":0},0,0,{"$f":"SUM(AD28:AG28)","v":0},{"$f":"AD29*AD30","v":0},{"$f":"AE29*AE30","v":0},0,0,{"$f":"SUM(AI28:AL28)","v":0},{"$f":"AI29*AI30","v":0},{"$f":"AJ29*AJ30","v":0},0,0,{"$f":"SUM(AN28:AQ28)","v":0},{"$f":"AN29*AN30","v":0},{"$f":"AO29*AO30","v":0},0,0,{"$f":"SUM(AS28:AV28)","v":0},{"$f":"AS29*AS30","v":0},{"$f":"AT29*AT30","v":0},0,0,{"$f":"SUM(AX28:BA28)","v":0},{"$f":"AX29*AX30","v":0},{"$f":"AY29*AY30","v":0},0,0,{"$f":"SUM(BC28:BF28)","v":0},{"$f":"BC29*BC30","v":0},{"$f":"BD29*BD30","v":0},0,0,{"$f":"SUM(BH28:BK28)","v":0},{"$f":"BH29*BH30","v":0},{"$f":"BI29*BI30","v":0},0,0,{"$f":"SUM(BM28:BP28)","v":0},{"$f":"BM29*BM30","v":0},{"$f":"BN29*BN30","v":0},0,0]
["2.1.","Тариф на электроэнергию","руб/кВт.ч",{"$f":"IF(D30=0,0,D28/D30)","v":0},0,0,0,0,{"$f":"IF(I30=0,0,I28/I30)","v":0},null,null,null,null,{"$f":"IF(N30=0,0,N28/N30)","v":0},null,null,null,null,{"$f":"IF(S30=0,0,S28/S30)","v":0},null,null,null,null,{"$f":"IF(X30=0,0,X28/X30)","v":0},null,null,null,null,{"$f":"IF(AC30=0,0,AC28/AC30)","v":0},null,null,null,null,{"$f":"IF(AH30=0,0,AH28/AH30)","v":0},null,null,null,null,{"$f":"IF(AM30=0,0,AM28/AM30)","v":0},null,null,null,null,{"$f":"IF(AR30=0,0,AR28/AR30)","v":0},null,null,null,null,{"$f":"IF(AW30=0,0,AW28/AW30)","v":0},null,null,null,null,{"$f":"IF(BB30=0,0,BB28/BB30)","v":0},null,null,null,null,{"$f":"IF(BG30=0,0,BG28/BG30)","v":0},null,null,null,null,{"$f":"IF(BL30=0,0,BL28/BL30)","v":0}]
["2.2.","Объем электроэнергии всего","кВт.ч",{"$f":"SUM(D32:D34)","v":0},{"$f":"SUM(E32:E34)","v":0},0,0,0,0,0,0,0,0,0,0,0,0,0,0,0,0,0,0,0,0,0,0,0,0,0,0,0,0,0,0,0,0,0,0,0,0,0,0,0,0,0,0,0,0,0,0,0,0,0,0,0,0,0,0,0,0,0,0,0,0,0,0,0]
[null,"в том числе:","кВт.ч"]
["2.2.1","Прием и транспортировка (перекачка) стоков"," кВт.ч",{"$f":"E32+F32+G32+H32","v":0},{"$f":"J32+O32+T32+Y32+AD32+AI32+AN32+AS32+AX32+BC32+BH32+BM32","v":0},0,0,0,{"$f":"J32+K32+L32+M32","v":0},null,null,null,null,{"$f":"O32+P32+Q32+R32","v":0},null,null,null,null,{"$f":"T32+U32+V32+W32","v":0},null,null,null,null,{"$f":"Y32+Z32+AA32+AB32","v":0},null,null,null,null,{"$f":"AD32+AE32+AF32+AG32","v":0},null,null,null,null,{"$f":"AI32+AJ32+AK32+AL32","v":0},null,null,null,null,{"$f":"AN32+AO32+AP32+AQ32","v":0},null,null,null,null,{"$f":"AS32+AT32+AU32+AV32","v":0},null,null,null,null,{"$f":"AX32+AY32+AZ32+BA32","v":0},null,null,null,null,{"$f":"BC32+BD32+BE32+BF32","v":0},null,null,null,null,{"$f":"BH32+BI32+BJ32+BK32","v":0},null,null,null,null,{"$f":"BM32+BN32+BO32+BP32","v":0}]
["2.2.2"," Очистка стоков"," кВт.ч",{"$f":"E33+F33+G33+H33","v":0},0,0,0,0,{"$f":"J33+K33+L33+M33","v":0},null,null,null,null,{"$f":"O33+P33+Q33+R33","v":0},null,null,null,null,{"$f":"T33+U33+V33+W33","v":0},null,null,null,null,{"$f":"Y33+Z33+AA33+AB33","v":0},null,null,null,null,{"$f":"AD33+AE33+AF33+AG33","v":0},null,null,null,null,{"$f":"AI33+AJ33+AK33+AL33","v":0},null,null,null,null,{"$f":"AN33+AO33+AP33+AQ33","v":0},null,null,null,null,{"$f":"AS33+AT33+AU33+AV33","v":0},null,null,null,null,{"$f":"AX33+AY33+AZ33+BA33","v":0},null,null,null,null,0,null,null,null,null,0,null,null,null,null,0]
["2.2.3","Утилизация осадка и его захоронение"," кВт.ч",0,0,0,0,0,0,null,null,null,null,0,null,null,null,null,0,null,null,null,null,0,null,null,null,null,0,null,null,null,null,0,null,null,null,null,0,null,null,null,null,0,null,null,null,null,0,null,null,null,null,0,null,null,null,null,0,null,null,null,null,0]
[]
["расход электроэнергии на подготовку воды",null,"кВт.ч",{"$f":"D16+D32","v":0},{"$f":"E16+E32","v":0},0,0,0,0,0,0,0,0,0,0,0,0,0,0,0,0,0,0,0,0,0,0,0,0,0,0,0,0,0,0,0,0,0,0,0,0,0,0,0,0,0,0,0,0,0,0,0,0,0,0,0,0,0,0,0,0,0,0,0,0,0,0,0]
["расход электроэнергии на транспортировку воды",null,"кВт.ч",{"$f":"D17+D18+D33+D34","v":0},{"$f":"E17+E18+E33+E34","v":0},0,0,0,0,0,0,0,0,0,0,0,0,0,0,0,0,0,0,0,0,0,0,0,0,0,0,0,0,0,0,0,0,0,0,0,0,0,0,0,0,0,0,0,0,0,0,0,0,0,0,0,0,0,0,0,0,0,0,0,0,0,0,0]

{"sheet":"ремонт хозспособ","index":12,"n_rows":54,"n_cols":10,"rows_kept":54,"cut":false,"hidden":false,"merged":[[31,0,35,0],[8,2,8,3],[8,4,10,4],[9,2,10,2],[9,3,10,3],[32,1,35,1],[31,1,31,8],[33,2,33,3],[32,2,32,8],[33,7,35,7],[33,4,35,4],[33,5,35,5],[33,6,35,6],[33,8,35,8],[34,2,35,2],[34,3,35,3],[0,0,0,8],[1,0,1,8],[2,0,2,8],[6,0,10,0],[6,1,6,8],[7,1,10,1],[8,7,10,7],[8,5,10,5],[7,2,7,8],[8,6,10,6],[8,8,10,8],[3,0,3,8]]}
["Отчет о выполнении текущего и капитального ремонтов хозспособом "]
[{"$f":"Титульный!C10","v":" "}]
[{"$f":"Титульный!C19","v":0}]
["имущество, переданное по договору аренды или принадлежащее на праве собственности"]
["район",{"$f":"Титульный!C6","v":""},null,null,"МО",{"$f":"Титульный!C7","v":""}]
["Текущий ремонт"]
["Наименование работ","Расходы на преведение текущего ремонта в 2015 году, руб"]
[null,"всего","в том числе"]
[null,null,"расходы на оплату труда ремонтного персонала ",null,"материалы","транспортные расходы","услуги вспомогательных производств","цеховые (общепроизводственные) расходы","Общехозяйственные расходы"]
[null,null,"заработная плата","отчисления от ФОТ"]
[]
[null,{"$f":"SUM(C12:I12)","v":0}]
[null,{"$f":"SUM(C13:I13)","v":0}]
[null,0]
[null,0]
[null,0]
[null,0]
[null,0]
[null,0]
[null,0]
[null,0,null,null,null,null,null,null,null,"строки вставлять здесь"]
[null,0]
[null,0]
[null,0]
["ВСЕГО",{"$f":"SUM(B12:B24)","v":0},{"$f":"SUM(C12:C24)","v":0},{"$f":"SUM(D12:D24)","v":0},0,0,0,0,0]
["в том числе"]
["Прием и транспортировка (перекачка) стоков",{"$f":"SUM(C27:I27)","v":0},{"$f":"C25-C28-C29","v":0},{"$f":"D25-D28-D29","v":0},0,0,0,0,0]
[" Очистка стоков",{"$f":"SUM(C28:I28)","v":0}]
["Утилизация осадка и его захоронение",0]
[]
["Капитальный ремонт"]
["Наименование работ","Расходы на преведение капитального ремонта в 2015 году, руб"]
[null,"всего","в том числе"]
[null,null,"расходы на оплату труда ремонтного персонала ",null,"материалы","транспортные расходы","услуги вспомогательных производств",{"$f":"H9","v":"цеховые (общепроизводственные) расходы"},"Общехозяйственные расходы"]
[null,null,"заработная плата","отчисления от ФОТ"]
[]
[null,{"$f":"SUM(C37:I37)","v":0}]
[null,{"$f":"SUM(C38:I38)","v":0}]
[null,0]
[null,0]
[null,0]
[null,0]
[null,0]
[null,0]
[null,0]
[null,0,null,null,null,null,null,null,null,"строки вставлять здесь"]
[null,0]
[null,0]
[null,0]
["ВСЕГО",{"$f":"SUM(B37:B49)","v":0},{"$f":"SUM(C37:C49)","v":0},{"$f":"SUM(D37:D49)","v":0},{"$f":"SUM(E37:E49)","v":0},{"$f":"SUM(F37:F49)","v":0},{"$f":"SUM(G37:G49)","v":0},0,{"$f":"SUM(I37:I49)","v":0}]
["в том числе"]
["Прием и транспортировка (перекачка) стоков",{"$f":"SUM(C52:I52)","v":0},{"$f":"C50-C53-C54","v":0},{"$f":"D50-D53-D54","v":0},{"$f":"E50-E53-E54","v":0},{"$f":"F50-F53-F54","v":0},{"$f":"G50-G53-G54","v":0},{"$f":"H50-H53-H54","v":0},{"$f":"I50-I53-I54","v":0}]
[" Очистка стоков",{"$f":"SUM(C53:I53)","v":0}]
["Утилизация осадка и его захоронение",0]

{"sheet":"ремонт хозспособ (бсх)","index":13,"n_rows":54,"n_cols":10,"rows_kept":54,"cut":false,"hidden":false,"merged":[[3,0,3,8],[0,0,0,8],[1,0,1,8],[2,0,2,8],[6,0,10,0],[6,1,6,8],[7,1,10,1],[7,2,7,8],[8,2,8,3],[8,4,10,4],[8,5,10,5],[8,6,10,6],[8,7,10,7],[8,8,10,8],[9,2,10,2],[9,3,10,3],[31,0,35,0],[31,1,31,8],[32,1,35,1],[32,2,32,8],[33,2,33,3],[33,8,35,8],[34,2,35,2],[34,3,35,3],[33,7,35,7],[33,4,35,4],[33,5,35,5],[33,6,35,6]]}
["Отчет о выполнении текущего и капитального ремонтов хозспособом "]
[{"$f":"Титульный!C10","v":" "}]
[{"$f":"Титульный!C19","v":0}]
["бесхозяйное имущество"]
["район",{"$f":"Титульный!C6","v":""},null,null,"МО",{"$f":"Титульный!C7","v":""}]
["Текущий ремонт"]
["Наименование работ","Расходы на преведение текущего ремонта в 2015 году, руб"]
[null,"всего","в том числе"]
[null,null,"расходы на оплату труда ремонтного персонала ",null,"материалы","транспортные расходы","услуги вспомогательных производств","цеховые (общепроизводственные) расходы","Общехозяйственные расходы"]
[null,null,"заработная плата","отчисления от ФОТ"]
[]
[null,{"$f":"SUM(C12:I12)","v":0}]
[null,{"$f":"SUM(C13:I13)","v":0}]
[null,0]
[null,0]
[null,0]
[null,0]
[null,0]
[null,0]
[null,0]
[null,0,null,null,null,null,null,null,null,"строки вставлять здесь"]
[null,0]
[null,0]
[null,0]
["ВСЕГО",{"$f":"SUM(B12:B24)","v":0},{"$f":"SUM(C12:C24)","v":0},{"$f":"SUM(D12:D24)","v":0},0,0,0,0,0]
["в том числе"]
["Прием и транспортировка (перекачка) стоков",{"$f":"SUM(C27:I27)","v":0},{"$f":"C25-C28-C29","v":0},{"$f":"D25-D28-D29","v":0},0,0,0,0,0]
[" Очистка стоков",{"$f":"SUM(C28:I28)","v":0}]
["Утилизация осадка и его захоронение",0]
[]
["Капитальный ремонт"]
["Наименование работ","Расходы на преведение капитального ремонта в 2015 году, руб"]
[null,"всего","в том числе"]
[null,null,"расходы на оплату труда ремонтного персонала ",null,"материалы","транспортные расходы","услуги вспомогательных производств",{"$f":"H9","v":"цеховые (общепроизводственные) расходы"},"Общехозяйственные расходы"]
[null,null,"заработная плата","отчисления от ФОТ"]
[]
[null,{"$f":"SUM(C37:I37)","v":0}]
[null,{"$f":"SUM(C38:I38)","v":0}]
[null,0]
[null,0]
[null,0]
[null,0]
[null,0]
[null,0]
[null,0]
[null,0,null,null,null,null,null,null,null,"строки вставлять здесь"]
[null,0]
[null,0]
[null,0]
["ВСЕГО",{"$f":"SUM(B37:B49)","v":0},{"$f":"SUM(C37:C49)","v":0},{"$f":"SUM(D37:D49)","v":0},0,0,0,0,{"$f":"SUM(I37:I49)","v":0}]
["в том числе"]
["Прием и транспортировка (перекачка) стоков",{"$f":"SUM(C52:I52)","v":0},{"$f":"C50-C53-C54","v":0},{"$f":"D50-D53-D54","v":0},0,0,0,0,0]
[" Очистка стоков",{"$f":"SUM(C53:I53)","v":0}]
["Утилизация осадка и его захоронение",0]

{"sheet":"ремонт подряд","index":14,"n_rows":44,"n_cols":6,"rows_kept":44,"cut":false,"hidden":false,"merged":[[0,0,0,3],[1,0,1,3],[2,0,2,3],[6,0,6,3]]}
["Отчет о выполнении текущего и капитального ремонтов подрядным способом"]
[{"$f":"Титульный!C10","v":" "}]
[{"$f":"Титульный!C19","v":0}]
[]
["район",null,{"$f":"Титульный!C6","v":""}]
["МО",null,{"$f":"Титульный!C7","v":""}]
["имущество, переданное по договору аренды или принадлежащее на праве собственности"]
["Текущий ремонт"]
["Наименование работ","Наименование организации- подрядчика","№ договора","Сумма в 2015 году, руб","итого принято ДТР ТО"]
[]
[]
[]
[]
[]
[]
[]
[null,null,null,null,null,"строки вставлять здесь"]
[]
[]
["ВСЕГО","х","х",{"$f":"SUM(D10:D19)","v":0},{"$f":"SUM(E16:E19)","v":0}]
["в том числе"]
["Прием и транспортировка (перекачка) стоков",null,null,{"$f":"D20-D23-D24","v":0}]
[" Очистка стоков"]
["Утилизация осадка и его захоронение"]
[]
["Капитальный ремонт"]
["Наименование работ","Наименование организации- подрядчика","№ договора","Сумма в 2015 году, руб","итого принято ДТР ТО"]
[]
[]
[]
[]
[]
[]
[]
[]
[null,null,null,null,null,"строки вставлять здесь"]
[]
[]
[]
["ВСЕГО","х","х",{"$f":"SUM(D28:E39)","v":0},{"$f":"SUM(E36:E39)","v":0}]
["в том числе"]
["Прием и транспортировка (перекачка) стоков",null,null,{"$f":"D40-D43-D44","v":0}]
[" Очистка стоков"]
["Утилизация осадка и его захоронение"]

{"sheet":"ремонт подряд (бсх)","index":15,"n_rows":45,"n_cols":6,"rows_kept":45,"cut":false,"hidden":false,"merged":[[0,0,0,3],[1,0,1,3],[2,0,2,3],[6,0,6,3]]}
["Отчет о выполнении текущего и капитального ремонтов подрядным способом"]
[{"$f":"Титульный!C10","v":" "}]
[{"$f":"Титульный!C19","v":0}]
[]
["район",null,{"$f":"Титульный!C6","v":""}]
["МО",null,{"$f":"Титульный!C7","v":""}]
["Бесхозяйное имущество"]
["Текущий ремонт"]
["Наименование работ","Наименование организации- подрядчика","№ договора","Сумма в 2015 году, руб","итого принято ДТР ТО"]
[]
[]
[]
[]
[]
[]
[]
[null,null,null,null,null,"строки вставлять здесь"]
[]
[]
["ВСЕГО","х","х",{"$f":"SUM(D10:D19)","v":0},{"$f":"SUM(E16:E19)","v":0}]
["в том числе"]
["Прием и транспортировка (перекачка) стоков",null,null,{"$f":"D20-D23-D24","v":0}]
[" Очистка стоков"]
["Утилизация осадка и его захоронение"]
[]
[]
["Капитальный ремонт"]
["Наименование работ","Наименование организации- подрядчика","№ договора","Сумма в 2015 году, руб","итого принято ДТР ТО"]
[]
[]
[]
[]
[]
[]
[]
[]
[null,null,null,null,null,"строки вставлять здесь"]
[]
[]
[]
["ВСЕГО","х","х",{"$f":"SUM(D29:E40)","v":0},{"$f":"SUM(E37:E40)","v":0}]
["в том числе"]
["Прием и транспортировка (перекачка) стоков",null,null,{"$f":"D41-D44-D45","v":0}]
[" Очистка стоков"]
["Утилизация осадка и его захоронение"]

{"sheet":"Смета факт","index":16,"n_rows":181,"n_cols":11,"rows_kept":181,"cut":false,"hidden":false,"merged":[[8,0,8,2],[5,0,7,0],[5,1,7,1],[0,0,0,10],[1,0,1,10],[2,0,2,10],[5,2,5,10],[6,2,7,2],[6,7,6,10],[6,3,6,6]]}
["Фактическая смета расходов и НВВ по установленному тарифу в сфере водоснабжения за 2015 год"]
[{"$f":"Титульный!C10","v":" "}]
[{"$f":"Титульный!C19","v":0}]
["район",{"$f":"Титульный!C6","v":""},"МО",null,{"$f":"Титульный!C7","v":""}]
[]
["№ п/п","Наименование статьи","Сумма, руб"]
[null,null,"ВСЕГО","в том числе имущество по договору аренды или находящееся в собственности",null,null,null,"в том числе бесхозяйное имущество"]
[null,null,null,"Итого","прием (транспортировка) сточных вод","очистка сточных вод","утилизация осадка и его захоронение","Итого","прием (транспортировка) сточных вод","очистка сточных вод","утилизация осадка и его захоронение"]
["номер бухгалтерского счета (субсчета) учета затрат",null,null,null,"20.1.","20.2.","20.3.",null,"20.6.","20.6.","20.6."]
["I","ПРОИЗВОДСТВЕННЫЕ РАСХОДЫ",{"$f":"D10+H10","v":0},{"$f":"D11+D19+D32+D38+D45","v":0},{"$f":"E11+E19+E32+E38+E45","v":0},{"$f":"F11+F19+F32+F38+F45","v":0},0,{"$f":"H11+H19+H32+H38+H45","v":0},0,0,{"$f":"K11+K19+K32+K38+K45","v":0}]
["1.","Расходы на приобретение сырья и материалов и их хранения",{"$f":"D11+H11","v":0},{"$f":"D12+D13+D14+D15","v":0},{"$f":"E12+E13+E14+E15","v":0},{"$f":"F12+F13+F14+F15","v":0},0,{"$f":"H12+H13+H14+H15","v":0},0,0,{"$f":"K12+K13+K14+K15","v":0}]
["1.1.","реагенты",0,{"$f":"SUM(E12:G12)","v":0},null,null,null,{"$f":"SUM(I12:K12)","v":0}]
[]
["1.2.","горюче-смазочные материалы",0,{"$f":"SUM(E14:G14)","v":0},null,null,null,{"$f":"SUM(I14:K14)","v":0}]
["1.3.","материалы и малоценные основные средства, в т.ч.",0,{"$f":"D16+D17+D18","v":0},{"$f":"E16+E17+E18","v":0},{"$f":"F16+F17+F18","v":0},0,{"$f":"H16+H17+H18","v":0},0,0,{"$f":"K16+K17+K18","v":0}]
["1.3.1.","материалы на техническое обслуживание",0,0,null,null,null,0]
["1.3.2.","специальная одежда",0,0,null,null,null,0]
["1.3.3.","хозяйственный инвентарь и другие  вспомогательные материалы",0,0,null,null,null,0]
["2.","Расходы на энергетические ресурсы и холодную воду",0,{"$f":"D20+D23+D24+D25+D26+D27","v":0},{"$f":"E20+E23+E24+E25+E26+E27","v":0},{"$f":"F20+F23+F24+F25+F26+F27","v":0},0,{"$f":"H20+H23+H24+H25+H26+H27","v":0},0,0,{"$f":"K20+K23+K24+K25+K26+K27","v":0}]
["2.1.","Электроэнергия, в том числе",0,{"$f":"D21+D22","v":0},{"$f":"E21+E22","v":0},{"$f":"F21+F22","v":0},0,{"$f":"H21+H22","v":0},0,0,{"$f":"K21+K22","v":0}]
["2.1.1.","активная",0,{"$f":"SUM(E21:G21)","v":0},{"$f":"('отчет по электроэнергии'!D16*'отчет по электроэнергии'!D13+'отчет по электроэнергии'!D32*'отчет по электроэнергии'!D29)","v":0},{"$f":"('отчет по электроэнергии'!D17*'отчет по электроэнергии'!D13+'отчет по электроэнергии'!D33*'отчет по электроэнергии'!D29)","v":0},{"$f":"('отчет по электроэнергии'!D18*'отчет по электроэнергии'!D13+'отчет по электроэнергии'!D34*'отчет по электроэнергии'!D29)","v":0},{"$f":"SUM(I21:K21)","v":0},{"$f":"('отчет по электроэнергии (бсх)'!D16*'отчет по электроэнергии (бсх)'!D13+'отчет по электроэнергии (бсх)'!D32*'отчет по электроэнергии (бсх)'!D29)","v":0},{"$f":"('отчет по электроэнергии (бсх)'!D17*'отчет по электроэнергии (бсх)'!D13+'отчет по электроэнергии (бсх)'!D33*'отчет по электроэнергии (бсх)'!D29)","v":0},{"$f":"('отчет по электроэнергии (бсх)'!D34*'отчет по электроэнергии (бсх)'!D29+'отчет по электроэнергии (бсх)'!D18*'отчет по электроэнергии (бсх)'!D13)","v":0}]
["2.1.2.","мощность",0,0,{"$f":"'отчет по электроэнергии'!D25*'отчет по электроэнергии'!D21","v":0},{"$f":"'отчет по электроэнергии'!D26*'отчет по электроэнергии'!D22","v":0},{"$f":"'отчет по электроэнергии'!D27*'отчет по электроэнергии'!D22","v":0},0,{"$f":"'отчет по электроэнергии (бсх)'!D25*'отчет по электроэнергии (бсх)'!D22","v":0},{"$f":"'отчет по электроэнергии (бсх)'!D26*'отчет по электроэнергии (бсх)'!D22","v":0},{"$f":"'отчет по электроэнергии (бсх)'!D27*'отчет по электроэнергии (бсх)'!D22","v":0}]
["2.2.","Тепловая энергия",0,0,null,null,null,0]
["2.3.","Вода на собственные нужды",0,0,null,null,null,0]
["2.4.","Водоотведение на собственные нужды",0,0,null,null,null,0]
["2.5.","Прочие энергоресурсы",0,0,null,null,null,0]
[]
[]
[]
[]
[]
["3.","Расходы на оплат уработ и услуг, выполняемых сторонними организациями,  связанные с эксплуатацией централизованных систем либо объектов в составе таких систем, по регулируемым тарифам",0,{"$f":"D33+D34+D35+D36","v":0},{"$f":"E33+E34+E35+E36","v":0},{"$f":"F33+F34+F35+F36","v":0},0,0,0,0,0]
["3.1.","Услуги по транспортировке стоков",0,{"$f":"SUM(E33:G33)","v":0},null,null,null,{"$f":"SUM(I33:K33)","v":0}]
["3.2.","Услуги по очистке стоков",0,0,null,null,null,0]
["3.3.","Услуги по  утилизации сточной жидкости, оказываемые сторонними организациями",0,{"$f":"D36+D37","v":0},null,null,null,{"$f":"H36+H37","v":0}]
["3.4.","Расходы на обезвозживание, обезвреживание и захоронение  осадка сточных вод",0,{"$f":"SUM(E36:G36)","v":0},null,null,null,{"$f":"SUM(I36:K36)","v":0}]
[]
["4.","Расходы на оплату труда и отчисления на социальные нужды",0,{"$f":"D39+D42","v":0},{"$f":"E39+E42","v":0},{"$f":"F39+F42","v":0},0,{"$f":"H39+H42","v":0},0,0,{"$f":"K39+K42","v":0}]
["4.1.","Расходы на оплату труда основного персонала",0,{"$f":"SUM(E39:G39)","v":0},null,null,null,{"$f":"SUM(I39:K39)","v":0}]
["4.2.","Численность основного персонала, относимого на регулируемый вид деятельности, чел",0,0,null,null,null,0]
["4.2.1.","Ставка рабочего 1-го разряда (с учетом отраслевого коэффициента)",0,{"$f":"E41","v":0},null,null,null,{"$f":"I41","v":0}]
["4.3.","Отчисления на социальные нужды от расходов на оплату труда",0,{"$f":"SUM(E42:G42)","v":0},null,null,null,{"$f":"SUM(I42:K42)","v":0}]
["4.3.1."," % расходов на уплату страховых взносов в ПФ, ФСС, ОМС",0]
["4.3.2.","% платежей в фонд социального страхования от несчастных случаев",0]
["5.","Прочие производственные расходы",0,{"$f":"D46+D67+D73+D74+D75","v":0},{"$f":"E46+E67+E73+E74+E75","v":0},{"$f":"F46+F67+F73+F74+F75","v":0},0,{"$f":"H46+H67+H73+H74+H75","v":0},0,0,{"$f":"K46+K67+K73+K74+K75","v":0}]
["5.1.","Услуги собственных подразделений",0,{"$f":"D47+D52+D57+D62","v":0},{"$f":"E47+E52+E57+E62","v":0},{"$f":"F47+F52+F57+F62","v":0},0,{"$f":"H47+H52+H57+H62","v":0},0,0,{"$f":"K47+K52+K57+K62","v":0}]
["5.1.1.","Услуги вспомогательных производств",0,{"$f":"D48+D50+D51","v":0},{"$f":"E48+E50+E51","v":0},{"$f":"F48+F50+F51","v":0},0,{"$f":"H48+H50+H51","v":0},0,0,{"$f":"K48+K50+K51","v":0}]
["5.1.1.1.","Расходы на оплату труда, относимую на регулируемый вид деятельности",0,{"$f":"SUM(E48:G48)","v":0},null,null,null,{"$f":"SUM(I48:K48)","v":0}]
["5.1.1.1.1.","Численность, относимая на регулируемый вид деятельности, чел",0,0,null,null,null,0]
["5.1.1.2.","Отчисления на социальные нужды от расходов на оплату труда",0,0,null,null,null,0]
["5.1.1.3.","Прочие расходы",0,0,null,null,null,0]
["5.1.2.","Транспортные расходы",0,{"$f":"D53+D55+D56","v":0},{"$f":"E53+E55+E56","v":0},{"$f":"F53+F55+F56","v":0},0,{"$f":"H53+H55+H56","v":0},0,0,{"$f":"K53+K55+K56","v":0}]
["5.1.2.1.","Расходы на оплату труда, относимую на регулируемый вид деятельности",0,{"$f":"SUM(E53:G53)","v":0},null,null,null,{"$f":"SUM(I53:K53)","v":0}]
["5.1.2.1.1.","Численность, относимая на регулируемый вид деятельности, чел",0,0,null,null,null,0]
["5.1.2.2.","Отчисления на социальные нужды от расходов на оплату труда",0,0,null,null,null,0]
["5.1.2.3.","Прочие расходы",0,0,null,null,null,0]
["5.1.3.","Цеховые расходы",0,{"$f":"D58+D60+D61","v":0},{"$f":"E58+E60+E61","v":0},{"$f":"F58+F60+F61","v":0},0,{"$f":"H58+H60+H61","v":0},0,0,{"$f":"K58+K60+K61","v":0}]
["5.1.3.1.","Расходы на оплату труда, относимую на регулируемый вид деятельности",0,{"$f":"SUM(E58:G58)","v":0},null,null,null,{"$f":"SUM(I58:K58)","v":0}]
["5.1.3.1.1.","Численность, относимая на регулируемый вид деятельности, чел",0,0,null,null,null,0]
["5.1.3.2.","Отчисления на социальные нужды от расходов на оплату труда",0,0,null,null,null,0]
["5.1.3.3.","Прочие расходы",0,0,null,null,null,0]
["5.1.4.","Общепроизводственные расходы",0,{"$f":"D63+D65+D66","v":0},{"$f":"E63+E65+E66","v":0},{"$f":"F63+F65+F66","v":0},0,{"$f":"H63+H65+H66","v":0},0,0,{"$f":"K63+K65+K66","v":0}]
["5.1.4.1.","Расходы на оплату труда, относимую на регулируемый вид деятельности",0,{"$f":"SUM(E63:G63)","v":0},null,null,null,{"$f":"SUM(I63:K63)","v":0}]
["5.1.4.1.1.","Численность, относимая на регулируемый вид деятельности, чел",0,0,null,null,null,0]
["5.1.4.2.","Отчисления на социальные нужды от расходов на оплату труда",0,0,null,null,null,0]
["5.1.4.3.","Прочие расходы",0,0,null,null,null,0]
["5.2.","Охрана труда всего, в том числе:",0,{"$f":"SUM(D68:D72)","v":0},{"$f":"SUM(E68:E72)","v":0},{"$f":"SUM(F68:F72)","v":0},0,{"$f":"SUM(H68:H72)","v":0},0,0,{"$f":"SUM(K68:K72)","v":0}]
["5.2.1.","моющие средства",0,{"$f":"SUM(E68:G68)","v":0},null,null,null,{"$f":"SUM(I68:K68)","v":0}]
["5.2.2.","специальное питание",0,0,null,null,null,0]
["5.2.3.","страхование персонала (кроме ДМС)",0,0,null,null,null,0]
["5.2.4.","аттестация",0,0,null,null,null,0]
["5.2.5.","медицинский осмотр",0,0,null,null,null,0]
["5.3.","Расходы на льготный проезд",0,0,null,null,null,0]
["5.4.","Расходы на содержание зданий (вывоз ТБО, дератизация, дезинсекция)",0,0,null,null,null,0]
["5.5.","Производственный контроль состава и свойств сточных вод",{"$f":"D75+H75","v":0},{"$f":"SUM(D76:D77)","v":0},{"$f":"SUM(E76:E77)","v":0},{"$f":"SUM(F76:F77)","v":0},0,{"$f":"SUM(H76:H77)","v":0},0,0,{"$f":"SUM(K76:K77)","v":0}]
["5.5.1."," контроль состава и свойств стоков",0,{"$f":"SUM(E76:G76)","v":0},null,null,null,{"$f":"SUM(I76:K76)","v":0}]
["5.5.2.","оборудование  лаборатории",0,0,null,null,null,0]
["II","РЕМОНТНЫЕ РАСХОДЫ",0,{"$f":"D79+D90","v":0},{"$f":"E79+E90","v":0},{"$f":"F79+F90","v":0},0,{"$f":"H79+H90","v":0},0,0,{"$f":"K79+K90","v":0}]
["6.1.","Текущий ремонт централизованных систем водоотведения, объектов, входящих в состав таких систем, в том числе:",0,{"$f":"D80+D89","v":0},{"$f":"E80+E89","v":0},{"$f":"F80+F89","v":0},0,{"$f":"H80+H89","v":0},0,0,{"$f":"K80+K89","v":0}]
["6.1.1.","затраты на ремонт хоз. способом:",0,{"$f":"SUM(D83:D88,D81)","v":0},{"$f":"SUM(E83:E88,E81)","v":0},0,0,0,0,0,0]
["6.1.1.1.","заработная плата ремонтного персонала",0,{"$f":"SUM(E81:G81)","v":0},{"$f":"'ремонт хозспособ'!C27","v":0},{"$f":"'ремонт хозспособ'!C28","v":0},{"$f":"'ремонт хозспособ'!C29","v":0},{"$f":"SUM(I81:K81)","v":0},{"$f":"'ремонт хозспособ (бсх)'!C27","v":0},{"$f":"'ремонт хозспособ (бсх)'!C28","v":0},{"$f":"'ремонт хозспособ (бсх)'!C29","v":0}]
["6.1.1.1.1.","Численность, относимая на регулируемый вид деятельности, чел",0,{"$f":"SUM(E82:G82)","v":0},null,null,null,0]
["6.1.1.2.","отчисления на социальные нужды от расходов на оплату труда",0,0,{"$f":"'ремонт хозспособ'!D27","v":0},{"$f":"'ремонт хозспособ'!D28","v":0},{"$f":"'ремонт хозспособ'!D29","v":0},0,{"$f":"'ремонт хозспособ (бсх)'!D27","v":0},{"$f":"'ремонт хозспособ (бсх)'!D28","v":0},{"$f":"'ремонт хозспособ (бсх)'!D29","v":0}]
["6.1.1.3.","материалы",0,0,{"$f":"'ремонт хозспособ'!E27","v":0},{"$f":"'ремонт хозспособ'!E28","v":0},{"$f":"'ремонт хозспособ'!E29","v":0},0,{"$f":"'ремонт хозспособ (бсх)'!E27","v":0},{"$f":"'ремонт хозспособ (бсх)'!E28","v":0},{"$f":"'ремонт хозспособ (бсх)'!E29","v":0}]
["6.1.1.4.","услуги вспомогательных производств",0,0,{"$f":"'ремонт хозспособ'!G27","v":0},{"$f":"'ремонт хозспособ'!G28","v":0},{"$f":"'ремонт хозспособ'!G29","v":0},0,{"$f":"'ремонт хозспособ (бсх)'!G27","v":0},{"$f":"'ремонт хозспособ (бсх)'!G28","v":0},{"$f":"'ремонт хозспособ (бсх)'!G29","v":0}]
["6.1.1.5.","транспортные расходы",0,0,{"$f":"'ремонт хозспособ'!F27","v":0},{"$f":"'ремонт хозспособ'!F28","v":0},{"$f":"'ремонт хозспособ'!F29","v":0},0,{"$f":"'ремонт хозспособ (бсх)'!F27","v":0},{"$f":"'ремонт хозспособ (бсх)'!F28","v":0},{"$f":"'ремонт хозспособ (бсх)'!F29","v":0}]
["6.1.1.6.","цеховые расходы",0,0,{"$f":"'ремонт хозспособ'!H27","v":0},{"$f":"'ремонт хозспособ'!H28","v":0},{"$f":"'ремонт хозспособ'!H29","v":0},0,{"$f":"'ремонт хозспособ (бсх)'!H27","v":0},{"$f":"'ремонт хозспособ (бсх)'!H28","v":0},{"$f":"'ремонт хозспособ (бсх)'!H29","v":0}]
["6.1.1.7.","общехозяйственные расходы",0,0,{"$f":"'ремонт хозспособ'!I27","v":0},{"$f":"'ремонт хозспособ'!I28","v":0},{"$f":"'ремонт хозспособ'!I29","v":0},0,{"$f":"'ремонт хозспособ (бсх)'!I27","v":0},{"$f":"'ремонт хозспособ (бсх)'!I28","v":0},{"$f":"'ремонт хозспособ (бсх)'!I29","v":0}]
["6.1.2.","затраты на ремонт подрядным способом",0,0,{"$f":"'ремонт подряд'!D22","v":0},{"$f":"'ремонт подряд'!D23","v":0},{"$f":"'ремонт подряд'!D24","v":0},0,{"$f":"'ремонт подряд (бсх)'!D22","v":0},{"$f":"'ремонт подряд (бсх)'!D23","v":0},{"$f":"'ремонт подряд (бсх)'!D24","v":0}]
["6.2.","Капитальный ремонт централизованных систем водоотведения, объектов, входящих в состав таких систем, в том числе:",0,{"$f":"D91+D100","v":0},{"$f":"E91+E100","v":0},{"$f":"F91+F100","v":0},0,{"$f":"H91+H100","v":0},0,0,{"$f":"K91+K100","v":0}]
["6.2.1."," затраты на ремонт хоз.способом:",0,{"$f":"SUM(D94:D99,D92)","v":0},{"$f":"SUM(E94:E99,E92)","v":0},0,0,0,0,0,0]
["6.2.1.1.","заработная плата ремонтного персонала",0,{"$f":"SUM(E92:G92)","v":0},{"$f":"'ремонт хозспособ'!C52","v":0},{"$f":"'ремонт хозспособ'!C53","v":0},{"$f":"'ремонт хозспособ'!C54","v":0},{"$f":"SUM(I92:K92)","v":0},{"$f":"'ремонт хозспособ (бсх)'!C52","v":0},{"$f":"'ремонт хозспособ (бсх)'!C53","v":0},{"$f":"'ремонт хозспособ (бсх)'!C54","v":0}]
[null,"Численность, относимая на регулируемый вид деятельности, чел",0,{"$f":"SUM(E93:G93)","v":0},null,null,null,0]
["6.2.1.2.","отчисления на социальные нужды от расходов на оплату труда",0,0,{"$f":"'ремонт хозспособ'!D52","v":0},{"$f":"'ремонт хозспособ'!D53","v":0},{"$f":"'ремонт хозспособ'!D54","v":0},0,{"$f":"'ремонт хозспособ (бсх)'!D52","v":0},{"$f":"'ремонт хозспособ (бсх)'!D53","v":0},{"$f":"'ремонт хозспособ (бсх)'!D54","v":0}]
["6.2.1.3.","материалы",0,0,{"$f":"'ремонт хозспособ'!E52","v":0},{"$f":"'ремонт хозспособ'!E53","v":0},{"$f":"'ремонт хозспособ'!E54","v":0},0,{"$f":"'ремонт хозспособ (бсх)'!E52","v":0},{"$f":"'ремонт хозспособ (бсх)'!E53","v":0},{"$f":"'ремонт хозспособ (бсх)'!E54","v":0}]
["6.2.1.4.","услуги вспомогательных производств",0,0,{"$f":"'ремонт хозспособ'!G52","v":0},{"$f":"'ремонт хозспособ'!G53","v":0},{"$f":"'ремонт хозспособ'!G54","v":0},0,{"$f":"'ремонт хозспособ (бсх)'!G52","v":0},{"$f":"'ремонт хозспособ (бсх)'!G53","v":0},{"$f":"'ремонт хозспособ (бсх)'!G54","v":0}]
["6.2.1.5.","транспортные расходы",0,0,{"$f":"'ремонт хозспособ'!F52","v":0},{"$f":"'ремонт хозспособ'!F53","v":0},{"$f":"'ремонт хозспособ'!F54","v":0},0,{"$f":"'ремонт хозспособ (бсх)'!F52","v":0},{"$f":"'ремонт хозспособ (бсх)'!F53","v":0},{"$f":"'ремонт хозспособ (бсх)'!F54","v":0}]
["6.2.1.6.","цеховые расходы",0,0,{"$f":"'ремонт хозспособ'!H52","v":0},{"$f":"'ремонт хозспособ'!H53","v":0},{"$f":"'ремонт хозспособ'!H54","v":0},0,{"$f":"'ремонт хозспособ (бсх)'!H52","v":0},{"$f":"'ремонт хозспособ (бсх)'!H53","v":0},{"$f":"'ремонт хозспособ (бсх)'!H54","v":0}]
["6.2.1.7.","общехозяйственные расходы",0,0,{"$f":"'ремонт хозспособ'!I52","v":0},{"$f":"'ремонт хозспособ'!I53","v":0},{"$f":"'ремонт хозспособ'!I54","v":0},0,{"$f":"'ремонт хозспособ (бсх)'!I52","v":0},{"$f":"'ремонт хозспособ (бсх)'!I53","v":0},{"$f":"'ремонт хозспособ (бсх)'!I54","v":0}]
["6.2.2.","затраты на ремонт подрядным способом",0,0,{"$f":"'ремонт подряд'!D42","v":0},{"$f":"'ремонт подряд'!D43","v":0},{"$f":"'ремонт подряд'!D44","v":0},0,{"$f":"'ремонт подряд (бсх)'!D43","v":0},{"$f":"'ремонт подряд (бсх)'!D44","v":0},{"$f":"'ремонт подряд (бсх)'!D45","v":0}]
["III","ПРОЧИЕ РАСХОДЫ",0,{"$f":"SUM(D102:D108)","v":0},0,0,0,0,0,0,0]
["7.1.","Расходы на услуги связи",0,{"$f":"SUM(E102:G102)","v":0},null,null,null,{"$f":"SUM(I102:K102)","v":0}]
["7.2.","Вневедомственная охрана объектов и территории",0,0,null,null,null,0]
["7.3.","Расходы на обучение персонала",0,0,null,null,null,0]
["7.4.","Расходы на служебные командировки",0,0,null,null,null,0]
["7.5.","Расходы на страхование производственных объектов",0,0,null,null,null,0]
["7.6.","Лицензирование",0,0,null,null,null,0]
["7.7.","Прочие расходы",0,{"$f":"SUM(D109:D128)","v":0},{"$f":"SUM(E109:E128)","v":0},{"$f":"SUM(F109:F128)","v":0},0,{"$f":"SUM(H109:H128)","v":0},0,0,{"$f":"SUM(K109:K128)","v":0}]
[null,null,0,{"$f":"SUM(E109:G109)","v":0},null,null,null,{"$f":"SUM(I109:K109)","v":0}]
[null,null,0,0,null,null,null,0]
[null,null,0,0,null,null,null,0]
[null,null,0,0,null,null,null,0]
[null,null,0,0,null,null,null,0]
[null,null,0,0,null,null,null,0]
[null,null,0,0,null,null,null,0]
[null,null,0,0,null,null,null,0]
[null,null,0,0,null,null,null,0]
[null,null,0,0,null,null,null,0]
[null,null,0,0,null,null,null,0]
[null,null,0,0,null,null,null,0]
[null,null,0,0,null,null,null,0]
[null,null,0,0,null,null,null,0]
[null,null,0,0,null,null,null,0]
[null,null,0,0,null,null,null,0]
[null,null,0,0,null,null,null,0]
[null,null,0,0,null,null,null,0]
[null,null,0,0,null,null,null,0]
[null,null,0,0,null,null,null,0]
["IV","ОБЩЕХОЗЯЙСТВЕННЫЕ РАСХОДЫ",0,{"$f":"D130+D132+D133","v":0},{"$f":"E130+E132+E133","v":0},{"$f":"F130+F132+F133","v":0},0,{"$f":"H130+H132+H133","v":0},0,0,{"$f":"K130+K132+K133","v":0}]
["8.1.","Расходы на оплату труда, относимую на регулируемый вид деятельности",0,{"$f":"SUM(E130:G130)","v":0},null,null,null,{"$f":"SUM(I130:K130)","v":0}]
["8.1.1.","Численность, относимая на регулируемый вид деятельности, чел",0,0,null,null,null,0]
["8.2.","Отчисления на социальные нужды от расходов на оплату труда",0,0,null,null,null,0]
["8.3.","Прочие расходы",0,{"$f":"SUM(D134:D148)","v":0},{"$f":"SUM(E134:E148)","v":0},{"$f":"SUM(F134:F148)","v":0},0,{"$f":"SUM(H134:H148)","v":0},0,0,{"$f":"SUM(K134:K148)","v":0}]
[null,null,0,{"$f":"SUM(E134:G134)","v":0},null,null,null,{"$f":"SUM(I134:K134)","v":0}]
[null,null,0,0,null,null,null,0]
[null,null,0,0,null,null,null,0]
[null,null,0,0,null,null,null,0]
[null,null,{"$f":"D138+H138","v":0},0,null,null,null,0]
[null,null,0,0,null,null,null,0]
[null,null,0,0,null,null,null,0]
[null,null,0,0,null,null,null,0]
[null,null,0,0,null,null,null,0]
[null,null,0,0,null,null,null,0]
[null,null,0,0,null,null,null,0]
[null,null,0,0,null,null,null,0]
[null,null,0,0,null,null,null,0]
[null,null,0,0,null,null,null,0]
[null,null,0,0,null,null,null,0]
["IV","СБЫТОВЫЕ РАСХОДЫ",0,{"$f":"SUM(D150:D151)","v":0},{"$f":"SUM(E150:E151)","v":0},{"$f":"SUM(F150:F151)","v":0},0,{"$f":"SUM(H150:H151)","v":0},0,0,{"$f":"SUM(K150:K151)","v":0}]
["9.1.","Расходы по сомнительным долгам",0,{"$f":"SUM(E150:G150)","v":0},null,null,null,{"$f":"SUM(I150:K150)","v":0}]
["9.2.","Прочие сбытовые расходы",0,0,null,null,null,0]
["V","РАСХОДЫ НА АМОРТИЗАЦИЮ ОСНОВНЫХ СРЕДСТВ И НЕМАТЕРИАЛЬНЫХ АКТИВОВ",0,{"$f":"SUM(D153:D154)","v":0},{"$f":"SUM(E153:E154)","v":0},{"$f":"SUM(F153:F154)","v":0},0,{"$f":"SUM(H153:H154)","v":0},0,0,{"$f":"SUM(K153:K154)","v":0}]
["10.1.","Амортизация основных средств,относимых к объектам централизованной системы водоотведения",0,0,null,null,null,0]
["10.2.","Амортизация нематериальных активов,относимых к объектам централизованной системы водоотведения",0,0,null,null,null,0]
["VI","РАСХОДЫ НА АРЕНДНУЮ ПЛАТУ, ЛИЗИНГОВЫЕ ПЛАТЕЖИ, КОНЦЕССИОННУЮ ПЛАТУ",0,{"$f":"SUM(D156:D159)","v":0},{"$f":"SUM(E156:E159)","v":0},{"$f":"SUM(F156:F159)","v":0},0,0,0,0,0]
["11.1.","лизинговые платежи",0,0,null,null,null,0]
["11.2.","концессионная плата",0,0,null,null,null,0]
["11.3.","аренда имущества",0,0,null,null,null,0]
["11.4.","аренда земельных участков",0,0,null,null,null,0]
["VII","РАСХОДЫ, СВЯЗАННЫЕ С ОПЛАТОЙ НАЛОГОВ И СБОРОВ",0,{"$f":"SUM(D161:D166)","v":0},{"$f":"SUM(E161:E166)","v":0},{"$f":"SUM(F161:F166)","v":0},0,{"$f":"SUM(H161:H166)","v":0},0,0,{"$f":"SUM(K161:K166)","v":0}]
[]
["11.5.","налог на землю",0,0,null,null,null,0]
["11.6.","налог на имущество",0,0,null,null,null,0]
["11.7.","плата за загрязнение окружающей среды",0,0,null,null,null,0]
["11.8.","транспортный налог",0,0,null,null,null,0]
["11.9.","прочие налоги и сборы",0,0,null,null,null,0]
["VIII","Финансовый результат от реализации",0,{"$f":"D169+D170+D171+D172+D173+D174","v":0},null,null,null,{"$f":"H169+H170+H171+H172+H173+H174","v":0}]
["12.1.","то же в %",{"$f":"IF(SUM(C10,C78,C101,C129,C149,C152,C155,C160,C173:C174)=0,0,SUM(C169:C172)/SUM(C10,C78,C101,C129,C149,C152,C155,C160,C173:C174)*100)","v":0},{"$f":"IF(SUM(D10,D78,D101,D129,D149,D152,D155,D160,D173:D174)=0,0,SUM(D169:D172)/SUM(D10,D78,D101,D129,D149,D152,D155,D160,D173:D174)*100)","v":0},null,null,null,{"$f":"IF(SUM(H10,H78,H101,H129,H149,H152,H155,H160,H173:H174)=0,0,SUM(H169:H172)/SUM(H10,H78,H101,H129,H149,H152,H155,H160,H173:H174)*100)","v":0}]
["12.2.","средства на возврат займов и кредитов и процентов по ним",0]
["12.3.","расходы на капитальные вложения (инвестиции)",0]
["12.4.","денежные выплаты социального характера (по коллективному договору)",0]
["12.5.","прибыль, обеспечивающая финансирование других расходов, не учитываемых  при определении налоговой бызы налога на прибыль (остающаяся в распоряжении организации)",0]
["13.1.","налог на прибыль",0]
["13.2."," (или)единый налог при УСН ",0]
["IХ","НЕОБХОДИМАЯ ВАЛОВАЯ ВЫРУЧКА",{"$f":"C167+C160+C155+C152+C149+C129+C101+C78+C10","v":0},0,0,0,0,0,0,0,0]
["16.","Товарная продукция",{"$f":"C175-C177","v":0},{"$f":"D175-D177","v":0}]
["17.","Затраты на собственное потребление",{"$f":"C181*C179","v":0},{"$f":"D181*D179","v":0}]
["18.","Принято стоков всего, м3, в том числе: ",{"$f":"'полезный отпуск'!B26","v":0},{"$f":"C178","v":0},null,null,null,{"$f":"D178","v":0}]
["18.1.","от собственных абонентов",{"$f":"'полезный отпуск'!C26","v":0},{"$f":"C179","v":0},null,null,null,{"$f":"D179","v":0}]
["18.2.","от сторонних потребителей",{"$f":"C178-C179","v":0},{"$f":"C180","v":0},null,null,null,{"$f":"D180","v":0}]
["X","Цена (тариф) на холодную воду, руб./м3",{"$f":"IF(C178=0,0,C175/C178)","v":0},{"$f":"IF(D178=0,0,D175/D178)","v":0},null,null,null,{"$f":"IF(H178=0,0,H175/H178)","v":0}]

{"sheet":"выручка по форме №2","index":17,"n_rows":109,"n_cols":3,"rows_kept":109,"cut":false,"hidden":false,"merged":[[1,0,1,2],[0,0,0,2],[3,0,4,0],[3,1,4,1],[3,2,4,2]]}
["Отчёт по бухгалтерской форме №2 за 2015 год  с детализацией по видам деятельности"]
[{"$f":"Титульный!C10","v":" "}]
[]
["№ п/п","Наименование показателя","Сумма, руб"]
[]
["I","Доходы и расходы по обычным видам деятельности"]
["1.1","Выручка (нетто) от продажи товаров, продукции, работ, услуг (за минусом налога на добавленную стоимость, акцизов и аналогичных обязательных платежей)",{"$f":"SUM(C8:C17)","v":0}]
["1.1.1","Поставка тепловой энергии"]
["1.1.2","Производство электроэнергии"]
["1.1.3","Поставка горячей воды"]
["1.1.4","Поставка холодной воды"]
["1.1.5","Водоотведение"]
["1.1.6","Очистка сточных вод"]
["1.1.7"]
["1.1.8"]
["1.1.9"]
["1.1.10","Прочие (нерегулируемые) виды деятельности"]
["1.2","Себестоимость проданных товаров, продукции, работ, услуг",{"$f":"SUM(C19:C28)","v":0}]
["1.2.1","Поставка тепловой энергии"]
["1.2.2","Производство электроэнергии"]
["1.2.3","Поставка горячей воды"]
["1.2.4","Поставка холодной воды"]
["1.2.5","Водоотведение"]
["1.2.6","Очистка сточных вод"]
["1.2.7"]
["1.2.8"]
["1.2.9"]
["1.2.10","Прочие (нерегулируемые) виды деятельности"]
["1.3","Валовая прибыль",{"$f":"SUM(C30:C39)","v":0}]
["1.3.1","Поставка тепловой энергии",{"$f":"C8-C19","v":0}]
["1.3.2","Производство электроэнергии",{"$f":"C9-C20","v":0}]
["1.3.3","Поставка горячей воды",0]
["1.3.4","Поставка холодной воды",0]
["1.3.5","Водоотведение",0]
["1.3.6","Очистка сточных вод",0]
["1.3.7",null,0]
["1.3.8",null,0]
["1.3.9",null,0]
["1.3.10","Прочие (нерегулируемые) виды деятельности",0]
["1.4","Коммерческие расходы",{"$f":"SUM(C41:C50)","v":0}]
["1.4.1","Поставка тепловой энергии"]
["1.4.2","Производство электроэнергии"]
["1.4.3","Поставка горячей воды"]
["1.4.4","Поставка холодной воды"]
["1.4.5","Водоотведение"]
["1.4.6","Очистка сточных вод"]
["1.4.7"]
["1.4.8"]
["1.4.9"]
["1.4.10","Прочие (нерегулируемые) виды деятельности"]
["1.5","Управленческие расходы",{"$f":"SUM(C52:C61)","v":0}]
["1.5.1","Поставка тепловой энергии"]
["1.5.2","Производство электроэнергии"]
["1.5.3","Поставка горячей воды"]
["1.5.4","Поставка холодной воды"]
["1.5.5","Водоотведение"]
["1.5.6","Очистка сточных вод"]
["1.5.7"]
["1.5.8"]
["1.5.9"]
["1.5.10","Прочие (нерегулируемые) виды деятельности"]
["1.6","Прибыль (убыток) от продаж ",{"$f":"SUM(C63:C72)","v":0}]
["1.6.1","Поставка тепловой энергии",{"$f":"C30-C41-C52","v":0}]
["1.6.2","Производство электроэнергии",{"$f":"C31-C42-C53","v":0}]
["1.6.3","Поставка горячей воды",0]
["1.6.4","Поставка холодной воды",0]
["1.6.5","Водоотведение",0]
["1.6.6","Очистка сточных вод",0]
["1.6.7",null,0]
["1.6.8",null,0]
["1.6.9",null,0]
["1.6.10","Прочие (нерегулируемые) виды деятельности",0]
["II","Прочие доходы и расходы",{"$f":"C74-C85","v":0}]
["2.3","Прочие доходы",{"$f":"SUM(C75:C84)","v":0}]
["2.3.1","Поставка тепловой энергии"]
["2.3.2","Производство электроэнергии"]
["2.3.3","Поставка горячей воды"]
["2.3.4","Поставка холодной воды"]
["2.3.5","Водоотведение"]
["2.3.6","Очистка сточных вод"]
["2.3.7"]
["2.3.8"]
["2.3.9"]
["2.3.10","Прочие (нерегулируемые) виды деятельности"]
["2.4","Прочие расходы",{"$f":"SUM(C86:C95)","v":0}]
["2.4.1","Поставка тепловой энергии"]
["2.4.2","Производство электроэнергии"]
["2.4.3","Поставка горячей воды"]
["2.4.4","Поставка холодной воды"]
["2.4.5","Водоотведение"]
["2.4.6","Очистка сточных вод"]
["2.4.7"]
["2.4.8"]
["2.4.9"]
["2.4.10","Прочие (нерегулируемые) виды деятельности"]
["3","Прибыль (убыток) до налогообложения ",{"$f":"SUM(C97:C106)","v":0}]
["3.1.1","Поставка тепловой энергии",{"$f":"C63+C75-C86","v":0}]
["3.1.2","Производство электроэнергии",{"$f":"C64+C76-C87","v":0}]
["3.1.3","Поставка горячей воды",0]
["3.1.4","Поставка холодной воды",0]
["3.1.5","Водоотведение",0]
["3.1.6","Очистка сточных вод",0]
["3.1.7",null,0]
["3.1.8",null,0]
["3.1.9",null,0]
["3.1.10","Прочие (нерегулируемые) виды деятельности",0]
["3.2.2","Текущий налог на прибыль"]
["3.2.3"]
[null,"Чистая прибыль (убыток) отчетного периода",{"$f":"C96-C107","v":0}]

{"sheet":"показатели надежн и качества","index":18,"n_rows":24,"n_cols":16,"rows_kept":24,"cut":false,"hidden":false,"merged":[[21,0,21,3],[18,10,18,12],[18,13,18,14],[18,15,18,16],[8,9,8,16],[9,10,9,12],[9,13,9,14],[9,15,9,16],[10,10,10,12],[10,13,10,14],[10,15,10,16],[8,0,8,3],[17,0,17,3],[17,9,17,16],[6,2,7,2],[0,9,0,16],[6,9,7,9],[6,10,7,12],[6,13,7,14],[6,15,6,16],[7,15,7,16],[2,0,2,3],[0,0,0,3],[1,0,1,3],[6,0,7,0],[6,1,7,1]]}
["Фактические значения показателей надежности, качества и энергетической эффективности объектов централизованных систем водоснабжения",null,null,null,null,null,null,null,null,"V. Плановые значения показателей надежности, качества и энергетической эффективности объектов централизованных систем водоснабжения"]
[{"$f":"Титульный!C10","v":" "}]
[{"$f":"Титульный!C19","v":0}]
["район",{"$f":"Титульный!C6","v":""}]
["МО",{"$f":"Титульный!C7","v":""}]
[]
["№ п/п","Наименование показателя","ед. изм.","2015 год",null,null,null,null,null,"№ п/п","Наименование показателя",null,null,"ед. изм.",null,{"$f":"#REF!","v":{"$error":"#REF!"}}]
[null,null,null,"Значение",null,null,null,null,null,null,null,null,null,null,null,"Значение"]
["Показатели качества очистки стоков",null,null,null,null,null,null,null,null,"Показатели качества воды"]
[1,"Доля сточных вод, не подвергающихся очистке, в общем объеме сточных вод, сбрасываемых в централизованные системы водоотведения","%",{"$f":"IF(('баланс ВО'!D10-'баланс ВО'!D12)=0,0,('баланс ВО'!G10-'баланс ВО'!G28)/('баланс ВО'!D10-'баланс ВО'!D12)*100)","v":0},null,null,null,null,null,1,"Доля проб питьевой воды, подаваемой с водопроводных станций в распределительную водопроводную сеть, не соответствующих установленным требованиям, в общем объеме проб, отобранных по результатам производственного контроля качества питьевой воды",null,null,"%"]
[2,"Доля поверхностных сточных вод, не подвергающихся очистке, в общем объеме поверхностных сточных вод, принимаемых в централизованную ливневую систему водоотведения","%",{"$f":"IF('баланс ВО'!D12=0,0,'баланс ВО'!D29/'баланс ВО'!D12*100)","v":0},null,null,null,null,null,2,"Доля проб питьевой воды в распределительной водопроводной сети, не соответствующих установленным требованиям, в общем объеме проб, отобранных по результатам производственного контроля качества питьевой воды",null,null,"%"]
[3,"Доля проб сточных вод, не соответствующих установленным нормативам допустимых сбросов, лимитам на сбросы для централизованной системы водоотведения","%",{"$f":"IF(D14=0,0,D13/D14*100)","v":0},"приложить отчеты о проведении исследований!"]
["3.1.","количество проб сточной воды, не соответствующих установленным нормативам для централизованной системы водоотведения","ед"]
["3.2.","количество проб сточной воды в централизованной системе водоотведения всего","ед",null,"если исследования не проводились поставить прочерк"]
[4,"Доля проб сточных вод, не соответствующих установленным нормативам допустимых сбросов, лимитам на сбросы для ливневой системы водоотведения","%",{"$f":"IF(D17=0,0,D16/D17*100)","v":0},"приложить отчеты о проведении исследований!"]
["4.1.","количество проб сточной воды, не соответствующих установленным нормативам для ливневой системы водоотведения","ед"]
["4.2.","количество проб сточной воды в ливневой системе водоотведения всего","ед",null,"если исследования не проводились поставить прочерк"]
["Показатели надежности и бесперебойности водоотведения",null,null,null,null,null,null,null,null,"Показатели надежности и бесперебойности водоснабжения"]
[1,"Удельное количество аварий и засоров в расчете на протяженность канализационной сети в год","ед в год/ км",{"$f":"IF(D21=0,0,D20/D21)","v":0},"приложить подтверждающие документы!",null,null,null,null,1,"Количество зафиксированных перерывов в подаче холодной воды, возникших в результате аварий, повреждений и иных технологических нарушений",null,null,"ед в год/ км"]
["1.1.","количество аварий и засоров канализационной сети за год","ед"]
["1.2.","протяженность канализационных сетей","км",{"$f":"'Техн характер системы'!C33+'Техн характер системы'!C56","v":0}]
["Показатели энергетической эффективности использования ресурсов"]
[1,"Удельный расход электроэнергии, потребляемой в технологическом процессе очистки сточных вод на единицу объема очищаемых сточных вод","кВт.ч / куб.м",{"$f":"IF('баланс ВО'!D27=0,0,'отчет по электроэнергии'!D37/'баланс ВО'!D27)","v":0}]
[2,"Удельный расход электроэнергии, потребляемой в технологическом процессе транспортировки сточных вод на единицу объема транспортируемых сточных вод","кВт.ч / куб.м",{"$f":"IF('баланс ВО'!D24=0,0,'отчет по электроэнергии'!D36/'баланс ВО'!D24)","v":0}]

{"sheet":"отчет ПП1","index":19,"n_rows":52,"n_cols":21,"rows_kept":52,"cut":false,"hidden":false,"merged":[[2,0,2,1],[2,2,2,7],[2,12,2,13],[2,14,2,19],[3,0,3,1],[3,2,3,7],[3,12,3,13],[3,14,3,19],[1,0,1,1],[1,2,1,3],[1,4,1,5],[1,12,1,13],[1,14,1,15],[1,16,1,17],[6,0,6,1],[6,2,6,7],[6,12,6,13],[6,14,6,19],[7,0,7,1],[7,2,7,7],[7,12,7,13],[7,14,7,19],[4,0,4,1],[4,2,4,7],[4,12,4,13],[4,14,4,19],[5,0,5,1],[5,2,5,7],[5,12,5,13],[5,14,5,19],[12,0,13,0],[12,1,13,4],[12,5,12,7],[12,12,13,12],[12,13,13,16],[12,17,12,19],[8,0,8,1],[8,5,8,7],[8,12,8,13],[8,17,8,19],[9,2,9,3],[9,4,9,5],[9,14,9,15],[9,16,9,17],[14,1,14,4],[14,13,14,16],[15,1,15,4],[15,13,15,16],[16,1,16,4],[16,13,16,16],[11,2,11,3],[11,4,11,5],[11,14,11,15],[11,16,11,17],[21,0,22,0],[21,1,22,4],[21,5,21,7],[21,12,22,12],[21,13,22,16],[21,17,21,19],[17,1,17,4],[17,13,17,16],[18,2,18,3],[18,4,18,5],[18,14,18,15],[18,16,18,17],[27,0,28,0],[27,5,27,7],[27,12,28,12],[27,17,27,19],[30,8,31,8],[30,9,31,9],[31,0,31,7],[31,12,31,19],[23,1,23,4],[23,13,23,16],[25,0,25,7],[25,12,25,19],[26,2,26,3],[26,4,26,5],[26,14,26,15],[26,16,26,17],[37,1,37,3],[37,13,37,15],[40,0,40,7],[40,12,40,19],[41,1,41,3],[41,13,41,15],[33,16,34,16],[33,17,33,19],[35,0,35,7],[35,12,35,19],[36,1,36,3],[36,13,36,15],[33,0,34,0],[33,1,34,3],[33,4,34,4],[33,5,33,7],[33,12,34,12],[33,13,34,15],[50,13,50,15],[51,13,51,15],[38,1,38,3],[39,1,39,3],[38,13,38,15],[39,13,39,15],[47,14,47,15],[47,16,47,17],[48,12,49,12],[48,13,49,15],[48,16,49,16],[48,17,48,19],[42,0,42,7],[42,12,42,19],[43,1,43,3],[43,13,43,15],[44,1,44,3],[44,13,44,15]]}
["I. Отчет о выполнении производственной программы за 2015 год",null,null,null,null,null,null,null,null,null,null,null,"I. Отчет о выполнении производственной программы за 2015 год"]
[]
["Полное наименование организации",null,{"$f":"Титульный!C10","v":" "},null,null,null,null,null,null,null,null,null,"Полное наименование организации",null,{"$f":"C3","v":" "}]
["Юридический адрес, телефон, факс",null,{"$f":"CONCATENATE('данные об организации'!C5,'данные об организации'!C6)","v":""},null,null,null,null,null,null,null,null,null,"Юридический адрес, телефон, факс",null,{"$f":"C4","v":""}]
["ИНН",null,{"$f":"Титульный!C9","v":""},null,null,null,null,null,null,null,null,null,"ИНН",null,{"$f":"C5","v":""}]
["Сфера деятельности",null,{"$f":"Титульный!C15","v":"Водоотведение"},null,null,null,null,null,null,null,null,null,"Сфера деятельности",null,{"$f":"C6","v":"Водоотведение"}]
["Наименование уполномоченного органа",null,"Департамент тарифного регулирования Томской   области",null,null,null,null,null,null,null,null,null,"Наименование уполномоченного органа",null,"Департамент тарифного регулирования Томской   области"]
["Юридический адрес, телефон, факс",null,"634041, г. Томск, пр. Кирова 41, тел./факс: (3822)   560-373",null,null,null,null,null,null,null,null,null,"Юридический адрес, телефон, факс",null,"634041, г. Томск, пр. Кирова 41, тел./факс: (3822)   560-373"]
["Период реализации производственной программы (график реализации мероприятий производственной программы)",null,"с ",null,"по","2015-12-31",null,null,null,null,null,null,"Период реализации производственной программы (график реализации мероприятий производственной программы)",null,"с ","2015-01-01","по","2015-12-31",null,null,"см. приказ, если неполный год"]
[]
["II. Выполнение плановых мероприятий",null,null,null,null,null,null,null,null,null,null,null,"II. Выполнение плановых мероприятий"]
[]
["№ п/п","Вид плановых мероприятий",null,null,null,"Сумма за 2015 год, тыс.руб",null,null,null,null,null,null,"№ п/п","Вид плановых мероприятий",null,null,null,"Сумма за 2015 год, тыс.руб"]
[null,null,null,null,null,"план","факт","откл",null,null,null,null,null,null,null,null,null,"план","факт","откл"]
[1,"Плановые мероприятия: по ремонту объектов водоотведения и канализационных сетей, направленные на улучшение качества очистки сточных вод, обслуживания абонентов",null,null,null,null,{"$f":"'Смета факт'!C78/1000","v":0},{"$f":"G15-F15","v":0},null,null,null,null,1,"Плановые мероприятия: по ремонту объектов водоотведения и канализационных сетей, направленные на улучшение качества очистки сточных вод, обслуживания абонентов",null,null,null,{"$f":"ROUND('анализ факт сметы'!C76/1000,2)","v":0},{"$f":"ROUND('анализ факт сметы'!E76/1000,2)","v":0},{"$f":"S15-R15","v":0},"см. приказ, если неполный год"]
[2,"Плановые мероприятия по энергосбережению и повышению энергетической эффективности, в том числе по снижению потерь воды при транспортировке",null,null,null,0,null,{"$f":"G16-F16","v":0},"расшифровать источники",null,null,null,2,"Плановые мероприятия по энергосбережению и повышению энергетической эффективности, в том числе по снижению потерь воды при транспортировке",null,null,null,0,{"$f":"ROUND(G16,2)","v":0},{"$f":"S16-R16","v":0}]
[3,"Другие мероприятия",null,null,null,0,null,{"$f":"G17-F17","v":0},"расшифровать источники",null,null,null,3,"Другие мероприятия",null,null,null,0,{"$f":"ROUND(G17,2)","v":0},{"$f":"S17-R17","v":0}]
[null,"Итого",null,null,null,{"$f":"SUM(F15:F17)","v":0},{"$f":"SUM(G15:G17)","v":0},0,null,null,null,null,null,"Итого",null,null,null,{"$f":"SUM(R15:R17)","v":0},{"$f":"SUM(S15:S17)","v":0},0]
[]
["III. Объем принятых сточных вод ",null,null,null,null,null,null,null,null,null,null,null,"III. Объем принятых сточных вод "]
[]
["№ п/п","Наименование показателя",null,null,null,"Объем за 2015 год, тыс. куб.м.",null,null,null,null,null,null,"№ п/п","Наименование показателя",null,null,null,"Объем за 2015 год, тыс. куб.м."]
[null,null,null,null,null,"план","факт","откл",null,null,null,null,null,null,null,null,null,"план","факт","откл"]
[1,"Объем реализации",null,null,null,null,{"$f":"'баланс ВО'!D14/1000","v":0},{"$f":"G24-F24","v":0},null,null,null,null,1,"Объем реализации",null,null,null,{"$f":"ROUND('анализ факт сметы'!C176/1000,2)","v":0},{"$f":"ROUND('анализ факт сметы'!E176/1000,2)","v":0},{"$f":"S24-R24","v":0},"см. приказ, если неполный год"]
[]
["IV. Объем финансовых потребностей, необходимых для реализации производственной программы",null,null,null,null,null,null,null,null,null,null,null,"IV. Объем финансовых потребностей, необходимых для реализации производственной программы"]
[]
["№ п/п","Наименование показателя",null,null,null,"Сумма за 2015 год, тыс.руб",null,null,null,null,null,null,"№ п/п","Наименование показателя",null,null,null,"Сумма за 2015 год, тыс.руб"]
[null,null,null,null,null,"план","факт","откл",null,null,null,null,null,null,null,null,null,"план","факт","откл"]
[1,"Необходимая валовая выручка",null,null,null,null,{"$f":"'Смета факт'!C175/1000","v":0},{"$f":"G30-F30","v":0},null,null,null,null,1,"Необходимая валовая выручка",null,null,null,{"$f":"ROUND('анализ факт сметы'!C173/1000,2)","v":0},{"$f":"ROUND('анализ факт сметы'!E173/1000,2)","v":0},{"$f":"S30-R30","v":0},"см. приказ, если неполный год"]
[]
["V. Выполнение плановые значения показателей надежности, качества и энергетической эффективности объектов централизованных систем водоотведения",null,null,null,null,null,null,null,null,null,null,null,"V. Выполнение плановые значения показателей надежности, качества и энергетической эффективности объектов централизованных систем водоотведения"]
[]
["№ п/п","Наименование показателя",null,null,"ед. изм.","Значение за 2015 год",null,null,null,null,null,null,"№ п/п","Наименование показателя",null,null,"ед. изм.","Значение за 2015 год"]
[null,null,null,null,null,"план","факт","откл",null,null,null,null,null,null,null,null,null,"план","факт","откл"]
["Показатели качества очистки стоков",null,null,null,null,null,null,null,null,null,null,null,"Показатели качества очистки стоков"]
[1,"Доля сточных вод, не подвергающихся очистке, в общем объеме сточных вод, сбрасываемых в централизованные системы водоотведения",null,null,"%",null,{"$f":"'показатели надежн и качества'!D10","v":0},{"$f":"G37-F37","v":0},null,null,null,null,1,"Доля сточных вод, не подвергающихся очистке, в общем объеме сточных вод, сбрасываемых в централизованные системы водоотведения",null,null,"%",null,{"$f":"ROUND('показатели надежн и качества'!D10,2)","v":0},{"$f":"S37-R37","v":0}]
[2,"Доля поверхностных сточных вод, не подвергающихся очистке, в общем объеме поверхностных сточных вод, принимаемых в централизованную ливневую систему водоотведения",null,null,"%",null,{"$f":"'показатели надежн и качества'!D11","v":0},{"$f":"G38-F38","v":0},null,null,null,null,2,"Доля поверхностных сточных вод, не подвергающихся очистке, в общем объеме поверхностных сточных вод, принимаемых в централизованную ливневую систему водоотведения",null,null,"%",null,{"$f":"ROUND('показатели надежн и качества'!D11,2)","v":0},{"$f":"S38-R38","v":0}]
[3,"Доля проб сточных вод, не соответствующих установленным нормативам допустимых сбросов, лимитам на сбросы для централизованной системы водоотведения",null,null,"%",null,{"$f":"'показатели надежн и качества'!D12","v":0},{"$f":"G39-F39","v":0},null,null,null,null,3,"Доля проб сточных вод, не соответствующих установленным нормативам допустимых сбросов, лимитам на сбросы для централизованной системы водоотведения",null,null,"%",null,{"$f":"ROUND('показатели надежн и качества'!D12,2)","v":0},{"$f":"S39-R39","v":0}]
[4,"Доля проб сточных вод, не соответствующих установленным нормативам допустимых сбросов, лимитам на сбросы для ливневой системы водоотведения",null,null,"%",null,{"$f":"'показатели надежн и качества'!D15","v":0},0,null,null,null,null,4,"Доля проб сточных вод, не соответствующих установленным нормативам допустимых сбросов, лимитам на сбросы для ливневой системы водоотведения",null,null,"%",null,{"$f":"ROUND('показатели надежн и качества'!D15,2)","v":0},0]
["Показатели надежности и бесперебойности водоотведения",null,null,null,null,null,null,null,null,null,null,null,"Показатели надежности и бесперебойности водоотведения"]
[1,"Удельное количество аварий и засоров в расчете на протяженность канализационной сети в год",null,null,"ед в год/ км",null,{"$f":"'показатели надежн и качества'!D19","v":0},{"$f":"G42-F42","v":0},null,null,null,null,1,"Удельное количество аварий и засоров в расчете на протяженность канализационной сети в год",null,null,"ед в год/ км",null,{"$f":"ROUND(G42,2)","v":0},{"$f":"S42-R42","v":0}]
["Показатели энергетической эффективности использования ресурсов",null,null,null,null,null,null,null,null,null,null,null,"Показатели энергетической эффективности использования ресурсов"]
[1,"Удельный расход электроэнергии, потребляемой в технологическом процессе очистки сточных вод на единицу объема очищаемых сточных вод",null,null,"%",null,{"$f":"'показатели надежн и качества'!D23","v":0},{"$f":"G44-F44","v":0},null,null,null,null,1,"Удельный расход электроэнергии, потребляемой в технологическом процессе очистки сточных вод на единицу объема очищаемых сточных вод",null,null,"%",null,{"$f":"ROUND(G44,2)","v":0},{"$f":"S44-R44","v":0}]
[2,"Удельный расход электроэнергии, потребляемой в технологическом процессе транспортировки сточных вод на единицу объема транспортируемых сточных вод",null,null,"кВт.ч  куб.м",null,{"$f":"'показатели надежн и качества'!D24","v":0},{"$f":"G45-F45","v":0},null,null,null,null,2,"Удельный расход электроэнергии, потребляемой в технологическом процессе транспортировки сточных вод на единицу объема транспортируемых сточных вод",null,null,"кВт.ч  куб.м",null,{"$f":"ROUND(G45,2)","v":0},{"$f":"S45-R45","v":0}]
[]
[null,null,null,null,null,null,null,null,null,null,null,null,"VI. Расчет эффективности производственной программы"]
[]
[null,null,null,null,null,null,null,null,null,null,null,null,"№ п/п","Наименование показателя",null,null,"ед. изм.","2015 год"]
[null,null,null,null,null,null,null,null,null,null,null,null,null,null,null,null,null,"план","факт","Динамика изменения, %"]
[null,null,null,null,null,null,null,null,null,null,null,null,1," Агрегированный показатель качества, надежности и энергетической эффективности\n объектов централизованных систем водоснабжения",null,null,"-",{"$f":"ROUND((R37/7+R38/7+R39/7+R40/7+R42/7+R44/7+R45/7),2)","v":0},{"$f":"ROUND((S37/7+S38/7+S39/7+S40/7+S42/7+S44/7+S45/7),2)","v":0},{"$f":"IF(R51=0,0,S51/R51*100)","v":0}]
[null,null,null,null,null,null,null,null,null,null,null,null,2,"Динамика изменения расходов на реализацию производственной программы",null,null,"%",{"$f":"ROUND(R30,2)","v":0},{"$f":"ROUND(S30,2)","v":0},{"$f":"IF(R52=0,0,S52/R52*100)","v":0}]

{"sheet":"отчет ПП2","index":20,"n_rows":56,"n_cols":20,"rows_kept":56,"cut":false,"hidden":false,"merged":[[2,0,2,1],[2,2,2,7],[2,11,2,12],[2,13,2,18],[3,0,3,1],[3,2,3,7],[3,11,3,12],[3,13,3,18],[1,0,1,1],[1,2,1,3],[1,4,1,5],[1,11,1,12],[1,13,1,14],[1,15,1,16],[6,0,6,1],[6,2,6,7],[6,11,6,12],[6,13,6,18],[7,0,7,1],[7,2,7,7],[7,11,7,12],[7,13,7,18],[4,0,4,1],[4,2,4,7],[4,11,4,12],[4,13,4,18],[5,0,5,1],[5,2,5,7],[5,11,5,12],[5,13,5,18],[12,0,13,0],[12,1,13,4],[12,5,12,7],[12,11,13,11],[12,12,13,15],[12,16,12,18],[8,0,8,1],[8,5,8,7],[8,11,8,12],[8,16,8,18],[9,2,9,3],[9,4,9,5],[9,13,9,14],[9,15,9,16],[14,1,14,4],[14,12,14,15],[15,1,15,4],[15,12,15,15],[16,1,16,4],[16,12,16,15],[11,2,11,3],[11,4,11,5],[11,13,11,14],[11,15,11,16],[21,0,22,0],[21,1,22,4],[21,5,21,7],[21,11,22,11],[21,12,22,15],[21,16,21,18],[17,1,17,4],[17,12,17,15],[18,2,18,3],[18,4,18,5],[18,13,18,14],[18,15,18,16],[27,1,27,4],[27,12,27,15],[28,1,28,4],[28,12,28,15],[29,1,29,4],[29,12,29,15],[23,1,23,4],[23,12,23,15],[24,1,24,4],[24,12,24,15],[26,1,26,4],[26,12,26,15],[25,1,25,4],[25,12,25,15],[35,0,35,7],[35,11,35,18],[33,12,33,15],[33,1,33,4],[30,1,30,4],[30,12,30,15],[31,1,31,4],[31,12,31,15],[32,1,32,4],[32,12,32,15],[39,1,39,4],[39,12,39,15],[40,8,41,8],[40,9,41,9],[41,0,41,7],[41,11,41,18],[36,2,36,3],[36,4,36,5],[36,13,36,14],[36,15,36,16],[37,0,38,0],[37,1,38,4],[37,5,37,7],[37,11,38,11],[37,12,38,15],[37,16,37,18],[43,15,44,15],[43,16,43,18],[45,0,45,7],[45,11,45,18],[46,1,46,3],[46,12,46,14],[43,0,44,0],[43,1,44,3],[43,4,44,4],[43,5,43,7],[43,11,44,11],[43,12,44,14],[51,17,52,18],[53,12,53,16],[53,17,53,18],[54,12,54,16],[54,17,54,18],[55,12,55,16],[55,17,55,18],[47,1,47,3],[47,12,47,14],[50,13,50,14],[50,15,50,16],[51,11,52,11],[51,12,52,16]]}
["I. Отчет о выполнении производственной программы за 2015 год",null,null,null,null,null,null,null,null,null,null,"I. Отчет о выполнении производственной программы за 2015 год"]
[]
["Полное наименование организации",null,{"$f":"Титульный!C10","v":" "},null,null,null,null,null,null,null,null,"Полное наименование организации",null,{"$f":"C3","v":" "}]
["Юридический адрес, телефон, факс",null,{"$f":"'отчет ПП1'!C4","v":""},null,null,null,null,null,null,null,null,"Юридический адрес, телефон, факс",null,{"$f":"C4","v":""}]
["ИНН",null,{"$f":"Титульный!C9","v":""},null,null,null,null,null,null,null,null,"ИНН",null,{"$f":"C5","v":""}]
["Сфера деятельности",null,"Водоотведение",null,null,null,null,null,null,null,null,"Сфера деятельности",null,{"$f":"C6","v":"Водоотведение"}]
["Наименование уполномоченного органа",null,"Департамент тарифного регулирования Томской   области",null,null,null,null,null,null,null,null,"Наименование уполномоченного органа",null,"Департамент тарифного регулирования Томской   области"]
["Юридический адрес, телефон, факс",null,"634041, г. Томск, пр. Кирова 41, тел./факс: (3822)   560-373",null,null,null,null,null,null,null,null,"Юридический адрес, телефон, факс",null,"634041, г. Томск, пр. Кирова 41,                                               тел./факс: (3822)   560-373"]
["Период реализации производственной программы (график реализации мероприятий производственной программы)",null,"с ",null,"по","2015-12-31",null,null,null,null,null,"Период реализации производственной программы (график реализации мероприятий производственной программы)",null,"с ","2015-01-01","по","2015-12-31",null,null,"см. приказ, если неполный год"]
[]
["II. Выполнение плановых мероприятий",null,null,null,null,null,null,null,null,null,null,"II. Выполнение плановых мероприятий"]
[]
["№ п/п","Вид плановых мероприятий",null,null,null,"Сумма за 2015 год, тыс.руб",null,null,null,null,null,"№ п/п","Вид плановых мероприятий",null,null,null,"Сумма за 2015 год, тыс.руб"]
[null,null,null,null,null,"план","факт","откл",null,null,null,null,null,null,null,null,"план","факт","откл"]
[1,"Плановые мероприятия: по ремонту объектов водоотведения и канализационных сетей, направленные на улучшение качества очистки сточных вод, обслуживания абонентов",null,null,null,null,{"$f":"'Смета факт'!C78/1000","v":0},{"$f":"G15-F15","v":0},null,null,null,1,"Плановые мероприятия: по ремонту объектов водоотведения и канализационных сетей, направленные на улучшение качества очистки сточных вод, обслуживания абонентов",null,null,null,{"$f":"'анализ факт сметы'!C76/1000","v":0},{"$f":"'анализ факт сметы'!E76/1000","v":0},{"$f":"R15-Q15","v":0},"см. приказ, если неполный год"]
[2,"Плановые мероприятия по энергосбережению и повышению энергетической эффективности, в том числе по снижению потерь воды при транспортировке",null,null,null,0,null,{"$f":"G16-F16","v":0},"расшифровать источники",null,null,2,"Плановые мероприятия по энергосбережению и повышению энергетической эффективности, в том числе по снижению потерь воды при транспортировке",null,null,null,0,{"$f":"ROUND(G16,2)","v":0},{"$f":"R16-Q16","v":0}]
[3,"Другие мероприятия",null,null,null,0,null,{"$f":"G17-F17","v":0},"расшифровать источники",null,null,3,"Другие мероприятия",null,null,null,0,{"$f":"ROUND(G17,2)","v":0},{"$f":"R17-Q17","v":0}]
[null,"Итого",null,null,null,{"$f":"SUM(F15:F17)","v":0},{"$f":"SUM(G15:G17)","v":0},0,null,null,null,null,"Итого",null,null,null,{"$f":"SUM(Q15:Q17)","v":0},{"$f":"SUM(R15:R17)","v":0},0]
[]
["III. Показатели производственной деятельности организации",null,null,null,null,null,null,null,null,null,null,"III. Показатели производственной деятельности организации"]
[]
["№ п/п","Наименование показателя",null,null,null,"Объем за 2015 год, тыс. куб.м.",null,null,null,null,null,"№ п/п","Наименование показателя",null,null,null,"Объем за 2015 год, тыс. куб.м."]
[null,null,null,null,null,"план","факт","откл",null,null,null,null,null,null,null,null,"план","факт","откл"]
["1.","Объем реализации (пропущено) сточных вод, всего",null,null,null,null,{"$f":"'баланс ВО'!D10/1000","v":0},{"$f":"G24-F24","v":0},null,null,null,"1.","Объем реализации (пропущено) сточных вод, всего",null,null,null,{"$f":"ROUND('НП 2015'!D8,2)","v":0},{"$f":"ROUND(G24,2)","v":0},{"$f":"R24-Q24","v":0},"см. приказ, если неполный год"]
["2.","     в том числе: ",null,null,null,null,null,null,null,null,null,"2.","     в том числе: ",null,null,null,null,null,null,"см. приказ, если неполный год"]
["2.1.","собственное потребление (хозяйственные нужды) организации",null,null,null,null,{"$f":"'баланс ВО'!D23/1000","v":0},{"$f":"G26-F26","v":0},null,null,null,"2.1.","собственное потребление (хозяйственные нужды) организации",null,null,null,{"$f":"ROUND('НП 2015'!D23,2)","v":0}]
["2.2.","стороннее потребление, всего",null,null,null,null,{"$f":"G28+G29+G30+G31","v":0},0,null,null,null,"2.2.","стороннее потребление, всего",null,null,null,{"$f":"Q28+Q29+Q30+Q31","v":0},{"$f":"ROUND(G27,2)","v":0},{"$f":"R27-Q27","v":0},"см. приказ, если неполный год"]
["2.2.1.","от бюджетных организаций",null,null,null,null,{"$f":"'баланс ВО'!D16/1000","v":0},0,null,null,null,"2.2.1.","от бюджетных организаций",null,null,null,{"$f":"ROUND('НП 2015'!D16/1000,2)","v":0},0,0,"см. приказ, если неполный год"]
["2.2.2.","от населения",null,null,null,null,{"$f":"'баланс ВО'!D17/1000","v":0},0,null,null,null,"2.2.2.","от населения",null,null,null,{"$f":"ROUND('НП 2015'!D17,2)","v":0},0,0,"см. приказ, если неполный год"]
["2.2.3.","от прочих потребителей",null,null,null,null,{"$f":"'баланс ВО'!D18/1000","v":0},0,null,null,null,"2.2.3.","от прочих потребителей",null,null,null,{"$f":"ROUND('НП 2015'!D18,2)","v":0},0,0,"см. приказ, если неполный год"]
["2.2.4.","принято  сточных вод от других канализаций или отдельных канализационных сетей",null,null,null,null,{"$f":"'баланс ВО'!D19/1000","v":0},0,null,null,null,"2.2.4.","принято  сточных вод от других канализаций или отдельных канализационных сетей",null,null,null,{"$f":"ROUND('НП 2015'!D14+'НП 2015'!D19,2)","v":0},0,0,"см. приказ, если неполный год"]
["3.","Пропущено сточных вод через  собственные очистные сооружения",null,null,null,null,{"$f":"'баланс ВО'!D25/1000","v":0},0,null,null,null,"3.","Пропущено сточных вод через  собственные очистные сооружения",null,null,null,{"$f":"ROUND('НП 2015'!D28,2)","v":0},0,0,"см. приказ, если неполный год"]
["4.","Передано сточных вод другим организациям",null,null,null,null,{"$f":"'баланс ВО'!D26/1000","v":0},0,null,null,null,"4.","Передано сточных вод другим организациям",null,null,null,{"$f":"ROUND('НП 2015'!D29,2)","v":0},0,0,"см. приказ, если неполный год"]
["5.","Сброшено на рельеф местности без очистки",null,null,null,null,{"$f":"'баланс ВО'!D24/1000-'баланс ВО'!D27/1000","v":0},0,null,null,null,"5.","Сброшено на рельеф местности без очистки",null,null,null,{"$f":"ROUND('НП 2015'!D32,2)","v":0},0,0,"см. приказ, если неполный год"]
[]
["IV. Объем финансовых потребностей, необходимых для реализации производственной программы",null,null,null,null,null,null,null,null,null,null,"IV. Объем финансовых потребностей, необходимых для реализации производственной программы"]
[]
["№ п/п","Наименование показателя",null,null,null,"Сумма за 2015 год, тыс.руб",null,null,null,null,null,"№ п/п","Наименование показателя",null,null,null,"Сумма за 2015 год, тыс.руб"]
[null,null,null,null,null,"план","факт","откл",null,null,null,null,null,null,null,null,"план","факт","откл"]
[1,"Необходимая валовая выручка",null,null,null,null,{"$f":"'Смета факт'!C175/1000","v":0},{"$f":"G40-F40","v":0},null,null,null,1,"Необходимая валовая выручка",null,null,null,{"$f":"ROUND('анализ факт сметы'!B183/1000,2)","v":0},{"$f":"ROUND('анализ факт сметы'!D183/1000,2)","v":0},{"$f":"R40-Q40","v":0},"см. приказ, если неполный год"]
[]
["V. Выполнение целевых показателей деятельности регулируемой организации в сфере водоотведения",null,null,null,null,null,null,null,null,null,null,"V. Выполнение целевых показателей деятельности регулируемой организации в сфере водоотведения"]
[]
["№ п/п","Наименование показателя",null,null,"ед. изм.","Значение за 2015 год",null,null,null,null,null,"№ п/п","Наименование показателя",null,null,"ед. изм.","Значение за 2015 год"]
[null,null,null,null,null,"план","факт","откл",null,null,null,null,null,null,null,null,"план","факт","откл"]
["Показатели качества воды",null,null,null,null,null,null,null,null,null,null,"Показатели качества воды"]
[1,"Удельный расход электроэнергии на перекачку 1 куб.м. сточных вод",null,null,"кВт.час / куб.м.",null,{"$f":"'баланс ВО'!D33","v":0},{"$f":"G47-F47","v":0},null,null,null,1,"Удельный расход электроэнергии на перекачку 1 куб.м. сточных вод",null,null,"кВт.час / куб.м.",{"$f":"ROUND('НП 2015'!D36,2)","v":0},{"$f":"ROUND('баланс ВО'!D33,2)","v":0},{"$f":"R47-Q47","v":0}]
[2,"Количество проб сточных вод",null,null,"ед",null,{"$f":"'показатели надежн и качества'!D14+'показатели надежн и качества'!D17","v":0},{"$f":"G48-F48","v":0},null,null,null,1,"Количество проб сточных вод",null,null,"ед",null,{"$f":"'показатели надежн и качества'!D17+'показатели надежн и качества'!D14","v":0},{"$f":"R48-Q48","v":0},"см. приказ"]
[]
[null,null,null,null,null,null,null,null,null,null,null,"VI. Расчет эффективности производственной программы"]
[]
[null,null,null,null,null,null,null,null,null,null,null,"№ п/п","Наименование показателя",null,null,null,null,"Значение за 2015 год, %"]
[]
[null,null,null,null,null,null,null,null,null,null,null,1,"Динамика изменения удельного расхода электроэнергии на 1 куб.м. принятых стоков",null,null,null,null,{"$f":"IF(Q47=0,0,R47/Q47*100)","v":0}]
[null,null,null,null,null,null,null,null,null,null,null,2,"Динамика изменения количества проб сточных вод",null,null,null,null,{"$f":"IF(Q48=0,0,R48/Q48*100)","v":0}]
[null,null,null,null,null,null,null,null,null,null,null,3,"Динамика изменения расходов на реализацию производственной программы",null,null,null,null,{"$f":"IF(Q40=0,0,R40/Q40*100)","v":0}]

{"sheet":"НП 2015","index":21,"n_rows":36,"n_cols":4,"rows_kept":36,"cut":false,"hidden":false,"merged":[[0,0,0,3],[3,3,4,3],[1,0,1,3],[2,0,2,3],[3,0,6,0],[3,1,6,1],[3,2,6,2]]}
["Натуральные показатели, принятые к расчету тарифов на 2015 год"]
[]
[]
["№ п/п","Наименование показателей","Единица измерения","2015 год"]
[]
[null,null,null,"утв. ДТР ТО"]
[null,null,null,"всего"]
["1.","1. Прием сточных вод","тыс. куб. м"]
[null,"технологические нужды предприятия","тыс. куб. м"]
["1.1.","поверхностных сточных вод","тыс. куб. м"]
["1.2.","от абонентов, которым установлены тарифы","тыс. куб. м"]
[null,"от других абонентов","тыс. куб. м"]
["2.","Объем реализации сточных вод","тыс. куб. м"]
["3.","жидкие бытовые отходы","тыс. куб. м"]
["3.1.","по категориям потребителей, в том числе:","тыс. куб. м"]
["3.2.","бюджет","тыс. куб. м"]
["3.3.","население","тыс. куб. м"]
["3.4.","прочие","тыс. куб. м"]
["3.5.","от других организаций, осуществляющих водоотведение","тыс. куб. м"]
["4.","организация 1","тыс. куб. м"]
[null,"организация 2","тыс. куб. м"]
["5.","организация n","тыс. куб. м"]
[null,"от собственных абонентов","тыс. куб. м"]
["6.","Неучтенный приток сточных вод","тыс. куб. м"]
[null,"Организованный приток","тыс. куб. м"]
[null,"Неорганизованный приток","тыс. куб. м"]
["6.1.","2. Объем транспортируемых сточных вод","тыс. куб. м"]
["7.","Пропущено через cобственные очистные сооружения","тыс. куб. м"]
["7.1.","Передано сточных вод другим организациям","тыс. куб. м"]
["7.2.","3. Объем сточных вод, поступивших на очистные сооружения","тыс. куб. м"]
["7.3.","Объем сточных вод, прошедших очистку","млн. куб. м"]
["7.3.1.","Сбросы сточных вод в пределах нормативов и лимитов","млн. куб. м"]
[null,"4. Объем обезвоженного осадка сточных вод","тыс. куб. м"]
[null,"5. Темп изменения объема отводимых сточных вод","%"]
["7.3.2.","6. Объем потребленной электроэнергии ","кВт*ч"]
[null,"Удельный расход электроэнергии ","кВт*ч/куб.м"]

{"sheet":"Смета 2015","index":22,"n_rows":130,"n_cols":6,"rows_kept":130,"cut":false,"hidden":false,"merged":[[0,0,2,0],[0,1,2,1],[0,2,0,5],[1,2,1,5]]}
["№ п/п","Наименование статей","2015 утверждено ДТР ТО"]
[null,null,"2015 год"]
[null,null,"итого","прием, транспортировка, очистка","общехозяйственные расходы","Транспортные расходы"]
[]
["I","ПРОИЗВОДСТВЕННЫЕ РАСХОДЫ"]
["1.","Материалы , в том числе:"]
["1.1.","реагенты"]
["1.2.","горюче-смазочные материалы"]
["1.3.","материалы и малоценные основные средства, в т.ч."]
["1.3.1.","материалы на техническое обслуживание"]
["1.3.2.","специальная одежда"]
["1.3.3.","хозяйственный инвентарь и другие  вспомогательные материалы"]
["2.","Расходы на энергетические ресурсы"]
["2.1.","Расходы на электроэнергию, в том числе"]
["2.1.1.","                      по показаниям счетчика "]
["2.1.2.","                      за заявленную мощность "]
["2.2.","Расходы электроэнергии на хозбытовые нужды"]
["2.3.","Расходы на тепловую энергию "]
["2.4.","Расходы воды на хозбытовые нужды"]
["2.5.","Расходы на услуги по водоотведению для хозбытовых нужд"]
["2.6.","Расходы на другие виды энергетических ресурсов"]
["3.","Услуги, оказываемые сторонними организациями"]
["3.1."," Услуги по транспортированию стоков, оказываемые сторонними организациями"]
["3.2.","Услуги по очистке стоков, оказываемые сторонними организациями"]
["3.3."," Услуги по  утилизации сточной жидкости, оказываемые сторонними организациями"]
["4.","Расходы на оплату труда и отчисления на социальные нужды основного производственного персонала"]
["4.1.","Расходы на оплату труда основного производственного персонала, в том числе"]
["4.2.","Численность производственного персонала, распределяемого на регулируемый вид деятельности, ед."]
["4.2.1.","Ставка рабочего 1-го разряда (с учетом отраслевого коэффициента)"]
["4.3.","Отчисления на социальные нужды от расходов на оплату труда ОПП"]
["4.3.1."," % расходов на уплату страховых взносов в ПФ, ФСС, ОМС"]
["4.3.2.","% платежей в фонд социального страхования от несчастных случаев"]
["5.","Расходы на обезвозживание, обезвреживание и захоронение  осадка сточных вод"]
["7.","Прочие производственные расходы"]
["7.1.","Транспортные расходы"]
["7.1.1.","Расходы на аренду спецтехники"]
["7.1.2.","Иные транспортные расходы на текущее обслуживание и ремонт (без учета транспортного налога)"]
["7.2.","Расходы на проведение аварийно-восстановительных работ, в том числе:"]
["7.2.1.","Заработная плата "]
["7.2.2.","Среднемесячная оплата труда "]
["7.2.3.","Численность персонала"]
["7.2.4.","Отчисления на соц.нужды от заработной платы"]
["7.2.5.","Прочие расходы"]
["7.3.","охрана труда всего, в том числе:"]
["7.3.1.","моющие средства"]
["7.3.2.","специальное питание"]
["7.3.3.","страхование персонала"]
["7.3.4.","аттестация"]
["7.3.5.","медицинский осмотр"]
["7.4.","расходы на льготный проезд"]
["7.5.","расходы на содержание зданий (за исключением расходов на энергетические ресурсы)"]
["7.6.","Производственный контроль состава и свойств сточных вод"]
["7.6.1.","контроль состава и свойств сточных вод"]
["7.6.2.","оборудование  лаборатории"]
["7.7.","прочие цеховые  расходы, не поименованные выше, в том числе:"]
["7.7.1.","            услуги связи"]
["7.7.2.","            лицензирование"]
["7.8.3.","            обучение персонала"]
["7.9.4.","            другие прочие цеховые расходы"]
["II","РЕМОНТНЫЕ РАСХОДЫ"]
["8.","Ремонт и техническое обслуживание основных средств, в том числе:"]
["8.1.","Текущий ремонт, в том числе:"]
["8.1.1.","  затраты на ремонт хоз. способом:"]
["8.1.1.1.","              заработная плата ремонтного персонала"]
["8.1.1.2.","              отчисления на соц. нужды от заработной платы                                                  ремонтного  персонала"]
["8.1.1.3.","              материалы"]
["8.1.2.","  затраты на ремонт подрядным способом"]
["8.2.","Капитальный ремонт основных средств, в том числе:"]
["8.2.1.","  затраты на ремонт хоз.способом:"]
["8.2.1.1.","            заработная плата ремонтного персонала"]
["8.2.1.2.","            отчисления на соц.нужды от заработной платы ремонтного персонала"]
["8.2.1.3.","            материалы"]
["8.2.2.","  затраты на ремонт подрядным способом"]
["9.","Отчисления в ремонтный фонд в случае его формирования "]
["III","АДМИНИСТРАТИВНЫЕ РАСХОДЫ"]
["10.","Административные расходы по распределению между видами деятельности"]
["10.1.","Расходы на оплату труда и отчисления на социальные нужды административно-управленческого персонала"]
["10.1.1.","           расходы на оплату труда основного административно-управленческого персонала"]
["10.1.2.","          численность административно-управленческого персонала, ед."]
["10.1.3.","Отчисления на социальные нужды от расходов на оплату труда АУП"]
[null,"    % расходов на уплату страховых взносов в ПФ, ФСС, ОМС"]
[null,"    % платежей в фонд социального страхования от несчастных случаев"]
["10.2.","Работы и услуги непроизводственного характера, оказываемые сторонними организациями (услуги связи, вневедомственная охрана, юридические, аудиторкие, информационные услуги и т.д.)"]
["10.3.","Арендная плата, лизинговые платежи, не связанные с объектами системы водоснабжения и водоотведения"]
["10.4.","Расходы на служебные командировки"]
["10.5.","Расходы на обучение персонала"]
["10.6.","Прочие административные расходы на производственные объекты"]
["10.6.1.","Расходы на страхование производственных объектов"]
["10.6.2.","Прочие расходы"]
["IV","Сбытовые расходы гарантирующих организаций"]
["11.","Расходы по сомнительным долгам"]
["V","РАСХОДЫ НА АМОРТИЗАЦИЮ ОСНОВНЫХ СРЕДСТВ И НЕМАТЕРИАЛЬНЫХ АКТИВОВ"]
["12.","Амортизация основных средств"]
["VI","РАСХОДЫ НА АРЕНДНУЮ ПЛАТУ, ЛИЗИНГОВЫЕ ПЛАТЕЖИ, КОНЦЕССИОННУЮ ПЛАТУ"]
["13.","Аренда основных средств, из них:"]
["13.1.","        по договорам лизинга"]
["13.2.","        по концессионным соглашениям"]
["13.3.","        по другим договорам"]
["14.","Аренда земельных участков"]
["VII","РАСХОДЫ, СВЯЗАННЫЕ С ОПЛАТОЙ НАЛОГОВ И СБОРОВ"]
["14.","Налоги и сборы"]
["14.1.","             водный налог"]
["14.2.","             налог на землю"]
["14.3.","             налог на имущество"]
["14.4.","             плата за загрязнение окружающей среды"]
["14.5.","             транспортный налог"]
["14.6.","             прочие налоги и сборы"]
["VIII","НОРМАТИВНАЯ ПРИБЫЛЬ"]
["15.","Финансовый результат от реализации"]
[null,"в том числе в %"]
["15.1.","средства на возврат займов и кредитов и процентов по ним"]
["15.2.","расходы на капитальные вложения (инвестиции)"]
["15.3.","денежные выплаты социального характера (по коллективному договору)"]
["15.4.","другие расходы, не учитываемые при определении налоговой бызы налога на прибыль"]
["15.5.","прибыль, обеспечивающая финансирование других расходов, не учитываемых  при определении налоговой бызы налога на прибыль (остающаяся в распоряжении организации)"]
[null,"налог на прибыль"]
["15.3."," (или)единый налог при УСН "]
["16.","Недополученный по независящим причинам доход"]
["16.1.","выпадающие расходы/экономия (в целях выравнивания сметы между полугодия регулируемого периода)"]
["16.2.","экономически обоснованные расходы, понесённые за отчётные периоды "]
["16.3.","выпадающие доходы за отчётные периоды регулирования, связанные с изменением объёмов реализации  "]
["16.4.","Избыток средств, полученный за отчётные периоды регулирования"]
["17.","Расчетная предпринимательская прибыль гарантирующей организации"]
["IХ","НЕОБХОДИМАЯ ВАЛОВАЯ ВЫРУЧКА"]
[null,"Товарная продукция"]
[null,"Затраты на собственное потребление"]
["17.","Водоотведение всего, м3, в том числе: "]
["17.1.","на собственное потребление"]
["17.2.","сторонним потребителям"]
["18.","Цена (тариф) на водоотведение, руб./м3"]

{"sheet":"анализ факт сметы","index":23,"n_rows":180,"n_cols":18,"rows_kept":180,"cut":false,"hidden":false,"merged":[[0,0,0,17],[1,0,1,17],[2,0,2,17],[5,0,6,0],[5,1,6,1],[5,2,5,6],[5,7,5,11],[5,12,5,16],[5,17,6,17]]}
["Анализ фактической  сметы расходов и НВВ по установленному тарифу в сфере водоснабжения за 2015 год"]
[{"$f":"Титульный!C10","v":" "}]
[{"$f":"Титульный!C19","v":0}]
["район",{"$f":"Титульный!C6","v":""},{"$f":"Титульный!C7","v":""}]
[]
["№ п/п","Наименование статьи","ВСЕГО",null,null,null,null,"имущество, переданное по договору аренды (концессионному соглашению) или находящееся в собственности",null,null,null,null,"бесхозяйное имущество",null,null,null,null,"Примечание"]
[null,null,"план","факт организации","факт, принятый ДТР","Абсолютное отклонение","Относительное отклонение","план","факт организации","факт, принятый ДТР","Абсолютное отклонение","Относительное отклонение","план","факт организации","факт, принятый ДТР","Абсолютное отклонение","Относительное отклонение"]
["I","ПРОИЗВОДСТВЕННЫЕ РАСХОДЫ",{"$f":"C9+C17+C30+C36+C43","v":0},{"$f":"D9+D17+D30+D36+D43","v":0},{"$f":"E9+E17+E30+E36+E43","v":0},0,{"$f":"IF(C8=0,0,E8/C8)","v":0},0,0,0,{"$f":"K9+K17+K30+K36+K43","v":0},{"$f":"IF(H8=0,0,J8/H8)","v":0},0,0,0,{"$f":"P9+P17+P30+P36+P43","v":0},{"$f":"IF(M8=0,0,O8/M8)","v":0}]
["1.","Расходы на приобретение сырья и материалов и их хранения",{"$f":"C10+C11+C12+C13","v":0},{"$f":"D10+D11+D12+D13","v":0},{"$f":"E10+E11+E12+E13","v":0},0,0,0,0,0,{"$f":"K10+K11+K12+K13","v":0},0,0,0,0,{"$f":"P10+P11+P12+P13","v":0},0]
["1.1.","реагенты",{"$f":"H10+M10","v":0},{"$f":"I10+N10","v":0},0,{"$f":"E10-C10","v":0},0,{"$f":"IF('Смета 2015'!D7=\"х\",0,'Смета 2015'!D7)","v":0},{"$f":"'Смета факт'!D12","v":0},null,{"$f":"J10-H10","v":0},0,null,{"$f":"'Смета факт'!H12","v":0},null,{"$f":"O10-M10","v":0},0]
[]
["1.2.","горюче-смазочные материалы",{"$f":"H12+M12","v":0},{"$f":"I12+N12","v":0},{"$f":"J12+O12","v":0},{"$f":"E12-C12","v":0},{"$f":"IF(C12=0,0,E12/C12)","v":0},{"$f":"IF('Смета 2015'!D8=\"х\",0,'Смета 2015'!D8)","v":0},{"$f":"'Смета факт'!D14","v":0},null,{"$f":"J12-H12","v":0},0,null,{"$f":"'Смета факт'!H14","v":0},null,{"$f":"O12-M12","v":0},0]
["1.3.","материалы и малоценные основные средства, в т.ч.",{"$f":"C14+C15+C16","v":0},{"$f":"D14+D15+D16","v":0},{"$f":"E14+E15+E16","v":0},0,0,0,0,0,{"$f":"K14+K15+K16","v":0},0,0,0,0,{"$f":"P14+P15+P16","v":0},0]
["1.3.1.","материалы на техническое обслуживание",{"$f":"H14+M14","v":0},{"$f":"I14+N14","v":0},{"$f":"J14+O14","v":0},{"$f":"E14-C14","v":0},0,{"$f":"IF('Смета 2015'!D10=\"х\",0,'Смета 2015'!D10)","v":0},{"$f":"'Смета факт'!D16","v":0},null,{"$f":"J14-H14","v":0},0,null,{"$f":"'Смета факт'!H16","v":0},null,{"$f":"O14-M14","v":0},0]
["1.3.2.","специальная одежда",0,0,0,0,0,{"$f":"IF('Смета 2015'!D11=\"х\",0,'Смета 2015'!D11)","v":0},{"$f":"'Смета факт'!D17","v":0},null,0,0,null,{"$f":"'Смета факт'!H17","v":0},null,0,0]
["1.3.3.","хозяйственный инвентарь и другие  вспомогательные материалы",{"$f":"H16+M16","v":0},0,0,0,0,{"$f":"IF('Смета 2015'!D12=\"х\",0,'Смета 2015'!D12)","v":0},{"$f":"'Смета факт'!D18","v":0},null,0,0,null,{"$f":"'Смета факт'!H18","v":0},null,0,0]
["2.","Расходы на энергетические ресурсы и холодную воду",{"$f":"H17+M17","v":0},{"$f":"D18+D21+D22+D23+D24+D25","v":0},{"$f":"E18+E21+E22+E23+E24+E25","v":0},0,0,0,0,0,{"$f":"K18+K21+K22+K23+K24+K25","v":0},0,0,0,0,{"$f":"P18+P21+P22+P23+P24+P25","v":0},0]
["2.1.","Электроэнергия, в том числе",0,{"$f":"D19+D20","v":0},{"$f":"E19+E20","v":0},0,0,0,0,0,{"$f":"K19+K20","v":0},0,{"$f":"M19+M20","v":0},0,0,{"$f":"P19+P20","v":0},0]
["2.1.1.","активная",0,{"$f":"('отчет по электроэнергии'!E16*'отчет по электроэнергии'!E13+'отчет по электроэнергии'!E32*'отчет по электроэнергии'!E29)","v":0},{"$f":"('отчет по электроэнергии'!F16*'отчет по электроэнергии'!F13+'отчет по электроэнергии'!F32*'отчет по электроэнергии'!F29)","v":0},{"$f":"('отчет по электроэнергии'!G16*'отчет по электроэнергии'!G13+'отчет по электроэнергии'!G32*'отчет по электроэнергии'!G29)","v":0},0,{"$f":"IF('Смета 2015'!D15=\"х\",0,'Смета 2015'!D15)","v":0},{"$f":"'Смета факт'!D21","v":0},null,{"$f":"('отчет по электроэнергии'!L16*'отчет по электроэнергии'!L13+'отчет по электроэнергии'!L32*'отчет по электроэнергии'!L29)","v":0},0,null,{"$f":"'Смета факт'!H21","v":0},null,{"$f":"('отчет по электроэнергии'!Q16*'отчет по электроэнергии'!Q13+'отчет по электроэнергии'!Q32*'отчет по электроэнергии'!Q29)","v":0},0]
["2.1.2.","мощность",0,{"$f":"'отчет по электроэнергии'!E25*'отчет по электроэнергии'!E21","v":0},{"$f":"'отчет по электроэнергии'!F25*'отчет по электроэнергии'!F21","v":0},{"$f":"'отчет по электроэнергии'!G25*'отчет по электроэнергии'!G21","v":0},0,{"$f":"IF('Смета 2015'!D16=\"х\",0,'Смета 2015'!D16)","v":0},{"$f":"'Смета факт'!D22","v":0},null,{"$f":"'отчет по электроэнергии'!L25*'отчет по электроэнергии'!L21","v":0},0,null,{"$f":"'Смета факт'!H22","v":0},null,{"$f":"'отчет по электроэнергии'!Q25*'отчет по электроэнергии'!Q21","v":0},0]
["2.2.","Тепловая энергия",{"$f":"H21+M21","v":0},{"$f":"I21+N21","v":0},{"$f":"J21+O21","v":0},{"$f":"E21-C21","v":0},0,{"$f":"IF('Смета 2015'!D18=\"х\",0,'Смета 2015'!D18)","v":0},{"$f":"'Смета факт'!D23","v":0},null,{"$f":"J21-H21","v":0},0,null,{"$f":"'Смета факт'!H23","v":0},null,{"$f":"O21-M21","v":0},0]
["2.3.","Вода на собственные нужды",0,0,0,0,0,{"$f":"IF('Смета 2015'!D19=\"х\",0,'Смета 2015'!D19)","v":0},{"$f":"'Смета факт'!D24","v":0},null,0,0,null,{"$f":"'Смета факт'!H24","v":0},null,0,0]
["2.4.","Водоотведение на собственные нужды",0,0,0,0,0,{"$f":"IF('Смета 2015'!D20=\"х\",0,'Смета 2015'!D20)","v":0},{"$f":"'Смета факт'!D25","v":0},null,0,0,null,{"$f":"'Смета факт'!H25","v":0},null,0,0]
["2.5.","Прочие энергоресурсы",0,0,0,0,0,{"$f":"IF('Смета 2015'!D21=\"х\",0,'Смета 2015'!D21)","v":0},{"$f":"'Смета факт'!D26","v":0},null,0,0,null,{"$f":"'Смета факт'!H26","v":0},null,0,0]
[]
[]
[]
[]
[]
["3.","Расходы на оплат уработ и услуг, выполняемых сторонними организациями,  связанные с эксплуатацией централизованных систем либо объектов в составе таких систем, по регулируемым тарифам",{"$f":"C31+C32+C33+C34","v":0},{"$f":"D31+D32+D33+D34","v":0},0,0,0,{"$f":"H31+H32+H33+H34","v":0},{"$f":"I31+I32+I33+I34","v":0},{"$f":"J31+J32+J33+J34","v":0},{"$f":"K31+K32+K33+K34","v":0},0,{"$f":"M31+M32+M33+M34","v":0},{"$f":"N31+N32+N33+N34","v":0},{"$f":"O31+O32+O33+O34","v":0},{"$f":"P31+P32+P33+P34","v":0},0]
["3.1.","Услуги по транспортировке стоков",{"$f":"H31+M31","v":0},{"$f":"I31+N31","v":0},{"$f":"J31+O31","v":0},{"$f":"E31-C31","v":0},0,{"$f":"IF('Смета 2015'!D23=\"х\",0,'Смета 2015'!D23)","v":0},{"$f":"'Смета факт'!D33","v":0},null,{"$f":"J31-H31","v":0},0,null,{"$f":"'Смета факт'!H33","v":0},null,{"$f":"O31-M31","v":0},0]
["3.2.","Услуги по очистке стоков",{"$f":"H32+M32","v":0},0,0,0,0,{"$f":"IF('Смета 2015'!D24=\"х\",0,'Смета 2015'!D24)","v":0},{"$f":"'Смета факт'!D34","v":0},null,0,0,null,{"$f":"'Смета факт'!H34","v":0},null,0,0]
["3.3.","Услуги по  утилизации сточной жидкости, оказываемые сторонними организациями",{"$f":"H33+M33","v":0},{"$f":"I33+N33","v":0},{"$f":"J33+O33","v":0},{"$f":"E33-C33","v":0},{"$f":"IF(C33=0,0,E33/C33)","v":0},{"$f":"IF('Смета 2015'!D33=\"х\",0,'Смета 2015'!D33)","v":0},{"$f":"I34+I35","v":0},null,{"$f":"K34+K35","v":0},0,null,0,null,{"$f":"P34+P35","v":0},0]
["3.4.","Расходы на обезвозживание, обезвреживание и захоронение  осадка сточных вод",{"$f":"H34+M34","v":0},0,0,0,0,{"$f":"IF('Смета 2015'!D26=\"х\",0,'Смета 2015'!D26)","v":0},{"$f":"'Смета факт'!D36","v":0},null,{"$f":"J34-H34","v":0},0,null,{"$f":"'Смета факт'!H36","v":0},null,{"$f":"O34-M34","v":0},0]
[]
["4.","Расходы на оплату труда и отчисления на социальные нужды",{"$f":"C37+C40","v":0},{"$f":"D37+D40","v":0},{"$f":"E37+E40","v":0},0,0,0,0,0,{"$f":"K37+K40","v":0},0,0,0,0,{"$f":"P37+P40","v":0},0]
["4.1.","Расходы на оплату труда основного персонала",{"$f":"H37+M37","v":0},{"$f":"I37+N37","v":0},{"$f":"J37+O37","v":0},{"$f":"E37-C37","v":0},0,{"$f":"IF('Смета 2015'!D27=\"х\",0,'Смета 2015'!D27)","v":0},{"$f":"'Смета факт'!D39","v":0},null,{"$f":"J37-H37","v":0},0,null,{"$f":"'Смета факт'!H39","v":0},null,{"$f":"O37-M37","v":0},0]
["4.2.","Численность основного персонала, относимого на регулируемый вид деятельности, чел",0,0,0,0,0,{"$f":"IF('Смета 2015'!D28=\"х\",0,'Смета 2015'!D28)","v":0},{"$f":"'Смета факт'!D40","v":0},null,0,0,null,{"$f":"'Смета факт'!H40","v":0},null,0,0]
["4.2.1.","Ставка рабочего 1-го разряда (с учетом отраслевого коэффициента)",null,null,null,0,0,{"$f":"IF('Смета 2015'!D29=\"х\",0,'Смета 2015'!D29)","v":0},{"$f":"'Смета факт'!D41","v":0},null,0,0,null,{"$f":"'Смета факт'!H41","v":0},null,0,0]
["4.3.","Отчисления на социальные нужды от расходов на оплату труда",{"$f":"H40+M40","v":0},{"$f":"I40+N40","v":0},{"$f":"J40+O40","v":0},0,0,{"$f":"IF('Смета 2015'!D30=\"х\",0,'Смета 2015'!D30)","v":0},{"$f":"'Смета факт'!D42","v":0},null,0,0,null,{"$f":"'Смета факт'!H42","v":0},null,0,0]
["4.3.1."," % расходов на уплату страховых взносов в ПФ, ФСС, ОМС",null,null,null,null,0,{"$f":"IF('Смета 2015'!D31=\"х\",0,'Смета 2015'!D31)","v":0},{"$f":"'Смета факт'!D43","v":0},null,null,0,null,{"$f":"'Смета факт'!H43","v":0},null,null,0]
["4.3.2.","% платежей в фонд социального страхования от несчастных случаев",null,null,null,null,0,{"$f":"IF('Смета 2015'!D32=\"х\",0,'Смета 2015'!D32)","v":0},{"$f":"'Смета факт'!D44","v":0},null,null,0,null,{"$f":"'Смета факт'!H44","v":0},null,null,0]
["5.","Прочие производственные расходы",{"$f":"C44+C65+C71+C72+C73","v":0},{"$f":"D44+D65+D71+D72+D73","v":0},{"$f":"E44+E65+E71+E72+E73","v":0},0,0,0,0,0,{"$f":"K44+K65+K71+K72+K73","v":0},0,0,0,0,{"$f":"P44+P65+P71+P72+P73","v":0},0]
["5.1.","Услуги собственных подразделений",{"$f":"C45+C50+C55+C60","v":0},{"$f":"D45+D50+D55+D60","v":0},{"$f":"E45+E50+E55+E60","v":0},0,0,0,0,0,{"$f":"K45+K50+K55+K60","v":0},0,0,0,0,{"$f":"P45+P50+P55+P60","v":0},0]
["5.1.1.","Услуги вспомогательных производств",{"$f":"C46+C48+C49","v":0},{"$f":"D46+D48+D49","v":0},{"$f":"E46+E48+E49","v":0},0,0,{"$f":"H46+H48+H49","v":0},{"$f":"I46+I48+I49","v":0},0,{"$f":"K46+K48+K49","v":0},0,0,0,0,{"$f":"P46+P48+P49","v":0},0]
["5.1.1.1.","Расходы на оплату труда, относимую на регулируемый вид деятельности",{"$f":"H46+M46","v":0},{"$f":"I46+N46","v":0},{"$f":"J46+O46","v":0},{"$f":"E46-C46","v":0},0,null,{"$f":"'Смета факт'!D48","v":0},null,{"$f":"J46-H46","v":0},0,null,{"$f":"'Смета факт'!H48","v":0},null,{"$f":"O46-M46","v":0},0]
["5.1.1.1.1.","Численность, относимая на регулируемый вид деятельности, чел",0,0,0,0,0,null,{"$f":"'Смета факт'!D49","v":0},null,0,0,null,{"$f":"'Смета факт'!H49","v":0},null,0,0]
["5.1.1.2.","Отчисления на социальные нужды от расходов на оплату труда",0,0,0,0,0,null,{"$f":"'Смета факт'!D50","v":0},null,0,0,null,{"$f":"'Смета факт'!H50","v":0},null,0,0]
["5.1.1.3.","Прочие расходы",0,0,0,0,0,null,{"$f":"'Смета факт'!D51","v":0},null,0,0,null,{"$f":"'Смета факт'!H51","v":0},null,0,0]
["5.1.2.","Транспортные расходы",{"$f":"C51+C53+C54","v":0},{"$f":"D51+D53+D54","v":0},{"$f":"E51+E53+E54","v":0},0,0,0,0,0,{"$f":"K51+K53+K54","v":0},0,0,0,0,{"$f":"P51+P53+P54","v":0},0]
["5.1.2.1.","Расходы на оплату труда, относимую на регулируемый вид деятельности",{"$f":"H51+M51","v":0},{"$f":"I51+N51","v":0},{"$f":"J51+O51","v":0},{"$f":"E51-C51","v":0},0,{"$f":"IF('Смета 2015'!F27=\"х\",0,'Смета 2015'!F27)","v":0},{"$f":"'Смета факт'!D53","v":0},null,{"$f":"J51-H51","v":0},0,null,{"$f":"'Смета факт'!H53","v":0},null,{"$f":"O51-M51","v":0},0]
["5.1.2.1.1.","Численность, относимая на регулируемый вид деятельности, чел",0,0,0,0,0,{"$f":"IF('Смета 2015'!F28=\"х\",0,'Смета 2015'!F28)","v":0},{"$f":"'Смета факт'!D54","v":0},null,0,0,null,{"$f":"'Смета факт'!H54","v":0},null,0,0]
["5.1.2.2.","Отчисления на социальные нужды от расходов на оплату труда",0,0,0,0,0,{"$f":"IF('Смета 2015'!F29=\"х\",0,'Смета 2015'!F29)","v":0},{"$f":"'Смета факт'!D55","v":0},null,0,0,null,{"$f":"'Смета факт'!H55","v":0},null,0,0]
["5.1.2.3.","Прочие расходы",0,0,0,0,0,{"$f":"'Смета 2015'!F124-H51-H53","v":0},{"$f":"'Смета факт'!D56","v":0},null,0,0,null,{"$f":"'Смета факт'!H56","v":0},null,0,0]
["5.1.3.","Цеховые расходы",{"$f":"C56+C58+C59","v":0},{"$f":"D56+D58+D59","v":0},{"$f":"E56+E58+E59","v":0},0,0,0,0,0,{"$f":"K56+K58+K59","v":0},0,0,0,0,{"$f":"P56+P58+P59","v":0},0]
["5.1.3.1.","Расходы на оплату труда, относимую на регулируемый вид деятельности",{"$f":"H56+M56","v":0},{"$f":"I56+N56","v":0},{"$f":"J56+O56","v":0},{"$f":"E56-C56","v":0},0,null,{"$f":"'Смета факт'!D58","v":0},null,{"$f":"J56-H56","v":0},0,null,{"$f":"'Смета факт'!H58","v":0},null,{"$f":"O56-M56","v":0},0]
["5.1.3.1.1.","Численность, относимая на регулируемый вид деятельности, чел",0,0,0,0,0,null,{"$f":"'Смета факт'!D59","v":0},null,0,0,null,{"$f":"'Смета факт'!H59","v":0},null,0,0]
["5.1.3.2.","Отчисления на социальные нужды от расходов на оплату труда",0,0,0,0,0,null,{"$f":"'Смета факт'!D60","v":0},null,0,0,null,{"$f":"'Смета факт'!H60","v":0},null,0,0]
["5.1.3.3.","Прочие расходы",0,0,0,0,0,null,{"$f":"'Смета факт'!D61","v":0},null,0,0,null,{"$f":"'Смета факт'!H61","v":0},null,0,0]
["5.1.4.","Общепроизводственные расходы",{"$f":"C61+C63+C64","v":0},{"$f":"D61+D63+D64","v":0},{"$f":"E61+E63+E64","v":0},0,0,0,0,0,{"$f":"K61+K63+K64","v":0},0,0,0,0,{"$f":"P61+P63+P64","v":0},0]
["5.1.4.1.","Расходы на оплату труда, относимую на регулируемый вид деятельности",{"$f":"H61+M61","v":0},{"$f":"I61+N61","v":0},{"$f":"J61+O61","v":0},{"$f":"E61-C61","v":0},0,null,{"$f":"'Смета факт'!D63","v":0},null,{"$f":"J61-H61","v":0},0,null,{"$f":"'Смета факт'!H63","v":0},null,{"$f":"O61-M61","v":0},0]
["5.1.4.1.1.","Численность, относимая на регулируемый вид деятельности, чел",0,0,0,0,0,null,{"$f":"'Смета факт'!D64","v":0},null,0,0,null,{"$f":"'Смета факт'!H64","v":0},null,0,0]
["5.1.4.2.","Отчисления на социальные нужды от расходов на оплату труда",0,0,0,0,0,null,{"$f":"'Смета факт'!D65","v":0},null,0,0,null,{"$f":"'Смета факт'!H65","v":0},null,0,0]
["5.1.4.3.","Прочие расходы",0,0,0,0,0,null,{"$f":"'Смета факт'!D66","v":0},null,0,0,null,{"$f":"'Смета факт'!H66","v":0},null,0,0]
["5.2.","Охрана труда всего, в том числе:",{"$f":"SUM(C66:C70)","v":0},{"$f":"SUM(D66:D70)","v":0},{"$f":"SUM(E66:E70)","v":0},0,0,0,0,0,{"$f":"SUM(K66:K70)","v":0},0,0,0,0,{"$f":"SUM(P66:P70)","v":0},0]
["5.2.1.","моющие средства",{"$f":"H66+M66","v":0},{"$f":"I66+N66","v":0},{"$f":"J66+O66","v":0},{"$f":"E66-C66","v":0},0,{"$f":"IF('Смета 2015'!D45=\"х\",0,'Смета 2015'!D45)","v":0},{"$f":"'Смета факт'!D68","v":0},null,{"$f":"J66-H66","v":0},0,null,{"$f":"'Смета факт'!H68","v":0},null,{"$f":"O66-M66","v":0},0]
["5.2.2.","специальное питание",0,0,0,0,0,{"$f":"IF('Смета 2015'!D46=\"х\",0,'Смета 2015'!D46)","v":0},{"$f":"'Смета факт'!D69","v":0},null,0,0,null,{"$f":"'Смета факт'!H69","v":0},null,0,0]
["5.2.3.","страхование персонала (кроме ДМС)",0,0,0,0,0,{"$f":"IF('Смета 2015'!D47=\"х\",0,'Смета 2015'!D47)","v":0},{"$f":"'Смета факт'!D70","v":0},null,0,0,null,{"$f":"'Смета факт'!H70","v":0},null,0,0]
["5.2.4.","аттестация",0,0,0,0,0,{"$f":"IF('Смета 2015'!D48=\"х\",0,'Смета 2015'!D48)","v":0},{"$f":"'Смета факт'!D71","v":0},null,0,0,null,{"$f":"'Смета факт'!H71","v":0},null,0,0]
["5.2.5.","медицинский осмотр",0,0,0,0,0,{"$f":"IF('Смета 2015'!D49=\"х\",0,'Смета 2015'!D49)","v":0},{"$f":"'Смета факт'!D72","v":0},null,0,0,null,{"$f":"'Смета факт'!H72","v":0},null,0,0]
["5.3.","Расходы на льготный проезд",0,0,0,0,0,{"$f":"IF('Смета 2015'!D50=\"х\",0,'Смета 2015'!D50)","v":0},{"$f":"'Смета факт'!D73","v":0},null,0,0,null,{"$f":"'Смета факт'!H73","v":0},null,0,0]
["5.4.","Расходы на содержание зданий (вывоз ТБО, дератизация, дезинсекция)",0,0,0,0,{"$f":"IF(C72=0,0,E72/C72)","v":0},{"$f":"IF('Смета 2015'!D51=\"х\",0,'Смета 2015'!D51)","v":0},{"$f":"'Смета факт'!D74","v":0},null,0,{"$f":"IF(H72=0,0,J72/H72)","v":0},null,{"$f":"'Смета факт'!H74","v":0},null,0,{"$f":"IF(M72=0,0,O72/M72)","v":0}]
["5.5.","Производственный контроль состава и свойств сточных вод",{"$f":"SUM(C74:C75)","v":0},{"$f":"SUM(D74:D75)","v":0},{"$f":"SUM(E74:E75)","v":0},0,0,0,0,0,{"$f":"SUM(K74:K75)","v":0},0,0,0,0,{"$f":"SUM(P74:P75)","v":0},0]
["5.5.1."," контроль состава и свойств стоков",{"$f":"H74+M74","v":0},{"$f":"I74+N74","v":0},{"$f":"J74+O74","v":0},{"$f":"E74-C74","v":0},0,{"$f":"IF('Смета 2015'!D53=\"х\",0,'Смета 2015'!D53)","v":0},{"$f":"'Смета факт'!D76","v":0},null,{"$f":"J74-H74","v":0},0,null,{"$f":"'Смета факт'!H76","v":0},null,{"$f":"O74-M74","v":0},0]
["5.5.2.","оборудование  лаборатории",0,0,0,0,0,{"$f":"IF('Смета 2015'!D54=\"х\",0,'Смета 2015'!D54)","v":0},{"$f":"'Смета факт'!D77","v":0},null,0,0,null,{"$f":"'Смета факт'!H77","v":0},null,0,0]
["II","РЕМОНТНЫЕ РАСХОДЫ",{"$f":"C77+C88","v":0},{"$f":"D77+D88","v":0},{"$f":"E77+E88","v":0},0,0,0,0,0,{"$f":"K77+K88","v":0},0,0,0,0,{"$f":"P77+P88","v":0},0]
["6.1.","Текущий ремонт централизованных систем водоотведения, объектов, входящих в состав таких систем, в том числе:",{"$f":"C78+C87","v":0},{"$f":"D78+D87","v":0},{"$f":"E78+E87","v":0},0,0,{"$f":"'Смета 2015'!D69","v":0},0,0,{"$f":"K78+K87","v":0},0,0,0,0,{"$f":"P78+P87","v":0},0]
["6.1.1.","затраты на ремонт хоз. способом:",{"$f":"SUM(C79:C86)","v":0},{"$f":"SUM(D79:D86)","v":0},{"$f":"SUM(E79:E86)","v":0},0,0,{"$f":"'Смета 2015'!D70","v":0},0,0,{"$f":"SUM(K79:K86)","v":0},0,0,0,0,{"$f":"SUM(P79:P86)","v":0},0]
["6.1.1.1.","заработная плата ремонтного персонала",{"$f":"H79+M79","v":0},{"$f":"I79+N79","v":0},{"$f":"J79+O79","v":0},{"$f":"E79-C79","v":0},0,{"$f":"IF('Смета 2015'!D64=\"х\",0,'Смета 2015'!D64)","v":0},{"$f":"'Смета факт'!D81","v":0},null,{"$f":"J79-H79","v":0},0,null,{"$f":"'Смета факт'!H81","v":0},null,{"$f":"O79-M79","v":0},0]
["6.1.1.1.1.","Численность, относимая на регулируемый вид деятельности, чел",0,0,0,0,0,null,{"$f":"'Смета факт'!D82","v":0},null,0,0,null,{"$f":"'Смета факт'!H82","v":0},null,0,0]
["6.1.1.2.","отчисления на социальные нужды от расходов на оплату труда",0,0,0,0,0,{"$f":"IF('Смета 2015'!D65=\"х\",0,'Смета 2015'!D65)","v":0},{"$f":"'Смета факт'!D83","v":0},null,0,0,null,{"$f":"'Смета факт'!H83","v":0},null,0,0]
["6.1.1.3.","материалы",0,0,0,0,0,{"$f":"IF('Смета 2015'!D66=\"х\",0,'Смета 2015'!D66)","v":0},{"$f":"'Смета факт'!D84","v":0},null,0,0,null,{"$f":"'Смета факт'!H84","v":0},null,0,0]
["6.1.1.4.","услуги вспомогательных производств",0,0,0,0,0,null,{"$f":"'Смета факт'!D85","v":0},null,0,0,null,{"$f":"'Смета факт'!H85","v":0},null,0,0]
["6.1.1.5.","транспортные расходы",0,0,0,0,0,null,{"$f":"'Смета факт'!D86","v":0},null,0,0,null,{"$f":"'Смета факт'!H86","v":0},null,0,0]
["6.1.1.6.","цеховые расходы",0,0,0,0,0,null,{"$f":"'Смета факт'!D87","v":0},null,0,0,null,{"$f":"'Смета факт'!H87","v":0},null,0,0]
["6.1.1.7.","общехозяйственные расходы",0,0,0,0,0,null,{"$f":"'Смета факт'!D88","v":0},null,0,0,null,{"$f":"'Смета факт'!H88","v":0},null,0,0]
["6.1.2.","затраты на ремонт подрядным способом",0,0,0,0,0,{"$f":"IF('Смета 2015'!D67=\"х\",0,'Смета 2015'!D67)","v":0},{"$f":"'Смета факт'!D89","v":0},null,0,0,null,{"$f":"'Смета факт'!H89","v":0},null,0,0]
["6.2.","Капитальный ремонт централизованных систем водоотведения, объектов, входящих в состав таких систем, в том числе:",{"$f":"C89+C98","v":0},{"$f":"D89+D98","v":0},{"$f":"E89+E98","v":0},0,0,{"$f":"'Смета 2015'!D68","v":0},0,0,{"$f":"K89+K98","v":0},0,0,0,0,{"$f":"P89+P98","v":0},0]
["6.2.1."," затраты на ремонт хоз.способом:",{"$f":"SUM(C90:C97)","v":0},{"$f":"SUM(D90:D97)","v":0},{"$f":"SUM(E90:E97)","v":0},0,0,0,0,0,{"$f":"SUM(K90:K97)","v":0},0,0,0,0,{"$f":"SUM(P90:P97)","v":0},0]
["6.2.1.1.","заработная плата ремонтного персонала",{"$f":"H90+M90","v":0},{"$f":"I90+N90","v":0},{"$f":"J90+O90","v":0},{"$f":"E90-C90","v":0},0,{"$f":"IF('Смета 2015'!D70=\"х\",0,'Смета 2015'!D70)","v":0},{"$f":"'Смета факт'!D92","v":0},null,{"$f":"J90-H90","v":0},0,null,{"$f":"'Смета факт'!H92","v":0},null,{"$f":"O90-M90","v":0},0]
[null,"Численность, относимая на регулируемый вид деятельности, чел",0,0,0,0,0,null,{"$f":"'Смета факт'!D93","v":0},null,0,0,null,{"$f":"'Смета факт'!H93","v":0},null,0,0]
["6.2.1.2.","отчисления на социальные нужды от расходов на оплату труда",0,0,0,0,0,{"$f":"IF('Смета 2015'!D71=\"х\",0,'Смета 2015'!D71)","v":0},{"$f":"'Смета факт'!D94","v":0},null,0,0,null,{"$f":"'Смета факт'!H94","v":0},null,0,0]
["6.2.1.3.","материалы",0,0,0,0,0,{"$f":"IF('Смета 2015'!D72=\"х\",0,'Смета 2015'!D72)","v":0},{"$f":"'Смета факт'!D95","v":0},null,0,0,null,{"$f":"'Смета факт'!H95","v":0},null,0,0]
["6.2.1.4.","услуги вспомогательных производств",0,0,0,0,0,null,{"$f":"'Смета факт'!D96","v":0},null,0,0,null,{"$f":"'Смета факт'!H96","v":0},null,0,0]
["6.2.1.5.","транспортные расходы",0,0,0,0,0,null,{"$f":"'Смета факт'!D97","v":0},null,0,0,null,{"$f":"'Смета факт'!H97","v":0},null,0,0]
["6.2.1.6.","цеховые расходы",0,0,0,0,0,null,{"$f":"'Смета факт'!D98","v":0},null,0,0,null,{"$f":"'Смета факт'!H98","v":0},null,0,0]
["6.2.1.7.","общехозяйственные расходы",0,0,0,0,0,null,{"$f":"'Смета факт'!D99","v":0},null,0,0,null,{"$f":"'Смета факт'!H99","v":0},null,0,0]
["6.2.2.","затраты на ремонт подрядным способом",0,0,0,0,0,{"$f":"IF('Смета 2015'!D73=\"х\",0,'Смета 2015'!D73)","v":0},{"$f":"'Смета факт'!D100","v":0},null,0,0,null,{"$f":"'Смета факт'!H100","v":0},null,0,0]
["III","ПРОЧИЕ РАСХОДЫ",{"$f":"SUM(C100:C106)","v":0},{"$f":"SUM(D100:D106)","v":0},{"$f":"SUM(E100:E106)","v":0},{"$f":"SUM(F100:F106)","v":0},0,{"$f":"SUM(H100:H106)","v":0},{"$f":"SUM(I100:I106)","v":0},{"$f":"SUM(J100:J106)","v":0},{"$f":"SUM(K100:K106)","v":0},0,{"$f":"SUM(M100:M106)","v":0},{"$f":"SUM(N100:N106)","v":0},{"$f":"SUM(O100:O106)","v":0},{"$f":"SUM(P100:P106)","v":0},0]
["7.1.","Расходы на услуги связи",{"$f":"H100+M100","v":0},{"$f":"I100+N100","v":0},{"$f":"J100+O100","v":0},{"$f":"E100-C100","v":0},0,{"$f":"IF('Смета 2015'!D56=\"х\",0,'Смета 2015'!D56)","v":0},{"$f":"'Смета факт'!D102","v":0},null,{"$f":"J100-H100","v":0},0,null,{"$f":"'Смета факт'!H102","v":0},null,{"$f":"O100-M100","v":0},0]
["7.2.","Вневедомственная охрана объектов и территории",0,0,0,0,0,null,{"$f":"'Смета факт'!D103","v":0},null,0,0,null,{"$f":"'Смета факт'!H103","v":0},null,0,0]
["7.3.","Расходы на обучение персонала",0,0,0,0,0,{"$f":"IF('Смета 2015'!D58=\"х\",0,'Смета 2015'!D58)+IF('Смета 2015'!D86=\"х\",0,'Смета 2015'!D86)","v":0},{"$f":"'Смета факт'!D104","v":0},null,0,0,null,{"$f":"'Смета факт'!H104","v":0},null,0,0]
["7.4.","Расходы на служебные командировки",0,0,0,0,0,{"$f":"IF('Смета 2015'!D85=\"х\",0,'Смета 2015'!D85)","v":0},{"$f":"'Смета факт'!D105","v":0},null,0,0,null,{"$f":"'Смета факт'!H105","v":0},null,0,0]
["7.5.","Расходы на страхование производственных объектов",0,0,0,0,0,{"$f":"IF('Смета 2015'!D88=\"х\",0,'Смета 2015'!D88)","v":0},{"$f":"'Смета факт'!D106","v":0},null,0,0,null,{"$f":"'Смета факт'!H106","v":0},null,0,0]
["7.6.","Лицензирование",0,0,0,0,0,{"$f":"IF('Смета 2015'!D57=\"х\",0,'Смета 2015'!D57)","v":0},{"$f":"'Смета факт'!D107","v":0},null,0,0,null,{"$f":"'Смета факт'!H107","v":0},null,0,0]
["7.7.","Прочие расходы",{"$f":"SUM(C107:C126)","v":0},{"$f":"SUM(D107:D126)","v":0},{"$f":"SUM(E107:E126)","v":0},0,0,0,0,0,{"$f":"SUM(K107:K126)","v":0},0,0,0,0,{"$f":"SUM(P107:P126)","v":0},0]
[null,{"$f":"'Смета факт'!B109","v":0},{"$f":"H107+M107","v":0},{"$f":"I107+N107","v":0},{"$f":"J107+O107","v":0},{"$f":"E107-C107","v":0},0,null,{"$f":"'Смета факт'!D109","v":0},null,{"$f":"J107-H107","v":0},0,null,{"$f":"'Смета факт'!H109","v":0},null,{"$f":"O107-M107","v":0},0]
[null,{"$f":"'Смета факт'!B110","v":0},0,0,0,0,0,null,{"$f":"'Смета факт'!D110","v":0},null,0,0,null,{"$f":"'Смета факт'!H110","v":0},null,0,0]
[null,{"$f":"'Смета факт'!B111","v":0},0,0,0,0,0,null,{"$f":"'Смета факт'!D111","v":0},null,0,0,null,{"$f":"'Смета факт'!H111","v":0},null,0,0]
[null,{"$f":"'Смета факт'!B112","v":0},0,0,0,0,0,null,{"$f":"'Смета факт'!D112","v":0},null,0,0,null,{"$f":"'Смета факт'!H112","v":0},null,0,0]
[null,{"$f":"'Смета факт'!B113","v":0},0,0,0,0,0,null,{"$f":"'Смета факт'!D113","v":0},null,0,0,null,{"$f":"'Смета факт'!H113","v":0},null,0,0]
[null,{"$f":"'Смета факт'!B114","v":0},0,0,0,0,0,null,{"$f":"'Смета факт'!D114","v":0},null,0,0,null,{"$f":"'Смета факт'!H114","v":0},null,0,0]
[null,{"$f":"'Смета факт'!B115","v":0},0,0,0,0,0,null,{"$f":"'Смета факт'!D115","v":0},null,0,0,null,{"$f":"'Смета факт'!H115","v":0},null,0,0]
[null,{"$f":"'Смета факт'!B116","v":0},0,0,0,0,0,null,{"$f":"'Смета факт'!D116","v":0},null,0,0,null,{"$f":"'Смета факт'!H116","v":0},null,0,0]
[null,{"$f":"'Смета факт'!B117","v":0},0,0,0,0,0,null,{"$f":"'Смета факт'!D117","v":0},null,0,0,null,{"$f":"'Смета факт'!H117","v":0},null,0,0]
[null,{"$f":"'Смета факт'!B118","v":0},0,0,0,0,0,null,{"$f":"'Смета факт'!D118","v":0},null,0,0,null,{"$f":"'Смета факт'!H118","v":0},null,0,0]
[null,{"$f":"'Смета факт'!B119","v":0},0,0,0,0,0,null,{"$f":"'Смета факт'!D119","v":0},null,0,0,null,{"$f":"'Смета факт'!H119","v":0},null,0,0]
[null,{"$f":"'Смета факт'!B120","v":0},0,0,0,0,0,null,{"$f":"'Смета факт'!D120","v":0},null,0,0,null,{"$f":"'Смета факт'!H120","v":0},null,0,0]
[null,{"$f":"'Смета факт'!B121","v":0},0,0,0,0,0,null,{"$f":"'Смета факт'!D121","v":0},null,0,0,null,{"$f":"'Смета факт'!H121","v":0},null,0,0]
[null,{"$f":"'Смета факт'!B122","v":0},0,0,0,0,0,null,{"$f":"'Смета факт'!D122","v":0},null,0,0,null,{"$f":"'Смета факт'!H122","v":0},null,0,0]
[null,{"$f":"'Смета факт'!B123","v":0},0,0,0,0,0,null,{"$f":"'Смета факт'!D123","v":0},null,0,0,null,{"$f":"'Смета факт'!H123","v":0},null,0,0]
[null,{"$f":"'Смета факт'!B124","v":0},0,0,0,0,0,null,{"$f":"'Смета факт'!D124","v":0},null,0,0,null,{"$f":"'Смета факт'!H124","v":0},null,0,0]
[null,{"$f":"'Смета факт'!B125","v":0},0,0,0,0,0,null,{"$f":"'Смета факт'!D125","v":0},null,0,0,null,{"$f":"'Смета факт'!H125","v":0},null,0,0]
[null,{"$f":"'Смета факт'!B126","v":0},0,0,0,0,0,null,{"$f":"'Смета факт'!D126","v":0},null,0,0,null,{"$f":"'Смета факт'!H126","v":0},null,0,0]
[null,{"$f":"'Смета факт'!B127","v":0},0,0,0,0,0,null,{"$f":"'Смета факт'!D127","v":0},null,0,0,null,{"$f":"'Смета факт'!H127","v":0},null,0,0]
[null,{"$f":"'Смета факт'!B128","v":0},0,0,0,0,0,{"$f":"IF('Смета 2015'!D59=\"х\",0,'Смета 2015'!D59)+IF('Смета 2015'!D89=\"х\",0,'Смета 2015'!D89)","v":0},{"$f":"'Смета факт'!D128","v":0},null,0,0,null,{"$f":"'Смета факт'!H128","v":0},null,0,0]
["IV","ОБЩЕХОЗЯЙСТВЕННЫЕ РАСХОДЫ",{"$f":"C128+C130+C131","v":0},{"$f":"D128+D130+D131","v":0},{"$f":"E128+E130+E131","v":0},0,0,0,0,0,{"$f":"K128+K130+K131","v":0},0,0,0,0,{"$f":"P128+P130+P131","v":0},0]
["8.1.","Расходы на оплату труда, относимую на регулируемый вид деятельности",{"$f":"H128+M128","v":0},{"$f":"I128+N128","v":0},{"$f":"J128+O128","v":0},{"$f":"E128-C128","v":0},0,{"$f":"IF('Смета 2015'!E27=\"х\",0,'Смета 2015'!E27)","v":0},{"$f":"'Смета факт'!D130","v":0},null,{"$f":"J128-H128","v":0},0,null,{"$f":"'Смета факт'!H130","v":0},null,{"$f":"O128-M128","v":0},0]
["8.1.1.","Численность, относимая на регулируемый вид деятельности, чел",0,0,0,0,0,{"$f":"IF('Смета 2015'!E28=\"х\",0,'Смета 2015'!E28)","v":0},{"$f":"'Смета факт'!D131","v":0},null,0,0,null,{"$f":"'Смета факт'!H131","v":0},null,0,0]
["8.2.","Отчисления на социальные нужды от расходов на оплату труда",0,0,0,0,0,{"$f":"IF('Смета 2015'!E29=\"х\",0,'Смета 2015'!E29)","v":0},{"$f":"'Смета факт'!D132","v":0},null,0,0,null,{"$f":"'Смета факт'!H132","v":0},null,0,0]
["8.3.","Прочие расходы",{"$f":"SUM(C132:C146)","v":0},{"$f":"SUM(D132:D146)","v":0},{"$f":"SUM(E132:E146)","v":0},0,0,0,0,0,{"$f":"SUM(K132:K146)","v":0},0,0,0,0,{"$f":"SUM(P132:P146)","v":0},0]
[null,{"$f":"'Смета факт'!B109","v":0},{"$f":"H132+M132","v":0},{"$f":"I132+N132","v":0},{"$f":"J132+O132","v":0},{"$f":"E132-C132","v":0},0,null,{"$f":"'Смета факт'!D134","v":0},null,{"$f":"J132-H132","v":0},0,null,{"$f":"'Смета факт'!H134","v":0},null,{"$f":"O132-M132","v":0},0]
[null,{"$f":"'Смета факт'!B110","v":0},0,0,0,0,0,null,{"$f":"'Смета факт'!D135","v":0},null,0,0,null,{"$f":"'Смета факт'!H135","v":0},null,0,0]
[null,{"$f":"'Смета факт'!B111","v":0},0,0,0,0,0,null,{"$f":"'Смета факт'!D136","v":0},null,0,0,null,{"$f":"'Смета факт'!H136","v":0},null,0,0]
[null,{"$f":"'Смета факт'!B112","v":0},0,0,0,0,{"$f":"IF(C135=0,0,E135/C135)","v":0},null,{"$f":"'Смета факт'!D137","v":0},null,0,0,null,{"$f":"'Смета факт'!H137","v":0},null,0,0]
[null,{"$f":"'Смета факт'!B113","v":0},0,0,0,0,0,null,{"$f":"'Смета факт'!D138","v":0},null,0,{"$f":"IF(H136=0,0,J136/H136)","v":0},null,{"$f":"'Смета факт'!H138","v":0},null,0,{"$f":"IF(M136=0,0,O136/M136)","v":0}]
[null,{"$f":"'Смета факт'!B114","v":0},0,0,0,0,0,null,{"$f":"'Смета факт'!D139","v":0},null,0,0,null,{"$f":"'Смета факт'!H139","v":0},null,0,0]
[null,{"$f":"'Смета факт'!B115","v":0},0,0,0,0,0,null,{"$f":"'Смета факт'!D140","v":0},null,0,0,null,{"$f":"'Смета факт'!H140","v":0},null,0,0]
[null,{"$f":"'Смета факт'!B116","v":0},0,0,0,0,0,null,{"$f":"'Смета факт'!D141","v":0},null,0,0,null,{"$f":"'Смета факт'!H141","v":0},null,0,0]
[null,{"$f":"'Смета факт'!B117","v":0},0,0,0,0,0,null,{"$f":"'Смета факт'!D142","v":0},null,0,0,null,{"$f":"'Смета факт'!H142","v":0},null,0,0]
[null,{"$f":"'Смета факт'!B118","v":0},0,0,0,0,0,null,{"$f":"'Смета факт'!D143","v":0},null,0,0,null,{"$f":"'Смета факт'!H143","v":0},null,0,0]
[null,{"$f":"'Смета факт'!B119","v":0},0,0,0,0,0,null,{"$f":"'Смета факт'!D144","v":0},null,0,0,null,{"$f":"'Смета факт'!H144","v":0},null,0,0]
[null,{"$f":"'Смета факт'!B120","v":0},0,0,0,0,0,null,{"$f":"'Смета факт'!D145","v":0},null,0,0,null,{"$f":"'Смета факт'!H145","v":0},null,0,0]
[null,{"$f":"'Смета факт'!B121","v":0},0,0,0,0,0,null,{"$f":"'Смета факт'!D146","v":0},null,0,0,null,{"$f":"'Смета факт'!H146","v":0},null,0,0]
[null,{"$f":"'Смета факт'!B122","v":0},0,0,0,0,0,null,{"$f":"'Смета факт'!D147","v":0},null,0,0,null,{"$f":"'Смета факт'!H147","v":0},null,0,0]
[null,{"$f":"'Смета факт'!B123","v":0},0,0,0,0,0,{"$f":"'Смета 2015'!E124-H128-H130","v":0},{"$f":"'Смета факт'!D148","v":0},null,0,0,null,{"$f":"'Смета факт'!H148","v":0},null,0,0]
["IV","СБЫТОВЫЕ РАСХОДЫ",{"$f":"SUM(C148:C149)","v":0},{"$f":"SUM(D148:D149)","v":0},{"$f":"SUM(E148:E149)","v":0},0,0,0,0,0,{"$f":"SUM(K148:K149)","v":0},0,0,0,0,{"$f":"SUM(P148:P149)","v":0},0]
["9.1.","Расходы по сомнительным долгам",{"$f":"H148+M148","v":0},{"$f":"I148+N148","v":0},{"$f":"J148+O148","v":0},{"$f":"E148-C148","v":0},0,{"$f":"IF('Смета 2015'!C91=\"х\",0,'Смета 2015'!C91)","v":0},{"$f":"'Смета факт'!D150","v":0},null,{"$f":"J148-H148","v":0},0,null,{"$f":"'Смета факт'!H150","v":0},null,{"$f":"O148-M148","v":0},0]
["9.2.","Прочие сбытовые расходы",0,0,0,0,0,{"$f":"IF('Смета 2015'!C90=\"х\",0,'Смета 2015'!C90)-H148","v":0},{"$f":"'Смета факт'!D151","v":0},null,0,0,null,{"$f":"'Смета факт'!H151","v":0},null,0,0]
["V","РАСХОДЫ НА АМОРТИЗАЦИЮ ОСНОВНЫХ СРЕДСТВ И НЕМАТЕРИАЛЬНЫХ АКТИВОВ",{"$f":"SUM(C151:C152)","v":0},{"$f":"SUM(D151:D152)","v":0},{"$f":"SUM(E151:E152)","v":0},0,0,0,0,0,{"$f":"SUM(K151:K152)","v":0},0,0,0,0,{"$f":"SUM(P151:P152)","v":0},0]
["10.1.","Амортизация основных средств,относимых к объектам централизованной системы водоотведения",{"$f":"H151+M151","v":0},{"$f":"I151+N151","v":0},{"$f":"J151+O151","v":0},{"$f":"E151-C151","v":0},0,{"$f":"IF('Смета 2015'!D93=\"х\",0,'Смета 2015'!D93)","v":0},{"$f":"'Смета факт'!D153","v":0},null,{"$f":"J151-H151","v":0},0,null,{"$f":"'Смета факт'!H153","v":0},null,{"$f":"O151-M151","v":0},0]
["10.2.","Амортизация нематериальных активов,относимых к объектам централизованной системы водоотведения",0,0,0,0,0,{"$f":"IF('Смета 2015'!D92=\"х\",0,'Смета 2015'!D92)-H151","v":0},{"$f":"'Смета факт'!D154","v":0},null,0,0,null,{"$f":"'Смета факт'!H154","v":0},null,0,0]
["VI","РАСХОДЫ НА АРЕНДНУЮ ПЛАТУ, ЛИЗИНГОВЫЕ ПЛАТЕЖИ, КОНЦЕССИОННУЮ ПЛАТУ",{"$f":"SUM(C154:C157)","v":0},{"$f":"SUM(D154:D157)","v":0},0,0,0,0,0,0,{"$f":"SUM(K154:K157)","v":0},0,0,0,{"$f":"SUM(O154:O157)","v":0},0,0]
["11.1.","лизинговые платежи",{"$f":"H154+M154","v":0},{"$f":"I154+N154","v":0},{"$f":"J154+O154","v":0},{"$f":"E154-C154","v":0},0,{"$f":"IF('Смета 2015'!D96=\"х\",0,'Смета 2015'!D96)","v":0},{"$f":"'Смета факт'!D156","v":0},null,{"$f":"J154-H154","v":0},0,null,{"$f":"'Смета факт'!H156","v":0},null,{"$f":"O154-M154","v":0},0]
["11.2.","концессионная плата",0,0,0,0,0,{"$f":"IF('Смета 2015'!D97=\"х\",0,'Смета 2015'!D97)","v":0},{"$f":"'Смета факт'!D157","v":0},null,0,0,null,{"$f":"'Смета факт'!H157","v":0},null,0,0]
["11.3.","аренда имущества",0,0,0,0,0,{"$f":"IF('Смета 2015'!D98=\"х\",0,'Смета 2015'!D98)","v":0},{"$f":"'Смета факт'!D158","v":0},null,0,0,null,{"$f":"'Смета факт'!H158","v":0},null,0,0]
["11.4.","аренда земельных участков",0,0,0,0,0,{"$f":"IF('Смета 2015'!D99=\"х\",0,'Смета 2015'!D99)","v":0},{"$f":"'Смета факт'!D159","v":0},null,0,0,null,{"$f":"'Смета факт'!H159","v":0},null,0,0]
["VII","РАСХОДЫ, СВЯЗАННЫЕ С ОПЛАТОЙ НАЛОГОВ И СБОРОВ",{"$f":"SUM(C159:C164)","v":0},{"$f":"SUM(D159:D164)","v":0},{"$f":"SUM(E159:E164)","v":0},0,0,0,0,0,{"$f":"SUM(K159:K164)","v":0},0,0,0,0,{"$f":"SUM(P159:P164)","v":0},0]
[]
["11.5.","налог на землю",{"$f":"H160+M160","v":0},{"$f":"I160+N160","v":0},{"$f":"J160+O160","v":0},{"$f":"E160-C160","v":0},0,{"$f":"IF('Смета 2015'!D103=\"х\",0,'Смета 2015'!D103)","v":0},{"$f":"'Смета факт'!D162","v":0},null,{"$f":"J160-H160","v":0},0,null,{"$f":"'Смета факт'!H162","v":0},null,{"$f":"O160-M160","v":0},0]
["11.6.","налог на имущество",0,0,0,0,0,{"$f":"IF('Смета 2015'!D104=\"х\",0,'Смета 2015'!D104)","v":0},{"$f":"'Смета факт'!D163","v":0},null,0,0,null,{"$f":"'Смета факт'!H163","v":0},null,0,0]
["11.7.","плата за загрязнение окружающей среды",0,0,0,0,0,{"$f":"IF('Смета 2015'!D105=\"х\",0,'Смета 2015'!D105)","v":0},{"$f":"'Смета факт'!D164","v":0},null,0,0,null,{"$f":"'Смета факт'!H164","v":0},null,0,0]
["11.8.","транспортный налог",0,0,0,0,0,{"$f":"IF('Смета 2015'!D106=\"х\",0,'Смета 2015'!D106)","v":0},{"$f":"'Смета факт'!D165","v":0},null,0,0,null,{"$f":"'Смета факт'!H165","v":0},null,0,0]
["11.9.","прочие налоги и сборы",0,0,0,0,0,{"$f":"IF('Смета 2015'!D107=\"х\",0,'Смета 2015'!D107)","v":0},{"$f":"'Смета факт'!D166","v":0},null,0,0,null,{"$f":"'Смета факт'!H166","v":0},null,0,0]
["VIII","Финансовый результат от реализации",{"$f":"C167+C168+C169+C170+C171+C172","v":0},{"$f":"D167+D168+D169+D170+D171+D172","v":0},0,0,0,{"$f":"IF('Смета 2015'!C108=\"х\",0,'Смета 2015'!C108)","v":0},{"$f":"'Смета факт'!D167","v":0},{"$f":"J167+J168+J169+J170+J171+J172","v":0},0,0,{"$f":"M167+M168+M169+M170+M171+M172","v":0},{"$f":"'Смета факт'!H167","v":0},{"$f":"O167+O168+O169+O170+O171+O172","v":0},0,0]
["12.1.","то же в %",{"$f":"IF(SUM(C8,C76,C99,C127,C147,C150,C153,C158,C171:C172)=0,0,SUM(C167:C170)/SUM(C8,C76,C99,C127,C147,C150,C153,C158,C171:C172)*100)","v":0},{"$f":"IF(SUM(D8,D76,D99,D127,D147,D150,D153,D158,D171:D172)=0,0,SUM(D167:D170)/SUM(D8,D76,D99,D127,D147,D150,D153,D158,D171:D172)*100)","v":0},{"$f":"IF(SUM(E8,E76,E99,E127,E147,E150,E153,E158,E171:E172)=0,0,SUM(E167:E170)/SUM(E8,E76,E99,E127,E147,E150,E153,E158,E171:E172)*100)","v":0},0,0,{"$f":"IF('Смета 2015'!C110=\"х\",0,'Смета 2015'!C110)","v":0},{"$f":"'Смета факт'!D168","v":0},{"$f":"IF(SUM(J8,J76,J99,J127,J147,J150,J153,J158,J171:J172)=0,0,SUM(J167:J170)/SUM(J8,J76,J99,J127,J147,J150,J153,J158,J171:J172)*100)","v":0},0,0,{"$f":"IF(SUM(M8,M76,M99,M127,M147,M150,M153,M158,M171:M172)=0,0,SUM(M167:M170)/SUM(M8,M76,M99,M127,M147,M150,M153,M158,M171:M172)*100)","v":0},{"$f":"'Смета факт'!H168","v":0},{"$f":"IF(SUM(O8,O76,O99,O127,O147,O150,O153,O158,O171:O172)=0,0,SUM(O167:O170)/SUM(O8,O76,O99,O127,O147,O150,O153,O158,O171:O172)*100)","v":0},0,0]
["12.2.","средства на возврат займов и кредитов и процентов по ним",{"$f":"H167+M167","v":0},{"$f":"I167+N167","v":0},{"$f":"J167+O167","v":0},0,0,{"$f":"IF('Смета 2015'!C111=\"х\",0,'Смета 2015'!C111)","v":0},{"$f":"'Смета факт'!D169","v":0},null,0,0,null,{"$f":"'Смета факт'!H169","v":0},null,0,0]
["12.3.","расходы на капитальные вложения (инвестиции)",0,0,0,0,0,{"$f":"IF('Смета 2015'!C112=\"х\",0,'Смета 2015'!C112)","v":0},{"$f":"'Смета факт'!D170","v":0},null,0,0,null,{"$f":"'Смета факт'!H170","v":0},null,0,0]
["12.4.","денежные выплаты социального характера (по коллективному договору)",0,0,0,0,0,{"$f":"IF('Смета 2015'!C113=\"х\",0,'Смета 2015'!C113)","v":0},{"$f":"'Смета факт'!D171","v":0},null,0,0,null,{"$f":"'Смета факт'!H171","v":0},null,0,0]
["12.5.","прибыль, обеспечивающая финансирование других расходов, не учитываемых  при определении налоговой бызы налога на прибыль (остающаяся в распоряжении организации)",0,0,0,0,0,{"$f":"IF('Смета 2015'!C114=\"х\",0,'Смета 2015'!C114)+IF('Смета 2015'!C115=\"х\",0,'Смета 2015'!C115)","v":0},{"$f":"'Смета факт'!D172","v":0},null,0,0,null,{"$f":"'Смета факт'!H172","v":0},null,0,0]
["13.1.","налог на прибыль",0,0,0,0,0,{"$f":"IF('Смета 2015'!C116=\"х\",0,'Смета 2015'!C116)","v":0},{"$f":"'Смета факт'!D173","v":0},null,0,0,null,{"$f":"'Смета факт'!H173","v":0},null,0,0]
["13.2."," (или)единый налог при УСН ",0,0,0,0,0,{"$f":"IF('Смета 2015'!C117=\"х\",0,'Смета 2015'!C117)","v":0},{"$f":"'Смета факт'!D174","v":0},null,0,0,null,{"$f":"'Смета факт'!H174","v":0},null,0,0]
["IХ","НЕОБХОДИМАЯ ВАЛОВАЯ ВЫРУЧКА",{"$f":"C165+C158+C153+C150+C147+C127+C99+C76+C8","v":0},{"$f":"D165+D158+D153+D150+D147+D127+D99+D76+D8","v":0},{"$f":"E165+E158+E153+E150+E147+E127+E99+E76+E8","v":0},0,0,{"$f":"H165+H158+H153+H150+H147+H127+H99+H76+H8","v":0},{"$f":"I165+I158+I153+I150+I147+I127+I99+I76+I8","v":0},{"$f":"J165+J158+J153+J150+J147+J127+J99+J76+J8","v":0},0,0,{"$f":"M165+M158+M153+M150+M147+M127+M99+M76+M8","v":0},{"$f":"N165+N158+N153+N150+N147+N127+N99+N76+N8","v":0},{"$f":"O165+O158+O153+O150+O147+O127+O99+O76+O8","v":0},0,0]
["16.","Товарная продукция",{"$f":"H174+M174","v":0},{"$f":"I174+N174","v":0},{"$f":"J174+O174","v":0},0,0,{"$f":"IF('Смета 2015'!C125=\"х\",0,'Смета 2015'!C125)","v":0},{"$f":"'Смета факт'!D176","v":0},null,0,0,null,{"$f":"'Смета факт'!H176","v":0},null,0,0]
["17.","Затраты на собственное потребление",{"$f":"H175+M175","v":0},0,0,0,0,{"$f":"IF('Смета 2015'!C126=\"х\",0,'Смета 2015'!C126)","v":0},{"$f":"'Смета факт'!D177","v":0},{"$f":"J173-J174","v":0},0,0,null,{"$f":"'Смета факт'!H177","v":0},{"$f":"O173-O174","v":0},0,0]
["18.","Принято стоков всего, м3, в том числе: ",{"$f":"H176","v":0},{"$f":"I176","v":0},0,0,0,{"$f":"IF('Смета 2015'!C127=\"х\",0,'Смета 2015'!C127)","v":0},{"$f":"'Смета факт'!D178","v":0},{"$f":"'баланс ВО'!D25","v":0},0,0,null,{"$f":"'Смета факт'!H178","v":0},{"$f":"'баланс ВО'!I25","v":0},0,0]
["18.1.","от собственных абонентов",{"$f":"H177","v":0},0,0,0,0,{"$f":"IF('Смета 2015'!C128=\"х\",0,'Смета 2015'!C128)","v":0},{"$f":"'Смета факт'!D179","v":0},{"$f":"'баланс ВО'!D26","v":0},0,0,null,{"$f":"'Смета факт'!H179","v":0},{"$f":"'баланс ВО'!I26","v":0},0,0]
["18.2.","от сторонних потребителей",0,0,0,0,0,{"$f":"IF('Смета 2015'!C129=\"х\",0,'Смета 2015'!C129)","v":0},{"$f":"'Смета факт'!D180","v":0},{"$f":"J176-J177","v":0},0,0,null,{"$f":"'Смета факт'!H180","v":0},{"$f":"O176-O177","v":0},0,0]
["X","Цена (тариф) на холодную воду, руб./м3",{"$f":"IF(C176=0,0,C173/C176)","v":0},{"$f":"IF(D176=0,0,D173/D176)","v":0},{"$f":"IF(E176=0,0,E173/E176)","v":0},0,0,{"$f":"IF('Смета 2015'!C130=\"х\",0,'Смета 2015'!C130)","v":0},{"$f":"IF(I176=0,0,I173/I176)","v":0},{"$f":"IF(J176=0,0,J173/J176)","v":0},0,0,{"$f":"IF(M176=0,0,M173/M176)","v":0},{"$f":"'Смета факт'!H181","v":0},{"$f":"IF(O176=0,0,O173/O176)","v":0},0,0]
[null,null,{"$f":"'Смета 2015'!C124-C173","v":0},{"$f":"'Смета факт'!C175-D173","v":0}]

{"sheet":"расчет выпадающих","index":24,"n_rows":76,"n_cols":10,"rows_kept":76,"cut":false,"hidden":true,"merged":[[0,0,0,9],[2,0,4,0],[12,0,13,1],[12,5,13,5],[12,2,12,4],[2,1,4,1],[2,2,3,4],[2,5,3,7],[2,8,3,9]]}
["Расчет выпадающих по полезному отпуску"]
[]
["№ п/п","Наименование показателя","План",null,null,"Факт",null,null,"Отклонение"]
[]
[null,null,"01.01.2015-30.06.2015","01.07.2015-31.12.2015","2015 год","01.01.2015-30.06.2015","01.07.2015-31.12.2015","2015 год","абсолютное","в %"]
[1,"Полезный отпуск, куб.м",{"$f":"'НП 2015'!D13/2*1000","v":0},{"$f":"C6","v":0},{"$f":"C6+D6","v":0},{"$f":"SUM('полезный отпуск'!B14:B19)","v":0},{"$f":"SUM('полезный отпуск'!B20:B25)","v":0},{"$f":"F6+G6","v":0},{"$f":"H6-E6","v":0},{"$f":"IF(E6=0,0,H6/E6*100)","v":0}]
[2,"Тариф, руб/куб.м.",{"$f":"F7","v":0},{"$f":"G7","v":0},null,{"$f":"'данные об организации'!I30","v":0},{"$f":"'данные об организации'!I31","v":0}]
[3,"Выручка, руб.",{"$f":"C6*C7","v":0},{"$f":"D6*D7","v":0},{"$f":"C8+D8","v":0},{"$f":"F6*F7","v":0},{"$f":"G6*G7","v":0},{"$f":"F8+G8","v":0},{"$f":"H8-E8","v":0},{"$f":"IF(E8=0,0,H8/E8*100)","v":0}]
[]
[]
[]
[null,null,null,null,null,"рублей"]
["Наименование показателя",null,2015,null,null,"отклонение (\"-\" - экономия, \"+\" - перерасход)            гр. 6=(гр. 5-гр.3)"]
[null,null,"план   ДТР ТО по установленным тарифам","факт по данным организации","Факт, принятый экспертом"]
[1,"Производственные расходы",{"$f":"C16+C19+C24+C28+C31","v":0},{"$f":"D16+D19+D24+D28+D31","v":0},0,0]
["1.1.","Расходы на приобретение сырья и материалов и их хранение",{"$f":"C17+C18","v":0},{"$f":"D17+D18","v":0},0,{"$f":"E16-C16","v":0}]
["1.1.1.","Реагенты",{"$f":"'анализ факт сметы'!H10","v":0},{"$f":"'анализ факт сметы'!I10","v":0},{"$f":"'анализ факт сметы'!J10","v":0},0,null,{"$f":"F17","v":0}]
["1.1.2.","Материалы и малоценные основные средства",{"$f":"'анализ факт сметы'!H9-C17","v":0},{"$f":"'анализ факт сметы'!I9-D17","v":0},{"$f":"'анализ факт сметы'!J9-E17","v":0},0,null,{"$f":"F18","v":0}]
["1.2.","Расходы на энергетические ресурсы и холодную воду",{"$f":"C20+C21+C23","v":0},{"$f":"D20+D21+D23","v":0},0,0]
["1.2.1.","электроэнергия",{"$f":"'анализ факт сметы'!H18","v":0},{"$f":"'анализ факт сметы'!I18","v":0},{"$f":"'анализ факт сметы'!J18","v":0},0,null,{"$f":"F20","v":0}]
["1.2.2.","теплоэнергия",{"$f":"'анализ факт сметы'!H21","v":0},{"$f":"'анализ факт сметы'!I21","v":0},{"$f":"'анализ факт сметы'!J21","v":0},0,null,0]
["1.2.3.","вода"]
["1.2.3.","прочие энергетические ресурсы на хозбытовые нужды",{"$f":"'анализ факт сметы'!H17-C22-C21-C20","v":0},{"$f":"'анализ факт сметы'!I17-D22-D21-D20","v":0},{"$f":"'анализ факт сметы'!J17-E22-E21-E20","v":0},0,null,0]
["1.3.","Услуги, оказываемые сторонними организациями",{"$f":"C25+C26+C27","v":0},{"$f":"D25+D26+D27","v":0},0,0]
["1.3.1.","услуги по транспортировке стоков",{"$f":"'анализ факт сметы'!H31","v":0},{"$f":"'анализ факт сметы'!I31","v":0},{"$f":"'анализ факт сметы'!J31","v":0},0,null,0]
["1.3.2.","услуги по очистке стоков",{"$f":"'анализ факт сметы'!H32","v":0},{"$f":"'анализ факт сметы'!I32","v":0},{"$f":"'анализ факт сметы'!J32","v":0},0,null,0]
["1.3.3.","услуги  по обращению с осадком",{"$f":"'анализ факт сметы'!C33+'анализ факт сметы'!C34","v":0},{"$f":"'анализ факт сметы'!D33+'анализ факт сметы'!D34","v":0},{"$f":"'анализ факт сметы'!E33+'анализ факт сметы'!E34","v":0},0,null,0]
["1.4.","Расходы на оплату труда и отчисления на социальные нужды основного производственного персонала, в том числе налоги и сборы:",{"$f":"C29+C30","v":0},{"$f":"D29+D30","v":0},0,0]
["1.4.1.","Расходы на оплату труда производственного персонала",{"$f":"'анализ факт сметы'!H37","v":0},{"$f":"'анализ факт сметы'!I37","v":0},{"$f":"'анализ факт сметы'!J37","v":0},0,null,0]
["1.4.2.","Отчисления на социальные нужды производственного персонала, в том числе налоги и сборы",{"$f":"'анализ факт сметы'!H40","v":0},{"$f":"'анализ факт сметы'!I40","v":0},{"$f":"'анализ факт сметы'!J40","v":0},0,null,0]
["1.5.","Прочие производственные расходы",{"$f":"SUM(C32:C37)","v":0},{"$f":"SUM(D32:D37)","v":0},0,0]
["1.5.1.","Услуги вспомогательных производств",{"$f":"'анализ факт сметы'!H45","v":0},{"$f":"'анализ факт сметы'!I45","v":0},{"$f":"'анализ факт сметы'!J45","v":0},0,null,0]
["1.5.2.","Расходы на эксплуатацию, техническое обслуживание и ремонт автотранспорта",{"$f":"'анализ факт сметы'!H50","v":0},{"$f":"'анализ факт сметы'!I50","v":0},{"$f":"'анализ факт сметы'!J50","v":0},0,null,0]
["1.5.3.","Цеховые расходы",{"$f":"'анализ факт сметы'!H55","v":0},{"$f":"'анализ факт сметы'!I55","v":0},{"$f":"'анализ факт сметы'!J55","v":0},0,null,0]
["1.5.4.","Общепроизводственные расходы",{"$f":"'анализ факт сметы'!H60","v":0},{"$f":"'анализ факт сметы'!I60","v":0},{"$f":"'анализ факт сметы'!J60","v":0},0,null,0]
["1.5.5.","Контроль состава и свойств сточной воды",{"$f":"'анализ факт сметы'!H73","v":0},{"$f":"'анализ факт сметы'!I73","v":0},{"$f":"'анализ факт сметы'!J73","v":0},0,null,0]
["1.5.6.","Прочие расходы",{"$f":"SUM(C38:C41)","v":0},{"$f":"SUM(D38:D41)","v":0},0,0]
["1.5.3.2.","расходы на охрану труда",{"$f":"'анализ факт сметы'!H65","v":0},{"$f":"'анализ факт сметы'!I65","v":0},{"$f":"'анализ факт сметы'!J65","v":0},0,null,0]
["1.5.3.3.","расходы на льготный проезд",{"$f":"'анализ факт сметы'!H71","v":0},{"$f":"'анализ факт сметы'!I71","v":0},{"$f":"'анализ факт сметы'!J71","v":0},0,null,0]
["1.5.3.4.","расходы на содержание зданий",{"$f":"'анализ факт сметы'!H72","v":0},{"$f":"'анализ факт сметы'!I72","v":0},{"$f":"'анализ факт сметы'!J72","v":0},0,null,0]
["1.5.3.5.","Работы и услуги, оказываемые сторонними организациями (услуги связи, подготовка кадров и т.д.)",{"$f":"'анализ факт сметы'!H99","v":0},{"$f":"'анализ факт сметы'!I99","v":0},{"$f":"'анализ факт сметы'!J99","v":0},0,null,0]
[2,"Ремонтные расходы",{"$f":"C43+C44","v":0},{"$f":"D43+D44","v":0},0,0]
["2.1.","Расходы на текущий ремонт централизованных систем водоснабжения и (или) водоотведения либо объектов, входящих в состав таких систем",{"$f":"'анализ факт сметы'!H77","v":0},{"$f":"'анализ факт сметы'!I77","v":0},{"$f":"'анализ факт сметы'!J77","v":0},0,null,0]
["2.2.","Расходы на капитальный ремонт централизованных систем водоснабжения и (или) водоотведения либо объектов, входящих в состав таких систем",{"$f":"'анализ факт сметы'!H88","v":0},{"$f":"'анализ факт сметы'!I88","v":0},{"$f":"'анализ факт сметы'!J88","v":0},0,null,0]
[3,"Расходы на обслуживание и ремонт бесхозяйных сетей",{"$f":"'анализ факт сметы'!M179","v":0},{"$f":"'анализ факт сметы'!N179","v":0},{"$f":"'анализ факт сметы'!O179","v":0},0,null,0]
[4,"Административные расходы",{"$f":"C47+C48+C49","v":0},{"$f":"D47+D48+D49","v":0},0,0]
["4.1.","Расходы на оплату труда административно-управленческого персонала",{"$f":"'анализ факт сметы'!H128","v":0},{"$f":"'анализ факт сметы'!I128","v":0},{"$f":"'анализ факт сметы'!J128","v":0},0,null,0]
["4.2.","Отчисления на социальные нужды административно-управленческого персонала, в том числе налоги и сборы",{"$f":"'анализ факт сметы'!H130","v":0},{"$f":"'анализ факт сметы'!I130","v":0},{"$f":"'анализ факт сметы'!J130","v":0},0,null,0]
["4.3.","Прочие административные расходы",{"$f":"'анализ факт сметы'!H127-C47-C48","v":0},{"$f":"'анализ факт сметы'!I127-D47-D48","v":0},{"$f":"'анализ факт сметы'!J127-E47-E48","v":0},0,null,0]
[5,"Сбытовые расходы гарантирующих организаций",{"$f":"'анализ факт сметы'!H147","v":0},{"$f":"'анализ факт сметы'!I147","v":0},{"$f":"'анализ факт сметы'!J147","v":0},0,null,0]
["5.1.","Расходы ГО по сомнительным долгам, в размере не более 2% НВВ",{"$f":"'анализ факт сметы'!H148","v":0},{"$f":"'анализ факт сметы'!I148","v":0},{"$f":"'анализ факт сметы'!J148","v":0},0]
[6,"Амортизация",{"$f":"'анализ факт сметы'!H150","v":0},{"$f":"'анализ факт сметы'!I150","v":0},{"$f":"'анализ факт сметы'!J150","v":0},0,null,0]
[7,"Расходы на арендную плату, лизинговые платежи, концессионную плату",{"$f":"C54+C55+C56+C57","v":0},{"$f":"D54+D55+D56+D57","v":0},0,0]
["7.1.","Аренда имущества",{"$f":"'анализ факт сметы'!H156","v":0},{"$f":"'анализ факт сметы'!I156","v":0},{"$f":"'анализ факт сметы'!J156","v":0},0,null,0]
["7.2.","Концессионная плата",{"$f":"'анализ факт сметы'!H155","v":0},{"$f":"'анализ факт сметы'!I155","v":0},{"$f":"'анализ факт сметы'!J155","v":0},0,null,0]
["7.3.","Лизинговые платежи",{"$f":"'анализ факт сметы'!H154","v":0},{"$f":"'анализ факт сметы'!I154","v":0},{"$f":"'анализ факт сметы'!J154","v":0},0,null,0]
["7.4.","Аренда земельных участков",{"$f":"'анализ факт сметы'!H157","v":0},{"$f":"'анализ факт сметы'!I157","v":0},{"$f":"'анализ факт сметы'!J157","v":0},0,null,0]
[8,"Расходы, связанные с уплатой налогов и сборов",{"$f":"SUM(C59:C64)","v":0},{"$f":"SUM(D59:D64)","v":0},0,0]
[]
["8.1.","налог на землю",{"$f":"'анализ факт сметы'!H160","v":0},{"$f":"'анализ факт сметы'!I160","v":0},{"$f":"'анализ факт сметы'!J160","v":0},0,null,0]
["8.2.","налог на имущество",{"$f":"'анализ факт сметы'!H161","v":0},{"$f":"'анализ факт сметы'!I161","v":0},{"$f":"'анализ факт сметы'!J161","v":0},0,null,0]
["8.3.","плата за загрязнение окружающей среды",{"$f":"'анализ факт сметы'!H162","v":0},{"$f":"'анализ факт сметы'!I162","v":0},{"$f":"'анализ факт сметы'!J162","v":0},0,null,0]
["8.4.","транспортный налог",{"$f":"'анализ факт сметы'!H163","v":0},{"$f":"'анализ факт сметы'!I163","v":0},{"$f":"'анализ факт сметы'!J163","v":0},0,null,0]
["8.5.","прочие налоги и сборы",{"$f":"'анализ факт сметы'!H164","v":0},{"$f":"'анализ факт сметы'!I164","v":0},{"$f":"'анализ факт сметы'!J164","v":0},0,null,0]
[9,"Нормативная прибыль",{"$f":"C67+C68+C69+C70+C71+C72","v":0},{"$f":"D67+D68+D69+D70+D71+D72","v":0},0,0]
[null,"в том числе в %",{"$f":"'анализ факт сметы'!H166","v":0},{"$f":"'анализ факт сметы'!I166","v":0},{"$f":"'анализ факт сметы'!J166","v":0},0]
["9.1.","средства на возврат займов и кредитов и процентов по ним",{"$f":"'анализ факт сметы'!H167","v":0},{"$f":"'анализ факт сметы'!I167","v":0},{"$f":"'анализ факт сметы'!J167","v":0},0,null,0]
["9.2.","расходы на капитальные вложения (инвестиции)",{"$f":"'анализ факт сметы'!H168","v":0},{"$f":"'анализ факт сметы'!I168","v":0},{"$f":"'анализ факт сметы'!J168","v":0},0,null,0]
["9.3.","денежные выплаты социального характера (по коллективному договору)",{"$f":"'анализ факт сметы'!H169","v":0},{"$f":"'анализ факт сметы'!I169","v":0},{"$f":"'анализ факт сметы'!J169","v":0},0,null,0]
["9.4.","прибыль, обеспечивающая финансирование других расходов, не учитываемых  при определении налоговой бызы налога на прибыль (остающаяся в распоряжении организации)",{"$f":"'анализ факт сметы'!H170","v":0},{"$f":"'анализ факт сметы'!I170","v":0},{"$f":"'анализ факт сметы'!J170","v":0},0,null,0]
["9.6.","налог на прибыль",{"$f":"'анализ факт сметы'!H171","v":0},{"$f":"'анализ факт сметы'!I171","v":0},{"$f":"'анализ факт сметы'!J171","v":0},0,null,0]
[null,"(или)единый налог при УСН ",{"$f":"'анализ факт сметы'!H172","v":0},{"$f":"'анализ факт сметы'!I172","v":0},{"$f":"'анализ факт сметы'!J172","v":0},0,null,0]
[null,"Итого (сумма стр 1+стр 2+…+ стр 8+стр9)",{"$f":"C15+C42+C45+C46+C50+C52+C53+C58+C65","v":0},{"$f":"D15+D42+D45+D46+D50+D52+D53+D58+D65","v":0},{"$f":"E15+E42+E45+E46+E50+E52+E53+E58+E65","v":0},0]
[10,"Незапланированные расходы","х","х","х",{"$f":"SUMIF($H$17:$H$72,\"<0\",H17:H72)","v":0}]
[11,"Полученный избыток","х","х","х",{"$f":"SUMIF($H$17:$H$72,\">0\",H18:H73)","v":0}]
[null,null,{"$f":"C73-'анализ факт сметы'!C173","v":0},{"$f":"D73-'анализ факт сметы'!D173","v":0},{"$f":"E73-'анализ факт сметы'!E173","v":0}]