{"text_format":"1","workbook":"xlsx","n_sheets":25,"sheets":["Инструкция","Титульный","исходные данные","списки","данные об организации","Техн характер системы","Техн характер системы (бсх)","полезный отпуск","баланс ВО","отчет по реализации","проверка баланса во и реализац","отчет по электроэнергии","отчет по электроэнергии (бсх)","ремонт хозспособ","ремонт хозспособ (бсх)","ремонт подряд","ремонт подряд (бсх)","Смета факт","форма №2","показатели надежн и качества","отчет ПП","Смета 2016","анализ факт сметы","расчет выпадающих","ЭЗ"],"not_rendered":{"charts":0,"images":1,"macros":1,"external_links":0,"defined_names":215,"comments":0,"pivot_tables":0},"unopened":[],"bounds":{"document_bytes":16777216,"sheet_cells":100000,"rows_first":2000,"rows_last":500,"rows_between":2000,"halvings":0,"cell_chars":16384,"cell_head_chars":4096},"cells_cut":0,"cells_raw":0,"read":"whole","date_system":"1900"}

{"sheet":"Инструкция","index":0,"n_rows":151,"n_cols":1,"rows_kept":151,"cut":false,"hidden":false,"merged":[]}
[]
[]
[]
[]
[]
[]
[]
[]
[]
[]
[]
[]
[]
[]
[]
[]
[]
[]
[]
[]
[]
[]
[]
[]
[]
[]
[]
[]
[]
[]
[]
[]
[]
[]
[]
[]
[]
[]
[]
[]
[]
[]
[]
[]
[]
[]
[]
[]
[]
[]
[]
[]
[]
[]
[]
[]
[]
[]
[]
[]
[]
[]
[]
[]
[]
[]
[]
[]
[]
[]
[]
[]
[]
[]
[]
[]
[]
[]
[]
[]
[]
[]
[]
[]
[]
[]
[]
[]
[]
[]
[]
[]
[]
[]
[]
[]
[]
[]
[]
[]
[]
[]
[]
[]
[]
[]
[]
[]
[]
[]
[]
[]
[]
[]
[]
[]
[]
[]
[]
[]
[]
[]
[]
[]
[]
[]
[]
[]
[]
[]
[]
[]
[]
[]
[]
[]
[]
[]
[]
[]
[]
[]
[]
[]
[]
[]
[]
[]
[]
["18dtrTO"]
["18dtrTO18"]

{"sheet":"Титульный","index":1,"n_rows":23,"n_cols":3,"rows_kept":23,"cut":false,"hidden":false,"merged":[]}
[]
[null,null,"ОТЧЕТ О ВЫПОЛНЕНИИ ПРОИЗВОДСТВЕННОЙ ПРОГРАММЫ"]
[]
[null,"Регион РФ","Томская область"]
[]
[null,"Муниципальный район "]
[null,"Муниципальное образование "]
[]
[null,"ИНН "]
[null,"Наименование  организации",{"$f":"IF(Титульный!C9=\"\",\" \",INDEX(списки!M2:O185,MATCH(Титульный!C9,списки!M2:M185,0),3))","v":" "}]
[null,"Наименование филиала"]
[]
[null,"КПП ",{"$f":"IF(Титульный!C9=\"\",\" \",INDEX(списки!M2:O185,MATCH(Титульный!C9,списки!M2:M185,0),2))","v":" "}]
[]
[null,"Вид деятельности","Водоотведение"]
[]
[null,"период отчета","2016"]
[]
[null,"Вид  тарифа  в системе водоотведения"]
[]
[]
[]
[null,"Система налогообложения","Общая"]

{"sheet":"исходные данные","index":2,"n_rows":115,"n_cols":8,"rows_kept":115,"cut":false,"hidden":true,"merged":[[113,1,113,3],[114,1,114,3],[111,1,111,3],[108,1,108,3],[109,1,109,3],[106,1,106,3],[107,1,107,3],[103,0,104,0],[103,1,104,3],[103,4,104,4],[3,3,4,3],[5,3,6,3],[48,3,49,3],[2,3,2,5],[0,0,0,7],[3,0,6,0],[3,1,6,1],[3,2,6,2],[3,7,4,7],[5,7,6,7],[3,4,4,4],[3,5,4,5],[5,4,6,4],[5,5,6,5],[3,6,4,6],[5,6,6,6],[48,4,48,5],[47,3,47,5],[45,3,45,5],[46,3,46,5],[45,0,49,0],[45,1,49,1],[45,2,49,2]]}
["Баланс водоснабжения"]
[]
[null,null,null,"из расчетного шаблона 2016-2018",null,null,"из отчета 2015","из расчетного шаблона 2016"]
["№ п/п","Наименование показателей","Единицы измерения","2012 год","2013 год","2014 год","2015 год","2016 год"]
[]
[null,null,null,"факт","факт","факт","факт","ДТР ТО"]
[]
[1,2,3,"тыс.куб.м.!","тыс.куб.м.!","тыс.куб.м.!","куб.м.!","тыс.куб.м.!"]
["1.","Прием сточных вод","тыс.куб.м"]
[null,"технологические нужды предприятия","тыс.куб.м"]
[null,"поверхностные сточные воды","тыс.куб.м"]
[null,"от абонентов, которым установлены тарифы","тыс.куб.м"]
[null,"от других абонентов","тыс.куб.м"]
[null,"Объем реализации сточных вод","тыс.куб.м"]
[null,"жидкие бытовые отходы","тыс.куб.м"]
[null,"по категориям потребителей, в том числе:","тыс.куб.м"]
[null,"бюджет","тыс.куб.м"]
[null,"население","тыс.куб.м"]
[null,"прочие","тыс.куб.м"]
[null,"от других организаций, осуществляющих водоотведение","%"]
[null,"организация 1","тыс.куб.м"]
[null,"организация 2","тыс.куб.м"]
[null,"организация n","тыс.куб.м"]
[null,"от собственных абонентов","тыс.куб.м"]
[null,"Неучтенный приток сточных вод","тыс.куб.м"]
[null,"Организованный приток","тыс.куб.м"]
[null,"Неорганизованный приток","тыс.куб.м"]
[null,"Объем транспортируемых сточных вод","тыс.куб.м"]
[null,"Пропущено через cобственные очистные сооружения","тыс.куб.м"]
[null,"Передано сточных вод другим организациям","тыс.куб.м"]
[null,"Объем сточных вод, поступивших на очистные сооружения","тыс.куб.м"]
[null,"Объем сточных вод, прошедших очистку","тыс.куб.м"]
[null,"Сбросы сточных вод в пределах нормативов и лимитов","тыс.куб.м"]
[null,"Объем обезвоженного осадка сточных вод","тыс.куб.м"]
[null,"Темп изменения объема отводимых сточных вод"]
[null,"Объем потребленной электроэнергии","кВтч"]
[null,"Удельный расход электроэнергии","кВтч/куб.м."]
[null,"Удельное потребление воды населением, куб.м./ч","тыс.куб.м"]
[null,"Объем отведенных стоков на 1 человека","куб.м./чел в мес"]
[null,"Присоединенная мощность потребителей товаров (услуг) по холодному водоснабжению, куб м/ч","куб.м./ч"]
[null,"Справочно:","тыс.куб.м"]
[null,"Численность населения, получающего услуги организации","чел"]
[]
[]
[]
["№ п/п","Наименование статей","Единица измерения","Регулируемый период"]
[null,null,null,"2016 год"]
[null,null,null,"ДТР ТО"]
[null,null,null,"всего","в том числе по периодам"]
[null,null,null,null,"01.01.-30.06","01.07-31.12"]
[1,{"$f":"A51+1","v":2},3,4,5,6]
[null,"Затраты на покупную электрическую энергию и мощность","руб."]
[]
[1,"Затраты на покупную электрическую энергию по одноставочному тарифу","руб"]
[null,"  средневзвешенный  тариф на электрическую энергию ","руб/кВт.ч"]
[null,"  объем электроэнергии ","кВт.ч"]
[null,"в том числе"]
["1.1.","низкое (0,4 и ниже) ","руб."]
[null,"    тариф на электрическую энергию ","руб/кВт.ч"]
[null,"  объем электроэнергии ","кВт.ч"]
["1.2.","среднее  напряжение СН2 ","руб."]
[null,"    тариф на электрическую энергию ","руб/кВт.ч"]
[null,"  объем электроэнергии ","кВт.ч"]
["1.3.","среднее  напряжение СН1 (35 кВ)","руб."]
[null,"    тариф на электрическую энергию ","руб/кВт.ч"]
[null,"  объем электроэнергии ","кВт.ч"]
["1.4.","высокое  напряжение  (110 кВ и выше)","руб."]
[null,"    тариф на электрическую энергию ","руб/кВт.ч"]
[null,"  объем электроэнергии ","кВт.ч"]
[]
["2.","Затраты на покупную электрическую энергию по двухставочному тарифу","руб"]
["2.1.","Затраты на покупку мощности"]
["2.1.1.","низкое (0,4 и ниже) ","руб."]
[null,"    ставка за мощность ","руб/кВт в мес"]
[null,"  объем мощности ","кВт в мес"]
["2.1.2.","среднее  напряжение СН2 ","руб."]
[null,"    ставка за мощность ","руб/кВт в мес"]
[null,"  объем мощности ","кВт в мес"]
["2.1.3.","среднее  напряжение СН1 (35 кВ)","руб."]
[null,"    ставка за мощность ","руб/кВт в мес"]
[null,"  объем мощности ","кВт в мес"]
["2.1.4.","высокое  напряжение  (110 кВ и выше)","руб."]
[null,"    ставка за мощность ","руб/кВт в мес"]
[null,"  объем мощности ","кВт в мес"]
[]
["2.2.","Затраты на покупку активной электроэнергии"]
["2.2.1.","низкое (0,4 и ниже) ","руб."]
[null,"    тариф на электрическую энергию ","руб/кВт.ч"]
[null,"  объем электроэнергии ","кВт.ч"]
["2.2.2.","среднее  напряжение СН2 ","руб."]
[null,"    тариф на электрическую энергию ","руб/кВт.ч"]
[null,"  объем электроэнергии ","кВт.ч"]
["2.2.3.","среднее  напряжение СН1 (35 кВ)","руб."]
[null,"    тариф на электрическую энергию ","руб/кВт.ч"]
[null,"  объем электроэнергии ","кВт.ч"]
["2.2.4.","высокое  напряжение  (110 кВ и выше)","руб."]
[null,"    тариф на электрическую энергию ","руб/кВт.ч"]
[null,"  объем электроэнергии ","кВт.ч"]
[]
[]
[]
["V. Плановые значения показателей надежности, качества и энергетической эффективности объектов централизованных систем водоотведения"]
[]
["№ п/п","Наименование показателя",null,null,"ед. изм.","2016 год"]
[null,null,null,null,null,"утверждено"]
["Показатели качества очистки сточных вод"]
[1,"Доля сточных вод, не подвергающихся очистке, в общем объеме сточных вод, сбрасываемых в централизованные системы водоотведения",null,null,"%"]
[2,"Доля поверхностных сточных вод, не подвергающихся очистке, в общем объеме поверхностных сточных вод, принимаемых в централизованную ливневую систему водоотведения",null,null,"%"]
[3,"Доля проб сточных вод, не соответствующих установленным нормативам допустимых сбросов, лимитам на сбросы для централизованной системы водоотведения",null,null,"%"]
[4,"Доля проб сточных вод, не соответствующих установленным нормативам допустимых сбросов, лимитам на сбросы для ливневой системы водоотведения",null,null,"%"]
["Показатели надежности и бесперебойности водоотведения"]
[1,"Удельное количество аварий и засоров в расчете на протяженность канализационной сети в год",null,null,"ед в год/ км"]
["Показатели энергетической эффективности использования ресурсов"]
[1,"Удельный расход электроэнергии, потребляемой в технологическом процессе очистки сточных вод на единицу объема очищаемых сточных вод",null,null,"кВт.ч / куб.м"]
[2,"Удельный расход электроэнергии, потребляемой в технологическом процессе транспортировки сточных вод на единицу объема транспортируемых сточных вод",null,null,"кВт.ч / куб.м"]

{"sheet":"списки","index":3,"n_rows":185,"n_cols":16,"rows_kept":185,"cut":false,"hidden":true,"merged":[]}
["Районы",null,"Муниципальные образования",null,"Год",null,"Выбор","Вид тарифа","Система налогообложения",null,null,null,"ИНН","КПП","Наименование организации","Имущество"]
[null,null,null,null,null,null,null,null,null,null,1,2,"5116000922","540645001","акционерное общество \"Главное управление жилищно-коммунального хозяйства\"","договор аренды"]
["Александровский",null,"Александровское",null,2011,null,"да","воддоотведение (полный цикл)","Общая",1,"прибыль","доходы","7002006723","701701001","муниципальное бюджетное учреждение здравоохранения \"Асиновская центральная районная больница\"","постановление"]
["Асиновский",null,"Анастасьевское",null,2012,null,"нет","водоотведение (очистка стоков)","Упрощенная",2,null,"доходы минус расходы","7002010695","700201001","муниципальное унитарное предприятие \"Спецавтохозяйство\"","акт приема-передачи"]
["Бакчарский",null,"Асиновское городское",null,2013,null,null,"транспортировка сточных вод",null,null,null,null,"7002011508","700201001","муниципальное унитарное предприятие \"Большедороховское жилищно-коммунальное хозяйство\"","иное"]
["Верхнекетский",null,"Базойское",null,2014,null,null,null,null,null,null,null,"7002011515","700201001","муниципальное унитарное предприятие \"Новокусковское жилищно-коммунальное хозяйство\""]
["г. Кедровый",null,"Бакчарское",null,2015,null,null,null,null,null,null,null,"7002011522","700201001","муниципальное унитарное предприятие \"Новиковское жилищно-коммунальное хозяйство\""]
["г. Северск",null,"Баткатское",null,2016,null,null,null,null,null,null,null,"7002011530","700201001","муниципальное унитарное предприятие \"Батуринское жилищно-коммунальное хозяйство\""]
["г. Стрежевой",null,"Батуринское",null,2017,null,null,null,null,null,null,null,"7002011547","700201001","муниципальноте унитарное предприятие \"Ягодное жилищно-коммунальное хозяйство\""]
["г. Томск",null,"Белоярское",null,2018,null,null,null,null,null,null,null,"7002011787","700201001","муниципальное унитарное предприятие \"Новониколаевское жилищно-коммунальное хозяйство\""]
["Зырянский",null,"Белоярское городское",null,2019,null,null,null,null,null,null,null,"7002016312","700201001","общество с ограниченной ответственностью \"Асиновская водяная компания\""]
["Каргасокский",null,"Берегаевское",null,2020,null,null,null,null,null,null,null,"7002016626","700201001","общество с ограниченной ответственностью \"Асиновская тепло-генерирующая компания-№1\""]
["Кожевниковский",null,"Богатыревское",null,null,null,null,null,null,null,null,null,"7002016954","700201001","муниципальное унитарное предприятие \"Новокусковские коммунальные системы\""]
["Колпашевский",null,"Богашевское",null,null,null,null,null,null,null,null,null,"7002017027","700201001","общество с ограниченной ответсвенностью \"Асиновский водоканал\""]
["Кривошеинский",null,"Большедороховское",null,null,null,null,null,null,null,null,null,"7002017059","700201001","общество с ограниченной ответственностью \"АКОС\""]
["Молчановский",null,"Вавиловское",null,null,null,null,null,null,null,null,null,"7002017186","700201001","общество с ограниченной ответственностью \"Теплоэнергоресурс №1\""]
["Парабельский",null,"Вертикосское",null,null,null,null,null,null,null,null,null,"7002017193","700201001","общество с ограниченной ответственностью \"Теплоэнергоресурс №2\""]
["Первомайский",null,"Володинское",null,null,null,null,null,null,null,null,null,"7002017203","700201001","общество с ограниченной ответственностью \"Теплоэнергоресурс №3\""]
["Тегульдетский",null,"Воронинское",null,null,null,null,null,null,null,null,null,"7002017210","700201001","общество с ограниченной ответственностью \"Теплоэнергоресурс №4\""]
["Томский",null,"Высоковское",null,null,null,null,null,null,null,null,null,"7003000227","700301001","муниципальное унитарное предприятие Бакчарского района \"Бакчарский коммунальный комплекс\""]
["Чаинский",null,"Высокоярское",null,null,null,null,null,null,null,null,null,"7003000273","700301001","областное государственное бюджетное образовательное учреждение начального профессионального образования \"Профессиональное училище № 35\""]
["Шегарский",null,"Галкинское",null,null,null,null,null,null,null,null,null,"7003003130","700301001","открытое акционерное общество \"Агропромышленная компания \"Галкинская\""]
[null,null,"г. Кедровый",null,null,null,null,null,null,null,null,null,"7004004746","700401001","общество с ограниченной ответственностью \"Гранит\""]
[null,null,"городской округ \"ЗАТО Северск\"",null,null,null,null,null,null,null,null,null,"7004005323","700401001","общество с ограниченной ответственностью \"БИО ТЭК Верхняя Кеть\""]
[null,null,"городской округ \"Город Стрежевой\"",null,null,null,null,null,null,null,null,null,"7004006052","700401001","общество с ограниченной ответственностью \"БИО ТЭК-С\""]
[null,null,"городской округ \"Город  Томск\"",null,null,null,null,null,null,null,null,null,"700400687080","отсутствует","индивидуальный предприниматель Ковыряхин Юрий Анатольевич"]
[null,null,"Колпашевское городское поселение",null,null,null,null,null,null,null,null,null,"7004007151","700401001","общество с ограниченной ответственностью \"Деметра\""]
[null,null,"Дальненское",null,null,null,null,null,null,null,null,null,"7004007200","700401001","общество с ограниченной ответственностью \"Сайга-Энерго\""]
[null,null,"Дубровское",null,null,null,null,null,null,null,null,null,"7004007240","700401001","общество с ограниченной ответственностью \"Коммунально-жилищный сервис Ягодное\""]
[null,null,"Заводское",null,null,null,null,null,null,null,null,null,"7004007610","700401001","муниципальное унитарное предприятие Степановского сельского поселения \"Степановское\""]
[null,null,"Заречное",null,null,null,null,null,null,null,null,null,"7004007708","700401001","общество с ограниченной ответственностью \"Орловка\""]
[null,null,"Зональненское",null,null,null,null,null,null,null,null,null,"700500339834","отсутствует","индивидуальный предприниматель Маслов Сергей Афанасьевич"]
[null,null,"Зоркальцевское",null,null,null,null,null,null,null,null,null,"7005006305","700501001","муниципальное учреждение - Администрация Чердатского сельского поселения"]
[null,null,"Зырянское",null,null,null,null,null,null,null,null,null,"7005006312","700501001","муниципальное учреждение - Администрация Высоковского сельского поселения"]
[null,null,"Инкинское",null,null,null,null,null,null,null,null,null,"7005006344","700501001","муниципальное учреждение - Администрация Дубровского сельского поселения"]
[null,null,"Итатское",null,null,null,null,null,null,null,null,null,"7005006560","700501001","Михайловское муниципальное унитарное предприятие \"Родник\""]
[null,null,"Иштанское",null,null,null,null,null,null,null,null,null,"7005007193","700501001","общество с ограниченной ответственностью \"Аква-Сервис\""]
[null,null,"Калтайское",null,null,null,null,null,null,null,null,null,"7005007203","700501001","общество с ограниченной ответственностью \"Эко-Транс\""]
[null,null,"Каргасокское",null,null,null,null,null,null,null,null,null,"7005015638","700501001","общество с ограниченной ответственностью \"КомСервис Тегульдет\""]
[null,null,"Катайгинское",null,null,null,null,null,null,null,null,null,"7005016590","700501001","муниципальное унитарное предприятие \"Прогресс\""]
[null,null,"Кидальское",null,null,null,null,null,null,null,null,null,"700501702507","отсутствует","индивидуальный предприниматель Антипин Андрей Федорович"]
[null,null,"Клюквинское",null,null,null,null,null,null,null,null,null,"7006005110","700601001","муниципальное унитарное предприятие \"Каргасокский жилищно=эксплуатационный участок\" Каргасокского сельского поселения"]
[null,null,"Кожевниковское",null,null,null,null,null,null,null,null,null,"7006005632","700601001","муниципальное унитарное предприятие  Каргасокский \"Тепловодоканал\""]
[null,null,"Коломинское",null,null,null,null,null,null,null,null,null,"7006006153","700601001","муниципальное унитарное предприятие \"ЖКХ Сосновское\" муниципального образования \"Сосновское сельское поселение\""]
[null,null,"Комсомольское",null,null,null,null,null,null,null,null,null,"7006006160","700601001","муниципальное унитарное предприятие \"ЖКХ Молодежный\" муниципального образования \"Среднетымское сельское поселение\""]
[null,null,"Копыловское",null,null,null,null,null,null,null,null,null,"7006006298","700601001","муниципальное унитарное предприятие \"ЖКХ Тымское\" муниципального образования \"Тымское сельское поселение\""]
[null,null,"Корниловское",null,null,null,null,null,null,null,null,null,"7006007407","700601001","муниципальное унитарное предприятие \" Нововасюганское\" муниципального образования \"Нововасюганское сельское поселение\""]
[null,null,"Красногорское",null,null,null,null,null,null,null,null,null,"7006008432","700601001","муниципальное унитарное предприятие \"ЖКХ Васюган\" муниципального образования \"Средневасюганское сельское поселение\""]
[null,null,"Красноярское",null,null,null,null,null,null,null,null,null,"700700053744","отсутствует","индивидуальный предприниматель Волшуков Виктор Николаевич"]
[null,null,"Кривошеинское",null,null,null,null,null,null,null,null,null,"7007007583","700701001","общество с ограниченной ответственностью \"Риск\""]
[null,null,"Курлекское",null,null,null,null,null,null,null,null,null,"7007007657","700701001","общество с ограниченной ответственностью \"Заря - Сервис\""]
[null,null,"Куяновское",null,null,null,null,null,null,null,null,null,"7007009950","700701001","общество с ограниченной ответственностью \"Колпашевская тепловая компания\""]
[null,null,"Лукашкин-Ярское",null,null,null,null,null,null,null,null,null,"7007010120","700701001","общество с ограниченной ответственностью \"Водоканал - 2\""]
[null,null,"Макзырское",null,null,null,null,null,null,null,null,null,"7007010138","700701001","общество с ограниченной ответственностью \"Водоканал - 1\""]
[null,null,"Малиновское",null,null,null,null,null,null,null,null,null,"7007011117","700701001","общество с ограниченной ответственностью \"Энергия\""]
[null,null,"Межениновское",null,null,null,null,null,null,null,null,null,"7007011269","700701001","муниципальное унитарное предприятие \"Пламя\""]
[null,null,"Мирнинское",null,null,null,null,null,null,null,null,null,"7007011639","700701001","общество с ограниченной ответственностью \"Колпашевские очистные системы\""]
[null,null,"Михайловское",null,null,null,null,null,null,null,null,null,"700704480874","отсутствует","индивидуальный предприниматель Воронин Сергей Петрович"]
[null,null,"Могочинское",null,null,null,null,null,null,null,null,null,"7008006430","700801001","Кожевниковское районное муниципальное унитарное предприятие \"Коммунальное ремонтно-строительное хозяйство\""]
[null,null,"Молчановское",null,null,null,null,null,null,null,null,null,"7008006448","700801001","общество с ограниченной ответственностью  \"Кожевниковский КОМХОЗ\""]
[null,null,"Моряковское",null,null,null,null,null,null,null,null,null,"7008007554","700801001","общество с ограниченной ответственностью \"Селькомхоз\""]
[null,null,"Назинское",null,null,null,null,null,null,null,null,null,"7009003954","700901001","муниципальное унитарное предприятие \"Жилищно-коммунальное хозяйство Кривошеинского сельского поселения\""]
[null,null,"Наргинское",null,null,null,null,null,null,null,null,null,"7009004027","700901001","общество с ограниченной ответственностью \"H 2 O\""]
[null,null,"Нарымское",null,null,null,null,null,null,null,null,null,"7009004073","700901001","общество с ограниченной ответственностью \"Энергоресурс\""]
[null,null,"Наумовское",null,null,null,null,null,null,null,null,null,"701000127664","отсутствует","индивидуальный предприниматель Сысоев Владимир Геннадьевич"]
[null,null,"Национальное Иванкинское",null,null,null,null,null,null,null,null,null,"7010002296","701001001","общество с ограниченной ответственностью \"Энергия-М\""]
[null,null,"Новиковское",null,null,null,null,null,null,null,null,null,"7010002673","701001001","общество с ограниченной ответственностью \"Компания экологической безопасности\""]
[null,null,"Нововасюганское",null,null,null,null,null,null,null,null,null,"7010002916","701001001","общество с ограниченной ответственностью \"Водовод\""]
[null,null,"Новогоренское",null,null,null,null,null,null,null,null,null,"7010005579","701001001","исполнительно-распорядительный орган муниципального образованияТунгусовского сельского поселения Администрация Тунгусовского сельского поселения"]
[null,null,"Новокривошеинское",null,null,null,null,null,null,null,null,null,"7011003207","701101001","муниципальное унитарное предприятие \"Нарымское жилищно-коммунальное хозяйство\""]
[null,null,"Новокусковское",null,null,null,null,null,null,null,null,null,"7011005155","701101001","муниципальное казенное учреждение Администрация Новосельцевского сельского поселения - исполнительно распорядительный орган муниципального образования Новосельцевского сельского поселения"]
[null,null,"Новомариинское",null,null,null,null,null,null,null,null,null,"7011005162","701101001","муниципальное казенное учреждение Администрация Заводского сельского поселения - исполнительно распорядительный орган муниципального образования Заводского сельского поселения"]
[null,null,"Новониколаевское",null,null,null,null,null,null,null,null,null,"7011006014","700401001","общество с ограниченной ответственностью \"Универсал-Сервис\""]
[null,null,"Новоникольское",null,null,null,null,null,null,null,null,null,"7011006092","701101001","муниципальное унитарное предприятие \"Парабель - Энергокомплекс\""]
[null,null,"Новопокровское",null,null,null,null,null,null,null,null,null,"7011006215","701101001","общество с ограниченной ответственностью \"Строитель\""]
[null,null,"Новорождественское",null,null,null,null,null,null,null,null,null,"701100720660","отсутствует","индивидуальный предприниматель Стрельников Сергей Владимирович"]
[null,null,"Новоселовское",null,null,null,null,null,null,null,null,null,"701101197192","отсутствует","индивидуальный предприниматель Михайлов Андрей Васильевич"]
[null,null,"Новосельцевское",null,null,null,null,null,null,null,null,null,"7012004926","701201001","муниципальное унитарное предприятие \"Сергеевское\""]
[null,null,"Новоюгинское",null,null,null,null,null,null,null,null,null,"7012004958","701201001","муниципальное унитарное предприятие \"Жилкомхоз\""]
[null,null,"Октябрьское",null,null,null,null,null,null,null,null,null,"7012006779","701201001","общество с ограниченной ответственностью \"Луговское\""]
[null,null,"Орловское",null,null,null,null,null,null,null,null,null,"7012007162","701201001","общество с ограниченной ответственностью \"Жилкомфорт\""]
[null,null,"Палочкинское",null,null,null,null,null,null,null,null,null,"7012007170","701201001","общество с ограниченной ответственностью \"Альянс\""]
[null,null,"Парабельское",null,null,null,null,null,null,null,null,null,"7014000490","701701001","открытое акционерное общество \"Томскснаб\""]
[null,null,"Парбигское",null,null,null,null,null,null,null,null,null,"701401371204","отсутствует","индивидуальный предприниматель Тимофеев Юрий Никитович"]
[null,null,"Первомайское",null,null,null,null,null,null,null,null,null,"701401633450","отсутствует","ииндивидуальный предприниматель Градовец Александр Владимирович"]
[null,null,"Песочно-Дубровское",null,null,null,null,null,null,null,null,null,"7014027742","701401001","общество с ограниченной ответственностью \"Межениновская птицефабрика\""]
[null,null,"Петровское",null,null,null,null,null,null,null,null,null,"7014040790","701401001","общество с ограниченной ответственностью \"Тепло-энергетическое предприятие Лоскутовское\""]
[null,null,"Плотниковское",null,null,null,null,null,null,null,null,null,"7014041063","701401001","общество с ограниченной ответственностью \"ЖКХ Рыбаловское\""]
[null,null,"Побединское",null,null,null,null,null,null,null,null,null,"7014041634","701401001","общество с ограниченной ответственностью  \"Санаторий Синий Утес\""]
[null,null,"Подгорнское",null,null,null,null,null,null,null,null,null,"7014043021","701401001","общество с ограниченной ответственностью \"РЕКА+\""]
[null,null,"Поротниковское",null,null,null,null,null,null,null,null,null,"7014044794","701701001","общество с ограниченной ответственностью \"КП \"Ключи\""]
[null,null,"Пудовское",null,null,null,null,null,null,null,null,null,"7014045068","701401001","муниципальное унитарное предприятие Богашевского сельского поселения \"Орион\""]
[null,null,"Рыбаловское",null,null,null,null,null,null,null,null,null,"7014048076","701401001","общество с ограниченной ответственностью \"Восточная Инвестиционная Газовая Компания\""]
[null,null,"Сайгинское",null,null,null,null,null,null,null,null,null,"7014049866","701401001","муниципальное казенное предприятие Томского района \"Технополигон\""]
[null,null,"Саровское",null,null,null,null,null,null,null,null,null,"7014049915","701401001","общество с ограниченной ответственностью \"ЭКМО\""]
[null,null,"Северное",null,null,null,null,null,null,null,null,null,"7014053541","701401001","общество с ограниченной ответственностью \"Ресурс-Т\""]
[null,null,"Сергеевское",null,null,null,null,null,null,null,null,null,"7014054440","701401001","общество с ограниченной ответственностью \"Водоресурс\""]
[null,null,"Сосновское",null,null,null,null,null,null,null,null,null,"7014054979","701401001","муниципальное предприятие Зональненского сельского поселения \"Служба коммунального сервиса\""]
[null,null,"Спасское",null,null,null,null,null,null,null,null,null,"7014055027","701401001","муниципальное унитарное предприятие Мирненского сельского поселения \"ТВК\""]
[null,null,"Средневасюганское",null,null,null,null,null,null,null,null,null,"7014055404","701401001","муниципальное унитарное предприятие жилищно-коммунального хозяйства \"Исток\" Новорождественского сельского поселения"]
[null,null,"Среднетымское",null,null,null,null,null,null,null,null,null,"7014055644","701401001","общество с ограниченной ответственностью \"Управляющая компания \"Томскосельское\""]
[null,null,"Старицынское",null,null,null,null,null,null,null,null,null,"7014055796","701401001","общество с ограниченной ответственностью \"Восточная Водяная Компания\""]
[null,null,"Староювалинское",null,null,null,null,null,null,null,null,null,"7014055806","701401001","общество с ограниченной ответственностью \"Восточная Тепловая Компания\""]
[null,null,"Степановское",null,null,null,null,null,null,null,null,null,"7014055813","701401001","общество с ограниченной ответственностью \"Восточная Компания\""]
[null,null,"Суйгинское",null,null,null,null,null,null,null,null,null,"7014055845","701401001","общество с ограниченной ответственность \"Западная Тепловая Компания\""]
[null,null,"Тевризское",null,null,null,null,null,null,null,null,null,"7014055884","701401001","общество с ограниченной ответственностью \"Южная Тепловая Компания\""]
[null,null,"Тегульдетское",null,null,null,null,null,null,null,null,null,"7014056084","701401001","общество с ограниченной ответственностью \"Теплогазсервис\""]
[null,null,"Тогуровское",null,null,null,null,null,null,null,null,null,"7014056711","701401001","общество с ограниченной ответственностью \"Гарант\""]
[null,null,"Толпаровское",null,null,null,null,null,null,null,null,null,"7014057257","701401001","муниципальное унитарное предприятие Межениновского сельского поселения \"Жилищно-коммунальное хозяйство ВодСервис\""]
[null,null,"Трубоческое",null,null,null,null,null,null,null,null,null,"7014057320","701401001","муниципальное унитарное предприятие \"Жилищное коммунальное хозяйство Октябрьское\""]
[null,null,"Тунгуссовское",null,null,null,null,null,null,null,null,null,"7014057377","701401001","общество с ограниченной ответственностью \"Комсервис+М\""]
[null,null,"Турунтаевское",null,null,null,null,null,null,null,null,null,"7014057715","701401001","муниципальное унитарное предприятие Заречного сельского поселения \"Заречное\""]
[null,null,"Тымское",null,null,null,null,null,null,null,null,null,"7014057754","701701001","общество с ограниченной ответственностью \"Водоканал\""]
[null,null,"Улу-Юльское",null,null,null,null,null,null,null,null,null,"7014057779","701401001","муниципальное унитарное предприятие «ТУРУНТАЕВО-ПАРТНЕР»"]
[null,null,"Уртамское",null,null,null,null,null,null,null,null,null,"7014057916","701401001","муниципальное унитарное предприятие \"Норма\""]
[null,null,"Усть-Бакчарское",null,null,null,null,null,null,null,null,null,"7014059825","701401001","Муниципальное унитарное предприятие Мирненского сельского поселения \"ВК\""]
[null,null,"Усть-Тымское",null,null,null,null,null,null,null,null,null,"7014059920","701401001","муниципальное унитарное предприятие Спасского сельского поселения \"Техник\""]
[null,null,"Усть-Чижапское",null,null,null,null,null,null,null,null,null,"7014061454","701401001","общество с ограниченной ответственностью \"Ресурс\""]
[null,null,"Чажемтовское",null,null,null,null,null,null,null,null,null,"7015000373","701501001","муниципальное унитарное предприятие Чаинского района \"Чаинское производственное объединение жилищно-коммунального хозяйства\""]
[null,null,"Чаинское",null,null,null,null,null,null,null,null,null,"7015000535","701501001","областное государственное бюджетное учреждение здравоохранения \"Чаинская районная больница\""]
[null,null,"Черноярское",null,null,null,null,null,null,null,null,null,"7016000016","701601001","общество с ограниченной ответственностью \"Водоканал\""]
[null,null,"Чернышевское",null,null,null,null,null,null,null,null,null,"7016000030","701601001","общество с ограниченной ответственностью \"Автотранс\""]
[null,null,"Четское",null,null,null,null,null,null,null,null,null,"7016000584","701601001","муниципальное унитарное предприятие \"Комфорт\""]
[null,null,"Чилинское",null,null,null,null,null,null,null,null,null,"7016001098","701601001","областное государственное социальное учреждение \"Дом-интернат для престарелых и инвалидов \"Лесная дача\""]
[null,null,"Шегарское",null,null,null,null,null,null,null,null,null,"7016001620","701601001","областное государственное автономное учреждение \"Шегарский психоневрологический интернат \"ЗАБОТА\""]
[null,null,"Ягоднинское",null,null,null,null,null,null,null,null,null,"7016005617","701601001","общество с ограниченной ответственностью \"Шегарский водоканал\""]
[null,null,"Ягодное",null,null,null,null,null,null,null,null,null,"7016007156","701601001","общество с ограниченной отвественностью Управляющая компания \"Успех\""]
[null,null,null,null,null,null,null,null,null,null,null,null,"7017001968","701701001","онитарное муниципальное предприятие \"Спецавтохозяйство г. Томска\""]
[null,null,null,null,null,null,null,null,null,null,null,null,"7017002136","701701001","онитарное муниципальное предприятие г. Томска \"Комбинат Спецобслуживания\" по организации похорон и предоставлению связанных с ними услуг"]
[null,null,null,null,null,null,null,null,null,null,null,null,"7017004366","701701001","акционерное общество \"Транснефть-Центральная Сибирь\""]
[null,null,null,null,null,null,null,null,null,null,null,null,"7017005289","701702010","общество с ограниченной ответственностью \"Газпром трансгаз Томск\""]
[null,null,null,null,null,null,null,null,null,null,null,null,"7017005289","702243001","общество с ограниченной ответственностью \"Газпром трансгаз Томск\""]
[null,null,null,null,null,null,null,null,null,null,null,null,"7017012254","701401001","закрытое акционерное общество \"Сибирская Аграрная Группа\""]
[null,null,null,null,null,null,null,null,null,null,null,null,"7017063682","701401001","закрытое акционерное общество \"Восточная Инвестиционная Газовая Компания\""]
[null,null,null,null,null,null,null,null,null,null,null,null,"7017071531","701401001","общество с ограниченной ответственностью \"Квинта\""]
[null,null,null,null,null,null,null,null,null,null,null,null,"7017075536","701701001","общество с ограниченной ответственностью \"Томскнефтехим\""]
[null,null,null,null,null,null,null,null,null,null,null,null,"7017095349","701701001","открытое акционерное общество \"Организация \"Технотрон\""]
[null,null,null,null,null,null,null,null,null,null,null,null,"7017098220","701701001","общество с ограниченной ответственностью \"Завод приборных подшипников\""]
[null,null,null,null,null,null,null,null,null,null,null,null,"7017110131","701701001","закрытое акционерное общество Кондитерская фабрика \"Красная звезда\""]
[null,null,null,null,null,null,null,null,null,null,null,null,"7017123606","701701001","общество с ограниченной ответственностью \"Управляющая компания \"Томского приборного завода\""]
[null,null,null,null,null,null,null,null,null,null,null,null,"7017129118","701701001","общество с ограниченной ответственностью \"СетьСервис\""]
[null,null,null,null,null,null,null,null,null,null,null,null,"7017134397","701701001","общество с ограниченной ответственностью \"ГазТехСервис\""]
[null,null,null,null,null,null,null,null,null,null,null,null,"7017213271","701701001","общество с ограниченной ответственностью \"Томлесдрев\""]
[null,null,null,null,null,null,null,null,null,null,null,null,"7017245330","701701001","общество с ограниченной ответственностью \"Сетевая компания ТДСК\""]
[null,null,null,null,null,null,null,null,null,null,null,null,"7017249750","701701001","общество с ограниченной ответственностью «Термо»"]
[null,null,null,null,null,null,null,null,null,null,null,null,"7017253147","700743001","государственное унитарное предприятие Томской области  \"Областное дорожное ремонтно - строительное управление\""]
[null,null,null,null,null,null,null,null,null,null,null,null,"7017253147","701443001","государственное унитарное предприятие Томской области \"Областное дорожное ремонтно - строительное управление\""]
[null,null,null,null,null,null,null,null,null,null,null,null,"7017270664","701701001","общество с ограниченной ответственностью \"Томскводоканал\""]
[null,null,null,null,null,null,null,null,null,null,null,null,"7017291311","701701001","общество с ограниченной ответственностью \"Колос-С\""]
[null,null,null,null,null,null,null,null,null,null,null,null,"7017318531","701701001","общество с ограниченной ответственностью \"ЭнергоТЭК\""]
[null,null,null,null,null,null,null,null,null,null,null,null,"7017323595","701701001","общество с ограниченной ответственностью \"Тепловая компания \"Стандарт\""]
[null,null,null,null,null,null,null,null,null,null,null,null,"7017326170","701401001","общество с ограниченной ответственностью \"Аргентум\""]
[null,null,null,null,null,null,null,null,null,null,null,null,"7017351521","701701001","акционерное общество \"ТомскРТС\""]
[null,null,null,null,null,null,null,null,null,null,null,null,"7017373035","701701001","общество с ограниченной ответственностью \"Энергогарант\""]
[null,null,null,null,null,null,null,null,null,null,null,null,"7017373959","701701001","акционерное общество \"Томская генерация\""]
[null,null,null,null,null,null,null,null,null,null,null,null,"7017374014","701701001","общество с ограниченной ответсвенностью \"Городские очистные сооружения\""]
[null,null,null,null,null,null,null,null,null,null,null,null,"7020008610","702001001","открытое акционерное общество Финансово-строительная компания \"Газ Химстрой Инвест\""]
[null,null,null,null,null,null,null,null,null,null,null,null,"7020035798","701701001","федеральное казенное учреждение \"Исправительная колония № 3 Управления Федеральной службы исполнения наказаний по Томской области\""]
[null,null,null,null,null,null,null,null,null,null,null,null,"7021001569","701701001","федеральное государственное унитарное предприятие \"Комбинат коммунальных предприятий Томского научного центра  Сибирского отделения Российской академии наук\""]
[null,null,null,null,null,null,null,null,null,null,null,null,"7022000310","997150001","открытое акционерное общество \"Томскнефть\" Восточной Нефтяной Компании"]
[null,null,null,null,null,null,null,null,null,null,null,null,"7022010478","702201001","муниципальное унитарное предприятие \"Жилкомсервис\" Александровского сельского поселения"]
[null,null,null,null,null,null,null,null,null,null,null,null,"7022010799","702201001","общество с ограниченной ответственностью \"Энергонефть Томск\""]
[null,null,null,null,null,null,null,null,null,null,null,null,"7022011087","702201001","общество с ограниченной ответственностью \"Стрежевой теплоэнергоснабжение\""]
[null,null,null,null,null,null,null,null,null,null,null,null,"7022014835","702201001","муниципальное унитарное предприятие \"Комсервис\" Лукашкин-Ярского сельского поселения Александровского района Томской области"]
[null,null,null,null,null,null,null,null,null,null,null,null,"7022014842","702201001","муниципальное унитарное предприятие \"Жилищно-коммунальное хозяйство\" села  Назино"]
[null,null,null,null,null,null,null,null,null,null,null,null,"7022014874","702201001","муниципальное унитарное предприятие \"Комсервис\" Александровского района Томской области"]
[null,null,null,null,null,null,null,null,null,null,null,null,"7022017561","702201001","общество с ограниченной ответственностью \"Транспортные коммунальные системы\""]
[null,null,null,null,null,null,null,null,null,null,null,null,"7022018300","702201001","общество с ограниченной ответственностью \"Жилстрой\""]
[null,null,null,null,null,null,null,null,null,null,null,null,"7022019336","702201001","общество с ограниченной ответственностью \"ТРАНССИБ\""]
[null,null,null,null,null,null,null,null,null,null,null,null,"702280350128","отсутствует","индивидуальный предприниматель Голованов Андрей Николаевич"]
[null,null,null,null,null,null,null,null,null,null,null,null,"7023005209","702301001","общество с ограниченной ответственностью \"Северная Тепловая Компания\""]
[null,null,null,null,null,null,null,null,null,null,null,null,"7024021972","701401001","общество с ограниченной ответственностью \"Экополис\""]
[null,null,null,null,null,null,null,null,null,null,null,null,"7024024853","702401001","открытое акционерное общество \"Северский водоканал\""]
[null,null,null,null,null,null,null,null,null,null,null,null,"7024024860","702401001","открытое акционерное общество \"Тепловые сети\""]
[null,null,null,null,null,null,null,null,null,null,null,null,"7024028054","702401001","общество с ограниченной ответственностью \"Полигон твердых бытовых отходов комбината благоустройства\""]
[null,null,null,null,null,null,null,null,null,null,null,null,"7024029499","702401001","акционерное общество \"Сибирский химический комбинат\""]
[null,null,null,null,null,null,null,null,null,null,null,null,"7024032100","702401001","общество с ограниченной ответственностью \"ВКХ\""]
[null,null,null,null,null,null,null,null,null,null,null,null,"7024033488","702401001","общество с ограниченной ответственностью \"Управление энергоснабжения\""]
[null,null,null,null,null,null,null,null,null,null,null,null,"7024037595","702401001","общество с ограниченной ответственностью \"Северские энергетические сети\""]
[null,null,null,null,null,null,null,null,null,null,null,null,"7024038704","702401001","общество с ограниченной ответственностью \"Тепло плюс\""]
[null,null,null,null,null,null,null,null,null,null,null,null,"7024038863","702401001","общество с ограниченной ответственностью \"ВКХ \"Самусь\""]
[null,null,null,null,null,null,null,null,null,null,null,null,"7224031400","701401001","закрытое акционерное общество \"Сибирская Аграрная Группа Мясопереработка\""]
[null,null,null,null,null,null,null,null,null,null,null,null,"7224067981","722401001","общество с ограниченной ответственностью \"Промпереработка\""]
[null,null,null,null,null,null,null,null,null,null,null,null,"7708503727","540775040","Кузбасский территорильный  участокЗападно-Сибирской дирекции по тепловодоснабжению - структурного подразделения Центральной дирекции по тепловодоснабжению-филиал ОАО \"РЖД\""]
[null,null,null,null,null,null,null,null,null,null,null,null,"7722292838","701702001","федеральное государственное унитарное предприятие \"Научно-производственное объединение по медицинским иммунобиологическим препаратам \"Микроген\" Министерства здравоохранения Российской Федерации"]

{"sheet":"данные об организации","index":4,"n_rows":42,"n_cols":10,"rows_kept":42,"cut":false,"hidden":false,"merged":[[28,9,29,9],[30,9,31,9],[28,8,29,8],[30,8,31,8],[28,0,31,0],[28,1,31,2],[28,3,31,3],[28,5,31,5],[28,6,31,6],[24,0,24,3],[20,5,20,9],[21,5,21,9],[21,0,21,3],[20,0,20,3],[24,5,24,9],[0,0,0,9],[9,0,9,9],[11,4,11,9],[11,0,11,3],[12,0,12,3],[2,0,2,1],[3,0,3,1],[4,0,4,1],[5,0,5,1],[7,2,7,9],[6,0,6,1],[7,0,7,1],[2,2,2,9],[3,2,3,9],[4,2,4,9],[5,2,5,9],[6,2,6,9],[19,5,19,9],[19,0,19,3],[18,5,18,9],[18,0,18,3],[17,5,17,9],[15,0,15,3],[16,0,16,3],[17,0,17,3],[13,0,13,3],[14,0,14,3],[12,5,12,9],[13,5,13,9],[14,5,14,9],[15,5,15,9],[16,5,16,9],[26,1,26,2],[34,1,34,8],[36,1,36,3],[38,1,41,3],[38,4,41,4],[38,8,39,8],[40,8,41,8],[38,7,39,7],[40,7,41,7],[38,5,41,5]]}
["Краткие сведения об организации"]
[]
["Наименование организации:",null,{"$f":"Титульный!C10","v":" "}]
["Юридический адрес:"]
["Тел/факс:"]
["E-mail:"]
["Должность руководителя"]
["Ф.И.О. (полностью)"]
[]
["Перечень населенных пунктов, в которых организация осуществляет деятельность по водоотведению"]
[]
["Наименование МО",null,null,null,"Наименование населенного пункта"]
[null,null,null,null,1]
[null,null,null,null,2]
[null,null,null,null,3]
[null,null,null,null,4]
[null,null,null,null,5]
[null,null,null,null,6]
[null,null,null,null,7]
[null,null,null,null,8]
[null,null,null,null,9]
[null,null,null,null,10]
[]
[]
["Налогообложение",null,null,null,null,"Сведения об установленных тарифах на 2016 год"]
[]
["система налогообложения","объект налогообложения",null,"налоговая ставка",null,"№ приказа ДТР ТО","дата приказа","срок действия тарифа","величина тарифа, руб/куб.м.","НДС"]
[]
[{"$f":"Титульный!C23","v":"Общая"},null,null,{"$f":"IF(B29=\"доходы\",6,IF(B29=\"доходы минус расходы\",10,20))","v":20},null,null,null,"2016-01-01",null,{"$f":"IF(A29=\"Общая\",\"без учета НДС\",\"НДС не предусмотрен\")","v":"без учета НДС"}]
[null,null,null,null,null,null,null,"2016-06-30"]
[null,null,null,null,null,null,null,"2016-07-01",null,{"$f":"IF(A29=\"Общая\",\"без учета НДС\",\"НДС не предусмотрен\")","v":"без учета НДС"}]
[null,null,null,null,null,null,null,"2016-12-31"]
[]
[]
[null,"Сведения о компенсации до установленного тарифа на 2015 год"]
[]
[null,"Наименование документа",null,null,"№ документа","дата ","срок действия компенсации","разница в тарифах, руб/куб.м.","НДС"]
[]
[null,null,null,null,50,"2000-01-01","2016-01-01",null,{"$f":"J29","v":"без учета НДС"}]
[null,null,null,null,null,null,"2016-06-30"]
[null,null,null,null,null,null,"2016-07-01",null,{"$f":"J31","v":"без учета НДС"}]
[null,null,null,null,null,null,"2016-12-31"]

{"sheet":"Техн характер системы","index":5,"n_rows":117,"n_cols":10,"rows_kept":117,"cut":false,"hidden":false,"merged":[[8,0,8,10],[0,0,0,10],[82,0,83,0],[2,0,2,10],[12,0,14,0],[12,1,14,1],[12,2,14,2],[37,0,39,0],[37,1,39,1],[37,2,39,2],[37,3,39,3],[37,4,39,4],[37,5,39,5],[37,6,37,9],[38,6,38,7],[38,8,38,9]]}
[{"$f":"Титульный!C10","v":" "}]
[]
["Имущество, переданное по договору аренды (концессионному соглашению) и (или) принадлежащее на праве собственности"]
[]
["Район",{"$f":"Титульный!C6","v":0}]
[]
["МО",{"$f":"Титульный!C7","v":0}]
[]
[{"$f":"Титульный!C19","v":0}]
[]
["Станции очистки сточных вод"]
[]
["Наименование показателя","Ед.изм","Количество"]
[]
[]
["Оборудование"]
["Приемная камера","шт."]
["Решетки","шт."]
["Сооружения по обработке осадка","шт."]
["Песколовки","шт."]
["Аэротенки","шт."]
["Биофильтры","шт."]
["Отстойники","шт."]
["Другие","шт."]
["Вид очистки сточных вод:"]
["Механическая","м3"]
["Биологическая","м3"]
["Физико-химическая","м3"]
["Дезинфекция","м3"]
[]
["Производительность","м3/час"]
["Время работы в году","час"]
["Годовая производительность","м3",{"$f":"C31*C32","v":0}]
["Эффективность очистки сточных вод","%"]
[]
["Основное оборудование канализационных насосных станций и очистных сооружений"]
[]
["Наименование показателя","Количество одновременно в работе","Марка оборудования (насоса)","Производительность оборудования (насоса), куб.м./час","Продолжительность работы в году, час","Мощность оборудования (насоса), кВт","Отопление (обогрев) объектов"]
[null,null,null,null,null,null,"ТЭН",null,"Тепловая энергия от котельных"]
[null,null,null,null,null,null,"количество, шт","Суммарная мощность, кВт","Объем, Гкал","Наименование организации-поставщика тепловой энергии "]
["Станции очистки сточных вод"]
["Насосное оборудование"]
[]
[]
[]
[]
[]
[]
[]
[]
["Оборудование очистных сооружений"]
[]
[]
[]
[]
[]
[]
[]
[]
[]
["Оборудование канализационных насосных станций"]
[]
[]
[]
[]
[]
[]
[]
[]
[]
[]
[]
[]
[]
[]
[]
[]
[]
[]
[]
[]
[]
["СЕТИ","2016 год"]
[null,"на 31.12.2016 года"]
["Протяженность канализационных сетей всего, м",{"$f":"SUM(B86:B100)","v":0}]
["в том числе диаметром"]
["диаметр до 50 мм"]
["диаметр  от 50 до 100 мм"]
["диаметр  от 100 до 150 мм"]
["диаметр  от 150 до 200 мм"]
["диаметр  от 200 до 300 мм"]
["диаметр  от 300 до 400 мм"]
["диаметр  от 400 до 500 мм"]
["диаметр  от 500 до 600 мм"]
["диаметр  от 600 до 700 мм"]
["диаметр  от 700 до 800 мм"]
["диаметр от 800 до 900  мм"]
["диаметр  от 900 до 1000 мм"]
["диаметр  от 1000 до 1200 мм"]
["диаметр  свыше  1200 мм"]
["Протяженность канализационных сетей, нуждающихся в замене всего, м",{"$f":"SUM(B102:B116)","v":0}]
["в том числе диаметром"]
["диаметр до 50 мм"]
["диаметр  от 50 до 100 мм"]
["диаметр  от 100 до 150 мм"]
["диаметр  от 150 до 200 мм"]
["диаметр  от 200 до 300 мм"]
["диаметр  от 300 до 400 мм"]
["диаметр  от 400 до 500 мм"]
["диаметр  от 500 до 600 мм"]
["диаметр  от 600 до 700 мм"]
["диаметр  от 700 до 800 мм"]
["диаметр от 800 до 900  мм"]
["диаметр  от 900 до 1000 мм"]
["диаметр  от 1000 до 1200 мм"]
["диаметр  свыше  1200 мм"]
["Удельный вес сетей, нуждающихся в замене, %",{"$f":"IF(B85=0,0,B101/B85*100)","v":0}]

{"sheet":"Техн характер системы (бсх)","index":6,"n_rows":117,"n_cols":10,"rows_kept":117,"cut":false,"hidden":false,"merged":[[37,6,37,9],[38,6,38,7],[38,8,38,9],[82,0,83,0],[37,0,39,0],[37,1,39,1],[37,2,39,2],[37,3,39,3],[37,4,39,4],[37,5,39,5],[0,0,0,10],[2,0,2,10],[8,0,8,10],[12,0,14,0],[12,1,14,1],[12,2,14,2]]}
[{"$f":"Титульный!C10","v":" "}]
[]
["Объекты бесхозяйного имущества"]
[]
["Район",{"$f":"Титульный!C6","v":0}]
[]
["МО",{"$f":"Титульный!C7","v":0}]
[]
[{"$f":"Титульный!C19","v":0}]
[]
["Станции очистки сточных вод"]
[]
["Наименование показателя","Ед.изм","Количество"]
[]
[]
["Оборудование"]
["Приемная камера","шт."]
["Решетки","шт."]
["Сооружения по обработке осадка","шт."]
["Песколовки","шт."]
["Аэротенки","шт."]
["Биофильтры","шт."]
["Отстойники","шт."]
["Другие","шт."]
["Вид очистки сточных вод:"]
["Механическая","м3"]
["Биологическая","м3"]
["Физико-химическая","м3"]
["Дезинфекция","м3"]
[]
["Производительность","м3/час"]
["Время работы в году","час"]
["Годовая производительность","м3",{"$f":"C31*C32","v":0}]
["Эффективность очистки сточных вод","%"]
[]
["Основное оборудование канализационных насосных станций и очистных сооружений"]
[]
["Наименование показателя","Количество одновременно в работе","Марка оборудования (насоса)","Производительность оборудования (насоса), куб.м./час","Продолжительность работы в году, час","Мощность оборудования (насоса), кВт","Отопление (обогрев) объектов"]
[null,null,null,null,null,null,"ТЭН",null,"Тепловая энергия от котельных"]
[null,null,null,null,null,null,"количество, шт","Суммарная мощность, кВт","Объем, Гкал","Наименование организации-поставщика тепловой энергии "]
["Станции очистки сточных вод"]
["Насосное оборудование"]
[]
[]
[]
[]
[]
[]
[]
[]
["Оборудование очистных сооружений"]
[]
[]
[]
[]
[]
[]
[]
[]
[]
["Оборудование канализационных насосных станций"]
[]
[]
[]
[]
[]
[]
[]
[]
[]
[]
[]
[]
[]
[]
[]
[]
[]
[]
[]
[]
[]
["СЕТИ","2016 год"]
[null,"на 31.12.2016 года"]
["Протяженность канализационных сетей всего, м",{"$f":"SUM(B86:B100)","v":0}]
["в том числе диаметром"]
["диаметр до 50 мм"]
["диаметр  от 50 до 100 мм"]
["диаметр  от 100 до 150 мм"]
["диаметр  от 150 до 200 мм"]
["диаметр  от 200 до 300 мм"]
["диаметр  от 300 до 400 мм"]
["диаметр  от 400 до 500 мм"]
["диаметр  от 500 до 600 мм"]
["диаметр  от 600 до 700 мм"]
["диаметр  от 700 до 800 мм"]
["диаметр от 800 до 900  мм"]
["диаметр  от 900 до 1000 мм"]
["диаметр  от 1000 до 1200 мм"]
["диаметр  свыше  1200 мм"]
["Протяженность канализационных сетей, нуждающихся в замене всего, м",{"$f":"SUM(B102:B116)","v":0}]
["в том числе диаметром"]
["диаметр до 50 мм"]
["диаметр  от 50 до 100 мм"]
["диаметр  от 100 до 150 мм"]
["диаметр  от 150 до 200 мм"]
["диаметр  от 200 до 300 мм"]
["диаметр  от 300 до 400 мм"]
["диаметр  от 400 до 500 мм"]
["диаметр  от 500 до 600 мм"]
["диаметр  от 600 до 700 мм"]
["диаметр  от 700 до 800 мм"]
["диаметр от 800 до 900  мм"]
["диаметр  от 900 до 1000 мм"]
["диаметр  от 1000 до 1200 мм"]
["диаметр  свыше  1200 мм"]
["Удельный вес сетей, нуждающихся в замене, %",{"$f":"IF(B85=0,0,B101/B85*100)","v":0}]

{"sheet":"полезный отпуск","index":7,"n_rows":27,"n_cols":138,"rows_kept":27,"cut":false,"hidden":false,"merged":[[10,2,12,2],[10,3,12,3],[10,4,12,4],[5,125,5,137],[6,125,6,137],[7,125,7,137],[8,125,12,125],[8,126,8,137],[9,126,9,129],[9,130,9,133],[10,126,12,126],[10,127,10,129],[10,130,12,130],[10,131,10,133],[10,134,12,134],[10,135,12,135],[10,136,12,136],[10,137,12,137],[10,121,12,121],[12,127,12,129],[12,36,12,38],[12,49,12,51],[12,62,12,64],[12,75,12,77],[5,112,5,124],[6,112,6,124],[7,112,7,124],[8,112,12,112],[8,113,8,124],[9,113,9,116],[9,117,9,120],[10,113,12,113],[10,114,10,116],[10,117,12,117],[10,118,10,120],[12,114,12,116],[9,121,9,124],[10,122,12,122],[10,123,12,123],[10,124,12,124],[12,118,12,120],[5,99,5,111],[6,99,6,111],[7,99,7,111],[8,99,12,99],[8,100,8,111],[9,100,9,103],[9,104,9,107],[10,100,12,100],[10,101,10,103],[10,104,12,104],[10,105,10,107],[10,108,12,108],[10,109,12,109],[10,110,12,110],[10,111,12,111],[12,101,12,103],[12,105,12,107],[5,86,5,98],[6,86,6,98],[7,86,7,98],[8,86,12,86],[8,87,8,98],[9,87,9,90],[9,91,9,94],[10,87,12,87],[10,88,10,90],[10,91,12,91],[10,92,10,94],[12,88,12,90],[10,95,12,95],[10,96,12,96],[10,97,12,97],[10,98,12,98],[12,92,12,94],[5,73,5,85],[6,73,6,85],[7,73,7,85],[8,73,12,73],[8,74,8,85],[9,74,9,77],[9,78,9,81],[10,74,12,74],[10,75,10,77],[10,78,12,78],[10,79,10,81],[10,82,12,82],[10,83,12,83],[10,84,12,84],[10,85,12,85],[12,79,12,81],[5,60,5,72],[6,60,6,72],[7,60,7,72],[8,60,12,60],[8,61,8,72],[9,61,9,64],[9,65,9,68],[10,61,12,61],[10,62,10,64],[10,65,12,65],[10,66,10,68],[10,69,12,69],[10,70,12,70],[10,71,12,71],[10,72,12,72],[12,66,12,68],[5,47,5,59],[6,47,6,59],[7,47,7,59],[8,47,12,47],[8,48,8,59],[9,48,9,51],[9,52,9,55],[10,48,12,48],[10,49,10,51],[10,52,12,52],[10,53,10,55],[10,56,12,56],[10,57,12,57],[10,58,12,58],[12,53,12,55],[5,1,5,7],[8,2,8,7],[10,7,12,7],[10,17,12,17],[5,21,5,33],[6,21,6,33],[7,21,7,33],[8,21,12,21],[8,22,8,33],[9,22,9,25],[9,26,9,29],[10,22,12,22],[10,23,10,25],[10,26,12,26],[10,27,10,29],[10,30,12,30],[10,31,12,31],[10,32,12,32],[10,33,12,33],[12,27,12,29],[12,23,12,25],[10,18,12,18],[10,19,12,19],[10,20,12,20],[0,0,0,7],[1,0,1,7],[9,13,9,16],[10,14,10,16],[10,13,12,13],[12,14,12,16],[7,34,7,46],[10,59,12,59],[5,34,5,46],[6,34,6,46],[5,8,5,20],[6,8,6,20],[8,9,8,20],[7,8,7,20],[8,8,12,8],[10,9,12,9],[12,10,12,12],[5,0,12,0],[8,1,12,1],[10,5,12,5],[10,6,12,6],[9,9,9,12],[10,10,10,12],[6,1,7,7],[9,134,9,137],[9,4,9,7],[9,17,9,20],[9,30,9,33],[9,43,9,46],[9,56,9,59],[9,69,9,72],[9,82,9,85],[9,95,9,98],[9,108,9,111],[8,34,12,34],[8,35,8,46],[9,35,9,38],[9,39,9,42],[10,35,12,35],[10,36,10,38],[10,39,12,39],[10,40,10,42],[10,43,12,43],[10,44,12,44],[10,45,12,45],[10,46,12,46],[12,40,12,42],[12,131,12,133]]}
["Сводный отчет об объемах принятых сточных вод"]
[{"$f":"Титульный!C10","v":" "}]
["Район",{"$f":"Титульный!C6","v":0}]
[]
[]
["Период","Объем реализации, куб.м.",null,null,null,null,null,null,"Объем реализации, куб.м.",null,null,null,null,null,null,null,null,null,null,null,null,"Объем реализации, куб.м.",null,null,null,null,null,null,null,null,null,null,null,null,"Объем реализации, куб.м.",null,null,null,null,null,null,null,null,null,null,null,null,"Объем реализации, куб.м.",null,null,null,null,null,null,null,null,null,null,null,null,"Объем реализации, куб.м.",null,null,null,null,null,null,null,null,null,null,null,null,"Объем реализации, куб.м.",null,null,null,null,null,null,null,null,null,null,null,null,"Объем реализации, куб.м.",null,null,null,null,null,null,null,null,null,null,null,null,"Объем реализации, куб.м.",null,null,null,null,null,null,null,null,null,null,null,null,"Объем реализации, куб.м.",null,null,null,null,null,null,null,null,null,null,null,null,"Объем реализации, куб.м."]
[null,"ВСЕГО по тарифу за 2016 год",null,null,null,null,null,null,{"$f":"'данные об организации'!$F$13","v":0},null,null,null,null,null,null,null,null,null,null,null,null,{"$f":"'данные об организации'!$F$14","v":0},null,null,null,null,null,null,null,null,null,null,null,null,{"$f":"'данные об организации'!$F$15","v":0},null,null,null,null,null,null,null,null,null,null,null,null,{"$f":"'данные об организации'!$F$16","v":0},null,null,null,null,null,null,null,null,null,null,null,null,{"$f":"'данные об организации'!$F$17","v":0},null,null,null,null,null,null,null,null,null,null,null,null,{"$f":"'данные об организации'!$F$18","v":0},null,null,null,null,null,null,null,null,null,null,null,null,{"$f":"'данные об организации'!$F$19","v":0},null,null,null,null,null,null,null,null,null,null,null,null,{"$f":"'данные об организации'!$F$20","v":0},null,null,null,null,null,null,null,null,null,null,null,null,{"$f":"'данные об организации'!$F$21","v":0},null,null,null,null,null,null,null,null,null,null,null,null,{"$f":"'данные об организации'!$F$22","v":0}]
[null,null,null,null,null,null,null,null,"(наименование населенного пункта)",null,null,null,null,null,null,null,null,null,null,null,null,"(наименование населенного пункта)",null,null,null,null,null,null,null,null,null,null,null,null,"(наименование населенного пункта)",null,null,null,null,null,null,null,null,null,null,null,null,"(наименование населенного пункта)",null,null,null,null,null,null,null,null,null,null,null,null,"(наименование населенного пункта)",null,null,null,null,null,null,null,null,null,null,null,null,"(наименование населенного пункта)",null,null,null,null,null,null,null,null,null,null,null,null,"(наименование населенного пункта)",null,null,null,null,null,null,null,null,null,null,null,null,"(наименование населенного пункта)",null,null,null,null,null,null,null,null,null,null,null,null,"(наименование населенного пункта)",null,null,null,null,null,null,null,null,null,null,null,null,"(наименование населенного пункта)"]
[null,"всего","в том числе:",null,null,null,null,null,"всего","в том числе:",null,null,null,null,null,null,null,null,null,null,null,"всего","в том числе:",null,null,null,null,null,null,null,null,null,null,null,"всего","в том числе:",null,null,null,null,null,null,null,null,null,null,null,"всего","в том числе:",null,null,null,null,null,null,null,null,null,null,null,"всего","в том числе:",null,null,null,null,null,null,null,null,null,null,null,"всего","в том числе:",null,null,null,null,null,null,null,null,null,null,null,"всего","в том числе:",null,null,null,null,null,null,null,null,null,null,null,"всего","в том числе:",null,null,null,null,null,null,null,null,null,null,null,"всего","в том числе:",null,null,null,null,null,null,null,null,null,null,null,"всего","в том числе:"]
[null,null,"собственное потребление","другие системы водоотведения","сторонние потребители",null,null,null,null,"собственное потребление",null,null,null,"другие системы водоотведения",null,null,null,"сторонние потребители",null,null,null,null,"собственное потребление",null,null,null,"другие системы водоотведения",null,null,null,"сторонние потребители",null,null,null,null,"собственное потребление",null,null,null,"другие системы водоотведения",null,null,null,"сторонние потребители",null,null,null,null,"собственное потребление",null,null,null,"другие системы водоотведения",null,null,null,"сторонние потребители",null,null,null,null,"собственное потребление",null,null,null,"другие системы водоотведения",null,null,null,"сторонние потребители",null,null,null,null,"собственное потребление",null,null,null,"другие системы водоотведения",null,null,null,"сторонние потребители",null,null,null,null,"собственное потребление",null,null,null,"другие системы водоотведения",null,null,null,"сторонние потребители",null,null,null,null,"собственное потребление",null,null,null,"другие системы водоотведения",null,null,null,"сторонние потребители",null,null,null,null,"собственное потребление",null,null,null,"другие системы водоотведения",null,null,null,"сторонние потребители",null,null,null,null,"собственное потребление",null,null,null,"другие системы водоотведения",null,null,null,"сторонние потребители"]
[null,null,"Итого","Итого","Итого","бюджет","население","прочие",null,"Итого","в том числе",null,null,"Итого","в том числе",null,null,"Итого","бюджет","население","прочие",null,"Итого","в том числе",null,null,"Итого","в том числе",null,null,"Итого","бюджет","население","прочие",null,"Итого","в том числе",null,null,"Итого","в том числе",null,null,"Итого","бюджет","население","прочие",null,"Итого","в том числе",null,null,"Итого","в том числе",null,null,"Итого","бюджет","население","прочие",null,"Итого","в том числе",null,null,"Итого","в том числе",null,null,"Итого","бюджет","население","прочие",null,"Итого","в том числе",null,null,"Итого","в том числе",null,null,"Итого","бюджет","население","прочие",null,"Итого","в том числе",null,null,"Итого","в том числе",null,null,"Итого","бюджет","население","прочие",null,"Итого","в том числе",null,null,"Итого","в том числе",null,null,"Итого","бюджет","население","прочие",null,"Итого","в том числе",null,null,"Итого","в том числе",null,null,"Итого","бюджет","население","прочие",null,"Итого","в том числе",null,null,"Итого","в том числе",null,null,"Итого","бюджет","население","прочие"]
[null,null,null,null,null,null,null,null,null,null,null,null,null,null,null,null,null,null,null,null,null,null,null,{"$f":"$K$12","v":0},{"$f":"$K$12","v":0},0,null,{"$f":"$O$12","v":0},{"$f":"$O$12","v":0},0,null,null,null,null,null,null,{"$f":"$K$12","v":0},{"$f":"$K$12","v":0},0,null,{"$f":"$O$12","v":0},{"$f":"$O$12","v":0},0,null,null,null,null,null,null,{"$f":"$K$12","v":0},{"$f":"$K$12","v":0},0,null,{"$f":"$O$12","v":0},{"$f":"$O$12","v":0},0,null,null,null,null,null,null,{"$f":"$K$12","v":0},{"$f":"$K$12","v":0},0,null,{"$f":"$O$12","v":0},{"$f":"$O$12","v":0},0,null,null,null,null,null,null,{"$f":"$K$12","v":0},{"$f":"$K$12","v":0},0,null,{"$f":"$O$12","v":0},{"$f":"$O$12","v":0},0,null,null,null,null,null,null,{"$f":"$K$12","v":0},{"$f":"$K$12","v":0},0,null,{"$f":"$O$12","v":0},{"$f":"$O$12","v":0},0,null,null,null,null,null,null,{"$f":"$K$12","v":0},{"$f":"$K$12","v":0},0,null,{"$f":"$O$12","v":0},{"$f":"$O$12","v":0},0,null,null,null,null,null,null,{"$f":"$K$12","v":0},{"$f":"$K$12","v":0},0,null,{"$f":"$O$12","v":0},{"$f":"$O$12","v":0},0,null,null,null,null,null,null,{"$f":"$K$12","v":0},{"$f":"$K$12","v":0},0,null,{"$f":"$O$12","v":0},{"$f":"$O$12","v":0},0]
[null,null,null,null,null,null,null,null,null,null,"(наименование расходов)",null,null,null,"(наименование организаций)",null,null,null,null,null,null,null,null,"(наименование расходов)",null,null,null,"(наименование организаций)",null,null,null,null,null,null,null,null,"(наименование расходов)",null,null,null,"(наименование организаций)",null,null,null,null,null,null,null,null,"(наименование расходов)",null,null,null,"(наименование организаций)",null,null,null,null,null,null,null,null,"(наименование расходов)",null,null,null,"(наименование организаций)",null,null,null,null,null,null,null,null,"(наименование расходов)",null,null,null,"(наименование организаций)",null,null,null,null,null,null,null,null,"(наименование расходов)",null,null,null,"(наименование организаций)",null,null,null,null,null,null,null,null,"(наименование расходов)",null,null,null,"(наименование организаций)",null,null,null,null,null,null,null,null,"(наименование расходов)",null,null,null,"(наименование организаций)",null,null,null,null,null,null,null,null,"(наименование расходов)",null,null,null,"(наименование организаций)"]
["Январь",{"$f":"C14+D14+E14","v":0},{"$f":"J14+W14+AJ14+AW14+BJ14+BW14+CJ14+CW14+DJ14+DW14","v":0},{"$f":"N14+AA14+AN14+BA14+BN14+CA14+CN14+DA14+DN14+EA14","v":0},{"$f":"SUM(F14:H14)","v":0},{"$f":"S14+AF14+AS14+BF14+BS14+CF14+CS14+DF14+DS14+EF14","v":0},{"$f":"T14+AG14+AT14+BG14+BT14+CG14+CT14+DG14+DT14+EG14","v":0},{"$f":"U14+AH14+AU14+BH14+BU14+CH14+CU14+DH14+DU14+EH14","v":0},{"$f":"J14+N14+R14","v":0},{"$f":"SUM(K14:M14)","v":0},null,null,null,{"$f":"SUM(O14:Q14)","v":0},null,null,null,{"$f":"SUM(S14:U14)","v":0},null,null,null,{"$f":"W14+AA14+AE14","v":0},{"$f":"SUM(X14:Z14)","v":0},null,null,null,{"$f":"SUM(AB14:AD14)","v":0},null,null,null,{"$f":"SUM(AF14:AH14)","v":0},null,null,null,{"$f":"AJ14+AN14+AR14","v":0},{"$f":"SUM(AK14:AM14)","v":0},null,null,null,{"$f":"SUM(AO14:AQ14)","v":0},null,null,null,{"$f":"SUM(AS14:AU14)","v":0},null,null,null,{"$f":"AW14+BA14+BE14","v":0},{"$f":"SUM(AX14:AZ14)","v":0},null,null,null,{"$f":"SUM(BB14:BD14)","v":0},null,null,null,{"$f":"SUM(BF14:BH14)","v":0},null,null,null,{"$f":"BJ14+BN14+BR14","v":0},{"$f":"SUM(BK14:BM14)","v":0},null,null,null,{"$f":"SUM(BO14:BQ14)","v":0},null,null,null,{"$f":"SUM(BS14:BU14)","v":0},null,null,null,{"$f":"BW14+CA14+CE14","v":0},{"$f":"SUM(BX14:BZ14)","v":0},null,null,null,{"$f":"SUM(CB14:CD14)","v":0},null,null,null,{"$f":"SUM(CF14:CH14)","v":0},null,null,null,{"$f":"CJ14+CN14+CR14","v":0},{"$f":"SUM(CK14:CM14)","v":0},null,null,null,{"$f":"SUM(CO14:CQ14)","v":0},null,null,null,{"$f":"SUM(CS14:CU14)","v":0},null,null,null,{"$f":"CW14+DA14+DE14","v":0},{"$f":"SUM(CX14:CZ14)","v":0},null,null,null,{"$f":"SUM(DB14:DD14)","v":0},null,null,null,{"$f":"SUM(DF14:DH14)","v":0},null,null,null,{"$f":"DJ14+DN14+DR14","v":0},{"$f":"SUM(DK14:DM14)","v":0},null,null,null,{"$f":"SUM(DO14:DQ14)","v":0},null,null,null,{"$f":"SUM(DS14:DU14)","v":0},null,null,null,{"$f":"DW14+EA14+EE14","v":0},{"$f":"SUM(DX14:DZ14)","v":0},null,null,null,{"$f":"SUM(EB14:ED14)","v":0},null,null,null,{"$f":"SUM(EF14:EH14)","v":0}]
["Февраль",0,{"$f":"J15+W15+AJ15+AW15+BJ15+BW15+CJ15+CW15+DJ15+DW15","v":0},{"$f":"N15+AA15+AN15+BA15+BN15+CA15+CN15+DA15+DN15+EA15","v":0},{"$f":"SUM(F15:H15)","v":0},{"$f":"S15+AF15+AS15+BF15+BS15+CF15+CS15+DF15+DS15+EF15","v":0},0,0,{"$f":"J15+N15+R15","v":0},{"$f":"SUM(K15:M15)","v":0},null,null,null,{"$f":"SUM(O15:Q15)","v":0},null,null,null,{"$f":"SUM(S15:U15)","v":0},null,null,null,{"$f":"W15+AA15+AE15","v":0},{"$f":"SUM(X15:Z15)","v":0},null,null,null,{"$f":"SUM(AB15:AD15)","v":0},null,null,null,{"$f":"SUM(AF15:AH15)","v":0},null,null,null,{"$f":"AJ15+AN15+AR15","v":0},{"$f":"SUM(AK15:AM15)","v":0},null,null,null,{"$f":"SUM(AO15:AQ15)","v":0},null,null,null,{"$f":"SUM(AS15:AU15)","v":0},null,null,null,{"$f":"AW15+BA15+BE15","v":0},{"$f":"SUM(AX15:AZ15)","v":0},null,null,null,{"$f":"SUM(BB15:BD15)","v":0},null,null,null,{"$f":"SUM(BF15:BH15)","v":0},null,null,null,{"$f":"BJ15+BN15+BR15","v":0},{"$f":"SUM(BK15:BM15)","v":0},null,null,null,{"$f":"SUM(BO15:BQ15)","v":0},null,null,null,{"$f":"SUM(BS15:BU15)","v":0},null,null,null,{"$f":"BW15+CA15+CE15","v":0},{"$f":"SUM(BX15:BZ15)","v":0},null,null,null,{"$f":"SUM(CB15:CD15)","v":0},null,null,null,{"$f":"SUM(CF15:CH15)","v":0},null,null,null,{"$f":"CJ15+CN15+CR15","v":0},{"$f":"SUM(CK15:CM15)","v":0},null,null,null,{"$f":"SUM(CO15:CQ15)","v":0},null,null,null,{"$f":"SUM(CS15:CU15)","v":0},null,null,null,{"$f":"CW15+DA15+DE15","v":0},{"$f":"SUM(CX15:CZ15)","v":0},null,null,null,{"$f":"SUM(DB15:DD15)","v":0},null,null,null,{"$f":"SUM(DF15:DH15)","v":0},null,null,null,{"$f":"DJ15+DN15+DR15","v":0},{"$f":"SUM(DK15:DM15)","v":0},null,null,null,{"$f":"SUM(DO15:DQ15)","v":0},null,null,null,{"$f":"SUM(DS15:DU15)","v":0},null,null,null,{"$f":"DW15+EA15+EE15","v":0},{"$f":"SUM(DX15:DZ15)","v":0},null,null,null,{"$f":"SUM(EB15:ED15)","v":0},null,null,null,{"$f":"SUM(EF15:EH15)","v":0}]
["Март",0,0,0,0,0,0,0,0,0,null,null,null,0,null,null,null,0,null,null,null,0,0,null,null,null,0,null,null,null,0,null,null,null,0,0,null,null,null,0,null,null,null,0,null,null,null,0,0,null,null,null,0,null,null,null,0,null,null,null,0,0,null,null,null,0,null,null,null,0,null,null,null,0,0,null,null,null,0,null,null,null,0,null,null,null,0,0,null,null,null,0,null,null,null,0,null,null,null,0,0,null,null,null,0,null,null,null,0,null,null,null,0,0,null,null,null,0,null,null,null,0,null,null,null,0,0,null,null,null,0,null,null,null,0]
["Апрель",0,0,0,0,0,0,0,0,0,null,null,null,0,null,null,null,0,null,null,null,0,0,null,null,null,0,null,null,null,0,null,null,null,0,0,null,null,null,0,null,null,null,0,null,null,null,0,0,null,null,null,0,null,null,null,0,null,null,null,0,0,null,null,null,0,null,null,null,0,null,null,null,0,0,null,null,null,0,null,null,null,0,null,null,null,0,0,null,null,null,0,null,null,null,0,null,null,null,0,0,null,null,null,0,null,null,null,0,null,null,null,0,0,null,null,null,0,null,null,null,0,null,null,null,0,0,null,null,null,0,null,null,null,0]
["Май",0,0,0,0,0,0,0,0,0,null,null,null,0,null,null,null,0,null,null,null,0,0,null,null,null,0,null,null,null,0,null,null,null,0,0,null,null,null,0,null,null,null,0,null,null,null,0,0,null,null,null,0,null,null,null,0,null,null,null,0,0,null,null,null,0,null,null,null,0,null,null,null,0,0,null,null,null,0,null,null,null,0,null,null,null,0,0,null,null,null,0,null,null,null,0,null,null,null,0,0,null,null,null,0,null,null,null,0,null,null,null,0,0,null,null,null,0,null,null,null,0,null,null,null,0,0,null,null,null,0,null,null,null,0]
["Июнь",0,0,0,0,0,0,0,0,0,null,null,null,0,null,null,null,0,null,null,null,0,0,null,null,null,0,null,null,null,0,null,null,null,0,0,null,null,null,0,null,null,null,0,null,null,null,0,0,null,null,null,0,null,null,null,0,null,null,null,0,0,null,null,null,0,null,null,null,0,null,null,null,0,0,null,null,null,0,null,null,null,0,null,null,null,0,0,null,null,null,0,null,null,null,0,null,null,null,0,0,null,null,null,0,null,null,null,0,null,null,null,0,0,null,null,null,0,null,null,null,0,null,null,null,0,0,null,null,null,0,null,null,null,0]
["Июль",0,0,0,0,0,0,0,0,0,null,null,null,0,null,null,null,0,null,null,null,0,0,null,null,null,0,null,null,null,0,null,null,null,0,0,null,null,null,0,null,null,null,0,null,null,null,0,0,null,null,null,0,null,null,null,0,null,null,null,0,0,null,null,null,0,null,null,null,0,null,null,null,0,0,null,null,null,0,null,null,null,0,null,null,null,0,0,null,null,null,0,null,null,null,0,null,null,null,0,0,null,null,null,0,null,null,null,0,null,null,null,0,0,null,null,null,0,null,null,null,0,null,null,null,0,0,null,null,null,0,null,null,null,0]
["Август",0,0,0,0,0,0,0,0,0,null,null,null,0,null,null,null,0,null,null,null,0,0,null,null,null,0,null,null,null,0,null,null,null,0,0,null,null,null,0,null,null,null,0,null,null,null,0,0,null,null,null,0,null,null,null,0,null,null,null,0,0,null,null,null,0,null,null,null,0,null,null,null,0,0,null,null,null,0,null,null,null,0,null,null,null,0,0,null,null,null,0,null,null,null,0,null,null,null,0,0,null,null,null,0,null,null,null,0,null,null,null,0,0,null,null,null,0,null,null,null,0,null,null,null,0,0,null,null,null,0,null,null,null,0]
["Сентябрь",0,0,0,0,0,0,0,0,0,null,null,null,0,null,null,null,0,null,null,null,0,0,null,null,null,0,null,null,null,0,null,null,null,0,0,null,null,null,0,null,null,null,0,null,null,null,0,0,null,null,null,0,null,null,null,0,null,null,null,0,0,null,null,null,0,null,null,null,0,null,null,null,0,0,null,null,null,0,null,null,null,0,null,null,null,0,0,null,null,null,0,null,null,null,0,null,null,null,0,0,null,null,null,0,null,null,null,0,null,null,null,0,0,null,null,null,0,null,null,null,0,null,null,null,0,0,null,null,null,0,null,null,null,0]
["Октябрь",0,0,0,0,0,0,0,0,0,null,null,null,0,null,null,null,0,null,null,null,0,0,null,null,null,0,null,null,null,0,null,null,null,0,0,null,null,null,0,null,null,null,0,null,null,null,0,0,null,null,null,0,null,null,null,0,null,null,null,0,0,null,null,null,0,null,null,null,0,null,null,null,0,0,null,null,null,0,null,null,null,0,null,null,null,0,0,null,null,null,0,null,null,null,0,null,null,null,0,0,null,null,null,0,null,null,null,0,null,null,null,0,0,null,null,null,0,null,null,null,0,null,null,null,0,0,null,null,null,0,null,null,null,0]
["Ноябрь",0,0,0,0,0,0,0,0,0,null,null,null,0,null,null,null,0,null,null,null,0,0,null,null,null,0,null,null,null,0,null,null,null,0,0,null,null,null,0,null,null,null,0,null,null,null,0,0,null,null,null,0,null,null,null,0,null,null,null,0,0,null,null,null,0,null,null,null,0,null,null,null,0,0,null,null,null,0,null,null,null,0,null,null,null,0,0,null,null,null,0,null,null,null,0,null,null,null,0,0,null,null,null,0,null,null,null,0,null,null,null,0,0,null,null,null,0,null,null,null,0,null,null,null,0,0,null,null,null,0,null,null,null,0]
["Декабрь",0,0,0,0,0,0,0,0,0,null,null,null,0,null,null,null,0,null,null,null,0,0,null,null,null,0,null,null,null,0,null,null,null,0,0,null,null,null,0,null,null,null,0,null,null,null,0,0,null,null,null,0,null,null,null,0,null,null,null,0,0,null,null,null,0,null,null,null,0,null,null,null,0,0,null,null,null,0,null,null,null,0,null,null,null,0,0,null,null,null,0,null,null,null,0,null,null,null,0,0,null,null,null,0,null,null,null,0,null,null,null,0,0,null,null,null,0,null,null,null,0,null,null,null,0,0,null,null,null,0,null,null,null,0]
["Итого год",{"$f":"SUM(B14:B25)","v":0},{"$f":"SUM(C14:C25)","v":0},{"$f":"SUM(D14:D25)","v":0},{"$f":"SUM(E14:E25)","v":0},{"$f":"SUM(F14:F25)","v":0},{"$f":"SUM(G14:G25)","v":0},{"$f":"SUM(H14:H25)","v":0},{"$f":"SUM(I14:I25)","v":0},{"$f":"SUM(J14:J25)","v":0},{"$f":"SUM(K14:K25)","v":0},{"$f":"SUM(L14:L25)","v":0},{"$f":"SUM(M14:M25)","v":0},0,{"$f":"SUM(O14:O25)","v":0},{"$f":"SUM(P14:P25)","v":0},{"$f":"SUM(Q14:Q25)","v":0},{"$f":"SUM(R14:R25)","v":0},{"$f":"SUM(S14:S25)","v":0},{"$f":"SUM(T14:T25)","v":0},{"$f":"SUM(U14:U25)","v":0},{"$f":"SUM(V14:V25)","v":0},{"$f":"SUM(W14:W25)","v":0},{"$f":"SUM(X14:X25)","v":0},{"$f":"SUM(Y14:Y25)","v":0},{"$f":"SUM(Z14:Z25)","v":0},{"$f":"SUM(AA14:AA25)","v":0},{"$f":"SUM(AB14:AB25)","v":0},{"$f":"SUM(AC14:AC25)","v":0},{"$f":"SUM(AD14:AD25)","v":0},{"$f":"SUM(AE14:AE25)","v":0},{"$f":"SUM(AF14:AF25)","v":0},{"$f":"SUM(AG14:AG25)","v":0},{"$f":"SUM(AH14:AH25)","v":0},{"$f":"SUM(AI14:AI25)","v":0},{"$f":"SUM(AJ14:AJ25)","v":0},{"$f":"SUM(AK14:AK25)","v":0},{"$f":"SUM(AL14:AL25)","v":0},{"$f":"SUM(AM14:AM25)","v":0},{"$f":"SUM(AN14:AN25)","v":0},{"$f":"SUM(AO14:AO25)","v":0},{"$f":"SUM(AP14:AP25)","v":0},{"$f":"SUM(AQ14:AQ25)","v":0},{"$f":"SUM(AR14:AR25)","v":0},{"$f":"SUM(AS14:AS25)","v":0},{"$f":"SUM(AT14:AT25)","v":0},{"$f":"SUM(AU14:AU25)","v":0},{"$f":"SUM(AV14:AV25)","v":0},{"$f":"SUM(AW14:AW25)","v":0},{"$f":"SUM(AX14:AX25)","v":0},{"$f":"SUM(AY14:AY25)","v":0},{"$f":"SUM(AZ14:AZ25)","v":0},{"$f":"SUM(BA14:BA25)","v":0},{"$f":"SUM(BB14:BB25)","v":0},{"$f":"SUM(BC14:BC25)","v":0},{"$f":"SUM(BD14:BD25)","v":0},{"$f":"SUM(BE14:BE25)","v":0},{"$f":"SUM(BF14:BF25)","v":0},{"$f":"SUM(BG14:BG25)","v":0},{"$f":"SUM(BH14:BH25)","v":0},{"$f":"SUM(BI14:BI25)","v":0},{"$f":"SUM(BJ14:BJ25)","v":0},{"$f":"SUM(BK14:BK25)","v":0},{"$f":"SUM(BL14:BL25)","v":0},{"$f":"SUM(BM14:BM25)","v":0},{"$f":"SUM(BN14:BN25)","v":0},{"$f":"SUM(BO14:BO25)","v":0},{"$f":"SUM(BP14:BP25)","v":0},{"$f":"SUM(BQ14:BQ25)","v":0},{"$f":"SUM(BR14:BR25)","v":0},{"$f":"SUM(BS14:BS25)","v":0},{"$f":"SUM(BT14:BT25)","v":0},{"$f":"SUM(BU14:BU25)","v":0},{"$f":"SUM(BV14:BV25)","v":0},{"$f":"SUM(BW14:BW25)","v":0},{"$f":"SUM(BX14:BX25)","v":0},{"$f":"SUM(BY14:BY25)","v":0},{"$f":"SUM(BZ14:BZ25)","v":0},{"$f":"SUM(CA14:CA25)","v":0},{"$f":"SUM(CB14:CB25)","v":0},{"$f":"SUM(CC14:CC25)","v":0},{"$f":"SUM(CD14:CD25)","v":0},{"$f":"SUM(CE14:CE25)","v":0},{"$f":"SUM(CF14:CF25)","v":0},{"$f":"SUM(CG14:CG25)","v":0},{"$f":"SUM(CH14:CH25)","v":0},{"$f":"SUM(CI14:CI25)","v":0},{"$f":"SUM(CJ14:CJ25)","v":0},{"$f":"SUM(CK14:CK25)","v":0},{"$f":"SUM(CL14:CL25)","v":0},{"$f":"SUM(CM14:CM25)","v":0},{"$f":"SUM(CN14:CN25)","v":0},{"$f":"SUM(CO14:CO25)","v":0},{"$f":"SUM(CP14:CP25)","v":0},{"$f":"SUM(CQ14:CQ25)","v":0},{"$f":"SUM(CR14:CR25)","v":0},{"$f":"SUM(CS14:CS25)","v":0},{"$f":"SUM(CT14:CT25)","v":0},{"$f":"SUM(CU14:CU25)","v":0},{"$f":"SUM(CV14:CV25)","v":0},{"$f":"SUM(CW14:CW25)","v":0},{"$f":"SUM(CX14:CX25)","v":0},{"$f":"SUM(CY14:CY25)","v":0},{"$f":"SUM(CZ14:CZ25)","v":0},{"$f":"SUM(DA14:DA25)","v":0},{"$f":"SUM(DB14:DB25)","v":0},{"$f":"SUM(DC14:DC25)","v":0},{"$f":"SUM(DD14:DD25)","v":0},{"$f":"SUM(DE14:DE25)","v":0},{"$f":"SUM(DF14:DF25)","v":0},{"$f":"SUM(DG14:DG25)","v":0},{"$f":"SUM(DH14:DH25)","v":0},{"$f":"SUM(DI14:DI25)","v":0},{"$f":"SUM(DJ14:DJ25)","v":0},{"$f":"SUM(DK14:DK25)","v":0},{"$f":"SUM(DL14:DL25)","v":0},{"$f":"SUM(DM14:DM25)","v":0},{"$f":"SUM(DN14:DN25)","v":0},{"$f":"SUM(DO14:DO25)","v":0},{"$f":"SUM(DP14:DP25)","v":0},{"$f":"SUM(DQ14:DQ25)","v":0},{"$f":"SUM(DR14:DR25)","v":0},{"$f":"SUM(DS14:DS25)","v":0},{"$f":"SUM(DT14:DT25)","v":0},{"$f":"SUM(DU14:DU25)","v":0},{"$f":"SUM(DV14:DV25)","v":0},{"$f":"SUM(DW14:DW25)","v":0},{"$f":"SUM(DX14:DX25)","v":0},{"$f":"SUM(DY14:DY25)","v":0},{"$f":"SUM(DZ14:DZ25)","v":0},{"$f":"SUM(EA14:EA25)","v":0},{"$f":"SUM(EB14:EB25)","v":0},{"$f":"SUM(EC14:EC25)","v":0},{"$f":"SUM(ED14:ED25)","v":0},{"$f":"SUM(EE14:EE25)","v":0},{"$f":"SUM(EF14:EF25)","v":0},{"$f":"SUM(EG14:EG25)","v":0},{"$f":"SUM(EH14:EH25)","v":0}]
[null,{"$f":"B26-(I26+V26+AI26+AV26+BI26+BV26+CI26+CV26+DI26+DV26)","v":0}]

{"sheet":"баланс ВО","index":8,"n_rows":40,"n_cols":18,"rows_kept":40,"cut":false,"hidden":false,"merged":[[7,13,8,13],[7,14,8,14],[7,17,8,17],[7,12,8,12],[7,15,8,15],[7,16,8,16],[0,0,0,4],[2,0,2,4],[7,4,8,4],[7,11,8,11],[7,8,8,8],[1,0,1,4],[5,0,8,0],[5,1,8,1],[5,2,8,2],[7,9,8,9],[7,10,8,10],[7,3,8,3],[5,3,6,7],[7,6,7,7],[7,5,8,5]]}
["БАЛАНС ВОДОСНАБЖЕНИЯ"]
[{"$f":"Титульный!C10","v":" "}]
[{"$f":"Титульный!C19","v":0}]
["Район",{"$f":"Титульный!C6","v":0},null,null,"МО",null,null,null,{"$f":"Титульный!C7","v":0}]
[]
["№ п/п","Наименование показателей","Единица измерения","ВСЕГО по тарифу за 2016 год",null,null,null,null,{"$f":"'данные об организации'!$F$13","v":0},{"$f":"'данные об организации'!$F$14","v":0},{"$f":"'данные об организации'!$F$15","v":0},{"$f":"'данные об организации'!$F$16","v":0},{"$f":"'данные об организации'!$F$17","v":0},{"$f":"'данные об организации'!$F$18","v":0},{"$f":"'данные об организации'!$F$19","v":0},{"$f":"'данные об организации'!$F$20","v":0},{"$f":"'данные об организации'!$F$21","v":0},{"$f":"'данные об организации'!$F$22","v":0}]
[null,null,null,null,null,null,null,null,"(наименование населенного пункта)","(наименование населенного пункта)","(наименование населенного пункта)","(наименование населенного пункта)","(наименование населенного пункта)","(наименование населенного пункта)","(наименование населенного пункта)","(наименование населенного пункта)","(наименование населенного пункта)","(наименование населенного пункта)"]
[null,null,null,"план","факт организации","факт эксперта","отклонение",null,"факт","факт","факт","факт","факт","факт","факт","факт","факт","факт"]
[null,null,null,null,null,null,"абс.","%"]
["I.","Прием сточных вод","куб.м",{"$f":"'исходные данные'!H9*1000","v":0},{"$f":"I10+J10+K10+L10+M10+N10+O10+P10+Q10+R10","v":0},{"$f":"SUM(F11:F14)","v":0},{"$f":"E10-D10","v":0},{"$f":"IF(D10=0,\"\",G10/D10*100)","v":""},{"$f":"SUM(I11:I14)","v":0},{"$f":"SUM(J11:J14)","v":0},0,0,0,0,0,0,0,0]
["1.","технологические нужды предприятия","куб.м",{"$f":"'исходные данные'!H10*1000","v":0},{"$f":"I11+J11+K11+L11+M11+N11+O11+P11+Q11+R11","v":0},{"$f":"E11","v":0},0,""]
["2.","поверхностные воды","куб.м",{"$f":"'исходные данные'!H11*1000","v":0},0,{"$f":"E12","v":0},0,""]
["2.1.","неучтенный приток","куб.м",{"$f":"'исходные данные'!H12*1000","v":0},0,{"$f":"E13","v":0},0,""]
["3.","Объем реализации сточных вод","куб.м",{"$f":"'исходные данные'!H13*1000","v":0},{"$f":"E16+E17+E18+E19+E23","v":0},{"$f":"F16+F17+F18+F19+F23","v":0},0,"",{"$f":"I16+I17+I18+I19+I23","v":0},{"$f":"J16+J17+J18+J19+J23","v":0},0,0,0,0,0,0,0,0]
[null,"по категориям потребителей, в том числе:","куб.м"]
["3.1.","бюджет","куб.м",{"$f":"'исходные данные'!H15*1000","v":0},{"$f":"I16+J16+K16+L16+M16+N16+O16+P16+Q16+R16","v":0},{"$f":"E16","v":0},0,"",{"$f":"'полезный отпуск'!S26","v":0},{"$f":"'полезный отпуск'!AF26","v":0},{"$f":"'полезный отпуск'!AS26","v":0},{"$f":"'полезный отпуск'!BF26","v":0},{"$f":"'полезный отпуск'!BS26","v":0},{"$f":"'полезный отпуск'!CF26","v":0},{"$f":"'полезный отпуск'!CS26","v":0},{"$f":"'полезный отпуск'!DF26","v":0},{"$f":"'полезный отпуск'!DS26","v":0},{"$f":"'полезный отпуск'!EF26","v":0}]
["3.2.","население","куб.м",{"$f":"'исходные данные'!H16*1000","v":0},0,{"$f":"E17","v":0},0,"",{"$f":"'полезный отпуск'!T26","v":0},{"$f":"'полезный отпуск'!AG26","v":0},{"$f":"'полезный отпуск'!AT26","v":0},{"$f":"'полезный отпуск'!BG26","v":0},{"$f":"'полезный отпуск'!BT26","v":0},{"$f":"'полезный отпуск'!CG26","v":0},{"$f":"'полезный отпуск'!CT26","v":0},{"$f":"'полезный отпуск'!DG26","v":0},{"$f":"'полезный отпуск'!DT26","v":0},{"$f":"'полезный отпуск'!EG26","v":0}]
["3.3.","прочие (кроме организаций, осуществляющих водоотведение)","куб.м",{"$f":"'исходные данные'!H17*1000","v":0},0,{"$f":"E18","v":0},0,"",{"$f":"'полезный отпуск'!U26","v":0},{"$f":"'полезный отпуск'!AH26","v":0},{"$f":"'полезный отпуск'!AU26","v":0},{"$f":"'полезный отпуск'!BH26","v":0},{"$f":"'полезный отпуск'!BU26","v":0},{"$f":"'полезный отпуск'!CH26","v":0},{"$f":"'полезный отпуск'!CU26","v":0},{"$f":"'полезный отпуск'!DH26","v":0},{"$f":"'полезный отпуск'!DU26","v":0},{"$f":"'полезный отпуск'!EH26","v":0}]
["3.4.","от других организаций, осуществляющих водоотведение","куб.м",{"$f":"'исходные данные'!H18*1000","v":0},{"$f":"E20+E21+E22","v":0},{"$f":"F20+F21+F22","v":0},0,"",{"$f":"I20+I21+I22","v":0},{"$f":"J20+J21+J22","v":0},0,0,0,0,0,0,0,0]
["3.4.1.",0,"куб.м",{"$f":"'исходные данные'!H19*1000","v":0},0,{"$f":"E20","v":0},0,"",{"$f":"'полезный отпуск'!O26","v":0},{"$f":"'полезный отпуск'!AB26","v":0},{"$f":"'полезный отпуск'!AO26","v":0},{"$f":"'полезный отпуск'!BB26","v":0},{"$f":"'полезный отпуск'!BO26","v":0},{"$f":"'полезный отпуск'!CB26","v":0},{"$f":"'полезный отпуск'!CO26","v":0},{"$f":"'полезный отпуск'!DB26","v":0},{"$f":"'полезный отпуск'!DO26","v":0},{"$f":"'полезный отпуск'!EB26","v":0}]
["3.4.2.",0,"куб.м",{"$f":"'исходные данные'!H20*1000","v":0},0,{"$f":"E21","v":0},0,"",{"$f":"'полезный отпуск'!P26","v":0},{"$f":"'полезный отпуск'!AC26","v":0},{"$f":"'полезный отпуск'!AP26","v":0},{"$f":"'полезный отпуск'!BC26","v":0},{"$f":"'полезный отпуск'!BP26","v":0},{"$f":"'полезный отпуск'!CC26","v":0},{"$f":"'полезный отпуск'!CP26","v":0},{"$f":"'полезный отпуск'!DC26","v":0},{"$f":"'полезный отпуск'!DP26","v":0},{"$f":"'полезный отпуск'!EC26","v":0}]
["3.4.3.",0,"куб.м",{"$f":"'исходные данные'!H21*1000","v":0},0,{"$f":"E22","v":0},0,"",{"$f":"'полезный отпуск'!Q26","v":0},{"$f":"'полезный отпуск'!AD26","v":0},{"$f":"'полезный отпуск'!AQ26","v":0},{"$f":"'полезный отпуск'!BD26","v":0},{"$f":"'полезный отпуск'!BQ26","v":0},{"$f":"'полезный отпуск'!CD26","v":0},{"$f":"'полезный отпуск'!CQ26","v":0},{"$f":"'полезный отпуск'!DD26","v":0},{"$f":"'полезный отпуск'!DQ26","v":0},{"$f":"'полезный отпуск'!ED26","v":0}]
["3.5.","от собственных абонентов","куб.м",{"$f":"'исходные данные'!H22*1000","v":0},0,{"$f":"E23","v":0},0,"",{"$f":"'полезный отпуск'!J26","v":0},{"$f":"'полезный отпуск'!W26","v":0},{"$f":"'полезный отпуск'!AJ26","v":0},{"$f":"'полезный отпуск'!AW26","v":0},{"$f":"'полезный отпуск'!BJ26","v":0},{"$f":"'полезный отпуск'!BW26","v":0},{"$f":"'полезный отпуск'!CJ26","v":0},{"$f":"'полезный отпуск'!CW26","v":0},{"$f":"'полезный отпуск'!DJ26","v":0},{"$f":"'полезный отпуск'!DW26","v":0}]
["II.","Объем транспортируемых сточных вод","куб.м",{"$f":"'исходные данные'!H23*1000","v":0},0,{"$f":"F25+F26","v":0},0,"",{"$f":"I25+I26","v":0},{"$f":"J25+J26","v":0},0,0,0,0,0,0,0,0]
["5.","На собственные очистные сооружения","куб.м",{"$f":"'исходные данные'!H24*1000","v":0},0,{"$f":"E25","v":0},0,"",{"$f":"I10","v":0}]
["6.","Передано сточных вод другим организациям","куб.м",{"$f":"'исходные данные'!H25*1000","v":0},0,{"$f":"E26","v":0},0,""]
["III.","Объем сточных вод, поступивших на очистные сооружения","куб.м",{"$f":"'исходные данные'!H26*1000","v":0},0,{"$f":"F28+F29","v":0},0,"",{"$f":"I28+I29","v":0},{"$f":"J28+J29","v":0},0,0,0,0,0,0,0,0]
["7.","Объем сточных вод, сбрасываемых в централизованные системы и прошедших очистку","куб.м",{"$f":"'исходные данные'!H27*1000","v":0},0,{"$f":"E28","v":0},0,"",{"$f":"I25","v":0}]
["8.","Объемы поверхностных сточных вод, прошедших очистку","куб.м",{"$f":"'исходные данные'!H28*1000","v":0},0,{"$f":"E29","v":0},0,""]
["IV.","Сбросы сточных вод в пределах нормативов и лимитов","куб.м",{"$f":"'исходные данные'!H29*1000","v":0},0,{"$f":"E30","v":0},0,"",{"$f":"I28","v":0}]
["V.","Объем обезвоженного осадка сточных вод","куб.м",{"$f":"'исходные данные'!H30*1000","v":0},0,{"$f":"E31","v":0},0,""]
["8.","Объем потребленной электроэнергии","кВтч",{"$f":"'исходные данные'!H31","v":0},0,{"$f":"'отчет по электроэнергии'!F47","v":0},0,""]
["9.","Удельный расход электроэнергии на реализацию стоков","кВт*ч/куб.м",{"$f":"'исходные данные'!H32","v":0},{"$f":"IF(E14=0,,E32/E14)","v":0},{"$f":"IF(F14=0,,F32/F14)","v":0},0,"",{"$f":"IF(I14=0,,I32/I14)","v":0},{"$f":"IF(J14=0,,J32/J14)","v":0},0,0,0,0,0,0,0,0]
["10.","Объем отведенных стоков от населения","куб.м/ч",{"$f":"D17/(24*365)","v":0},{"$f":"E17/(24*365)","v":0},0,0,"",{"$f":"I17/(24*365)","v":0},0,0,0,0,0,0,0,0,0]
["11.","Объем отведенных стоков на 1 человека в мес","куб.м",{"$f":"IF((12*D38)=0,0,D17/(12*D38))","v":0},{"$f":"IF((12*E38)=0,0,E17/(12*E38))","v":0},{"$f":"IF((12*F38)=0,0,F17/(12*F38))","v":0},0,"",{"$f":"IF((12*I38)=0,0,I17/(12*I38))","v":0},{"$f":"IF((12*J38)=0,0,J17/(12*J38))","v":0},0,0,0,0,0,0,0,0]
["12.","Присоединенная мощность потребителей товаров (услуг)","куб.м/ч",{"$f":"'исходные данные'!H40","v":0},{"$f":"I36+J36+K36+L36+M36+N36+O36+P36+Q36+R36","v":0},{"$f":"E36","v":0},0,""]
[null,"Справочно:","куб.м"]
["13.","Численность населения, получающего услуги организации, чел","чел",{"$f":"'исходные данные'!H42","v":0},{"$f":"I38+J38+K38+L38+M38+N38+O38+P38+Q38+R38","v":0},{"$f":"E38","v":0},0,""]
[]
[null,null,null,{"$f":"D14-'исходные данные'!H14*1000","v":0},null,null,null,null,{"$f":"I14-'полезный отпуск'!I26","v":0},{"$f":"J14-'полезный отпуск'!V26","v":0},{"$f":"K14-'полезный отпуск'!AI26","v":0},{"$f":"L14-'полезный отпуск'!AV26","v":0},{"$f":"M14-'полезный отпуск'!BI26","v":0},{"$f":"N14-'полезный отпуск'!BV26","v":0},{"$f":"O14-'полезный отпуск'!CI26","v":0},{"$f":"P14-'полезный отпуск'!CV26","v":0},{"$f":"Q14-'полезный отпуск'!DI26","v":0},{"$f":"R14-'полезный отпуск'!DV26","v":0}]

{"sheet":"отчет по реализации","index":9,"n_rows":999,"n_cols":15,"rows_kept":999,"cut":false,"hidden":false,"merged":[[746,0,748,0],[746,1,748,1],[746,2,748,2],[746,3,747,4],[746,5,746,7],[710,13,740,13],[744,3,744,7],[745,3,745,7],[710,8,735,8],[746,12,747,14],[746,8,748,8],[746,9,746,11],[747,5,747,6],[747,7,748,7],[747,9,747,10],[747,11,748,11],[672,0,674,0],[672,1,674,1],[672,2,674,2],[672,3,673,4],[672,5,672,7],[636,13,666,13],[670,3,670,7],[671,3,671,7],[636,8,661,8],[672,12,673,14],[672,8,674,8],[672,9,672,11],[673,5,673,6],[673,7,674,7],[673,9,673,10],[673,11,674,11],[598,0,600,0],[598,1,600,1],[598,2,600,2],[598,3,599,4],[598,5,598,7],[562,13,592,13],[596,3,596,7],[597,3,597,7],[562,8,587,8],[598,12,599,14],[598,8,600,8],[598,9,598,11],[599,5,599,6],[599,7,600,7],[599,9,599,10],[599,11,600,11],[524,0,526,0],[524,1,526,1],[524,2,526,2],[524,3,525,4],[524,5,524,7],[488,13,518,13],[522,3,522,7],[523,3,523,7],[488,8,513,8],[524,12,525,14],[524,8,526,8],[524,9,524,11],[525,5,525,6],[525,7,526,7],[525,9,525,10],[525,11,526,11],[450,0,452,0],[450,1,452,1],[450,2,452,2],[450,3,451,4],[450,5,450,7],[414,13,444,13],[448,3,448,7],[449,3,449,7],[414,8,439,8],[450,8,452,8],[450,9,450,11],[451,5,451,6],[451,7,452,7],[451,9,451,10],[451,11,452,11],[376,0,378,0],[376,1,378,1],[376,2,378,2],[376,3,377,4],[376,5,376,7],[340,13,370,13],[374,3,374,7],[375,3,375,7],[340,8,365,8],[376,8,378,8],[376,9,376,11],[377,5,377,6],[377,7,378,7],[377,9,377,10],[377,11,378,11],[376,12,377,14],[302,0,304,0],[302,1,304,1],[302,2,304,2],[302,3,303,4],[302,5,302,7],[266,13,296,13],[300,3,300,7],[301,3,301,7],[305,1,305,10],[302,8,304,8],[302,9,302,11],[303,5,303,6],[303,7,304,7],[303,9,303,10],[303,11,304,11],[266,8,291,8],[228,0,230,0],[228,1,230,1],[228,2,230,2],[228,3,229,4],[228,5,228,7],[192,13,222,13],[226,3,226,7],[227,3,227,7],[231,1,231,10],[228,8,230,8],[228,9,228,11],[229,5,229,6],[229,7,230,7],[229,9,229,10],[229,11,230,11],[192,8,217,8],[154,0,156,0],[154,1,156,1],[154,2,156,2],[154,3,155,4],[154,5,154,7],[80,0,82,0],[80,1,82,1],[80,2,82,2],[80,3,81,4],[80,5,80,7],[83,1,83,10],[154,8,156,8],[154,9,154,11],[155,5,155,6],[155,7,156,7],[155,9,155,10],[155,11,156,11],[81,7,82,7],[81,9,81,10],[116,1,116,10],[0,0,0,11],[6,0,8,0],[6,1,8,1],[6,2,8,2],[6,5,6,7],[6,8,8,8],[6,9,6,11],[1,0,1,11],[2,0,2,11],[6,3,7,4],[4,3,4,7],[7,5,7,6],[7,7,8,7],[7,9,7,10],[7,11,8,11],[6,12,7,14],[78,3,78,7],[85,13,115,13],[79,3,79,7],[80,8,82,8],[80,9,80,11],[81,5,81,6],[80,12,81,14],[11,13,41,13],[44,13,74,13],[85,8,110,8],[9,1,9,10],[42,1,42,10],[11,8,36,8],[44,8,69,8],[81,11,82,11],[118,13,148,13],[233,13,263,13],[264,1,264,10],[307,13,337,13],[338,1,338,10],[307,8,332,8],[154,12,155,14],[228,12,229,14],[302,12,303,14],[233,8,258,8],[118,8,143,8],[159,8,184,8],[152,3,152,7],[153,3,153,7],[159,13,189,13],[157,1,157,10],[190,1,190,10],[998,1,998,2],[987,1,987,2],[988,1,988,2],[989,1,989,2],[990,1,990,2],[991,1,991,2],[992,1,992,2],[993,1,993,2],[994,1,994,2],[995,1,995,2],[996,1,996,2],[997,1,997,2],[986,3,986,4],[986,5,986,6],[455,13,485,13],[450,12,451,14],[529,13,559,13],[603,13,633,13],[603,8,628,8],[675,1,675,10],[677,13,707,13],[708,1,708,10],[677,8,702,8],[784,13,814,13],[749,1,749,10],[751,13,781,13],[981,1,981,6],[986,1,986,2],[486,1,486,10],[455,8,480,8],[453,1,453,10],[527,1,527,10],[560,1,560,10],[529,8,554,8],[601,1,601,10],[634,1,634,10],[751,8,776,8],[784,8,809,8],[782,1,782,10],[379,1,379,10],[381,13,411,13],[412,1,412,10],[381,8,406,8],[982,1,982,6],[984,2,984,6]]}
["Сводный отчет по выручке от реализации холодной воды"]
[{"$f":"Титульный!C10","v":" "}]
[{"$f":"Титульный!C19","v":0}]
[null,"Район",{"$f":"Титульный!C6","v":0},null,null,"МО",{"$f":"Титульный!C7","v":0}]
[null,null,null,"Всего по тарифу"]
[]
["№","Вид потребителя","Степень благоустройства, наименование скота","Нормы потребления услуги водоотведения, куб.м. в месяц (на 1 чел)",null,"Фактический годовой объем реализации воды,  куб.м.",null,null,"тариф на водоотведение, руб/куб.м.","Сумма, руб",null,null,"компенсация до установленного тарифа"]
[null,null,null,null,null,"водоотведение",null,"ВСЕГО",null,"водоотведение",null,"ИТОГО"]
[null,null,null,"водоотведение",null,"норматив","прибор учета",null,null,"норматив","прибор учета",null,"объем, куб.м.","размер, руб/куб.м.","Сумма, руб"]
[null,"1-е полугодие 2016 года"]
["1.","Население "]
["1.1.","водоотведение","Квартиры с ваннами длиной от 1500 до 1700 мм, оборудованными душами",null,null,{"$f":"F86+F160+F234+F308+F382+F456+F530+F604+F678+F752","v":0},0,{"$f":"F12+G12","v":0},{"$f":"'данные об организации'!$I$29","v":0},{"$f":"J86+J160+J234+J308+J382+J456+J530+J604+J678+J752","v":0},0,{"$f":"SUM(J12:K12)","v":0},{"$f":"M86+M160+M234+M308+M382+M456+M530+M604+M678+M752","v":0},{"$f":"'данные об организации'!$H$39","v":0},{"$f":"O86+O160+O234+O308+O382+O456+O530+O604+O678+O752","v":0}]
["1.2.","водоотведение","Квартиры  без ванн,  без ГВС и кан-ции",null,null,0,0,{"$f":"F13+G13","v":0},null,0,0,0,0,null,0]
["1.3.","водоотведение","Квартиры с ваннами длиной от 1500 до 1700 мм, оборудованными душами",null,null,0,0,0,null,0,0,0,0,null,0]
["1.4.","водоотведение","Квартиры с  общими душами на этаже",null,null,0,0,0,null,0,0,0,0,null,0]
["1.5.","водоотведение","Квартиры  с ваннами и местным  ГВС (индивид эл.бойлера)",null,null,0,0,0,null,0,0,0,0,null,0]
["1.6.","водоотведение","Квартиры  с ваннами и местным  ГВС (общий т/обменник от отопления 252 дня)",null,null,0,0,0,null,0,0,0,0,null,0]
["1.7.","водоотведение","Квартиры с ваннами длиной от 1500 до 1700 мм, оборудованными душами",null,null,0,0,0,null,0,0,0,0,null,0]
["1.8.","водоотведение","Квартиры  с ваннами и местным  ГВС (индивид эл.бойлера)",null,null,0,0,0,null,0,0,0,0,null,0]
["1.9.","водоотведение","Квартиры с ваннами длиной от 1500 до 1700 мм, оборудованными душами",null,null,0,0,0,null,0,0,0,0,null,0]
["1.10.","водоотведение","Квартиры с ваннами длиной от 1500 до 1700 мм, оборудованными душами",null,null,0,0,0,null,0,0,0,0,null,0]
["1.11.","водоотведение","Квартиры с ваннами сидячими, оборудованными душами",null,null,0,0,0,null,0,0,0,0,null,0]
["1.12.","водоотведение","Квартиры с общими душами на этаже",null,null,0,0,0,null,0,0,0,0,null,0]
["1.13.","водоотведение","Квартиры с ваннами длиной от 1500 до 1700 мм, оборудованными душами",null,null,0,0,0,null,0,0,0,0,null,0]
["1.14.","водоотведение","Квартиры с ваннами длиной от 1500 до 1700 мм, оборудованными душами",null,null,0,0,0,null,0,0,0,0,null,0]
["1.15.","водоотведение","Квартиры с общими душами в секции",null,null,0,0,0,null,0,0,0,0,null,0]
["1.16.","водоотведение","Квартиры с ваннами длиной от 1500 до 1700 мм, оборудованными душами",null,null,0,0,0,null,0,0,0,0,null,0]
["1.17.","водоотведение","с водопроводом без канализации",null,null,0,0,0,null,0,0,0,0,null,0]
["1.18.","водоотведение","водопровод, ванны без ГВС и кан-ции",null,null,0,0,0,null,0,0,0,0,null,0]
["1.19.","водоотведение","с ваннами, оборудованными душами и с канализацией",null,null,0,0,0,null,0,0,0,0,null,0]
["1.20.","водоотведение","с водопроводом без канализации",null,null,0,0,0,null,0,0,0,0,null,0]
["1.21.","водоотведение","водопровод, ванны без ГВС и кан-ции",null,null,0,0,0,null,0,0,0,0,null,0]
["1.22.","водоотведение","с ваннами, оборудованными душами и с канализацией",null,null,0,0,0,null,0,0,0,0,null,0]
["1.23.","водоотведение","с водопроводом без канализации",null,null,0,0,0,null,0,0,0,0,null,0]
["1.24.","водоотведение","водопровод, ванны без ГВС и кан-ции",null,null,0,0,0,null,0,0,0,0,null,0]
["1.25.","водоотведение","с ваннами, оборудованными душами и с канализацией",null,null,0,0,0,null,0,0,0,0,null,0]
[null,null,null,{"$f":"IF(C37=\"\",\"\",\"х\")","v":""},null,0,0,0,null,0,0,0,0,null,0]
[null,"перерасчеты",null,null,null,"х","х","х","контроль","х","х",{"$f":"L112+L186+L260+L334+L408+L482+L556+L630+L704+L778","v":0},"х",null,0]
[null,"Итого население",null,null,null,{"$f":"SUM(F12:F37)","v":0},0,0,{"$f":"H39-SUM('полезный отпуск'!G14:G19)","v":0},{"$f":"J113+J187+J261+J335+J409+J483+J557+J631+J705+J779","v":0},0,{"$f":"SUM(L12:L38)","v":0},{"$f":"M113+M187+M261+M335+M409+M483+M557+M631+M705+M779","v":0},null,{"$f":"SUM(O12:O38)","v":0}]
["2.","Итого бюджет",null,null,null,{"$f":"F114+F188+F262+F336+F410+F484+F558+F632+F706+F780","v":0},{"$f":"G114+G188+G262+G336+G410+G484+G558+G632+G706+G780","v":0},0,{"$f":"H40-SUM('полезный отпуск'!F14:F19)","v":0},0,0,{"$f":"SUM(J40:K40)","v":0},{"$f":"M114+M188+M262+M336+M410+M484+M558+M632+M706+M780","v":0}]
["3.","Итого прочие+другие водопроводы",null,null,null,{"$f":"F115+F189+F263+F337+F411+F485+F559+F633+F707+F781","v":0},{"$f":"G115+G189+G263+G337+G411+G485+G559+G633+G707+G781","v":0},0,{"$f":"H41-SUM('полезный отпуск'!D14:D19,'полезный отпуск'!H14:H19)","v":0},0,0,{"$f":"SUM(J41:K41)","v":0},{"$f":"M115+M189+M263+M337+M411+M485+M559+M633+M707+M781","v":0}]
["4.","ВСЕГО 1-е полугодие",null,null,null,{"$f":"SUM(F39:F41)","v":0},0,0,{"$f":"H42-SUM('полезный отпуск'!D14:D19,'полезный отпуск'!E14:E19)","v":0},{"$f":"SUM(J39:J41)","v":0},0,0,0,null,{"$f":"SUM(O39:O41)","v":0}]
[null,"2-е полугодие 2016 года"]
["1.","Население "]
[{"$f":"IF(A12=\"\",\"\",A12)","v":"1.1."},"водоотведение","Квартиры с ваннами длиной от 1500 до 1700 мм, оборудованными душами",null,null,{"$f":"F119+F193+F267+F341+F415+F489+F563+F637+F711+F785","v":0},0,{"$f":"F45+G45","v":0},{"$f":"'данные об организации'!$I$31","v":0},{"$f":"J119+J193+J267+J341+J415+J489+J563+J637+J711+J785","v":0},0,{"$f":"SUM(J45:K45)","v":0},{"$f":"M119+M193+M267+M341+M415+M489+M563+M637+M711+M785","v":0},{"$f":"'данные об организации'!$H$41","v":0},{"$f":"O119+O193+O267+O341+O415+O489+O563+O637+O711+O785","v":0}]
["1.2.","водоотведение","Квартиры  без ванн,  без ГВС и кан-ции",null,null,{"$f":"F120+F194+F268+F342+F416+F490+F564+F638+F712+F786","v":0},0,0,null,{"$f":"J120+J194+J268+J342+J416+J490+J564+J638+J712+J786","v":0},0,0,{"$f":"M120+M194+M268+M342+M416+M490+M564+M638+M712+M786","v":0},null,{"$f":"O120+O194+O268+O342+O416+O490+O564+O638+O712+O786","v":0}]
["1.3.","водоотведение","Квартиры с ваннами длиной от 1500 до 1700 мм, оборудованными душами",null,null,{"$f":"F121+F195+F269+F343+F417+F491+F565+F639+F713+F787","v":0},0,0,null,{"$f":"J121+J195+J269+J343+J417+J491+J565+J639+J713+J787","v":0},0,0,{"$f":"M121+M195+M269+M343+M417+M491+M565+M639+M713+M787","v":0},null,{"$f":"O121+O195+O269+O343+O417+O491+O565+O639+O713+O787","v":0}]
["1.4.","водоотведение","Квартиры с  общими душами на этаже",null,null,{"$f":"F122+F196+F270+F344+F418+F492+F566+F640+F714+F788","v":0},0,0,null,{"$f":"J122+J196+J270+J344+J418+J492+J566+J640+J714+J788","v":0},0,0,{"$f":"M122+M196+M270+M344+M418+M492+M566+M640+M714+M788","v":0},null,{"$f":"O122+O196+O270+O344+O418+O492+O566+O640+O714+O788","v":0}]
["1.5.","водоотведение","Квартиры  с ваннами и местным  ГВС (индивид эл.бойлера)",null,null,{"$f":"F123+F197+F271+F345+F419+F493+F567+F641+F715+F789","v":0},0,0,null,{"$f":"J123+J197+J271+J345+J419+J493+J567+J641+J715+J789","v":0},0,0,{"$f":"M123+M197+M271+M345+M419+M493+M567+M641+M715+M789","v":0},null,{"$f":"O123+O197+O271+O345+O419+O493+O567+O641+O715+O789","v":0}]
["1.6.","водоотведение","Квартиры  с ваннами и местным  ГВС (общий т/обменник от отопления 252 дня)",null,null,{"$f":"F124+F198+F272+F346+F420+F494+F568+F642+F716+F790","v":0},0,0,null,{"$f":"J124+J198+J272+J346+J420+J494+J568+J642+J716+J790","v":0},0,0,{"$f":"M124+M198+M272+M346+M420+M494+M568+M642+M716+M790","v":0},null,{"$f":"O124+O198+O272+O346+O420+O494+O568+O642+O716+O790","v":0}]
["1.7.","водоотведение","Квартиры с ваннами длиной от 1500 до 1700 мм, оборудованными душами",null,null,{"$f":"F125+F199+F273+F347+F421+F495+F569+F643+F717+F791","v":0},0,0,null,{"$f":"J125+J199+J273+J347+J421+J495+J569+J643+J717+J791","v":0},0,0,{"$f":"M125+M199+M273+M347+M421+M495+M569+M643+M717+M791","v":0},null,{"$f":"O125+O199+O273+O347+O421+O495+O569+O643+O717+O791","v":0}]
["1.8.","водоотведение","Квартиры  с ваннами и местным  ГВС (индивид эл.бойлера)",null,null,{"$f":"F126+F200+F274+F348+F422+F496+F570+F644+F718+F792","v":0},0,0,null,{"$f":"J126+J200+J274+J348+J422+J496+J570+J644+J718+J792","v":0},0,0,{"$f":"M126+M200+M274+M348+M422+M496+M570+M644+M718+M792","v":0},null,{"$f":"O126+O200+O274+O348+O422+O496+O570+O644+O718+O792","v":0}]
["1.9.","водоотведение","Квартиры с ваннами длиной от 1500 до 1700 мм, оборудованными душами",null,null,{"$f":"F127+F201+F275+F349+F423+F497+F571+F645+F719+F793","v":0},0,0,null,{"$f":"J127+J201+J275+J349+J423+J497+J571+J645+J719+J793","v":0},0,0,{"$f":"M127+M201+M275+M349+M423+M497+M571+M645+M719+M793","v":0},null,{"$f":"O127+O201+O275+O349+O423+O497+O571+O645+O719+O793","v":0}]
["1.10.","водоотведение","Квартиры с ваннами длиной от 1500 до 1700 мм, оборудованными душами",null,null,{"$f":"F128+F202+F276+F350+F424+F498+F572+F646+F720+F794","v":0},0,0,null,{"$f":"J128+J202+J276+J350+J424+J498+J572+J646+J720+J794","v":0},0,0,{"$f":"M128+M202+M276+M350+M424+M498+M572+M646+M720+M794","v":0},null,{"$f":"O128+O202+O276+O350+O424+O498+O572+O646+O720+O794","v":0}]
["1.11.","водоотведение","Квартиры с ваннами сидячими, оборудованными душами",null,null,{"$f":"F129+F203+F277+F351+F425+F499+F573+F647+F721+F795","v":0},0,0,null,{"$f":"J129+J203+J277+J351+J425+J499+J573+J647+J721+J795","v":0},0,0,{"$f":"M129+M203+M277+M351+M425+M499+M573+M647+M721+M795","v":0},null,{"$f":"O129+O203+O277+O351+O425+O499+O573+O647+O721+O795","v":0}]
["1.12.","водоотведение","Квартиры с общими душами на этаже",null,null,{"$f":"F130+F204+F278+F352+F426+F500+F574+F648+F722+F796","v":0},0,0,null,{"$f":"J130+J204+J278+J352+J426+J500+J574+J648+J722+J796","v":0},0,0,{"$f":"M130+M204+M278+M352+M426+M500+M574+M648+M722+M796","v":0},null,{"$f":"O130+O204+O278+O352+O426+O500+O574+O648+O722+O796","v":0}]
["1.13.","водоотведение","Квартиры с ваннами длиной от 1500 до 1700 мм, оборудованными душами",null,null,{"$f":"F131+F205+F279+F353+F427+F501+F575+F649+F723+F797","v":0},0,0,null,{"$f":"J131+J205+J279+J353+J427+J501+J575+J649+J723+J797","v":0},0,0,{"$f":"M131+M205+M279+M353+M427+M501+M575+M649+M723+M797","v":0},null,{"$f":"O131+O205+O279+O353+O427+O501+O575+O649+O723+O797","v":0}]
["1.14.","водоотведение","Квартиры с ваннами длиной от 1500 до 1700 мм, оборудованными душами",null,null,{"$f":"F132+F206+F280+F354+F428+F502+F576+F650+F724+F798","v":0},0,0,null,{"$f":"J132+J206+J280+J354+J428+J502+J576+J650+J724+J798","v":0},0,0,{"$f":"M132+M206+M280+M354+M428+M502+M576+M650+M724+M798","v":0},null,{"$f":"O132+O206+O280+O354+O428+O502+O576+O650+O724+O798","v":0}]
["1.15.","водоотведение","Квартиры с общими душами в секции",null,null,{"$f":"F133+F207+F281+F355+F429+F503+F577+F651+F725+F799","v":0},0,0,null,{"$f":"J133+J207+J281+J355+J429+J503+J577+J651+J725+J799","v":0},0,0,{"$f":"M133+M207+M281+M355+M429+M503+M577+M651+M725+M799","v":0},null,{"$f":"O133+O207+O281+O355+O429+O503+O577+O651+O725+O799","v":0}]
["1.16.","водоотведение","Квартиры с ваннами длиной от 1500 до 1700 мм, оборудованными душами",null,null,{"$f":"F134+F208+F282+F356+F430+F504+F578+F652+F726+F800","v":0},0,0,null,{"$f":"J134+J208+J282+J356+J430+J504+J578+J652+J726+J800","v":0},0,0,{"$f":"M134+M208+M282+M356+M430+M504+M578+M652+M726+M800","v":0},null,{"$f":"O134+O208+O282+O356+O430+O504+O578+O652+O726+O800","v":0}]
["1.17.","водоотведение","с водопроводом без канализации",null,null,{"$f":"F135+F209+F283+F357+F431+F505+F579+F653+F727+F801","v":0},0,0,null,{"$f":"J135+J209+J283+J357+J431+J505+J579+J653+J727+J801","v":0},0,0,{"$f":"M135+M209+M283+M357+M431+M505+M579+M653+M727+M801","v":0},null,{"$f":"O135+O209+O283+O357+O431+O505+O579+O653+O727+O801","v":0}]
["1.18.","водоотведение","водопровод, ванны без ГВС и кан-ции",null,null,{"$f":"F136+F210+F284+F358+F432+F506+F580+F654+F728+F802","v":0},0,0,null,{"$f":"J136+J210+J284+J358+J432+J506+J580+J654+J728+J802","v":0},0,0,{"$f":"M136+M210+M284+M358+M432+M506+M580+M654+M728+M802","v":0},null,{"$f":"O136+O210+O284+O358+O432+O506+O580+O654+O728+O802","v":0}]
["1.19.","водоотведение","с ваннами, оборудованными душами и с канализацией",null,null,{"$f":"F137+F211+F285+F359+F433+F507+F581+F655+F729+F803","v":0},0,0,null,{"$f":"J137+J211+J285+J359+J433+J507+J581+J655+J729+J803","v":0},0,0,{"$f":"M137+M211+M285+M359+M433+M507+M581+M655+M729+M803","v":0},null,{"$f":"O137+O211+O285+O359+O433+O507+O581+O655+O729+O803","v":0}]
["1.20.","водоотведение","с водопроводом без канализации",null,null,{"$f":"F138+F212+F286+F360+F434+F508+F582+F656+F730+F804","v":0},0,0,null,{"$f":"J138+J212+J286+J360+J434+J508+J582+J656+J730+J804","v":0},0,0,{"$f":"M138+M212+M286+M360+M434+M508+M582+M656+M730+M804","v":0},null,{"$f":"O138+O212+O286+O360+O434+O508+O582+O656+O730+O804","v":0}]
["1.21.","водоотведение","водопровод, ванны без ГВС и кан-ции",null,null,{"$f":"F139+F213+F287+F361+F435+F509+F583+F657+F731+F805","v":0},0,0,null,{"$f":"J139+J213+J287+J361+J435+J509+J583+J657+J731+J805","v":0},0,0,{"$f":"M139+M213+M287+M361+M435+M509+M583+M657+M731+M805","v":0},null,{"$f":"O139+O213+O287+O361+O435+O509+O583+O657+O731+O805","v":0}]
["1.22.","водоотведение","с ваннами, оборудованными душами и с канализацией",null,null,{"$f":"F140+F214+F288+F362+F436+F510+F584+F658+F732+F806","v":0},0,0,null,{"$f":"J140+J214+J288+J362+J436+J510+J584+J658+J732+J806","v":0},0,0,{"$f":"M140+M214+M288+M362+M436+M510+M584+M658+M732+M806","v":0},null,{"$f":"O140+O214+O288+O362+O436+O510+O584+O658+O732+O806","v":0}]
["1.23.","водоотведение","с водопроводом без канализации",null,null,{"$f":"F141+F215+F289+F363+F437+F511+F585+F659+F733+F807","v":0},0,0,null,{"$f":"J141+J215+J289+J363+J437+J511+J585+J659+J733+J807","v":0},0,0,{"$f":"M141+M215+M289+M363+M437+M511+M585+M659+M733+M807","v":0},null,{"$f":"O141+O215+O289+O363+O437+O511+O585+O659+O733+O807","v":0}]
["1.24.","водоотведение","водопровод, ванны без ГВС и кан-ции",null,null,{"$f":"F142+F216+F290+F364+F438+F512+F586+F660+F734+F808","v":0},0,0,null,{"$f":"J142+J216+J290+J364+J438+J512+J586+J660+J734+J808","v":0},0,0,{"$f":"M142+M216+M290+M364+M438+M512+M586+M660+M734+M808","v":0},null,{"$f":"O142+O216+O290+O364+O438+O512+O586+O660+O734+O808","v":0}]
["1.25.","водоотведение","с ваннами, оборудованными душами и с канализацией",null,null,{"$f":"F143+F217+F291+F365+F439+F513+F587+F661+F735+F809","v":0},0,0,null,{"$f":"J143+J217+J291+J365+J439+J513+J587+J661+J735+J809","v":0},0,0,{"$f":"M143+M217+M291+M365+M439+M513+M587+M661+M735+M809","v":0},null,{"$f":"O143+O217+O291+O365+O439+O513+O587+O661+O735+O809","v":0}]
["","","",null,null,{"$f":"F144+F218+F292+F366+F440+F514+F588+F662+F736+F810","v":0},0,0,null,{"$f":"J144+J218+J292+J366+J440+J514+J588+J662+J736+J810","v":0},0,0,{"$f":"M144+M218+M292+M366+M440+M514+M588+M662+M736+M810","v":0},null,{"$f":"O144+O218+O292+O366+O440+O514+O588+O662+O736+O810","v":0}]
[null,"перерасчеты",null,null,null,"х","х","х","контроль","х","х",0,"х",null,{"$f":"O145+O219+O293+O367+O441+O515+O589+O663+O737+O811","v":0}]
[null,"Итого население",null,null,null,{"$f":"SUM(F45:F70)","v":0},0,{"$f":"F72+G72","v":0},{"$f":"H72-SUM('полезный отпуск'!G20:G25)","v":0},{"$f":"SUM(J45:J70)","v":0},0,{"$f":"SUM(L45:L71)","v":0},{"$f":"SUM(M45:M70)","v":0},null,{"$f":"SUM(O45:O71)","v":0}]
["2.","Итого бюджет",null,null,null,{"$f":"F147+F221+F295+F369+F443+F517+F591+F665+F739+F813","v":0},0,0,{"$f":"H73-SUM('полезный отпуск'!F20:F25)","v":0},{"$f":"J147+J221+J295+J369+J443+J517+J591+J665+J739+J813","v":0},0,{"$f":"SUM(J73:K73)","v":0},{"$f":"M147+M221+M295+M369+M443+M517+M591+M665+M739+M813","v":0},null,{"$f":"O147+O221+O295+O369+O443+O517+O591+O665+O739+O813","v":0}]
["3.","Итого прочие+другие водопроводы",null,null,null,{"$f":"F148+F222+F296+F370+F444+F518+F592+F666+F740+F814","v":0},0,0,{"$f":"H74-SUM('полезный отпуск'!D20:D25,'полезный отпуск'!H20:H25)","v":0},{"$f":"J148+J222+J296+J370+J444+J518+J592+J666+J740+J814","v":0},0,{"$f":"SUM(J74:K74)","v":0},{"$f":"M148+M222+M296+M370+M444+M518+M592+M666+M740+M814","v":0},null,{"$f":"O148+O222+O296+O370+O444+O518+O592+O666+O740+O814","v":0}]
["4.","ВСЕГО 2-е полугодие",null,null,null,{"$f":"SUM(F72:F74)","v":0},0,0,{"$f":"H75-SUM('полезный отпуск'!D20:D25,'полезный отпуск'!E20:E25)","v":0},{"$f":"SUM(J72:J74)","v":0},0,0,0,null,{"$f":"SUM(O72:O74)","v":0}]
[]
["5.","ГОД ВСЕГО",null,null,null,{"$f":"F42+F75","v":0},{"$f":"G42+G75","v":0},0,null,0,0,{"$f":"L42+L75","v":0},null,null,{"$f":"O42+O75","v":0}]
[]
[null,"МО",{"$f":"'данные об организации'!A13","v":0},{"$f":"'данные об организации'!$F$13","v":0}]
[null,null,null,"(наименование населенного пункта)"]
["№","Вид потребителя","Степень благоустройства, наименование скота","Нормы потребления услуги водоотведения, куб.м. в месяц (на 1 чел)",null,"Фактический годовой объем реализации воды,  куб.м.",null,null,"тариф на водоотведение, руб/куб.м.","Сумма, руб",null,null,"компенсация до установленного тарифа"]
[null,null,null,null,null,"водоотведение",null,"ВСЕГО",null,"водоотведение",null,"ИТОГО"]
[null,null,null,"водоотведение",null,"норматив","прибор учета",null,null,"норматив","прибор учета",null,"объем, куб.м.","размер, руб/куб.м.","Сумма, руб"]
[null,"1-е полугодие 2016года"]
["1.","Население "]
[{"$f":"IF(A45=\"\",\"\",A45)","v":"1.1."},{"$f":"IF(B45=\"\",\"\",B45)","v":"водоотведение"},{"$f":"IF(C45=\"\",\"\",C45)","v":"Квартиры с ваннами длиной от 1500 до 1700 мм, оборудованными душами"},null,null,null,null,{"$f":"F86+G86","v":0},{"$f":"I12","v":0},{"$f":"F86*$I$86","v":0},{"$f":"G86*$I$86","v":0},{"$f":"SUM(J86:K86)","v":0},null,{"$f":"N12","v":0},{"$f":"M86*N86","v":0}]
[{"$f":"IF(A46=\"\",\"\",A46)","v":"1.2."},"водоотведение","Квартиры  без ванн,  без ГВС и кан-ции",null,null,null,null,0,null,0,0,0,null,null,{"$f":"M87*N86","v":0}]
[{"$f":"IF(A47=\"\",\"\",A47)","v":"1.3."},"водоотведение","Квартиры с ваннами длиной от 1500 до 1700 мм, оборудованными душами",null,null,null,null,0,null,0,0,0,null,null,{"$f":"M88*N86","v":0}]
[{"$f":"IF(A48=\"\",\"\",A48)","v":"1.4."},"водоотведение","Квартиры с  общими душами на этаже",null,null,null,null,0,null,0,0,0,null,null,{"$f":"M89*N86","v":0}]
[{"$f":"IF(A49=\"\",\"\",A49)","v":"1.5."},"водоотведение","Квартиры  с ваннами и местным  ГВС (индивид эл.бойлера)",null,null,null,null,0,null,0,0,0,null,null,{"$f":"M90*N86","v":0}]
[{"$f":"IF(A50=\"\",\"\",A50)","v":"1.6."},"водоотведение","Квартиры  с ваннами и местным  ГВС (общий т/обменник от отопления 252 дня)",null,null,null,null,0,null,0,0,0,null,null,{"$f":"M91*N86","v":0}]
[{"$f":"IF(A51=\"\",\"\",A51)","v":"1.7."},"водоотведение","Квартиры с ваннами длиной от 1500 до 1700 мм, оборудованными душами",null,null,null,null,0,null,0,0,0,null,null,{"$f":"M92*N86","v":0}]
[{"$f":"IF(A52=\"\",\"\",A52)","v":"1.8."},"водоотведение","Квартиры  с ваннами и местным  ГВС (индивид эл.бойлера)",null,null,null,null,0,null,0,0,0,null,null,{"$f":"M93*N86","v":0}]
[{"$f":"IF(A53=\"\",\"\",A53)","v":"1.9."},"водоотведение","Квартиры с ваннами длиной от 1500 до 1700 мм, оборудованными душами",null,null,null,null,0,null,0,0,0,null,null,{"$f":"M94*N86","v":0}]
[{"$f":"IF(A54=\"\",\"\",A54)","v":"1.10."},"водоотведение","Квартиры с ваннами длиной от 1500 до 1700 мм, оборудованными душами",null,null,null,null,0,null,0,0,0,null,null,{"$f":"M95*N86","v":0}]
[{"$f":"IF(A55=\"\",\"\",A55)","v":"1.11."},"водоотведение","Квартиры с ваннами сидячими, оборудованными душами",null,null,null,null,0,null,0,0,0,null,null,{"$f":"M96*N86","v":0}]
[{"$f":"IF(A56=\"\",\"\",A56)","v":"1.12."},"водоотведение","Квартиры с общими душами на этаже",null,null,null,null,0,null,0,0,0,null,null,{"$f":"M97*N86","v":0}]
[{"$f":"IF(A57=\"\",\"\",A57)","v":"1.13."},"водоотведение","Квартиры с ваннами длиной от 1500 до 1700 мм, оборудованными душами",null,null,null,null,0,null,0,0,0,null,null,{"$f":"M98*N86","v":0}]
[{"$f":"IF(A58=\"\",\"\",A58)","v":"1.14."},"водоотведение","Квартиры с ваннами длиной от 1500 до 1700 мм, оборудованными душами",null,null,null,null,0,null,0,0,0,null,null,{"$f":"M99*N86","v":0}]
[{"$f":"IF(A59=\"\",\"\",A59)","v":"1.15."},"водоотведение","Квартиры с общими душами в секции",null,null,null,null,0,null,0,0,0,null,null,{"$f":"M100*N86","v":0}]
[{"$f":"IF(A60=\"\",\"\",A60)","v":"1.16."},"водоотведение","Квартиры с ваннами длиной от 1500 до 1700 мм, оборудованными душами",null,null,null,null,0,null,0,0,0,null,null,{"$f":"M101*N86","v":0}]
[{"$f":"IF(A61=\"\",\"\",A61)","v":"1.17."},"водоотведение","с водопроводом без канализации",null,null,null,null,0,null,0,0,0,null,null,{"$f":"M102*N86","v":0}]
[{"$f":"IF(A62=\"\",\"\",A62)","v":"1.18."},"водоотведение","водопровод, ванны без ГВС и кан-ции",null,null,null,null,0,null,0,0,0,null,null,{"$f":"M103*N86","v":0}]
[{"$f":"IF(A63=\"\",\"\",A63)","v":"1.19."},"водоотведение","с ваннами, оборудованными душами и с канализацией",null,null,null,null,0,null,0,0,0,null,null,{"$f":"M104*N86","v":0}]
[{"$f":"IF(A64=\"\",\"\",A64)","v":"1.20."},"водоотведение","с водопроводом без канализации",null,null,null,null,0,null,0,0,0,null,null,{"$f":"M105*N86","v":0}]
[{"$f":"IF(A65=\"\",\"\",A65)","v":"1.21."},"водоотведение","водопровод, ванны без ГВС и кан-ции",null,null,null,null,0,null,0,0,0,null,null,{"$f":"M106*N86","v":0}]
[{"$f":"IF(A66=\"\",\"\",A66)","v":"1.22."},"водоотведение","с ваннами, оборудованными душами и с канализацией",null,null,null,null,0,null,0,0,0,null,null,{"$f":"M107*N86","v":0}]
[{"$f":"IF(A67=\"\",\"\",A67)","v":"1.23."},"водоотведение","с водопроводом без канализации",null,null,null,null,0,null,0,0,0,null,null,{"$f":"M108*N86","v":0}]
[{"$f":"IF(A68=\"\",\"\",A68)","v":"1.24."},"водоотведение","водопровод, ванны без ГВС и кан-ции",null,null,null,null,0,null,0,0,0,null,null,{"$f":"M109*N86","v":0}]
[{"$f":"IF(A69=\"\",\"\",A69)","v":"1.25."},"водоотведение","с ваннами, оборудованными душами и с канализацией",null,null,null,null,0,null,0,0,0,null,null,{"$f":"M110*N86","v":0}]
[{"$f":"IF(A70=\"\",\"\",A70)","v":""},"","",null,null,null,null,0,null,0,0,0,null,null,{"$f":"M111*N86","v":0}]
[null,"перерасчеты",null,"х","х","х","х","х","контроль","х","х"]
[null,"Итого население",null,null,null,{"$f":"SUM(F86:F111)","v":0},{"$f":"SUM(G86:G111)","v":0},{"$f":"F113+G113","v":0},{"$f":"H113-SUM('полезный отпуск'!T14:T19)","v":0},{"$f":"SUM(J86:J111)","v":0},0,{"$f":"SUM(L86:L112)","v":0},{"$f":"SUM(M86:M112)","v":0},null,{"$f":"SUM(O86:O112)","v":0}]
["2.","Итого бюджет",null,null,null,null,null,0,{"$f":"H114-SUM('полезный отпуск'!S14:S19)","v":0},{"$f":"F114*$I$12","v":0},{"$f":"G114*$I$12","v":0},{"$f":"SUM(J114:K114)","v":0},null,null,{"$f":"M114*N86","v":0}]
["3.","Итого прочие+другие водопроводы",null,null,null,null,null,0,{"$f":"H115-SUM('полезный отпуск'!N14:N19,'полезный отпуск'!U14:U19)","v":0},{"$f":"F115*$I$12","v":0},{"$f":"G115*$I$12","v":0},{"$f":"SUM(J115:K115)","v":0},null,null,{"$f":"M115*N86","v":0}]
["4.","ВСЕГО 1-е полугодие",null,null,null,{"$f":"SUM(F113:F115)","v":0},{"$f":"SUM(G113:G115)","v":0},0,{"$f":"H116-SUM('полезный отпуск'!R14:R19,'полезный отпуск'!N14:N19)","v":0},{"$f":"SUM(J113:J115)","v":0},{"$f":"SUM(K113:K115)","v":0},{"$f":"SUM(L113:L115)","v":0},{"$f":"SUM(M113:M115)","v":0},null,{"$f":"SUM(O113:O115)","v":0}]
[null,"2-е полугодие 2016 года"]
["1.","Население "]
[{"$f":"IF(A86=\"\",\"\",A86)","v":"1.1."},{"$f":"IF(B86=\"\",\"\",B86)","v":"водоотведение"},{"$f":"IF(C86=\"\",\"\",C86)","v":"Квартиры с ваннами длиной от 1500 до 1700 мм, оборудованными душами"},null,null,null,null,{"$f":"F119+G119","v":0},{"$f":"I45","v":0},{"$f":"F119*$I$119","v":0},{"$f":"G119*$I$119","v":0},{"$f":"SUM(J119:K119)","v":0},null,{"$f":"N45","v":0},{"$f":"M119*N119","v":0}]
[{"$f":"A87","v":"1.2."},{"$f":"B46","v":"водоотведение"},"Квартиры  без ванн,  без ГВС и кан-ции",null,null,null,null,0,null,0,0,0,null,null,{"$f":"M120*N119","v":0}]
["1.3.","водоотведение","Квартиры с ваннами длиной от 1500 до 1700 мм, оборудованными душами",null,null,null,null,0,null,0,0,0,null,null,{"$f":"M121*N119","v":0}]
["1.4.","водоотведение","Квартиры с  общими душами на этаже",null,null,null,null,0,null,0,0,0,null,null,{"$f":"M122*N119","v":0}]
["1.5.","водоотведение","Квартиры  с ваннами и местным  ГВС (индивид эл.бойлера)",null,null,null,null,0,null,0,0,0,null,null,{"$f":"M123*N119","v":0}]
["1.6.","водоотведение","Квартиры  с ваннами и местным  ГВС (общий т/обменник от отопления 252 дня)",null,null,null,null,0,null,0,0,0,null,null,{"$f":"M124*N119","v":0}]
["1.7.","водоотведение","Квартиры с ваннами длиной от 1500 до 1700 мм, оборудованными душами",null,null,null,null,0,null,0,0,0,null,null,{"$f":"M125*N119","v":0}]
["1.8.","водоотведение","Квартиры  с ваннами и местным  ГВС (индивид эл.бойлера)",null,null,null,null,0,null,0,0,0,null,null,{"$f":"M126*N119","v":0}]
["1.9.","водоотведение","Квартиры с ваннами длиной от 1500 до 1700 мм, оборудованными душами",null,null,null,null,0,null,0,0,0,null,null,{"$f":"M127*N119","v":0}]
["1.10.","водоотведение","Квартиры с ваннами длиной от 1500 до 1700 мм, оборудованными душами",null,null,null,null,0,null,0,0,0,null,null,{"$f":"M128*N119","v":0}]
["1.11.","водоотведение","Квартиры с ваннами сидячими, оборудованными душами",null,null,null,null,0,null,0,0,0,null,null,{"$f":"M129*N119","v":0}]
["1.12.","водоотведение","Квартиры с общими душами на этаже",null,null,null,null,0,null,0,0,0,null,null,{"$f":"M130*N119","v":0}]
["1.13.","водоотведение","Квартиры с ваннами длиной от 1500 до 1700 мм, оборудованными душами",null,null,null,null,0,null,0,0,0,null,null,{"$f":"M131*N119","v":0}]
["1.14.","водоотведение","Квартиры с ваннами длиной от 1500 до 1700 мм, оборудованными душами",null,null,null,null,0,null,0,0,0,null,null,{"$f":"M132*N119","v":0}]
["1.15.","водоотведение","Квартиры с общими душами в секции",null,null,null,null,0,null,0,0,0,null,null,{"$f":"M133*N119","v":0}]
["1.16.","водоотведение","Квартиры с ваннами длиной от 1500 до 1700 мм, оборудованными душами",null,null,null,null,0,null,0,0,0,null,null,{"$f":"M134*N119","v":0}]
["1.17.","водоотведение","с водопроводом без канализации",null,null,null,null,0,null,0,0,0,null,null,{"$f":"M135*N119","v":0}]
["1.18.","водоотведение","водопровод, ванны без ГВС и кан-ции",null,null,null,null,0,null,0,0,0,null,null,{"$f":"M136*N119","v":0}]
["1.19.","водоотведение","с ваннами, оборудованными душами и с канализацией",null,null,null,null,0,null,0,0,0,null,null,{"$f":"M137*N119","v":0}]
["1.20.","водоотведение","с водопроводом без канализации",null,null,null,null,0,null,0,0,0,null,null,{"$f":"M138*N119","v":0}]
["1.21.","водоотведение","водопровод, ванны без ГВС и кан-ции",null,null,null,null,0,null,0,0,0,null,null,{"$f":"M139*N119","v":0}]
["1.22.","водоотведение","с ваннами, оборудованными душами и с канализацией",null,null,null,null,0,null,0,0,0,null,null,{"$f":"M140*N119","v":0}]
["1.23.","водоотведение","с водопроводом без канализации",null,null,null,null,0,null,0,0,0,null,null,{"$f":"M141*N119","v":0}]
["1.24.","водоотведение","водопровод, ванны без ГВС и кан-ции",null,null,null,null,0,null,0,0,0,null,null,{"$f":"M142*N119","v":0}]
["1.25.","водоотведение","с ваннами, оборудованными душами и с канализацией",null,null,null,null,0,null,0,0,0,null,null,{"$f":"M143*N119","v":0}]
["","","",null,null,null,null,0,null,0,0,0,null,null,{"$f":"M144*N119","v":0}]
[null,"перерасчеты",null,"х","х","х","х","х","контроль","х","х"]
[null,"Итого население",null,null,null,{"$f":"SUM(F119:F144)","v":0},0,{"$f":"F146+G146","v":0},{"$f":"H146-SUM('полезный отпуск'!T20:T25)","v":0},{"$f":"SUM(J119:J144)","v":0},0,{"$f":"SUM(L119:L145)","v":0},{"$f":"SUM(M119:M145)","v":0},null,{"$f":"SUM(O119:O145)","v":0}]
["2.","Итого бюджет",null,null,null,null,null,0,{"$f":"H147-SUM('полезный отпуск'!S20:S25)","v":0},{"$f":"F147*$I$45","v":0},{"$f":"G147*$I$45","v":0},{"$f":"SUM(J147:K147)","v":0},null,null,{"$f":"M147*N119","v":0}]
["3.","Итого прочие+другие водопроводы",null,null,null,null,null,0,{"$f":"H148-SUM('полезный отпуск'!N20:N25,'полезный отпуск'!U20:U25)","v":0},{"$f":"F148*$I$45","v":0},{"$f":"G148*$I$45","v":0},{"$f":"SUM(J148:K148)","v":0},null,null,{"$f":"M148*N119","v":0}]
["4.","ВСЕГО 2-е полугодие",null,null,null,{"$f":"SUM(F146:F148)","v":0},{"$f":"SUM(G146:G148)","v":0},0,{"$f":"H149-SUM('полезный отпуск'!R20:R25,'полезный отпуск'!N20:N25)","v":0},{"$f":"SUM(J146:J148)","v":0},0,{"$f":"SUM(L146:L148)","v":0},{"$f":"SUM(M146:M148)","v":0},null,{"$f":"SUM(O146:O148)","v":0}]
[]
["5.","ГОД ВСЕГО",null,null,null,{"$f":"F116+F149","v":0},0,{"$f":"F151+G151","v":0},null,{"$f":"J116+J149","v":0},0,0,0,null,{"$f":"O116+O149","v":0}]
[]
[null,"МО",{"$f":"'данные об организации'!A14","v":0},{"$f":"'данные об организации'!$F$14","v":0}]
[null,null,null,"(наименование населенного пункта)"]
["№","Вид потребителя","Степень благоустройства, наименование скота","Нормы потребления услуги водоотведения, куб.м. в месяц (на 1 чел)",null,"Фактический годовой объем реализации воды,  куб.м.",null,null,"тариф на водоотведение, руб/куб.м.","Сумма, руб",null,null,"компенсация до установленного тарифа"]
[null,null,null,null,null,"водоотведение",null,"ВСЕГО",null,"водоотведение",null,"ИТОГО"]
[null,null,null,"водоотведение",null,"норматив","прибор учета",null,null,"норматив","прибор учета",null,"объем, куб.м.","размер, руб/куб.м.","Сумма, руб"]
[null,"1-е полугодие 2016года"]
["1.","Население "]
[{"$f":"IF(A119=\"\",\"\",A119)","v":"1.1."},{"$f":"IF(B119=\"\",\"\",B119)","v":"водоотведение"},"Квартиры с ваннами длиной от 1500 до 1700 мм, оборудованными душами",null,null,null,null,{"$f":"F160+G160","v":0},{"$f":"I86","v":0},{"$f":"F160*$I$160","v":0},{"$f":"G160*$I$160","v":0},{"$f":"SUM(J160:K160)","v":0},null,{"$f":"N86","v":0},{"$f":"M160*N160","v":0}]
[{"$f":"IF(A120=\"\",\"\",A120)","v":"1.2."},"водоотведение","Квартиры  без ванн,  без ГВС и кан-ции",null,null,null,null,0,null,0,0,0,null,null,{"$f":"M161*N160","v":0}]
[{"$f":"IF(A121=\"\",\"\",A121)","v":"1.3."},"водоотведение","Квартиры с ваннами длиной от 1500 до 1700 мм, оборудованными душами",null,null,null,null,0,null,0,0,0,null,null,{"$f":"M162*N160","v":0}]
[{"$f":"IF(A122=\"\",\"\",A122)","v":"1.4."},"водоотведение","Квартиры с  общими душами на этаже",null,null,null,null,0,null,0,0,0,null,null,{"$f":"M163*N160","v":0}]
[{"$f":"IF(A123=\"\",\"\",A123)","v":"1.5."},"водоотведение","Квартиры  с ваннами и местным  ГВС (индивид эл.бойлера)",null,null,null,null,0,null,0,0,0,null,null,{"$f":"M164*N160","v":0}]
[{"$f":"IF(A124=\"\",\"\",A124)","v":"1.6."},"водоотведение","Квартиры  с ваннами и местным  ГВС (общий т/обменник от отопления 252 дня)",null,null,null,null,0,null,0,0,0,null,null,{"$f":"M165*N160","v":0}]
[{"$f":"IF(A125=\"\",\"\",A125)","v":"1.7."},"водоотведение","Квартиры с ваннами длиной от 1500 до 1700 мм, оборудованными душами",null,null,null,null,0,null,0,0,0,null,null,{"$f":"M166*N160","v":0}]
[{"$f":"IF(A126=\"\",\"\",A126)","v":"1.8."},"водоотведение","Квартиры  с ваннами и местным  ГВС (индивид эл.бойлера)",null,null,null,null,0,null,0,0,0,null,null,{"$f":"M167*N160","v":0}]
[{"$f":"IF(A127=\"\",\"\",A127)","v":"1.9."},"водоотведение","Квартиры с ваннами длиной от 1500 до 1700 мм, оборудованными душами",null,null,null,null,0,null,0,0,0,null,null,{"$f":"M168*N160","v":0}]
[{"$f":"IF(A128=\"\",\"\",A128)","v":"1.10."},"водоотведение","Квартиры с ваннами длиной от 1500 до 1700 мм, оборудованными душами",null,null,null,null,0,null,0,0,0,null,null,{"$f":"M169*N160","v":0}]
[{"$f":"IF(A129=\"\",\"\",A129)","v":"1.11."},"водоотведение","Квартиры с ваннами сидячими, оборудованными душами",null,null,null,null,0,null,0,0,0,null,null,{"$f":"M170*N160","v":0}]
[{"$f":"IF(A130=\"\",\"\",A130)","v":"1.12."},"водоотведение","Квартиры с общими душами на этаже",null,null,null,null,0,null,0,0,0,null,null,{"$f":"M171*N160","v":0}]
[{"$f":"IF(A131=\"\",\"\",A131)","v":"1.13."},"водоотведение","Квартиры с ваннами длиной от 1500 до 1700 мм, оборудованными душами",null,null,null,null,0,null,0,0,0,null,null,{"$f":"M172*N160","v":0}]
[{"$f":"IF(A132=\"\",\"\",A132)","v":"1.14."},"водоотведение","Квартиры с ваннами длиной от 1500 до 1700 мм, оборудованными душами",null,null,null,null,0,null,0,0,0,null,null,{"$f":"M173*N160","v":0}]
[{"$f":"IF(A133=\"\",\"\",A133)","v":"1.15."},"водоотведение","Квартиры с общими душами в секции",null,null,null,null,0,null,0,0,0,null,null,{"$f":"M174*N160","v":0}]
[{"$f":"IF(A134=\"\",\"\",A134)","v":"1.16."},"водоотведение","Квартиры с ваннами длиной от 1500 до 1700 мм, оборудованными душами",null,null,null,null,0,null,0,0,0,null,null,{"$f":"M175*N160","v":0}]
[{"$f":"IF(A135=\"\",\"\",A135)","v":"1.17."},"водоотведение","с водопроводом без канализации",null,null,null,null,0,null,0,0,0,null,null,{"$f":"M176*N160","v":0}]
[{"$f":"IF(A136=\"\",\"\",A136)","v":"1.18."},"водоотведение","водопровод, ванны без ГВС и кан-ции",null,null,null,null,0,null,0,0,0,null,null,{"$f":"M177*N160","v":0}]
[{"$f":"IF(A137=\"\",\"\",A137)","v":"1.19."},"водоотведение","с ваннами, оборудованными душами и с канализацией",null,null,null,null,0,null,0,0,0,null,null,{"$f":"M178*N160","v":0}]
[{"$f":"IF(A138=\"\",\"\",A138)","v":"1.20."},"водоотведение","с водопроводом без канализации",null,null,null,null,0,null,0,0,0,null,null,{"$f":"M179*N160","v":0}]
[{"$f":"IF(A139=\"\",\"\",A139)","v":"1.21."},"водоотведение","водопровод, ванны без ГВС и кан-ции",null,null,null,null,0,null,0,0,0,null,null,{"$f":"M180*N160","v":0}]
[{"$f":"IF(A140=\"\",\"\",A140)","v":"1.22."},"водоотведение","с ваннами, оборудованными душами и с канализацией",null,null,null,null,0,null,0,0,0,null,null,{"$f":"M181*N160","v":0}]
[{"$f":"IF(A141=\"\",\"\",A141)","v":"1.23."},"водоотведение","с водопроводом без канализации",null,null,null,null,0,null,0,0,0,null,null,{"$f":"M182*N160","v":0}]
[{"$f":"IF(A142=\"\",\"\",A142)","v":"1.24."},"водоотведение","водопровод, ванны без ГВС и кан-ции",null,null,null,null,0,null,0,0,0,null,null,{"$f":"M183*N160","v":0}]
[{"$f":"IF(A143=\"\",\"\",A143)","v":"1.25."},"водоотведение","с ваннами, оборудованными душами и с канализацией",null,null,null,null,0,null,0,0,0,null,null,{"$f":"M184*N160","v":0}]
[{"$f":"IF(A144=\"\",\"\",A144)","v":""},"","",null,null,null,null,0,null,0,0,0,null,null,{"$f":"M185*N160","v":0}]
[null,"перерасчеты",null,"х","х","х","х","х","контроль","х","х"]
[null,"Итого население",null,null,null,{"$f":"SUM(F160:F185)","v":0},0,{"$f":"F187+G187","v":0},{"$f":"H187-SUM('полезный отпуск'!AG14:AG19)","v":0},{"$f":"SUM(J160:J185)","v":0},{"$f":"SUM(K160:K185)","v":0},{"$f":"SUM(L160:L186)","v":0},{"$f":"SUM(M160:M186)","v":0},null,{"$f":"SUM(O160:O186)","v":0}]
["2.","Итого бюджет",null,null,null,null,null,0,{"$f":"H188-SUM('полезный отпуск'!AF14:AF19)","v":0},{"$f":"F188*$I$160","v":0},{"$f":"G188*$I$160","v":0},{"$f":"SUM(J188:K188)","v":0},null,null,{"$f":"M188*N160","v":0}]
["3.","Итого прочие+другие водопроводы",null,null,null,null,null,0,{"$f":"H189-SUM('полезный отпуск'!AA14:AA19,'полезный отпуск'!AH14:AH19)","v":0},{"$f":"F189*$I$160","v":0},{"$f":"G189*$I$160","v":0},{"$f":"SUM(J189:K189)","v":0},null,null,{"$f":"M189*N160","v":0}]
["4.","ВСЕГО 1-е полугодие",null,null,null,{"$f":"SUM(F187:F189)","v":0},{"$f":"SUM(G187:G189)","v":0},0,{"$f":"H190-SUM('полезный отпуск'!AE14:AE19,'полезный отпуск'!AA14:AA19)","v":0},{"$f":"SUM(J187:J189)","v":0},0,0,{"$f":"SUM(M187:M189)","v":0},null,{"$f":"SUM(O187:O189)","v":0}]
[null,"2-е полугодие 2016 года"]
["1.","Население "]
[{"$f":"IF(A160=\"\",\"\",A160)","v":"1.1."},{"$f":"IF(B160=\"\",\"\",B160)","v":"водоотведение"},"Квартиры с ваннами длиной от 1500 до 1700 мм, оборудованными душами",null,null,null,null,{"$f":"F193+G193","v":0},{"$f":"I119","v":0},{"$f":"F193*$I$193","v":0},{"$f":"G193*$I$193","v":0},{"$f":"SUM(J193:K193)","v":0},null,{"$f":"N119","v":0},{"$f":"M193*N193","v":0}]
[{"$f":"IF(A161=\"\",\"\",A161)","v":"1.2."},"водоотведение","Квартиры  без ванн,  без ГВС и кан-ции",null,null,null,null,0,null,0,0,0,null,null,{"$f":"M194*N193","v":0}]
[{"$f":"IF(A162=\"\",\"\",A162)","v":"1.3."},"водоотведение","Квартиры с ваннами длиной от 1500 до 1700 мм, оборудованными душами",null,null,null,null,0,null,0,0,0,null,null,{"$f":"M195*N193","v":0}]
[{"$f":"IF(A163=\"\",\"\",A163)","v":"1.4."},"водоотведение","Квартиры с  общими душами на этаже",null,null,null,null,0,null,0,0,0,null,null,{"$f":"M196*N193","v":0}]
[{"$f":"IF(A164=\"\",\"\",A164)","v":"1.5."},"водоотведение","Квартиры  с ваннами и местным  ГВС (индивид эл.бойлера)",null,null,null,null,0,null,0,0,0,null,null,{"$f":"M197*N193","v":0}]
[{"$f":"IF(A165=\"\",\"\",A165)","v":"1.6."},"водоотведение","Квартиры  с ваннами и местным  ГВС (общий т/обменник от отопления 252 дня)",null,null,null,null,0,null,0,0,0,null,null,{"$f":"M198*N193","v":0}]
[{"$f":"IF(A166=\"\",\"\",A166)","v":"1.7."},"водоотведение","Квартиры с ваннами длиной от 1500 до 1700 мм, оборудованными душами",null,null,null,null,0,null,0,0,0,null,null,{"$f":"M199*N193","v":0}]
[{"$f":"IF(A167=\"\",\"\",A167)","v":"1.8."},"водоотведение","Квартиры  с ваннами и местным  ГВС (индивид эл.бойлера)",null,null,null,null,0,null,0,0,0,null,null,{"$f":"M200*N193","v":0}]
[{"$f":"IF(A168=\"\",\"\",A168)","v":"1.9."},"водоотведение","Квартиры с ваннами длиной от 1500 до 1700 мм, оборудованными душами",null,null,null,null,0,null,0,0,0,null,null,{"$f":"M201*N193","v":0}]
[{"$f":"IF(A169=\"\",\"\",A169)","v":"1.10."},"водоотведение","Квартиры с ваннами длиной от 1500 до 1700 мм, оборудованными душами",null,null,null,null,0,null,0,0,0,null,null,{"$f":"M202*N193","v":0}]
[{"$f":"IF(A170=\"\",\"\",A170)","v":"1.11."},"водоотведение","Квартиры с ваннами сидячими, оборудованными душами",null,null,null,null,0,null,0,0,0,null,null,{"$f":"M203*N193","v":0}]
[{"$f":"IF(A171=\"\",\"\",A171)","v":"1.12."},"водоотведение","Квартиры с общими душами на этаже",null,null,null,null,0,null,0,0,0,null,null,{"$f":"M204*N193","v":0}]
[{"$f":"IF(A172=\"\",\"\",A172)","v":"1.13."},"водоотведение","Квартиры с ваннами длиной от 1500 до 1700 мм, оборудованными душами",null,null,null,null,0,null,0,0,0,null,null,{"$f":"M205*N193","v":0}]
[{"$f":"IF(A173=\"\",\"\",A173)","v":"1.14."},"водоотведение","Квартиры с ваннами длиной от 1500 до 1700 мм, оборудованными душами",null,null,null,null,0,null,0,0,0,null,null,{"$f":"M206*N193","v":0}]
[{"$f":"IF(A174=\"\",\"\",A174)","v":"1.15."},"водоотведение","Квартиры с общими душами в секции",null,null,null,null,0,null,0,0,0,null,null,{"$f":"M207*N193","v":0}]
[{"$f":"IF(A175=\"\",\"\",A175)","v":"1.16."},"водоотведение","Квартиры с ваннами длиной от 1500 до 1700 мм, оборудованными душами",null,null,null,null,0,null,0,0,0,null,null,{"$f":"M208*N193","v":0}]
[{"$f":"IF(A176=\"\",\"\",A176)","v":"1.17."},"водоотведение","с водопроводом без канализации",null,null,null,null,0,null,0,0,0,null,null,{"$f":"M209*N193","v":0}]
[{"$f":"IF(A177=\"\",\"\",A177)","v":"1.18."},"водоотведение","водопровод, ванны без ГВС и кан-ции",null,null,null,null,0,null,0,0,0,null,null,{"$f":"M210*N193","v":0}]
[{"$f":"IF(A178=\"\",\"\",A178)","v":"1.19."},"водоотведение","с ваннами, оборудованными душами и с канализацией",null,null,null,null,0,null,0,0,0,null,null,{"$f":"M211*N193","v":0}]
[{"$f":"IF(A179=\"\",\"\",A179)","v":"1.20."},"водоотведение","с водопроводом без канализации",null,null,null,null,0,null,0,0,0,null,null,{"$f":"M212*N193","v":0}]
[{"$f":"IF(A180=\"\",\"\",A180)","v":"1.21."},"водоотведение","водопровод, ванны без ГВС и кан-ции",null,null,null,null,0,null,0,0,0,null,null,{"$f":"M213*N193","v":0}]
[{"$f":"IF(A181=\"\",\"\",A181)","v":"1.22."},"водоотведение","с ваннами, оборудованными душами и с канализацией",null,null,null,null,0,null,0,0,0,null,null,{"$f":"M214*N193","v":0}]
[{"$f":"IF(A182=\"\",\"\",A182)","v":"1.23."},"водоотведение","с водопроводом без канализации",null,null,null,null,0,null,0,0,0,null,null,{"$f":"M215*N193","v":0}]
[{"$f":"IF(A183=\"\",\"\",A183)","v":"1.24."},"водоотведение","водопровод, ванны без ГВС и кан-ции",null,null,null,null,0,null,0,0,0,null,null,{"$f":"M216*N193","v":0}]
[{"$f":"IF(A184=\"\",\"\",A184)","v":"1.25."},"водоотведение","с ваннами, оборудованными душами и с канализацией",null,null,null,null,0,null,0,0,0,null,null,{"$f":"M217*N193","v":0}]
[{"$f":"IF(A185=\"\",\"\",A185)","v":""},"","",null,null,null,null,0,null,0,0,0,null,null,{"$f":"M218*N193","v":0}]
[null,"перерасчеты",null,"х","х","х","х","х","контроль","х","х"]
[null,"Итого население",null,null,null,{"$f":"SUM(F193:F218)","v":0},0,{"$f":"F220+G220","v":0},{"$f":"H220-SUM('полезный отпуск'!AG20:AG25)","v":0},{"$f":"SUM(J193:J218)","v":0},0,{"$f":"SUM(L193:L219)","v":0},{"$f":"SUM(M193:M219)","v":0},null,{"$f":"SUM(O193:O219)","v":0}]
["2.","Итого бюджет",null,null,null,null,null,0,{"$f":"H221-SUM('полезный отпуск'!AF20:AF25)","v":0},{"$f":"F221*$I$193","v":0},{"$f":"G221*$I$193","v":0},{"$f":"SUM(J221:K221)","v":0},null,null,{"$f":"M221*N193","v":0}]
["3.","Итого прочие+другие водопроводы",null,null,null,null,null,0,{"$f":"H222-SUM('полезный отпуск'!AA20:AA25,'полезный отпуск'!AH20:AH25)","v":0},{"$f":"F222*$I$193","v":0},{"$f":"G222*$I$193","v":0},{"$f":"SUM(J222:K222)","v":0},null,null,{"$f":"M222*N193","v":0}]
["4.","ВСЕГО 2-е полугодие",null,null,null,{"$f":"SUM(F220:F222)","v":0},{"$f":"SUM(G220:G222)","v":0},0,{"$f":"H223-SUM('полезный отпуск'!AE20:AE25,'полезный отпуск'!AA20:AA25)","v":0},{"$f":"SUM(J220:J222)","v":0},0,0,{"$f":"SUM(M220:M222)","v":0},null,{"$f":"SUM(O220:O222)","v":0}]
[]
["5.","ГОД ВСЕГО",null,null,null,{"$f":"F190+F223","v":0},{"$f":"G190+G223","v":0},{"$f":"F225+G225","v":0},null,{"$f":"J190+J223","v":0},0,0,{"$f":"M190+M223","v":0},null,{"$f":"O190+O223","v":0}]
[]
[null,"МО",{"$f":"'данные об организации'!A15","v":0},{"$f":"'данные об организации'!$F$15","v":0}]
[null,null,null,"(наименование населенного пункта)"]
["№","Вид потребителя","Степень благоустройства, наименование скота","Нормы потребления услуги водоотведения, куб.м. в месяц (на 1 чел)",null,"Фактический годовой объем реализации воды,  куб.м.",null,null,"тариф на водоотведение, руб/куб.м.","Сумма, руб",null,null,"компенсация до установленного тарифа"]
[null,null,null,null,null,"водоотведение",null,"ВСЕГО",null,"водоотведение",null,"ИТОГО"]
[null,null,null,"водоотведение",null,"норматив","прибор учета",null,null,"норматив","прибор учета",null,"объем, куб.м.","размер, руб/куб.м.","Сумма, руб"]
[null,"1-е полугодие 2016 года"]
["1.","Население "]
[{"$f":"IF(A193=\"\",\"\",A193)","v":"1.1."},{"$f":"IF(B193=\"\",\"\",B193)","v":"водоотведение"},"Квартиры с ваннами длиной от 1500 до 1700 мм, оборудованными душами",null,null,null,null,{"$f":"F234+G234","v":0},{"$f":"I160","v":0},{"$f":"F234*$I$234","v":0},{"$f":"G234*$I$234","v":0},{"$f":"SUM(J234:K234)","v":0},null,{"$f":"N160","v":0},{"$f":"M234*N234","v":0}]
[{"$f":"IF(A194=\"\",\"\",A194)","v":"1.2."},"водоотведение","Квартиры  без ванн,  без ГВС и кан-ции",null,null,null,null,0,null,0,0,0,null,null,{"$f":"M235*N234","v":0}]
[{"$f":"IF(A195=\"\",\"\",A195)","v":"1.3."},"водоотведение","Квартиры с ваннами длиной от 1500 до 1700 мм, оборудованными душами",null,null,null,null,0,null,0,0,0,null,null,{"$f":"M236*N234","v":0}]
[{"$f":"IF(A196=\"\",\"\",A196)","v":"1.4."},"водоотведение","Квартиры с  общими душами на этаже",null,null,null,null,0,null,0,0,0,null,null,{"$f":"M237*N234","v":0}]
[{"$f":"IF(A197=\"\",\"\",A197)","v":"1.5."},"водоотведение","Квартиры  с ваннами и местным  ГВС (индивид эл.бойлера)",null,null,null,null,0,null,0,0,0,null,null,{"$f":"M238*N234","v":0}]
[{"$f":"IF(A198=\"\",\"\",A198)","v":"1.6."},"водоотведение","Квартиры  с ваннами и местным  ГВС (общий т/обменник от отопления 252 дня)",null,null,null,null,0,null,0,0,0,null,null,{"$f":"M239*N234","v":0}]
[{"$f":"IF(A199=\"\",\"\",A199)","v":"1.7."},"водоотведение","Квартиры с ваннами длиной от 1500 до 1700 мм, оборудованными душами",null,null,null,null,0,null,0,0,0,null,null,{"$f":"M240*N234","v":0}]
[{"$f":"IF(A200=\"\",\"\",A200)","v":"1.8."},"водоотведение","Квартиры  с ваннами и местным  ГВС (индивид эл.бойлера)",null,null,null,null,0,null,0,0,0,null,null,{"$f":"M241*N234","v":0}]
[{"$f":"IF(A201=\"\",\"\",A201)","v":"1.9."},"водоотведение","Квартиры с ваннами длиной от 1500 до 1700 мм, оборудованными душами",null,null,null,null,0,null,0,0,0,null,null,{"$f":"M242*N234","v":0}]
[{"$f":"IF(A202=\"\",\"\",A202)","v":"1.10."},"водоотведение","Квартиры с ваннами длиной от 1500 до 1700 мм, оборудованными душами",null,null,null,null,0,null,0,0,0,null,null,{"$f":"M243*N234","v":0}]
[{"$f":"IF(A203=\"\",\"\",A203)","v":"1.11."},"водоотведение","Квартиры с ваннами сидячими, оборудованными душами",null,null,null,null,0,null,0,0,0,null,null,{"$f":"M244*N234","v":0}]
[{"$f":"IF(A204=\"\",\"\",A204)","v":"1.12."},"водоотведение","Квартиры с общими душами на этаже",null,null,null,null,0,null,0,0,0,null,null,{"$f":"M245*N234","v":0}]
[{"$f":"IF(A205=\"\",\"\",A205)","v":"1.13."},"водоотведение","Квартиры с ваннами длиной от 1500 до 1700 мм, оборудованными душами",null,null,null,null,0,null,0,0,0,null,null,{"$f":"M246*N234","v":0}]
[{"$f":"IF(A206=\"\",\"\",A206)","v":"1.14."},"водоотведение","Квартиры с ваннами длиной от 1500 до 1700 мм, оборудованными душами",null,null,null,null,0,null,0,0,0,null,null,{"$f":"M247*N234","v":0}]
[{"$f":"IF(A207=\"\",\"\",A207)","v":"1.15."},"водоотведение","Квартиры с общими душами в секции",null,null,null,null,0,null,0,0,0,null,null,{"$f":"M248*N234","v":0}]
[{"$f":"IF(A208=\"\",\"\",A208)","v":"1.16."},"водоотведение","Квартиры с ваннами длиной от 1500 до 1700 мм, оборудованными душами",null,null,null,null,0,null,0,0,0,null,null,{"$f":"M249*N234","v":0}]
[{"$f":"IF(A209=\"\",\"\",A209)","v":"1.17."},"водоотведение","с водопроводом без канализации",null,null,null,null,0,null,0,0,0,null,null,{"$f":"M250*N234","v":0}]
[{"$f":"IF(A210=\"\",\"\",A210)","v":"1.18."},"водоотведение","водопровод, ванны без ГВС и кан-ции",null,null,null,null,0,null,0,0,0,null,null,{"$f":"M251*N234","v":0}]
[{"$f":"IF(A211=\"\",\"\",A211)","v":"1.19."},"водоотведение","с ваннами, оборудованными душами и с канализацией",null,null,null,null,0,null,0,0,0,null,null,{"$f":"M252*N234","v":0}]
[{"$f":"IF(A212=\"\",\"\",A212)","v":"1.20."},"водоотведение","с водопроводом без канализации",null,null,null,null,0,null,0,0,0,null,null,{"$f":"M253*N234","v":0}]
[{"$f":"IF(A213=\"\",\"\",A213)","v":"1.21."},"водоотведение","водопровод, ванны без ГВС и кан-ции",null,null,null,null,0,null,0,0,0,null,null,{"$f":"M254*N234","v":0}]
[{"$f":"IF(A214=\"\",\"\",A214)","v":"1.22."},"водоотведение","с ваннами, оборудованными душами и с канализацией",null,null,null,null,0,null,0,0,0,null,null,{"$f":"M255*N234","v":0}]
[{"$f":"IF(A215=\"\",\"\",A215)","v":"1.23."},"водоотведение","с водопроводом без канализации",null,null,null,null,0,null,0,0,0,null,null,{"$f":"M256*N234","v":0}]
[{"$f":"IF(A216=\"\",\"\",A216)","v":"1.24."},"водоотведение","водопровод, ванны без ГВС и кан-ции",null,null,null,null,0,null,0,0,0,null,null,{"$f":"M257*N234","v":0}]
[{"$f":"IF(A217=\"\",\"\",A217)","v":"1.25."},"водоотведение","с ваннами, оборудованными душами и с канализацией",null,null,null,null,0,null,0,0,0,null,null,{"$f":"M258*N234","v":0}]
[{"$f":"IF(A218=\"\",\"\",A218)","v":""},"","",null,null,null,null,0,null,0,0,0,null,null,{"$f":"M259*N234","v":0}]
[null,"перерасчеты",null,"х","х","х","х","х","контроль","х","х"]
[null,"Итого население",null,null,null,{"$f":"SUM(F234:F259)","v":0},0,{"$f":"F261+G261","v":0},{"$f":"H261-SUM('полезный отпуск'!AT14:AT19)","v":0},{"$f":"SUM(J234:J259)","v":0},0,{"$f":"SUM(L234:L260)","v":0},{"$f":"SUM(M234:M260)","v":0},null,{"$f":"SUM(O234:O260)","v":0}]
["2.","Итого бюджет",null,null,null,null,null,0,{"$f":"H262-SUM('полезный отпуск'!AS14:AS19)","v":0},{"$f":"F262*$I$234","v":0},{"$f":"G262*$I$234","v":0},{"$f":"SUM(J262:K262)","v":0},null,null,{"$f":"M262*N234","v":0}]
["3.","Итого прочие+другие водопроводы",null,null,null,null,null,0,{"$f":"H263-SUM('полезный отпуск'!AN14:AN19,'полезный отпуск'!AU14:AU19)","v":0},{"$f":"F263*$I$234","v":0},{"$f":"G263*$I$234","v":0},{"$f":"SUM(J263:K263)","v":0},null,null,{"$f":"M263*N234","v":0}]
["4.","ВСЕГО 1-е полугодие",null,null,null,{"$f":"SUM(F261:F263)","v":0},{"$f":"SUM(G261:G263)","v":0},0,{"$f":"H264-SUM('полезный отпуск'!AN14:AN19,'полезный отпуск'!AR14:AR19)","v":0},{"$f":"SUM(J261:J263)","v":0},0,0,{"$f":"SUM(M261:M263)","v":0},null,{"$f":"SUM(O261:O263)","v":0}]
[null,"2-е полугодие 2016 года"]
["1.","Население "]
[{"$f":"IF(A234=\"\",\"\",A234)","v":"1.1."},{"$f":"IF(B234=\"\",\"\",B234)","v":"водоотведение"},"Квартиры с ваннами длиной от 1500 до 1700 мм, оборудованными душами",null,null,null,null,{"$f":"F267+G267","v":0},{"$f":"I193","v":0},{"$f":"F267*$I$267","v":0},{"$f":"G267*$I$267","v":0},{"$f":"SUM(J267:K267)","v":0},null,{"$f":"N193","v":0},{"$f":"M267*N267","v":0}]
[{"$f":"IF(A235=\"\",\"\",A235)","v":"1.2."},"водоотведение","Квартиры  без ванн,  без ГВС и кан-ции",null,null,null,null,0,null,0,0,0,null,null,{"$f":"M268*N267","v":0}]
[{"$f":"IF(A236=\"\",\"\",A236)","v":"1.3."},"водоотведение","Квартиры с ваннами длиной от 1500 до 1700 мм, оборудованными душами",null,null,null,null,0,null,0,0,0,null,null,{"$f":"M269*N267","v":0}]
[{"$f":"IF(A237=\"\",\"\",A237)","v":"1.4."},"водоотведение","Квартиры с  общими душами на этаже",null,null,null,null,0,null,0,0,0,null,null,{"$f":"M270*N267","v":0}]
[{"$f":"IF(A238=\"\",\"\",A238)","v":"1.5."},"водоотведение","Квартиры  с ваннами и местным  ГВС (индивид эл.бойлера)",null,null,null,null,0,null,0,0,0,null,null,{"$f":"M271*N267","v":0}]
[{"$f":"IF(A239=\"\",\"\",A239)","v":"1.6."},"водоотведение","Квартиры  с ваннами и местным  ГВС (общий т/обменник от отопления 252 дня)",null,null,null,null,0,null,0,0,0,null,null,{"$f":"M272*N267","v":0}]
[{"$f":"IF(A240=\"\",\"\",A240)","v":"1.7."},"водоотведение","Квартиры с ваннами длиной от 1500 до 1700 мм, оборудованными душами",null,null,null,null,0,null,0,0,0,null,null,{"$f":"M273*N267","v":0}]
[{"$f":"IF(A241=\"\",\"\",A241)","v":"1.8."},"водоотведение","Квартиры  с ваннами и местным  ГВС (индивид эл.бойлера)",null,null,null,null,0,null,0,0,0,null,null,{"$f":"M274*N267","v":0}]
[{"$f":"IF(A242=\"\",\"\",A242)","v":"1.9."},"водоотведение","Квартиры с ваннами длиной от 1500 до 1700 мм, оборудованными душами",null,null,null,null,0,null,0,0,0,null,null,{"$f":"M275*N267","v":0}]
[{"$f":"IF(A243=\"\",\"\",A243)","v":"1.10."},"водоотведение","Квартиры с ваннами длиной от 1500 до 1700 мм, оборудованными душами",null,null,null,null,0,null,0,0,0,null,null,{"$f":"M276*N267","v":0}]
[{"$f":"IF(A244=\"\",\"\",A244)","v":"1.11."},"водоотведение","Квартиры с ваннами сидячими, оборудованными душами",null,null,null,null,0,null,0,0,0,null,null,{"$f":"M277*N267","v":0}]
[{"$f":"IF(A245=\"\",\"\",A245)","v":"1.12."},"водоотведение","Квартиры с общими душами на этаже",null,null,null,null,0,null,0,0,0,null,null,{"$f":"M278*N267","v":0}]
[{"$f":"IF(A246=\"\",\"\",A246)","v":"1.13."},"водоотведение","Квартиры с ваннами длиной от 1500 до 1700 мм, оборудованными душами",null,null,null,null,0,null,0,0,0,null,null,{"$f":"M279*N267","v":0}]
[{"$f":"IF(A247=\"\",\"\",A247)","v":"1.14."},"водоотведение","Квартиры с ваннами длиной от 1500 до 1700 мм, оборудованными душами",null,null,null,null,0,null,0,0,0,null,null,{"$f":"M280*N267","v":0}]
[{"$f":"IF(A248=\"\",\"\",A248)","v":"1.15."},"водоотведение","Квартиры с общими душами в секции",null,null,null,null,0,null,0,0,0,null,null,{"$f":"M281*N267","v":0}]
[{"$f":"IF(A249=\"\",\"\",A249)","v":"1.16."},"водоотведение","Квартиры с ваннами длиной от 1500 до 1700 мм, оборудованными душами",null,null,null,null,0,null,0,0,0,null,null,{"$f":"M282*N267","v":0}]
[{"$f":"IF(A250=\"\",\"\",A250)","v":"1.17."},"водоотведение","с водопроводом без канализации",null,null,null,null,0,null,0,0,0,null,null,{"$f":"M283*N267","v":0}]
[{"$f":"IF(A251=\"\",\"\",A251)","v":"1.18."},"водоотведение","водопровод, ванны без ГВС и кан-ции",null,null,null,null,0,null,0,0,0,null,null,{"$f":"M284*N267","v":0}]
[{"$f":"IF(A252=\"\",\"\",A252)","v":"1.19."},"водоотведение","с ваннами, оборудованными душами и с канализацией",null,null,null,null,0,null,0,0,0,null,null,{"$f":"M285*N267","v":0}]
[{"$f":"IF(A253=\"\",\"\",A253)","v":"1.20."},"водоотведение","с водопроводом без канализации",null,null,null,null,0,null,0,0,0,null,null,{"$f":"M286*N267","v":0}]
[{"$f":"IF(A254=\"\",\"\",A254)","v":"1.21."},"водоотведение","водопровод, ванны без ГВС и кан-ции",null,null,null,null,0,null,0,0,0,null,null,{"$f":"M287*N267","v":0}]
[{"$f":"IF(A255=\"\",\"\",A255)","v":"1.22."},"водоотведение","с ваннами, оборудованными душами и с канализацией",null,null,null,null,0,null,0,0,0,null,null,{"$f":"M288*N267","v":0}]
[{"$f":"IF(A256=\"\",\"\",A256)","v":"1.23."},"водоотведение","с водопроводом без канализации",null,null,null,null,0,null,0,0,0,null,null,{"$f":"M289*N267","v":0}]
[{"$f":"IF(A257=\"\",\"\",A257)","v":"1.24."},"водоотведение","водопровод, ванны без ГВС и кан-ции",null,null,null,null,0,null,0,0,0,null,null,{"$f":"M290*N267","v":0}]
[{"$f":"IF(A258=\"\",\"\",A258)","v":"1.25."},"водоотведение","с ваннами, оборудованными душами и с канализацией",null,null,null,null,0,null,0,0,0,null,null,{"$f":"M291*N267","v":0}]
[{"$f":"IF(A259=\"\",\"\",A259)","v":""},"","",null,null,null,null,0,null,0,0,0,null,null,{"$f":"M292*N267","v":0}]
[null,"перерасчеты",null,"х","х","х","х","х","контроль","х","х"]
[null,"Итого население",null,null,null,{"$f":"SUM(F267:F292)","v":0},0,{"$f":"F294+G294","v":0},{"$f":"H294-SUM('полезный отпуск'!AT20:AT25)","v":0},{"$f":"SUM(J267:J292)","v":0},0,{"$f":"SUM(L267:L293)","v":0},{"$f":"SUM(M267:M293)","v":0},null,{"$f":"SUM(O267:O293)","v":0}]
["2.","Итого бюджет",null,null,null,null,null,0,{"$f":"H295-SUM('полезный отпуск'!AS20:AS25)","v":0},{"$f":"F295*$I$267","v":0},{"$f":"G295*$I$267","v":0},{"$f":"SUM(J295:K295)","v":0},null,null,{"$f":"M295*N267","v":0}]
["3.","Итого прочие+другие водопроводы",null,null,null,null,null,0,{"$f":"H296-SUM('полезный отпуск'!AN20:AN25,'полезный отпуск'!AU20:AU25)","v":0},{"$f":"F296*$I$267","v":0},{"$f":"G296*$I$267","v":0},{"$f":"SUM(J296:K296)","v":0},null,null,{"$f":"M296*N267","v":0}]
["4.","ВСЕГО 2-е полугодие",null,null,null,{"$f":"SUM(F294:F296)","v":0},{"$f":"SUM(G294:G296)","v":0},0,{"$f":"H297-SUM('полезный отпуск'!AN20:AN25,'полезный отпуск'!AR20:AR25)","v":0},{"$f":"SUM(J294:J296)","v":0},0,0,{"$f":"SUM(M294:M296)","v":0},null,{"$f":"SUM(O294:O296)","v":0}]
[]
["5.","ГОД ВСЕГО",null,null,null,{"$f":"F264+F297","v":0},{"$f":"G264+G297","v":0},{"$f":"F299+G299","v":0},null,{"$f":"J264+J297","v":0},0,0,{"$f":"M264+M297","v":0},null,{"$f":"O264+O297","v":0}]
[]
[null,"МО",{"$f":"'данные об организации'!A16","v":0},{"$f":"'данные об организации'!$F$16","v":0}]
[null,null,null,"(наименование населенного пункта)"]
["№","Вид потребителя","Степень благоустройства, наименование скота","Нормы потребления услуги водоотведения, куб.м. в месяц (на 1 чел)",null,"Фактический годовой объем реализации воды,  куб.м.",null,null,"тариф на водоотведение, руб/куб.м.","Сумма, руб",null,null,"компенсация до установленного тарифа"]
[null,null,null,null,null,"водоотведение",null,"ВСЕГО",null,"водоотведение",null,"ИТОГО"]
[null,null,null,"водоотведение",null,"норматив","прибор учета",null,null,"норматив","прибор учета",null,"объем, куб.м.","размер, руб/куб.м.","Сумма, руб"]
[null,"1-е полугодие 2016 года"]
["1.","Население "]
[{"$f":"IF(A267=\"\",\"\",A267)","v":"1.1."},{"$f":"IF(B267=\"\",\"\",B267)","v":"водоотведение"},"Квартиры с ваннами длиной от 1500 до 1700 мм, оборудованными душами",null,null,null,null,{"$f":"F308+G308","v":0},{"$f":"I234","v":0},{"$f":"F308*$I$308","v":0},{"$f":"G308*$I$308","v":0},{"$f":"SUM(J308:K308)","v":0},null,{"$f":"N234","v":0},{"$f":"M308*N308","v":0}]
[{"$f":"IF(A268=\"\",\"\",A268)","v":"1.2."},"водоотведение","Квартиры  без ванн,  без ГВС и кан-ции",null,null,null,null,0,null,0,0,0,null,null,{"$f":"M309*N308","v":0}]
[{"$f":"IF(A269=\"\",\"\",A269)","v":"1.3."},"водоотведение","Квартиры с ваннами длиной от 1500 до 1700 мм, оборудованными душами",null,null,null,null,0,null,0,0,0,null,null,{"$f":"M310*N308","v":0}]
[{"$f":"IF(A270=\"\",\"\",A270)","v":"1.4."},"водоотведение","Квартиры с  общими душами на этаже",null,null,null,null,0,null,0,0,0,null,null,{"$f":"M311*N308","v":0}]
[{"$f":"IF(A271=\"\",\"\",A271)","v":"1.5."},"водоотведение","Квартиры  с ваннами и местным  ГВС (индивид эл.бойлера)",null,null,null,null,0,null,0,0,0,null,null,{"$f":"M312*N308","v":0}]
[{"$f":"IF(A272=\"\",\"\",A272)","v":"1.6."},"водоотведение","Квартиры  с ваннами и местным  ГВС (общий т/обменник от отопления 252 дня)",null,null,null,null,0,null,0,0,0,null,null,{"$f":"M313*N308","v":0}]
[{"$f":"IF(A273=\"\",\"\",A273)","v":"1.7."},"водоотведение","Квартиры с ваннами длиной от 1500 до 1700 мм, оборудованными душами",null,null,null,null,0,null,0,0,0,null,null,{"$f":"M314*N308","v":0}]
[{"$f":"IF(A274=\"\",\"\",A274)","v":"1.8."},"водоотведение","Квартиры  с ваннами и местным  ГВС (индивид эл.бойлера)",null,null,null,null,0,null,0,0,0,null,null,{"$f":"M315*N308","v":0}]
[{"$f":"IF(A275=\"\",\"\",A275)","v":"1.9."},"водоотведение","Квартиры с ваннами длиной от 1500 до 1700 мм, оборудованными душами",null,null,null,null,0,null,0,0,0,null,null,{"$f":"M316*N308","v":0}]
[{"$f":"IF(A276=\"\",\"\",A276)","v":"1.10."},"водоотведение","Квартиры с ваннами длиной от 1500 до 1700 мм, оборудованными душами",null,null,null,null,0,null,0,0,0,null,null,{"$f":"M317*N308","v":0}]
[{"$f":"IF(A277=\"\",\"\",A277)","v":"1.11."},"водоотведение","Квартиры с ваннами сидячими, оборудованными душами",null,null,null,null,0,null,0,0,0,null,null,{"$f":"M318*N308","v":0}]
[{"$f":"IF(A278=\"\",\"\",A278)","v":"1.12."},"водоотведение","Квартиры с общими душами на этаже",null,null,null,null,0,null,0,0,0,null,null,{"$f":"M319*N308","v":0}]
[{"$f":"IF(A279=\"\",\"\",A279)","v":"1.13."},"водоотведение","Квартиры с ваннами длиной от 1500 до 1700 мм, оборудованными душами",null,null,null,null,0,null,0,0,0,null,null,{"$f":"M320*N308","v":0}]
[{"$f":"IF(A280=\"\",\"\",A280)","v":"1.14."},"водоотведение","Квартиры с ваннами длиной от 1500 до 1700 мм, оборудованными душами",null,null,null,null,0,null,0,0,0,null,null,{"$f":"M321*N308","v":0}]
[{"$f":"IF(A281=\"\",\"\",A281)","v":"1.15."},"водоотведение","Квартиры с общими душами в секции",null,null,null,null,0,null,0,0,0,null,null,{"$f":"M322*N308","v":0}]
[{"$f":"IF(A282=\"\",\"\",A282)","v":"1.16."},"водоотведение","Квартиры с ваннами длиной от 1500 до 1700 мм, оборудованными душами",null,null,null,null,0,null,0,0,0,null,null,{"$f":"M323*N308","v":0}]
[{"$f":"IF(A283=\"\",\"\",A283)","v":"1.17."},"водоотведение","с водопроводом без канализации",null,null,null,null,0,null,0,0,0,null,null,{"$f":"M324*N308","v":0}]
[{"$f":"IF(A284=\"\",\"\",A284)","v":"1.18."},"водоотведение","водопровод, ванны без ГВС и кан-ции",null,null,null,null,0,null,0,0,0,null,null,{"$f":"M325*N308","v":0}]
[{"$f":"IF(A285=\"\",\"\",A285)","v":"1.19."},"водоотведение","с ваннами, оборудованными душами и с канализацией",null,null,null,null,0,null,0,0,0,null,null,{"$f":"M326*N308","v":0}]
[{"$f":"IF(A286=\"\",\"\",A286)","v":"1.20."},"водоотведение","с водопроводом без канализации",null,null,null,null,0,null,0,0,0,null,null,{"$f":"M327*N308","v":0}]
[{"$f":"IF(A287=\"\",\"\",A287)","v":"1.21."},"водоотведение","водопровод, ванны без ГВС и кан-ции",null,null,null,null,0,null,0,0,0,null,null,{"$f":"M328*N308","v":0}]
[{"$f":"IF(A288=\"\",\"\",A288)","v":"1.22."},"водоотведение","с ваннами, оборудованными душами и с канализацией",null,null,null,null,0,null,0,0,0,null,null,{"$f":"M329*N308","v":0}]
[{"$f":"IF(A289=\"\",\"\",A289)","v":"1.23."},"водоотведение","с водопроводом без канализации",null,null,null,null,0,null,0,0,0,null,null,{"$f":"M330*N308","v":0}]
[{"$f":"IF(A290=\"\",\"\",A290)","v":"1.24."},"водоотведение","водопровод, ванны без ГВС и кан-ции",null,null,null,null,0,null,0,0,0,null,null,{"$f":"M331*N308","v":0}]
[{"$f":"IF(A291=\"\",\"\",A291)","v":"1.25."},"водоотведение","с ваннами, оборудованными душами и с канализацией",null,null,null,null,0,null,0,0,0,null,null,{"$f":"M332*N308","v":0}]
[{"$f":"IF(A292=\"\",\"\",A292)","v":""},"","",null,null,null,null,0,null,0,0,0,null,null,{"$f":"M333*N308","v":0}]
[null,"перерасчеты",null,"х","х","х","х","х","контроль","х","х"]
[null,"Итого население",null,null,null,{"$f":"SUM(F308:F333)","v":0},0,{"$f":"F335+G335","v":0},{"$f":"H335-SUM('полезный отпуск'!BG14:BG19)","v":0},{"$f":"SUM(J308:J333)","v":0},0,{"$f":"SUM(L308:L334)","v":0},{"$f":"SUM(M308:M334)","v":0},null,{"$f":"SUM(O308:O334)","v":0}]
["2.","Итого бюджет",null,null,null,null,null,0,{"$f":"H336-SUM('полезный отпуск'!BF14:BF19)","v":0},{"$f":"F336*$I$308","v":0},{"$f":"G336*$I$308","v":0},{"$f":"SUM(J336:K336)","v":0},null,null,{"$f":"M336*N308","v":0}]
["3.","Итого прочие+другие водопроводы",null,null,null,null,null,0,{"$f":"H337-SUM('полезный отпуск'!BA14:BA19,'полезный отпуск'!BH14:BH19)","v":0},{"$f":"F337*$I$308","v":0},{"$f":"G337*$I$308","v":0},{"$f":"SUM(J337:K337)","v":0},null,null,{"$f":"M337*N308","v":0}]
["4.","ВСЕГО 1-е полугодие",null,null,null,{"$f":"SUM(F335:F337)","v":0},{"$f":"SUM(G335:G337)","v":0},0,{"$f":"H338-SUM('полезный отпуск'!BA14:BA19,'полезный отпуск'!BE14:BE19)","v":0},{"$f":"SUM(J335:J337)","v":0},0,0,{"$f":"SUM(M335:M337)","v":0},null,{"$f":"SUM(O335:O337)","v":0}]
[null,"2-е полугодие 2016 года"]
["1.","Население "]
[{"$f":"IF(A308=\"\",\"\",A308)","v":"1.1."},{"$f":"IF(B308=\"\",\"\",B308)","v":"водоотведение"},"Квартиры с ваннами длиной от 1500 до 1700 мм, оборудованными душами",null,null,null,null,{"$f":"F341+G341","v":0},{"$f":"I267","v":0},{"$f":"F341*$I$341","v":0},{"$f":"G341*$I$341","v":0},{"$f":"SUM(J341:K341)","v":0},null,{"$f":"N267","v":0},{"$f":"M341*N341","v":0}]
[{"$f":"IF(A309=\"\",\"\",A309)","v":"1.2."},"водоотведение","Квартиры  без ванн,  без ГВС и кан-ции",null,null,null,null,0,null,0,0,0,null,null,{"$f":"M342*N341","v":0}]
[{"$f":"IF(A310=\"\",\"\",A310)","v":"1.3."},"водоотведение","Квартиры с ваннами длиной от 1500 до 1700 мм, оборудованными душами",null,null,null,null,0,null,0,0,0,null,null,{"$f":"M343*N341","v":0}]
[{"$f":"IF(A311=\"\",\"\",A311)","v":"1.4."},"водоотведение","Квартиры с  общими душами на этаже",null,null,null,null,0,null,0,0,0,null,null,{"$f":"M344*N341","v":0}]
[{"$f":"IF(A312=\"\",\"\",A312)","v":"1.5."},"водоотведение","Квартиры  с ваннами и местным  ГВС (индивид эл.бойлера)",null,null,null,null,0,null,0,0,0,null,null,{"$f":"M345*N341","v":0}]
[{"$f":"IF(A313=\"\",\"\",A313)","v":"1.6."},"водоотведение","Квартиры  с ваннами и местным  ГВС (общий т/обменник от отопления 252 дня)",null,null,null,null,0,null,0,0,0,null,null,{"$f":"M346*N341","v":0}]
[{"$f":"IF(A314=\"\",\"\",A314)","v":"1.7."},"водоотведение","Квартиры с ваннами длиной от 1500 до 1700 мм, оборудованными душами",null,null,null,null,0,null,0,0,0,null,null,{"$f":"M347*N341","v":0}]
[{"$f":"IF(A315=\"\",\"\",A315)","v":"1.8."},"водоотведение","Квартиры  с ваннами и местным  ГВС (индивид эл.бойлера)",null,null,null,null,0,null,0,0,0,null,null,{"$f":"M348*N341","v":0}]
[{"$f":"IF(A316=\"\",\"\",A316)","v":"1.9."},"водоотведение","Квартиры с ваннами длиной от 1500 до 1700 мм, оборудованными душами",null,null,null,null,0,null,0,0,0,null,null,{"$f":"M349*N341","v":0}]
[{"$f":"IF(A317=\"\",\"\",A317)","v":"1.10."},"водоотведение","Квартиры с ваннами длиной от 1500 до 1700 мм, оборудованными душами",null,null,null,null,0,null,0,0,0,null,null,{"$f":"M350*N341","v":0}]
[{"$f":"IF(A318=\"\",\"\",A318)","v":"1.11."},"водоотведение","Квартиры с ваннами сидячими, оборудованными душами",null,null,null,null,0,null,0,0,0,null,null,{"$f":"M351*N341","v":0}]
[{"$f":"IF(A319=\"\",\"\",A319)","v":"1.12."},"водоотведение","Квартиры с общими душами на этаже",null,null,null,null,0,null,0,0,0,null,null,{"$f":"M352*N341","v":0}]
[{"$f":"IF(A320=\"\",\"\",A320)","v":"1.13."},"водоотведение","Квартиры с ваннами длиной от 1500 до 1700 мм, оборудованными душами",null,null,null,null,0,null,0,0,0,null,null,{"$f":"M353*N341","v":0}]
[{"$f":"IF(A321=\"\",\"\",A321)","v":"1.14."},"водоотведение","Квартиры с ваннами длиной от 1500 до 1700 мм, оборудованными душами",null,null,null,null,0,null,0,0,0,null,null,{"$f":"M354*N341","v":0}]
[{"$f":"IF(A322=\"\",\"\",A322)","v":"1.15."},"водоотведение","Квартиры с общими душами в секции",null,null,null,null,0,null,0,0,0,null,null,{"$f":"M355*N341","v":0}]
[{"$f":"IF(A323=\"\",\"\",A323)","v":"1.16."},"водоотведение","Квартиры с ваннами длиной от 1500 до 1700 мм, оборудованными душами",null,null,null,null,0,null,0,0,0,null,null,{"$f":"M356*N341","v":0}]
[{"$f":"IF(A324=\"\",\"\",A324)","v":"1.17."},"водоотведение","с водопроводом без канализации",null,null,null,null,0,null,0,0,0,null,null,{"$f":"M357*N341","v":0}]
[{"$f":"IF(A325=\"\",\"\",A325)","v":"1.18."},"водоотведение","водопровод, ванны без ГВС и кан-ции",null,null,null,null,0,null,0,0,0,null,null,{"$f":"M358*N341","v":0}]
[{"$f":"IF(A326=\"\",\"\",A326)","v":"1.19."},"водоотведение","с ваннами, оборудованными душами и с канализацией",null,null,null,null,0,null,0,0,0,null,null,{"$f":"M359*N341","v":0}]
[{"$f":"IF(A327=\"\",\"\",A327)","v":"1.20."},"водоотведение","с водопроводом без канализации",null,null,null,null,0,null,0,0,0,null,null,{"$f":"M360*N341","v":0}]
[{"$f":"IF(A328=\"\",\"\",A328)","v":"1.21."},"водоотведение","водопровод, ванны без ГВС и кан-ции",null,null,null,null,0,null,0,0,0,null,null,{"$f":"M361*N341","v":0}]
[{"$f":"IF(A329=\"\",\"\",A329)","v":"1.22."},"водоотведение","с ваннами, оборудованными душами и с канализацией",null,null,null,null,0,null,0,0,0,null,null,{"$f":"M362*N341","v":0}]
[{"$f":"IF(A330=\"\",\"\",A330)","v":"1.23."},"водоотведение","с водопроводом без канализации",null,null,null,null,0,null,0,0,0,null,null,{"$f":"M363*N341","v":0}]
[{"$f":"IF(A331=\"\",\"\",A331)","v":"1.24."},"водоотведение","водопровод, ванны без ГВС и кан-ции",null,null,null,null,0,null,0,0,0,null,null,{"$f":"M364*N341","v":0}]
[{"$f":"IF(A332=\"\",\"\",A332)","v":"1.25."},"водоотведение","с ваннами, оборудованными душами и с канализацией",null,null,null,null,0,null,0,0,0,null,null,{"$f":"M365*N341","v":0}]
[{"$f":"IF(A333=\"\",\"\",A333)","v":""},"","",null,null,null,null,0,null,0,0,0,null,null,{"$f":"M366*N341","v":0}]
[null,"перерасчеты",null,"х","х","х","х","х","контроль","х","х"]
[null,"Итого население",null,null,null,{"$f":"SUM(F341:F366)","v":0},0,{"$f":"F368+G368","v":0},{"$f":"H368-SUM('полезный отпуск'!BG20:BG25)","v":0},{"$f":"SUM(J341:J366)","v":0},0,{"$f":"SUM(L341:L367)","v":0},{"$f":"SUM(M341:M367)","v":0},null,{"$f":"SUM(O341:O367)","v":0}]
["2.","Итого бюджет",null,null,null,null,null,0,{"$f":"H369-SUM('полезный отпуск'!BF20:BF25)","v":0},{"$f":"F369*$I$341","v":0},{"$f":"G369*$I$341","v":0},{"$f":"SUM(J369:K369)","v":0},null,null,{"$f":"M369*N341","v":0}]
["3.","Итого прочие+другие водопроводы",null,null,null,null,null,0,{"$f":"H370-SUM('полезный отпуск'!BA20:BA25,'полезный отпуск'!BH20:BH25)","v":0},{"$f":"F370*$I$341","v":0},{"$f":"G370*$I$341","v":0},{"$f":"SUM(J370:K370)","v":0},null,null,{"$f":"M370*N341","v":0}]
["4.","ВСЕГО 2-е полугодие",null,null,null,{"$f":"SUM(F368:F370)","v":0},{"$f":"SUM(G368:G370)","v":0},0,{"$f":"H371-SUM('полезный отпуск'!BA20:BA25,'полезный отпуск'!BE20:BE25)","v":0},{"$f":"SUM(J368:J370)","v":0},0,0,{"$f":"SUM(M368:M370)","v":0},null,{"$f":"SUM(O368:O370)","v":0}]
[]
["5.","ГОД ВСЕГО",null,null,null,{"$f":"F338+F371","v":0},{"$f":"G338+G371","v":0},{"$f":"F373+G373","v":0},null,{"$f":"J338+J371","v":0},0,0,{"$f":"M338+M371","v":0},null,{"$f":"O338+O371","v":0}]
[]
[null,"МО",{"$f":"'данные об организации'!A17","v":0},{"$f":"'данные об организации'!$F$17","v":0}]
[null,null,null,"(наименование населенного пункта)"]
["№","Вид потребителя","Степень благоустройства, наименование скота","Нормы потребления услуги водоотведения, куб.м. в месяц (на 1 чел)",null,"Фактический годовой объем реализации воды,  куб.м.",null,null,"тариф на водоотведение, руб/куб.м.","Сумма, руб",null,null,"компенсация до установленного тарифа"]
[null,null,null,null,null,"водоотведение",null,"ВСЕГО",null,"водоотведение",null,"ИТОГО"]
[null,null,null,"водоотведение",null,"норматив","прибор учета",null,null,"норматив","прибор учета",null,"объем, куб.м.","размер, руб/куб.м.","Сумма, руб"]
[null,"1-е полугодие 2016 года"]
["1.","Население "]
[{"$f":"IF(A341=\"\",\"\",A341)","v":"1.1."},{"$f":"IF(B341=\"\",\"\",B341)","v":"водоотведение"},"Квартиры с ваннами длиной от 1500 до 1700 мм, оборудованными душами",null,null,null,null,{"$f":"F382+G382","v":0},{"$f":"I308","v":0},{"$f":"F382*$I$382","v":0},{"$f":"G382*$I$382","v":0},{"$f":"SUM(J382:K382)","v":0},null,{"$f":"N308","v":0},{"$f":"M382*N382","v":0}]
[{"$f":"IF(A342=\"\",\"\",A342)","v":"1.2."},"водоотведение","Квартиры  без ванн,  без ГВС и кан-ции",null,null,null,null,0,null,0,0,0,null,null,{"$f":"M383*N382","v":0}]
[{"$f":"IF(A343=\"\",\"\",A343)","v":"1.3."},"водоотведение","Квартиры с ваннами длиной от 1500 до 1700 мм, оборудованными душами",null,null,null,null,0,null,0,0,0,null,null,{"$f":"M384*N382","v":0}]
[{"$f":"IF(A344=\"\",\"\",A344)","v":"1.4."},"водоотведение","Квартиры с  общими душами на этаже",null,null,null,null,0,null,0,0,0,null,null,{"$f":"M385*N382","v":0}]
[{"$f":"IF(A345=\"\",\"\",A345)","v":"1.5."},"водоотведение","Квартиры  с ваннами и местным  ГВС (индивид эл.бойлера)",null,null,null,null,0,null,0,0,0,null,null,{"$f":"M386*N382","v":0}]
[{"$f":"IF(A346=\"\",\"\",A346)","v":"1.6."},"водоотведение","Квартиры  с ваннами и местным  ГВС (общий т/обменник от отопления 252 дня)",null,null,null,null,0,null,0,0,0,null,null,{"$f":"M387*N382","v":0}]
[{"$f":"IF(A347=\"\",\"\",A347)","v":"1.7."},"водоотведение","Квартиры с ваннами длиной от 1500 до 1700 мм, оборудованными душами",null,null,null,null,0,null,0,0,0,null,null,{"$f":"M388*N382","v":0}]
[{"$f":"IF(A348=\"\",\"\",A348)","v":"1.8."},"водоотведение","Квартиры  с ваннами и местным  ГВС (индивид эл.бойлера)",null,null,null,null,0,null,0,0,0,null,null,{"$f":"M389*N382","v":0}]
[{"$f":"IF(A349=\"\",\"\",A349)","v":"1.9."},"водоотведение","Квартиры с ваннами длиной от 1500 до 1700 мм, оборудованными душами",null,null,null,null,0,null,0,0,0,null,null,{"$f":"M390*N382","v":0}]
[{"$f":"IF(A350=\"\",\"\",A350)","v":"1.10."},"водоотведение","Квартиры с ваннами длиной от 1500 до 1700 мм, оборудованными душами",null,null,null,null,0,null,0,0,0,null,null,{"$f":"M391*N382","v":0}]
[{"$f":"IF(A351=\"\",\"\",A351)","v":"1.11."},"водоотведение","Квартиры с ваннами сидячими, оборудованными душами",null,null,null,null,0,null,0,0,0,null,null,{"$f":"M392*N382","v":0}]
[{"$f":"IF(A352=\"\",\"\",A352)","v":"1.12."},"водоотведение","Квартиры с общими душами на этаже",null,null,null,null,0,null,0,0,0,null,null,{"$f":"M393*N382","v":0}]
[{"$f":"IF(A353=\"\",\"\",A353)","v":"1.13."},"водоотведение","Квартиры с ваннами длиной от 1500 до 1700 мм, оборудованными душами",null,null,null,null,0,null,0,0,0,null,null,{"$f":"M394*N382","v":0}]
[{"$f":"IF(A354=\"\",\"\",A354)","v":"1.14."},"водоотведение","Квартиры с ваннами длиной от 1500 до 1700 мм, оборудованными душами",null,null,null,null,0,null,0,0,0,null,null,{"$f":"M395*N382","v":0}]
[{"$f":"IF(A355=\"\",\"\",A355)","v":"1.15."},"водоотведение","Квартиры с общими душами в секции",null,null,null,null,0,null,0,0,0,null,null,{"$f":"M396*N382","v":0}]
[{"$f":"IF(A356=\"\",\"\",A356)","v":"1.16."},"водоотведение","Квартиры с ваннами длиной от 1500 до 1700 мм, оборудованными душами",null,null,null,null,0,null,0,0,0,null,null,{"$f":"M397*N382","v":0}]
[{"$f":"IF(A357=\"\",\"\",A357)","v":"1.17."},"водоотведение","с водопроводом без канализации",null,null,null,null,0,null,0,0,0,null,null,{"$f":"M398*N382","v":0}]
[{"$f":"IF(A358=\"\",\"\",A358)","v":"1.18."},"водоотведение","водопровод, ванны без ГВС и кан-ции",null,null,null,null,0,null,0,0,0,null,null,{"$f":"M399*N382","v":0}]
[{"$f":"IF(A359=\"\",\"\",A359)","v":"1.19."},"водоотведение","с ваннами, оборудованными душами и с канализацией",null,null,null,null,0,null,0,0,0,null,null,{"$f":"M400*N382","v":0}]
[{"$f":"IF(A360=\"\",\"\",A360)","v":"1.20."},"водоотведение","с водопроводом без канализации",null,null,null,null,0,null,0,0,0,null,null,{"$f":"M401*N382","v":0}]
[{"$f":"IF(A361=\"\",\"\",A361)","v":"1.21."},"водоотведение","водопровод, ванны без ГВС и кан-ции",null,null,null,null,0,null,0,0,0,null,null,{"$f":"M402*N382","v":0}]
[{"$f":"IF(A362=\"\",\"\",A362)","v":"1.22."},"водоотведение","с ваннами, оборудованными душами и с канализацией",null,null,null,null,0,null,0,0,0,null,null,{"$f":"M403*N382","v":0}]
[{"$f":"IF(A363=\"\",\"\",A363)","v":"1.23."},"водоотведение","с водопроводом без канализации",null,null,null,null,0,null,0,0,0,null,null,{"$f":"M404*N382","v":0}]
[{"$f":"IF(A364=\"\",\"\",A364)","v":"1.24."},"водоотведение","водопровод, ванны без ГВС и кан-ции",null,null,null,null,0,null,0,0,0,null,null,{"$f":"M405*N382","v":0}]
[{"$f":"IF(A365=\"\",\"\",A365)","v":"1.25."},"водоотведение","с ваннами, оборудованными душами и с канализацией",null,null,null,null,0,null,0,0,0,null,null,{"$f":"M406*N382","v":0}]
[{"$f":"IF(A366=\"\",\"\",A366)","v":""},"","",null,null,null,null,0,null,0,0,0,null,null,{"$f":"M407*N382","v":0}]
[null,"перерасчеты",null,"х","х","х","х","х","контроль","х","х"]
[null,"Итого население",null,null,null,{"$f":"SUM(F382:F407)","v":0},0,{"$f":"F409+G409","v":0},{"$f":"H409-SUM('полезный отпуск'!BT14:BT19)","v":0},{"$f":"SUM(J382:J407)","v":0},0,{"$f":"SUM(L382:L408)","v":0},{"$f":"SUM(M382:M408)","v":0},null,{"$f":"SUM(O382:O408)","v":0}]
["2.","Итого бюджет",null,null,null,null,null,0,{"$f":"H410-SUM('полезный отпуск'!BS14:BS19)","v":0},{"$f":"F410*$I$382","v":0},{"$f":"G410*$I$382","v":0},{"$f":"SUM(J410:K410)","v":0},null,null,{"$f":"M410*N382","v":0}]
["3.","Итого прочие+другие водопроводы",null,null,null,null,null,0,{"$f":"H411-SUM('полезный отпуск'!BN14:BN19,'полезный отпуск'!BU14:BU19)","v":0},{"$f":"F411*$I$382","v":0},{"$f":"G411*$I$382","v":0},{"$f":"SUM(J411:K411)","v":0},null,null,{"$f":"M411*N382","v":0}]
["4.","ВСЕГО 1-е полугодие",null,null,null,{"$f":"SUM(F409:F411)","v":0},{"$f":"SUM(G409:G411)","v":0},0,{"$f":"H412-SUM('полезный отпуск'!BN14:BN19,'полезный отпуск'!BR14:BR19)","v":0},{"$f":"SUM(J409:J411)","v":0},0,0,{"$f":"SUM(M409:M411)","v":0},null,{"$f":"SUM(O409:O411)","v":0}]
[null,"2-е полугодие 2016 года"]
["1.","Население "]
[{"$f":"IF(A382=\"\",\"\",A382)","v":"1.1."},{"$f":"IF(B382=\"\",\"\",B382)","v":"водоотведение"},"Квартиры с ваннами длиной от 1500 до 1700 мм, оборудованными душами",null,null,null,null,{"$f":"F415+G415","v":0},{"$f":"I341","v":0},{"$f":"F415*$I$415","v":0},{"$f":"G415*$I$415","v":0},{"$f":"SUM(J415:K415)","v":0},null,{"$f":"N341","v":0},{"$f":"M415*N415","v":0}]
[{"$f":"IF(A383=\"\",\"\",A383)","v":"1.2."},"водоотведение","Квартиры  без ванн,  без ГВС и кан-ции",null,null,null,null,0,null,0,0,0,null,null,{"$f":"M416*N415","v":0}]
[{"$f":"IF(A384=\"\",\"\",A384)","v":"1.3."},"водоотведение","Квартиры с ваннами длиной от 1500 до 1700 мм, оборудованными душами",null,null,null,null,0,null,0,0,0,null,null,{"$f":"M417*N415","v":0}]
[{"$f":"IF(A385=\"\",\"\",A385)","v":"1.4."},"водоотведение","Квартиры с  общими душами на этаже",null,null,null,null,0,null,0,0,0,null,null,{"$f":"M418*N415","v":0}]
[{"$f":"IF(A386=\"\",\"\",A386)","v":"1.5."},"водоотведение","Квартиры  с ваннами и местным  ГВС (индивид эл.бойлера)",null,null,null,null,0,null,0,0,0,null,null,{"$f":"M419*N415","v":0}]
[{"$f":"IF(A387=\"\",\"\",A387)","v":"1.6."},"водоотведение","Квартиры  с ваннами и местным  ГВС (общий т/обменник от отопления 252 дня)",null,null,null,null,0,null,0,0,0,null,null,{"$f":"M420*N415","v":0}]
[{"$f":"IF(A388=\"\",\"\",A388)","v":"1.7."},"водоотведение","Квартиры с ваннами длиной от 1500 до 1700 мм, оборудованными душами",null,null,null,null,0,null,0,0,0,null,null,{"$f":"M421*N415","v":0}]
[{"$f":"IF(A389=\"\",\"\",A389)","v":"1.8."},"водоотведение","Квартиры  с ваннами и местным  ГВС (индивид эл.бойлера)",null,null,null,null,0,null,0,0,0,null,null,{"$f":"M422*N415","v":0}]
[{"$f":"IF(A390=\"\",\"\",A390)","v":"1.9."},"водоотведение","Квартиры с ваннами длиной от 1500 до 1700 мм, оборудованными душами",null,null,null,null,0,null,0,0,0,null,null,{"$f":"M423*N415","v":0}]
[{"$f":"IF(A391=\"\",\"\",A391)","v":"1.10."},"водоотведение","Квартиры с ваннами длиной от 1500 до 1700 мм, оборудованными душами",null,null,null,null,0,null,0,0,0,null,null,{"$f":"M424*N415","v":0}]
[{"$f":"IF(A392=\"\",\"\",A392)","v":"1.11."},"водоотведение","Квартиры с ваннами сидячими, оборудованными душами",null,null,null,null,0,null,0,0,0,null,null,{"$f":"M425*N415","v":0}]
[{"$f":"IF(A393=\"\",\"\",A393)","v":"1.12."},"водоотведение","Квартиры с общими душами на этаже",null,null,null,null,0,null,0,0,0,null,null,{"$f":"M426*N415","v":0}]
[{"$f":"IF(A394=\"\",\"\",A394)","v":"1.13."},"водоотведение","Квартиры с ваннами длиной от 1500 до 1700 мм, оборудованными душами",null,null,null,null,0,null,0,0,0,null,null,{"$f":"M427*N415","v":0}]
[{"$f":"IF(A395=\"\",\"\",A395)","v":"1.14."},"водоотведение","Квартиры с ваннами длиной от 1500 до 1700 мм, оборудованными душами",null,null,null,null,0,null,0,0,0,null,null,{"$f":"M428*N415","v":0}]
[{"$f":"IF(A396=\"\",\"\",A396)","v":"1.15."},"водоотведение","Квартиры с общими душами в секции",null,null,null,null,0,null,0,0,0,null,null,{"$f":"M429*N415","v":0}]
[{"$f":"IF(A397=\"\",\"\",A397)","v":"1.16."},"водоотведение","Квартиры с ваннами длиной от 1500 до 1700 мм, оборудованными душами",null,null,null,null,0,null,0,0,0,null,null,{"$f":"M430*N415","v":0}]
[{"$f":"IF(A398=\"\",\"\",A398)","v":"1.17."},"водоотведение","с водопроводом без канализации",null,null,null,null,0,null,0,0,0,null,null,{"$f":"M431*N415","v":0}]
[{"$f":"IF(A399=\"\",\"\",A399)","v":"1.18."},"водоотведение","водопровод, ванны без ГВС и кан-ции",null,null,null,null,0,null,0,0,0,null,null,{"$f":"M432*N415","v":0}]
[{"$f":"IF(A400=\"\",\"\",A400)","v":"1.19."},"водоотведение","с ваннами, оборудованными душами и с канализацией",null,null,null,null,0,null,0,0,0,null,null,{"$f":"M433*N415","v":0}]
[{"$f":"IF(A401=\"\",\"\",A401)","v":"1.20."},"водоотведение","с водопроводом без канализации",null,null,null,null,0,null,0,0,0,null,null,{"$f":"M434*N415","v":0}]
[{"$f":"IF(A402=\"\",\"\",A402)","v":"1.21."},"водоотведение","водопровод, ванны без ГВС и кан-ции",null,null,null,null,0,null,0,0,0,null,null,{"$f":"M435*N415","v":0}]
[{"$f":"IF(A403=\"\",\"\",A403)","v":"1.22."},"водоотведение","с ваннами, оборудованными душами и с канализацией",null,null,null,null,0,null,0,0,0,null,null,{"$f":"M436*N415","v":0}]
[{"$f":"IF(A404=\"\",\"\",A404)","v":"1.23."},"водоотведение","с водопроводом без канализации",null,null,null,null,0,null,0,0,0,null,null,{"$f":"M437*N415","v":0}]
[{"$f":"IF(A405=\"\",\"\",A405)","v":"1.24."},"водоотведение","водопровод, ванны без ГВС и кан-ции",null,null,null,null,0,null,0,0,0,null,null,{"$f":"M438*N415","v":0}]
[{"$f":"IF(A406=\"\",\"\",A406)","v":"1.25."},"водоотведение","с ваннами, оборудованными душами и с канализацией",null,null,null,null,0,null,0,0,0,null,null,{"$f":"M439*N415","v":0}]
[{"$f":"IF(A407=\"\",\"\",A407)","v":""},"","",null,null,null,null,0,null,0,0,0,null,null,{"$f":"M440*N415","v":0}]
[null,"перерасчеты",null,"х","х","х","х","х","контроль","х","х"]
[null,"Итого население",null,null,null,{"$f":"SUM(F415:F440)","v":0},0,{"$f":"F442+G442","v":0},{"$f":"H442-SUM('полезный отпуск'!BT20:BT25)","v":0},{"$f":"SUM(J415:J440)","v":0},0,{"$f":"SUM(L415:L441)","v":0},{"$f":"SUM(M415:M441)","v":0},null,{"$f":"SUM(O415:O441)","v":0}]
["2.","Итого бюджет",null,null,null,null,null,0,{"$f":"H443-SUM('полезный отпуск'!BS20:BS25)","v":0},{"$f":"F443*$I$415","v":0},{"$f":"G443*$I$415","v":0},{"$f":"SUM(J443:K443)","v":0},null,null,{"$f":"M443*N415","v":0}]
["3.","Итого прочие+другие водопроводы",null,null,null,null,null,0,{"$f":"H444-SUM('полезный отпуск'!BN20:BN25,'полезный отпуск'!BU20:BU25)","v":0},{"$f":"F444*$I$415","v":0},{"$f":"G444*$I$415","v":0},{"$f":"SUM(J444:K444)","v":0},null,null,{"$f":"M444*N415","v":0}]
["4.","ВСЕГО 2-е полугодие",null,null,null,{"$f":"SUM(F442:F444)","v":0},{"$f":"SUM(G442:G444)","v":0},0,{"$f":"H445-SUM('полезный отпуск'!BN20:BN25,'полезный отпуск'!BR20:BR25)","v":0},{"$f":"SUM(J442:J444)","v":0},0,0,{"$f":"SUM(M442:M444)","v":0},null,{"$f":"SUM(O442:O444)","v":0}]
[]
["5.","ГОД ВСЕГО",null,null,null,{"$f":"F412+F445","v":0},{"$f":"G412+G445","v":0},{"$f":"F447+G447","v":0},null,{"$f":"J412+J445","v":0},0,0,{"$f":"M412+M445","v":0},null,{"$f":"O412+O445","v":0}]
[]
[null,"МО",{"$f":"'данные об организации'!A18","v":0},{"$f":"'данные об организации'!$F$18","v":0}]
[null,null,null,"(наименование населенного пункта)"]
["№","Вид потребителя","Степень благоустройства, наименование скота","Нормы потребления услуги водоотведения, куб.м. в месяц (на 1 чел)",null,"Фактический годовой объем реализации воды,  куб.м.",null,null,"тариф на водоотведение, руб/куб.м.","Сумма, руб",null,null,"компенсация до установленного тарифа"]
[null,null,null,null,null,"водоотведение",null,"ВСЕГО",null,"водоотведение",null,"ИТОГО"]
[null,null,null,"водоотведение",null,"норматив","прибор учета",null,null,"норматив","прибор учета",null,"объем, куб.м.","размер, руб/куб.м.","Сумма, руб"]
[null,"1-е полугодие 2016 года"]
["1.","Население "]
[{"$f":"IF(A415=\"\",\"\",A415)","v":"1.1."},{"$f":"IF(B415=\"\",\"\",B415)","v":"водоотведение"},"Квартиры с ваннами длиной от 1500 до 1700 мм, оборудованными душами",null,null,null,null,{"$f":"F456+G456","v":0},{"$f":"I382","v":0},{"$f":"F456*$I$456","v":0},{"$f":"G456*$I$456","v":0},{"$f":"SUM(J456:K456)","v":0},null,{"$f":"N382","v":0},{"$f":"M456*N456","v":0}]
[{"$f":"IF(A416=\"\",\"\",A416)","v":"1.2."},"водоотведение","Квартиры  без ванн,  без ГВС и кан-ции",null,null,null,null,0,null,0,0,0,null,null,{"$f":"M457*N456","v":0}]
[{"$f":"IF(A417=\"\",\"\",A417)","v":"1.3."},"водоотведение","Квартиры с ваннами длиной от 1500 до 1700 мм, оборудованными душами",null,null,null,null,0,null,0,0,0,null,null,{"$f":"M458*N456","v":0}]
[{"$f":"IF(A418=\"\",\"\",A418)","v":"1.4."},"водоотведение","Квартиры с  общими душами на этаже",null,null,null,null,0,null,0,0,0,null,null,{"$f":"M459*N456","v":0}]
[{"$f":"IF(A419=\"\",\"\",A419)","v":"1.5."},"водоотведение","Квартиры  с ваннами и местным  ГВС (индивид эл.бойлера)",null,null,null,null,0,null,0,0,0,null,null,{"$f":"M460*N456","v":0}]
[{"$f":"IF(A420=\"\",\"\",A420)","v":"1.6."},"водоотведение","Квартиры  с ваннами и местным  ГВС (общий т/обменник от отопления 252 дня)",null,null,null,null,0,null,0,0,0,null,null,{"$f":"M461*N456","v":0}]
[{"$f":"IF(A421=\"\",\"\",A421)","v":"1.7."},"водоотведение","Квартиры с ваннами длиной от 1500 до 1700 мм, оборудованными душами",null,null,null,null,0,null,0,0,0,null,null,{"$f":"M462*N456","v":0}]
[{"$f":"IF(A422=\"\",\"\",A422)","v":"1.8."},"водоотведение","Квартиры  с ваннами и местным  ГВС (индивид эл.бойлера)",null,null,null,null,0,null,0,0,0,null,null,{"$f":"M463*N456","v":0}]
[{"$f":"IF(A423=\"\",\"\",A423)","v":"1.9."},"водоотведение","Квартиры с ваннами длиной от 1500 до 1700 мм, оборудованными душами",null,null,null,null,0,null,0,0,0,null,null,{"$f":"M464*N456","v":0}]
[{"$f":"IF(A424=\"\",\"\",A424)","v":"1.10."},"водоотведение","Квартиры с ваннами длиной от 1500 до 1700 мм, оборудованными душами",null,null,null,null,0,null,0,0,0,null,null,{"$f":"M465*N456","v":0}]
[{"$f":"IF(A425=\"\",\"\",A425)","v":"1.11."},"водоотведение","Квартиры с ваннами сидячими, оборудованными душами",null,null,null,null,0,null,0,0,0,null,null,{"$f":"M466*N456","v":0}]
[{"$f":"IF(A426=\"\",\"\",A426)","v":"1.12."},"водоотведение","Квартиры с общими душами на этаже",null,null,null,null,0,null,0,0,0,null,null,{"$f":"M467*N456","v":0}]
[{"$f":"IF(A427=\"\",\"\",A427)","v":"1.13."},"водоотведение","Квартиры с ваннами длиной от 1500 до 1700 мм, оборудованными душами",null,null,null,null,0,null,0,0,0,null,null,{"$f":"M468*N456","v":0}]
[{"$f":"IF(A428=\"\",\"\",A428)","v":"1.14."},"водоотведение","Квартиры с ваннами длиной от 1500 до 1700 мм, оборудованными душами",null,null,null,null,0,null,0,0,0,null,null,{"$f":"M469*N456","v":0}]
[{"$f":"IF(A429=\"\",\"\",A429)","v":"1.15."},"водоотведение","Квартиры с общими душами в секции",null,null,null,null,0,null,0,0,0,null,null,{"$f":"M470*N456","v":0}]
[{"$f":"IF(A430=\"\",\"\",A430)","v":"1.16."},"водоотведение","Квартиры с ваннами длиной от 1500 до 1700 мм, оборудованными душами",null,null,null,null,0,null,0,0,0,null,null,{"$f":"M471*N456","v":0}]
[{"$f":"IF(A431=\"\",\"\",A431)","v":"1.17."},"водоотведение","с водопроводом без канализации",null,null,null,null,0,null,0,0,0,null,null,{"$f":"M472*N456","v":0}]
[{"$f":"IF(A432=\"\",\"\",A432)","v":"1.18."},"водоотведение","водопровод, ванны без ГВС и кан-ции",null,null,null,null,0,null,0,0,0,null,null,{"$f":"M473*N456","v":0}]
[{"$f":"IF(A433=\"\",\"\",A433)","v":"1.19."},"водоотведение","с ваннами, оборудованными душами и с канализацией",null,null,null,null,0,null,0,0,0,null,null,{"$f":"M474*N456","v":0}]
[{"$f":"IF(A434=\"\",\"\",A434)","v":"1.20."},"водоотведение","с водопроводом без канализации",null,null,null,null,0,null,0,0,0,null,null,{"$f":"M475*N456","v":0}]
[{"$f":"IF(A435=\"\",\"\",A435)","v":"1.21."},"водоотведение","водопровод, ванны без ГВС и кан-ции",null,null,null,null,0,null,0,0,0,null,null,{"$f":"M476*N456","v":0}]
[{"$f":"IF(A436=\"\",\"\",A436)","v":"1.22."},"водоотведение","с ваннами, оборудованными душами и с канализацией",null,null,null,null,0,null,0,0,0,null,null,{"$f":"M477*N456","v":0}]
[{"$f":"IF(A437=\"\",\"\",A437)","v":"1.23."},"водоотведение","с водопроводом без канализации",null,null,null,null,0,null,0,0,0,null,null,{"$f":"M478*N456","v":0}]
[{"$f":"IF(A438=\"\",\"\",A438)","v":"1.24."},"водоотведение","водопровод, ванны без ГВС и кан-ции",null,null,null,null,0,null,0,0,0,null,null,{"$f":"M479*N456","v":0}]
[{"$f":"IF(A439=\"\",\"\",A439)","v":"1.25."},"водоотведение","с ваннами, оборудованными душами и с канализацией",null,null,null,null,0,null,0,0,0,null,null,{"$f":"M480*N456","v":0}]
[{"$f":"IF(A440=\"\",\"\",A440)","v":""},"","",null,null,null,null,0,null,0,0,0,null,null,{"$f":"M481*N456","v":0}]
[null,"перерасчеты",null,"х","х","х","х","х","контроль","х","х"]
[null,"Итого население",null,null,null,{"$f":"SUM(F456:F481)","v":0},0,{"$f":"F483+G483","v":0},{"$f":"H483-SUM('полезный отпуск'!CG14:CG19)","v":0},{"$f":"SUM(J456:J481)","v":0},0,{"$f":"SUM(L456:L482)","v":0},{"$f":"SUM(M456:M482)","v":0},null,{"$f":"SUM(O456:O482)","v":0}]
["2.","Итого бюджет",null,null,null,null,null,0,{"$f":"H484-SUM('полезный отпуск'!CF14:CF19)","v":0},{"$f":"F484*$I$456","v":0},{"$f":"G484*$I$456","v":0},{"$f":"SUM(J484:K484)","v":0},null,null,{"$f":"M484*N456","v":0}]
["3.","Итого прочие+другие водопроводы",null,null,null,null,null,0,{"$f":"H485-SUM('полезный отпуск'!CA14:CA19,'полезный отпуск'!CH14:CH19)","v":0},{"$f":"F485*$I$456","v":0},{"$f":"G485*$I$456","v":0},{"$f":"SUM(J485:K485)","v":0},null,null,{"$f":"M485*N456","v":0}]
["4.","ВСЕГО 1-е полугодие",null,null,null,{"$f":"SUM(F483:F485)","v":0},{"$f":"SUM(G483:G485)","v":0},0,{"$f":"H486-SUM('полезный отпуск'!CA14:CA19,'полезный отпуск'!CE14:CE19)","v":0},{"$f":"SUM(J483:J485)","v":0},0,0,{"$f":"SUM(M483:M485)","v":0},null,{"$f":"SUM(O483:O485)","v":0}]
[null,"2-е полугодие 2016 года"]
["1.","Население "]
[{"$f":"IF(A456=\"\",\"\",A456)","v":"1.1."},{"$f":"IF(B456=\"\",\"\",B456)","v":"водоотведение"},"Квартиры с ваннами длиной от 1500 до 1700 мм, оборудованными душами",null,null,null,null,{"$f":"F489+G489","v":0},{"$f":"I415","v":0},{"$f":"F489*$I$489","v":0},{"$f":"G489*$I$489","v":0},{"$f":"SUM(J489:K489)","v":0},null,{"$f":"N415","v":0},{"$f":"M489*N489","v":0}]
[{"$f":"IF(A457=\"\",\"\",A457)","v":"1.2."},"водоотведение","Квартиры  без ванн,  без ГВС и кан-ции",null,null,null,null,0,null,0,0,0,null,null,{"$f":"M490*N489","v":0}]
[{"$f":"IF(A458=\"\",\"\",A458)","v":"1.3."},"водоотведение","Квартиры с ваннами длиной от 1500 до 1700 мм, оборудованными душами",null,null,null,null,0,null,0,0,0,null,null,{"$f":"M491*N489","v":0}]
[{"$f":"IF(A459=\"\",\"\",A459)","v":"1.4."},"водоотведение","Квартиры с  общими душами на этаже",null,null,null,null,0,null,0,0,0,null,null,{"$f":"M492*N489","v":0}]
[{"$f":"IF(A460=\"\",\"\",A460)","v":"1.5."},"водоотведение","Квартиры  с ваннами и местным  ГВС (индивид эл.бойлера)",null,null,null,null,0,null,0,0,0,null,null,{"$f":"M493*N489","v":0}]
[{"$f":"IF(A461=\"\",\"\",A461)","v":"1.6."},"водоотведение","Квартиры  с ваннами и местным  ГВС (общий т/обменник от отопления 252 дня)",null,null,null,null,0,null,0,0,0,null,null,{"$f":"M494*N489","v":0}]
[{"$f":"IF(A462=\"\",\"\",A462)","v":"1.7."},"водоотведение","Квартиры с ваннами длиной от 1500 до 1700 мм, оборудованными душами",null,null,null,null,0,null,0,0,0,null,null,{"$f":"M495*N489","v":0}]
[{"$f":"IF(A463=\"\",\"\",A463)","v":"1.8."},"водоотведение","Квартиры  с ваннами и местным  ГВС (индивид эл.бойлера)",null,null,null,null,0,null,0,0,0,null,null,{"$f":"M496*N489","v":0}]
[{"$f":"IF(A464=\"\",\"\",A464)","v":"1.9."},"водоотведение","Квартиры с ваннами длиной от 1500 до 1700 мм, оборудованными душами",null,null,null,null,0,null,0,0,0,null,null,{"$f":"M497*N489","v":0}]
[{"$f":"IF(A465=\"\",\"\",A465)","v":"1.10."},"водоотведение","Квартиры с ваннами длиной от 1500 до 1700 мм, оборудованными душами",null,null,null,null,0,null,0,0,0,null,null,{"$f":"M498*N489","v":0}]
[{"$f":"IF(A466=\"\",\"\",A466)","v":"1.11."},"водоотведение","Квартиры с ваннами сидячими, оборудованными душами",null,null,null,null,0,null,0,0,0,null,null,{"$f":"M499*N489","v":0}]
[{"$f":"IF(A467=\"\",\"\",A467)","v":"1.12."},"водоотведение","Квартиры с общими душами на этаже",null,null,null,null,0,null,0,0,0,null,null,{"$f":"M500*N489","v":0}]
[{"$f":"IF(A468=\"\",\"\",A468)","v":"1.13."},"водоотведение","Квартиры с ваннами длиной от 1500 до 1700 мм, оборудованными душами",null,null,null,null,0,null,0,0,0,null,null,{"$f":"M501*N489","v":0}]
[{"$f":"IF(A469=\"\",\"\",A469)","v":"1.14."},"водоотведение","Квартиры с ваннами длиной от 1500 до 1700 мм, оборудованными душами",null,null,null,null,0,null,0,0,0,null,null,{"$f":"M502*N489","v":0}]
[{"$f":"IF(A470=\"\",\"\",A470)","v":"1.15."},"водоотведение","Квартиры с общими душами в секции",null,null,null,null,0,null,0,0,0,null,null,{"$f":"M503*N489","v":0}]
[{"$f":"IF(A471=\"\",\"\",A471)","v":"1.16."},"водоотведение","Квартиры с ваннами длиной от 1500 до 1700 мм, оборудованными душами",null,null,null,null,0,null,0,0,0,null,null,{"$f":"M504*N489","v":0}]
[{"$f":"IF(A472=\"\",\"\",A472)","v":"1.17."},"водоотведение","с водопроводом без канализации",null,null,null,null,0,null,0,0,0,null,null,{"$f":"M505*N489","v":0}]
[{"$f":"IF(A473=\"\",\"\",A473)","v":"1.18."},"водоотведение","водопровод, ванны без ГВС и кан-ции",null,null,null,null,0,null,0,0,0,null,null,{"$f":"M506*N489","v":0}]
[{"$f":"IF(A474=\"\",\"\",A474)","v":"1.19."},"водоотведение","с ваннами, оборудованными душами и с канализацией",null,null,null,null,0,null,0,0,0,null,null,{"$f":"M507*N489","v":0}]
[{"$f":"IF(A475=\"\",\"\",A475)","v":"1.20."},"водоотведение","с водопроводом без канализации",null,null,null,null,0,null,0,0,0,null,null,{"$f":"M508*N489","v":0}]
[{"$f":"IF(A476=\"\",\"\",A476)","v":"1.21."},"водоотведение","водопровод, ванны без ГВС и кан-ции",null,null,null,null,0,null,0,0,0,null,null,{"$f":"M509*N489","v":0}]
[{"$f":"IF(A477=\"\",\"\",A477)","v":"1.22."},"водоотведение","с ваннами, оборудованными душами и с канализацией",null,null,null,null,0,null,0,0,0,null,null,{"$f":"M510*N489","v":0}]
[{"$f":"IF(A478=\"\",\"\",A478)","v":"1.23."},"водоотведение","с водопроводом без канализации",null,null,null,null,0,null,0,0,0,null,null,{"$f":"M511*N489","v":0}]
[{"$f":"IF(A479=\"\",\"\",A479)","v":"1.24."},"водоотведение","водопровод, ванны без ГВС и кан-ции",null,null,null,null,0,null,0,0,0,null,null,{"$f":"M512*N489","v":0}]
[{"$f":"IF(A480=\"\",\"\",A480)","v":"1.25."},"водоотведение","с ваннами, оборудованными душами и с канализацией",null,null,null,null,0,null,0,0,0,null,null,{"$f":"M513*N489","v":0}]
[{"$f":"IF(A481=\"\",\"\",A481)","v":""},"","",null,null,null,null,0,null,0,0,0,null,null,{"$f":"M514*N489","v":0}]
[null,"перерасчеты",null,"х","х","х","х","х","контроль","х","х"]
[null,"Итого население",null,null,null,{"$f":"SUM(F489:F514)","v":0},0,{"$f":"F516+G516","v":0},{"$f":"H516-SUM('полезный отпуск'!CG20:CG25)","v":0},{"$f":"SUM(J489:J514)","v":0},0,{"$f":"SUM(L489:L515)","v":0},{"$f":"SUM(M489:M515)","v":0},null,{"$f":"SUM(O489:O515)","v":0}]
["2.","Итого бюджет",null,null,null,null,null,0,{"$f":"H517-SUM('полезный отпуск'!CF20:CF25)","v":0},{"$f":"F517*$I$489","v":0},{"$f":"G517*$I$489","v":0},{"$f":"SUM(J517:K517)","v":0},null,null,{"$f":"M517*N489","v":0}]
["3.","Итого прочие+другие водопроводы",null,null,null,null,null,0,{"$f":"H518-SUM('полезный отпуск'!CA20:CA25,'полезный отпуск'!CH20:CH25)","v":0},{"$f":"F518*$I$489","v":0},{"$f":"G518*$I$489","v":0},{"$f":"SUM(J518:K518)","v":0},null,null,{"$f":"M518*N489","v":0}]
["4.","ВСЕГО 2-е полугодие",null,null,null,{"$f":"SUM(F516:F518)","v":0},{"$f":"SUM(G516:G518)","v":0},0,{"$f":"H519-SUM('полезный отпуск'!CA20:CA25,'полезный отпуск'!CE20:CE25)","v":0},{"$f":"SUM(J516:J518)","v":0},0,0,{"$f":"SUM(M516:M518)","v":0},null,{"$f":"SUM(O516:O518)","v":0}]
[]
["5.","ГОД ВСЕГО",null,null,null,{"$f":"F486+F519","v":0},{"$f":"G486+G519","v":0},{"$f":"F521+G521","v":0},null,{"$f":"J486+J519","v":0},0,0,{"$f":"M486+M519","v":0},null,{"$f":"O486+O519","v":0}]
[]
[null,"МО",{"$f":"'данные об организации'!A19","v":0},{"$f":"'данные об организации'!$F$19","v":0}]
[null,null,null,"(наименование населенного пункта)"]
["№","Вид потребителя","Степень благоустройства, наименование скота","Нормы потребления услуги водоотведения, куб.м. в месяц (на 1 чел)",null,"Фактический годовой объем реализации воды,  куб.м.",null,null,"тариф на водоотведение, руб/куб.м.","Сумма, руб",null,null,"компенсация до установленного тарифа"]
[null,null,null,null,null,"водоотведение",null,"ВСЕГО",null,"водоотведение",null,"ИТОГО"]
[null,null,null,"водоотведение",null,"норматив","прибор учета",null,null,"норматив","прибор учета",null,"объем, куб.м.","размер, руб/куб.м.","Сумма, руб"]
[null,"1-е полугодие 2016 года"]
["1.","Население "]
[{"$f":"IF(A489=\"\",\"\",A489)","v":"1.1."},{"$f":"IF(B489=\"\",\"\",B489)","v":"водоотведение"},"Квартиры с ваннами длиной от 1500 до 1700 мм, оборудованными душами",null,null,null,null,{"$f":"F530+G530","v":0},{"$f":"I456","v":0},{"$f":"F530*$I$530","v":0},{"$f":"G530*$I$530","v":0},{"$f":"SUM(J530:K530)","v":0},null,{"$f":"N456","v":0},{"$f":"M530*N530","v":0}]
[{"$f":"IF(A490=\"\",\"\",A490)","v":"1.2."},"водоотведение","Квартиры  без ванн,  без ГВС и кан-ции",null,null,null,null,0,null,0,0,0,null,null,{"$f":"M531*N530","v":0}]
[{"$f":"IF(A491=\"\",\"\",A491)","v":"1.3."},"водоотведение","Квартиры с ваннами длиной от 1500 до 1700 мм, оборудованными душами",null,null,null,null,0,null,0,0,0,null,null,{"$f":"M532*N530","v":0}]
[{"$f":"IF(A492=\"\",\"\",A492)","v":"1.4."},"водоотведение","Квартиры с  общими душами на этаже",null,null,null,null,0,null,0,0,0,null,null,{"$f":"M533*N530","v":0}]
[{"$f":"IF(A493=\"\",\"\",A493)","v":"1.5."},"водоотведение","Квартиры  с ваннами и местным  ГВС (индивид эл.бойлера)",null,null,null,null,0,null,0,0,0,null,null,{"$f":"M534*N530","v":0}]
[{"$f":"IF(A494=\"\",\"\",A494)","v":"1.6."},"водоотведение","Квартиры  с ваннами и местным  ГВС (общий т/обменник от отопления 252 дня)",null,null,null,null,0,null,0,0,0,null,null,{"$f":"M535*N530","v":0}]
[{"$f":"IF(A495=\"\",\"\",A495)","v":"1.7."},"водоотведение","Квартиры с ваннами длиной от 1500 до 1700 мм, оборудованными душами",null,null,null,null,0,null,0,0,0,null,null,{"$f":"M536*N530","v":0}]
[{"$f":"IF(A496=\"\",\"\",A496)","v":"1.8."},"водоотведение","Квартиры  с ваннами и местным  ГВС (индивид эл.бойлера)",null,null,null,null,0,null,0,0,0,null,null,{"$f":"M537*N530","v":0}]
[{"$f":"IF(A497=\"\",\"\",A497)","v":"1.9."},"водоотведение","Квартиры с ваннами длиной от 1500 до 1700 мм, оборудованными душами",null,null,null,null,0,null,0,0,0,null,null,{"$f":"M538*N530","v":0}]
[{"$f":"IF(A498=\"\",\"\",A498)","v":"1.10."},"водоотведение","Квартиры с ваннами длиной от 1500 до 1700 мм, оборудованными душами",null,null,null,null,0,null,0,0,0,null,null,{"$f":"M539*N530","v":0}]
[{"$f":"IF(A499=\"\",\"\",A499)","v":"1.11."},"водоотведение","Квартиры с ваннами сидячими, оборудованными душами",null,null,null,null,0,null,0,0,0,null,null,{"$f":"M540*N530","v":0}]
[{"$f":"IF(A500=\"\",\"\",A500)","v":"1.12."},"водоотведение","Квартиры с общими душами на этаже",null,null,null,null,0,null,0,0,0,null,null,{"$f":"M541*N530","v":0}]
[{"$f":"IF(A501=\"\",\"\",A501)","v":"1.13."},"водоотведение","Квартиры с ваннами длиной от 1500 до 1700 мм, оборудованными душами",null,null,null,null,0,null,0,0,0,null,null,{"$f":"M542*N530","v":0}]
[{"$f":"IF(A502=\"\",\"\",A502)","v":"1.14."},"водоотведение","Квартиры с ваннами длиной от 1500 до 1700 мм, оборудованными душами",null,null,null,null,0,null,0,0,0,null,null,{"$f":"M543*N530","v":0}]
[{"$f":"IF(A503=\"\",\"\",A503)","v":"1.15."},"водоотведение","Квартиры с общими душами в секции",null,null,null,null,0,null,0,0,0,null,null,{"$f":"M544*N530","v":0}]
[{"$f":"IF(A504=\"\",\"\",A504)","v":"1.16."},"водоотведение","Квартиры с ваннами длиной от 1500 до 1700 мм, оборудованными душами",null,null,null,null,0,null,0,0,0,null,null,{"$f":"M545*N530","v":0}]
[{"$f":"IF(A505=\"\",\"\",A505)","v":"1.17."},"водоотведение","с водопроводом без канализации",null,null,null,null,0,null,0,0,0,null,null,{"$f":"M546*N530","v":0}]
[{"$f":"IF(A506=\"\",\"\",A506)","v":"1.18."},"водоотведение","водопровод, ванны без ГВС и кан-ции",null,null,null,null,0,null,0,0,0,null,null,{"$f":"M547*N530","v":0}]
[{"$f":"IF(A507=\"\",\"\",A507)","v":"1.19."},"водоотведение","с ваннами, оборудованными душами и с канализацией",null,null,null,null,0,null,0,0,0,null,null,{"$f":"M548*N530","v":0}]
[{"$f":"IF(A508=\"\",\"\",A508)","v":"1.20."},"водоотведение","с водопроводом без канализации",null,null,null,null,0,null,0,0,0,null,null,{"$f":"M549*N530","v":0}]
[{"$f":"IF(A509=\"\",\"\",A509)","v":"1.21."},"водоотведение","водопровод, ванны без ГВС и кан-ции",null,null,null,null,0,null,0,0,0,null,null,{"$f":"M550*N530","v":0}]
[{"$f":"IF(A510=\"\",\"\",A510)","v":"1.22."},"водоотведение","с ваннами, оборудованными душами и с канализацией",null,null,null,null,0,null,0,0,0,null,null,{"$f":"M551*N530","v":0}]
[{"$f":"IF(A511=\"\",\"\",A511)","v":"1.23."},"водоотведение","с водопроводом без канализации",null,null,null,null,0,null,0,0,0,null,null,{"$f":"M552*N530","v":0}]
[{"$f":"IF(A512=\"\",\"\",A512)","v":"1.24."},"водоотведение","водопровод, ванны без ГВС и кан-ции",null,null,null,null,0,null,0,0,0,null,null,{"$f":"M553*N530","v":0}]
[{"$f":"IF(A513=\"\",\"\",A513)","v":"1.25."},"водоотведение","с ваннами, оборудованными душами и с канализацией",null,null,null,null,0,null,0,0,0,null,null,{"$f":"M554*N530","v":0}]
[{"$f":"IF(A514=\"\",\"\",A514)","v":""},"","",null,null,null,null,0,null,0,0,0,null,null,{"$f":"M555*N530","v":0}]
[null,"перерасчеты",null,"х","х","х","х","х","контроль","х","х"]
[null,"Итого население",null,null,null,{"$f":"SUM(F530:F555)","v":0},0,{"$f":"F557+G557","v":0},{"$f":"H557-SUM('полезный отпуск'!CT14:CT19)","v":0},{"$f":"SUM(J530:J555)","v":0},0,{"$f":"SUM(L530:L556)","v":0},{"$f":"SUM(M530:M556)","v":0},null,{"$f":"SUM(O530:O556)","v":0}]
["2.","Итого бюджет",null,null,null,null,null,0,{"$f":"H558-SUM('полезный отпуск'!CS14:CS19)","v":0},{"$f":"F558*$I$530","v":0},{"$f":"G558*$I$530","v":0},{"$f":"SUM(J558:K558)","v":0},null,null,{"$f":"M558*N530","v":0}]
["3.","Итого прочие+другие водопроводы",null,null,null,null,null,0,{"$f":"H559-SUM('полезный отпуск'!CN14:CN19,'полезный отпуск'!CU14:CU19)","v":0},{"$f":"F559*$I$530","v":0},{"$f":"G559*$I$530","v":0},{"$f":"SUM(J559:K559)","v":0},null,null,{"$f":"M559*N530","v":0}]
["4.","ВСЕГО 1-е полугодие",null,null,null,{"$f":"SUM(F557:F559)","v":0},{"$f":"SUM(G557:G559)","v":0},0,{"$f":"H560-SUM('полезный отпуск'!CN14:CN19,'полезный отпуск'!CR14:CR19)","v":0},{"$f":"SUM(J557:J559)","v":0},0,0,{"$f":"SUM(M557:M559)","v":0},null,{"$f":"SUM(O557:O559)","v":0}]
[null,"2-е полугодие 2016  года"]
["1.","Население "]
[{"$f":"IF(A530=\"\",\"\",A530)","v":"1.1."},{"$f":"IF(B530=\"\",\"\",B530)","v":"водоотведение"},"Квартиры с ваннами длиной от 1500 до 1700 мм, оборудованными душами",null,null,null,null,{"$f":"F563+G563","v":0},{"$f":"I489","v":0},{"$f":"F563*$I$563","v":0},{"$f":"G563*$I$563","v":0},{"$f":"SUM(J563:K563)","v":0},null,{"$f":"N489","v":0},{"$f":"M563*N563","v":0}]
[{"$f":"IF(A531=\"\",\"\",A531)","v":"1.2."},"водоотведение","Квартиры  без ванн,  без ГВС и кан-ции",null,null,null,null,0,null,0,0,0,null,null,{"$f":"M564*N563","v":0}]
[{"$f":"IF(A532=\"\",\"\",A532)","v":"1.3."},"водоотведение","Квартиры с ваннами длиной от 1500 до 1700 мм, оборудованными душами",null,null,null,null,0,null,0,0,0,null,null,{"$f":"M565*N563","v":0}]
[{"$f":"IF(A533=\"\",\"\",A533)","v":"1.4."},"водоотведение","Квартиры с  общими душами на этаже",null,null,null,null,0,null,0,0,0,null,null,{"$f":"M566*N563","v":0}]
[{"$f":"IF(A534=\"\",\"\",A534)","v":"1.5."},"водоотведение","Квартиры  с ваннами и местным  ГВС (индивид эл.бойлера)",null,null,null,null,0,null,0,0,0,null,null,{"$f":"M567*N563","v":0}]
[{"$f":"IF(A535=\"\",\"\",A535)","v":"1.6."},"водоотведение","Квартиры  с ваннами и местным  ГВС (общий т/обменник от отопления 252 дня)",null,null,null,null,0,null,0,0,0,null,null,{"$f":"M568*N563","v":0}]
[{"$f":"IF(A536=\"\",\"\",A536)","v":"1.7."},"водоотведение","Квартиры с ваннами длиной от 1500 до 1700 мм, оборудованными душами",null,null,null,null,0,null,0,0,0,null,null,{"$f":"M569*N563","v":0}]
[{"$f":"IF(A537=\"\",\"\",A537)","v":"1.8."},"водоотведение","Квартиры  с ваннами и местным  ГВС (индивид эл.бойлера)",null,null,null,null,0,null,0,0,0,null,null,{"$f":"M570*N563","v":0}]
[{"$f":"IF(A538=\"\",\"\",A538)","v":"1.9."},"водоотведение","Квартиры с ваннами длиной от 1500 до 1700 мм, оборудованными душами",null,null,null,null,0,null,0,0,0,null,null,{"$f":"M571*N563","v":0}]
[{"$f":"IF(A539=\"\",\"\",A539)","v":"1.10."},"водоотведение","Квартиры с ваннами длиной от 1500 до 1700 мм, оборудованными душами",null,null,null,null,0,null,0,0,0,null,null,{"$f":"M572*N563","v":0}]
[{"$f":"IF(A540=\"\",\"\",A540)","v":"1.11."},"водоотведение","Квартиры с ваннами сидячими, оборудованными душами",null,null,null,null,0,null,0,0,0,null,null,{"$f":"M573*N563","v":0}]
[{"$f":"IF(A541=\"\",\"\",A541)","v":"1.12."},"водоотведение","Квартиры с общими душами на этаже",null,null,null,null,0,null,0,0,0,null,null,{"$f":"M574*N563","v":0}]
[{"$f":"IF(A542=\"\",\"\",A542)","v":"1.13."},"водоотведение","Квартиры с ваннами длиной от 1500 до 1700 мм, оборудованными душами",null,null,null,null,0,null,0,0,0,null,null,{"$f":"M575*N563","v":0}]
[{"$f":"IF(A543=\"\",\"\",A543)","v":"1.14."},"водоотведение","Квартиры с ваннами длиной от 1500 до 1700 мм, оборудованными душами",null,null,null,null,0,null,0,0,0,null,null,{"$f":"M576*N563","v":0}]
[{"$f":"IF(A544=\"\",\"\",A544)","v":"1.15."},"водоотведение","Квартиры с общими душами в секции",null,null,null,null,0,null,0,0,0,null,null,{"$f":"M577*N563","v":0}]
[{"$f":"IF(A545=\"\",\"\",A545)","v":"1.16."},"водоотведение","Квартиры с ваннами длиной от 1500 до 1700 мм, оборудованными душами",null,null,null,null,0,null,0,0,0,null,null,{"$f":"M578*N563","v":0}]
[{"$f":"IF(A546=\"\",\"\",A546)","v":"1.17."},"водоотведение","с водопроводом без канализации",null,null,null,null,0,null,0,0,0,null,null,{"$f":"M579*N563","v":0}]
[{"$f":"IF(A547=\"\",\"\",A547)","v":"1.18."},"водоотведение","водопровод, ванны без ГВС и кан-ции",null,null,null,null,0,null,0,0,0,null,null,{"$f":"M580*N563","v":0}]
[{"$f":"IF(A548=\"\",\"\",A548)","v":"1.19."},"водоотведение","с ваннами, оборудованными душами и с канализацией",null,null,null,null,0,null,0,0,0,null,null,{"$f":"M581*N563","v":0}]
[{"$f":"IF(A549=\"\",\"\",A549)","v":"1.20."},"водоотведение","с водопроводом без канализации",null,null,null,null,0,null,0,0,0,null,null,{"$f":"M582*N563","v":0}]
[{"$f":"IF(A550=\"\",\"\",A550)","v":"1.21."},"водоотведение","водопровод, ванны без ГВС и кан-ции",null,null,null,null,0,null,0,0,0,null,null,{"$f":"M583*N563","v":0}]
[{"$f":"IF(A551=\"\",\"\",A551)","v":"1.22."},"водоотведение","с ваннами, оборудованными душами и с канализацией",null,null,null,null,0,null,0,0,0,null,null,{"$f":"M584*N563","v":0}]
[{"$f":"IF(A552=\"\",\"\",A552)","v":"1.23."},"водоотведение","с водопроводом без канализации",null,null,null,null,0,null,0,0,0,null,null,{"$f":"M585*N563","v":0}]
[{"$f":"IF(A553=\"\",\"\",A553)","v":"1.24."},"водоотведение","водопровод, ванны без ГВС и кан-ции",null,null,null,null,0,null,0,0,0,null,null,{"$f":"M586*N563","v":0}]
[{"$f":"IF(A554=\"\",\"\",A554)","v":"1.25."},"водоотведение","с ваннами, оборудованными душами и с канализацией",null,null,null,null,0,null,0,0,0,null,null,{"$f":"M587*N563","v":0}]
[{"$f":"IF(A555=\"\",\"\",A555)","v":""},"","",null,null,null,null,0,null,0,0,0,null,null,{"$f":"M588*N563","v":0}]
[null,"перерасчеты",null,"х","х","х","х","х","контроль","х","х"]
[null,"Итого население",null,null,null,{"$f":"SUM(F563:F588)","v":0},0,{"$f":"F590+G590","v":0},{"$f":"H590-SUM('полезный отпуск'!CT20:CT25)","v":0},{"$f":"SUM(J563:J588)","v":0},0,{"$f":"SUM(L563:L589)","v":0},{"$f":"SUM(M563:M589)","v":0},null,{"$f":"SUM(O563:O589)","v":0}]
["2.","Итого бюджет",null,null,null,null,null,0,{"$f":"H591-SUM('полезный отпуск'!CS20:CS25)","v":0},{"$f":"F591*$I$563","v":0},{"$f":"G591*$I$563","v":0},{"$f":"SUM(J591:K591)","v":0},null,null,{"$f":"M591*N563","v":0}]
["3.","Итого прочие+другие водопроводы",null,null,null,null,null,0,{"$f":"H592-SUM('полезный отпуск'!CN20:CN25,'полезный отпуск'!CU20:CU25)","v":0},{"$f":"F592*$I$563","v":0},{"$f":"G592*$I$563","v":0},{"$f":"SUM(J592:K592)","v":0},null,null,{"$f":"M592*N563","v":0}]
["4.","ВСЕГО 2-е полугодие",null,null,null,{"$f":"SUM(F590:F592)","v":0},{"$f":"SUM(G590:G592)","v":0},0,{"$f":"H593-SUM('полезный отпуск'!CN20:CN25,'полезный отпуск'!CR20:CR25)","v":0},{"$f":"SUM(J590:J592)","v":0},0,0,{"$f":"SUM(M590:M592)","v":0},null,{"$f":"SUM(O590:O592)","v":0}]
[]
["5.","ГОД ВСЕГО",null,null,null,{"$f":"F560+F593","v":0},{"$f":"G560+G593","v":0},{"$f":"F595+G595","v":0},null,{"$f":"J560+J593","v":0},0,{"$f":"L560+L593","v":0},{"$f":"M560+M593","v":0},null,{"$f":"O560+O593","v":0}]
[]
[null,"МО",{"$f":"'данные об организации'!A20","v":0},{"$f":"'данные об организации'!$F$20","v":0}]
[null,null,null,"(наименование населенного пункта)"]
["№","Вид потребителя","Степень благоустройства, наименование скота","Нормы потребления услуги водоотведения, куб.м. в месяц (на 1 чел)",null,"Фактический годовой объем реализации воды,  куб.м.",null,null,"тариф на водоотведение, руб/куб.м.","Сумма, руб",null,null,"компенсация до установленного тарифа"]
[null,null,null,null,null,"водоотведение",null,"ВСЕГО",null,"водоотведение",null,"ИТОГО"]
[null,null,null,"водоотведение",null,"норматив","прибор учета",null,null,"норматив","прибор учета",null,"объем, куб.м.","размер, руб/куб.м.","Сумма, руб"]
[null,"1-е полугодие 2016 года"]
["1.","Население "]
[{"$f":"IF(A563=\"\",\"\",A563)","v":"1.1."},{"$f":"IF(B563=\"\",\"\",B563)","v":"водоотведение"},"Квартиры с ваннами длиной от 1500 до 1700 мм, оборудованными душами",null,null,null,null,{"$f":"F604+G604","v":0},{"$f":"I530","v":0},{"$f":"F604*$I$604","v":0},{"$f":"G604*$I$604","v":0},{"$f":"SUM(J604:K604)","v":0},null,{"$f":"N530","v":0},{"$f":"M604*N604","v":0}]
[{"$f":"IF(A564=\"\",\"\",A564)","v":"1.2."},"водоотведение","Квартиры  без ванн,  без ГВС и кан-ции",null,null,null,null,0,null,0,0,0,null,null,{"$f":"M605*N604","v":0}]
[{"$f":"IF(A565=\"\",\"\",A565)","v":"1.3."},"водоотведение","Квартиры с ваннами длиной от 1500 до 1700 мм, оборудованными душами",null,null,null,null,0,null,0,0,0,null,null,{"$f":"M606*N604","v":0}]
[{"$f":"IF(A566=\"\",\"\",A566)","v":"1.4."},"водоотведение","Квартиры с  общими душами на этаже",null,null,null,null,0,null,0,0,0,null,null,{"$f":"M607*N604","v":0}]
[{"$f":"IF(A567=\"\",\"\",A567)","v":"1.5."},"водоотведение","Квартиры  с ваннами и местным  ГВС (индивид эл.бойлера)",null,null,null,null,0,null,0,0,0,null,null,{"$f":"M608*N604","v":0}]
[{"$f":"IF(A568=\"\",\"\",A568)","v":"1.6."},"водоотведение","Квартиры  с ваннами и местным  ГВС (общий т/обменник от отопления 252 дня)",null,null,null,null,0,null,0,0,0,null,null,{"$f":"M609*N604","v":0}]
[{"$f":"IF(A569=\"\",\"\",A569)","v":"1.7."},"водоотведение","Квартиры с ваннами длиной от 1500 до 1700 мм, оборудованными душами",null,null,null,null,0,null,0,0,0,null,null,{"$f":"M610*N604","v":0}]
[{"$f":"IF(A570=\"\",\"\",A570)","v":"1.8."},"водоотведение","Квартиры  с ваннами и местным  ГВС (индивид эл.бойлера)",null,null,null,null,0,null,0,0,0,null,null,{"$f":"M611*N604","v":0}]
[{"$f":"IF(A571=\"\",\"\",A571)","v":"1.9."},"водоотведение","Квартиры с ваннами длиной от 1500 до 1700 мм, оборудованными душами",null,null,null,null,0,null,0,0,0,null,null,{"$f":"M612*N604","v":0}]
[{"$f":"IF(A572=\"\",\"\",A572)","v":"1.10."},"водоотведение","Квартиры с ваннами длиной от 1500 до 1700 мм, оборудованными душами",null,null,null,null,0,null,0,0,0,null,null,{"$f":"M613*N604","v":0}]
[{"$f":"IF(A573=\"\",\"\",A573)","v":"1.11."},"водоотведение","Квартиры с ваннами сидячими, оборудованными душами",null,null,null,null,0,null,0,0,0,null,null,{"$f":"M614*N604","v":0}]
[{"$f":"IF(A574=\"\",\"\",A574)","v":"1.12."},"водоотведение","Квартиры с общими душами на этаже",null,null,null,null,0,null,0,0,0,null,null,{"$f":"M615*N604","v":0}]
[{"$f":"IF(A575=\"\",\"\",A575)","v":"1.13."},"водоотведение","Квартиры с ваннами длиной от 1500 до 1700 мм, оборудованными душами",null,null,null,null,0,null,0,0,0,null,null,{"$f":"M616*N604","v":0}]
[{"$f":"IF(A576=\"\",\"\",A576)","v":"1.14."},"водоотведение","Квартиры с ваннами длиной от 1500 до 1700 мм, оборудованными душами",null,null,null,null,0,null,0,0,0,null,null,{"$f":"M617*N604","v":0}]
[{"$f":"IF(A577=\"\",\"\",A577)","v":"1.15."},"водоотведение","Квартиры с общими душами в секции",null,null,null,null,0,null,0,0,0,null,null,{"$f":"M618*N604","v":0}]
[{"$f":"IF(A578=\"\",\"\",A578)","v":"1.16."},"водоотведение","Квартиры с ваннами длиной от 1500 до 1700 мм, оборудованными душами",null,null,null,null,0,null,0,0,0,null,null,{"$f":"M619*N604","v":0}]
[{"$f":"IF(A579=\"\",\"\",A579)","v":"1.17."},"водоотведение","с водопроводом без канализации",null,null,null,null,0,null,0,0,0,null,null,{"$f":"M620*N604","v":0}]
[{"$f":"IF(A580=\"\",\"\",A580)","v":"1.18."},"водоотведение","водопровод, ванны без ГВС и кан-ции",null,null,null,null,0,null,0,0,0,null,null,{"$f":"M621*N604","v":0}]
[{"$f":"IF(A581=\"\",\"\",A581)","v":"1.19."},"водоотведение","с ваннами, оборудованными душами и с канализацией",null,null,null,null,0,null,0,0,0,null,null,{"$f":"M622*N604","v":0}]
[{"$f":"IF(A582=\"\",\"\",A582)","v":"1.20."},"водоотведение","с водопроводом без канализации",null,null,null,null,0,null,0,0,0,null,null,{"$f":"M623*N604","v":0}]
[{"$f":"IF(A583=\"\",\"\",A583)","v":"1.21."},"водоотведение","водопровод, ванны без ГВС и кан-ции",null,null,null,null,0,null,0,0,0,null,null,{"$f":"M624*N604","v":0}]
[{"$f":"IF(A584=\"\",\"\",A584)","v":"1.22."},"водоотведение","с ваннами, оборудованными душами и с канализацией",null,null,null,null,0,null,0,0,0,null,null,{"$f":"M625*N604","v":0}]
[{"$f":"IF(A585=\"\",\"\",A585)","v":"1.23."},"водоотведение","с водопроводом без канализации",null,null,null,null,0,null,0,0,0,null,null,{"$f":"M626*N604","v":0}]
[{"$f":"IF(A586=\"\",\"\",A586)","v":"1.24."},"водоотведение","водопровод, ванны без ГВС и кан-ции",null,null,null,null,0,null,0,0,0,null,null,{"$f":"M627*N604","v":0}]
[{"$f":"IF(A587=\"\",\"\",A587)","v":"1.25."},"водоотведение","с ваннами, оборудованными душами и с канализацией",null,null,null,null,0,null,0,0,0,null,null,{"$f":"M628*N604","v":0}]
[{"$f":"IF(A588=\"\",\"\",A588)","v":""},"","",null,null,null,null,0,null,0,0,0,null,null,{"$f":"M629*N604","v":0}]
[null,"перерасчеты",null,"х","х","х","х","х","контроль","х","х"]
[null,"Итого население",null,null,null,{"$f":"SUM(F604:F629)","v":0},0,{"$f":"F631+G631","v":0},{"$f":"H631-SUM('полезный отпуск'!DG14:DG19)","v":0},{"$f":"SUM(J604:J629)","v":0},0,{"$f":"SUM(L604:L630)","v":0},{"$f":"SUM(M604:M630)","v":0},null,{"$f":"SUM(O604:O630)","v":0}]
["2.","Итого бюджет",null,null,null,null,null,0,{"$f":"H632-SUM('полезный отпуск'!DF14:DF19)","v":0},{"$f":"F632*$I$604","v":0},{"$f":"G632*$I$604","v":0},{"$f":"SUM(J632:K632)","v":0},null,null,{"$f":"M632*N604","v":0}]
["3.","Итого прочие+другие водопроводы",null,null,null,null,null,0,{"$f":"H633-SUM('полезный отпуск'!DA14:DA19,'полезный отпуск'!DH14:DH19)","v":0},{"$f":"F633*$I$604","v":0},{"$f":"G633*$I$604","v":0},{"$f":"SUM(J633:K633)","v":0},null,null,{"$f":"M633*N604","v":0}]
["4.","ВСЕГО 1-е полугодие",null,null,null,{"$f":"SUM(F631:F633)","v":0},{"$f":"SUM(G631:G633)","v":0},0,{"$f":"H634-SUM('полезный отпуск'!DE14:DE19,'полезный отпуск'!DA14:DA19)","v":0},{"$f":"SUM(J631:J633)","v":0},0,0,{"$f":"SUM(M631:M633)","v":0},null,{"$f":"SUM(O631:O633)","v":0}]
[null,"2-е полугодие 2016 года"]
["1.","Население "]
[{"$f":"IF(A604=\"\",\"\",A604)","v":"1.1."},{"$f":"IF(B604=\"\",\"\",B604)","v":"водоотведение"},"Квартиры с ваннами длиной от 1500 до 1700 мм, оборудованными душами",null,null,null,null,{"$f":"F637+G637","v":0},{"$f":"I563","v":0},{"$f":"F637*$I$637","v":0},{"$f":"G637*$I$637","v":0},{"$f":"SUM(J637:K637)","v":0},null,{"$f":"N563","v":0},{"$f":"M637*N637","v":0}]
[{"$f":"IF(A605=\"\",\"\",A605)","v":"1.2."},"водоотведение","Квартиры  без ванн,  без ГВС и кан-ции",null,null,null,null,0,null,0,0,0,null,null,{"$f":"M638*N637","v":0}]
[{"$f":"IF(A606=\"\",\"\",A606)","v":"1.3."},"водоотведение","Квартиры с ваннами длиной от 1500 до 1700 мм, оборудованными душами",null,null,null,null,0,null,0,0,0,null,null,{"$f":"M639*N637","v":0}]
[{"$f":"IF(A607=\"\",\"\",A607)","v":"1.4."},"водоотведение","Квартиры с  общими душами на этаже",null,null,null,null,0,null,0,0,0,null,null,{"$f":"M640*N637","v":0}]
[{"$f":"IF(A608=\"\",\"\",A608)","v":"1.5."},"водоотведение","Квартиры  с ваннами и местным  ГВС (индивид эл.бойлера)",null,null,null,null,0,null,0,0,0,null,null,{"$f":"M641*N637","v":0}]
[{"$f":"IF(A609=\"\",\"\",A609)","v":"1.6."},"водоотведение","Квартиры  с ваннами и местным  ГВС (общий т/обменник от отопления 252 дня)",null,null,null,null,0,null,0,0,0,null,null,{"$f":"M642*N637","v":0}]
[{"$f":"IF(A610=\"\",\"\",A610)","v":"1.7."},"водоотведение","Квартиры с ваннами длиной от 1500 до 1700 мм, оборудованными душами",null,null,null,null,0,null,0,0,0,null,null,{"$f":"M643*N637","v":0}]
[{"$f":"IF(A611=\"\",\"\",A611)","v":"1.8."},"водоотведение","Квартиры  с ваннами и местным  ГВС (индивид эл.бойлера)",null,null,null,null,0,null,0,0,0,null,null,{"$f":"M644*N637","v":0}]
[{"$f":"IF(A612=\"\",\"\",A612)","v":"1.9."},"водоотведение","Квартиры с ваннами длиной от 1500 до 1700 мм, оборудованными душами",null,null,null,null,0,null,0,0,0,null,null,{"$f":"M645*N637","v":0}]
[{"$f":"IF(A613=\"\",\"\",A613)","v":"1.10."},"водоотведение","Квартиры с ваннами длиной от 1500 до 1700 мм, оборудованными душами",null,null,null,null,0,null,0,0,0,null,null,{"$f":"M646*N637","v":0}]
[{"$f":"IF(A614=\"\",\"\",A614)","v":"1.11."},"водоотведение","Квартиры с ваннами сидячими, оборудованными душами",null,null,null,null,0,null,0,0,0,null,null,{"$f":"M647*N637","v":0}]
[{"$f":"IF(A615=\"\",\"\",A615)","v":"1.12."},"водоотведение","Квартиры с общими душами на этаже",null,null,null,null,0,null,0,0,0,null,null,{"$f":"M648*N637","v":0}]
[{"$f":"IF(A616=\"\",\"\",A616)","v":"1.13."},"водоотведение","Квартиры с ваннами длиной от 1500 до 1700 мм, оборудованными душами",null,null,null,null,0,null,0,0,0,null,null,{"$f":"M649*N637","v":0}]
[{"$f":"IF(A617=\"\",\"\",A617)","v":"1.14."},"водоотведение","Квартиры с ваннами длиной от 1500 до 1700 мм, оборудованными душами",null,null,null,null,0,null,0,0,0,null,null,{"$f":"M650*N637","v":0}]
[{"$f":"IF(A618=\"\",\"\",A618)","v":"1.15."},"водоотведение","Квартиры с общими душами в секции",null,null,null,null,0,null,0,0,0,null,null,{"$f":"M651*N637","v":0}]
[{"$f":"IF(A619=\"\",\"\",A619)","v":"1.16."},"водоотведение","Квартиры с ваннами длиной от 1500 до 1700 мм, оборудованными душами",null,null,null,null,0,null,0,0,0,null,null,{"$f":"M652*N637","v":0}]
[{"$f":"IF(A620=\"\",\"\",A620)","v":"1.17."},"водоотведение","с водопроводом без канализации",null,null,null,null,0,null,0,0,0,null,null,{"$f":"M653*N637","v":0}]
[{"$f":"IF(A621=\"\",\"\",A621)","v":"1.18."},"водоотведение","водопровод, ванны без ГВС и кан-ции",null,null,null,null,0,null,0,0,0,null,null,{"$f":"M654*N637","v":0}]
[{"$f":"IF(A622=\"\",\"\",A622)","v":"1.19."},"водоотведение","с ваннами, оборудованными душами и с канализацией",null,null,null,null,0,null,0,0,0,null,null,{"$f":"M655*N637","v":0}]
[{"$f":"IF(A623=\"\",\"\",A623)","v":"1.20."},"водоотведение","с водопроводом без канализации",null,null,null,null,0,null,0,0,0,null,null,{"$f":"M656*N637","v":0}]
[{"$f":"IF(A624=\"\",\"\",A624)","v":"1.21."},"водоотведение","водопровод, ванны без ГВС и кан-ции",null,null,null,null,0,null,0,0,0,null,null,{"$f":"M657*N637","v":0}]
[{"$f":"IF(A625=\"\",\"\",A625)","v":"1.22."},"водоотведение","с ваннами, оборудованными душами и с канализацией",null,null,null,null,0,null,0,0,0,null,null,{"$f":"M658*N637","v":0}]
[{"$f":"IF(A626=\"\",\"\",A626)","v":"1.23."},"водоотведение","с водопроводом без канализации",null,null,null,null,0,null,0,0,0,null,null,{"$f":"M659*N637","v":0}]
[{"$f":"IF(A627=\"\",\"\",A627)","v":"1.24."},"водоотведение","водопровод, ванны без ГВС и кан-ции",null,null,null,null,0,null,0,0,0,null,null,{"$f":"M660*N637","v":0}]
[{"$f":"IF(A628=\"\",\"\",A628)","v":"1.25."},"водоотведение","с ваннами, оборудованными душами и с канализацией",null,null,null,null,0,null,0,0,0,null,null,{"$f":"M661*N637","v":0}]
[{"$f":"IF(A629=\"\",\"\",A629)","v":""},"","",null,null,null,null,0,null,0,0,0,null,null,{"$f":"M662*N637","v":0}]
[null,"перерасчеты",null,"х","х","х","х","х","контроль","х","х"]
[null,"Итого население",null,null,null,{"$f":"SUM(F637:F662)","v":0},0,{"$f":"F664+G664","v":0},{"$f":"H664-SUM('полезный отпуск'!DG20:DG25)","v":0},{"$f":"SUM(J637:J662)","v":0},0,{"$f":"SUM(L637:L663)","v":0},{"$f":"SUM(M637:M663)","v":0},null,{"$f":"SUM(O637:O663)","v":0}]
["2.","Итого бюджет",null,null,null,{"$f":"SUM('полезный отпуск'!DF20:DF25)/4","v":0},{"$f":"F665","v":0},0,{"$f":"H665-SUM('полезный отпуск'!DF20:DF25)","v":0},{"$f":"F665*$I$637","v":0},{"$f":"G665*$I$637","v":0},{"$f":"SUM(J665:K665)","v":0},null,null,{"$f":"M665*N637","v":0}]
["3.","Итого прочие+другие водопроводы",null,null,null,{"$f":"SUM('полезный отпуск'!DH20:DH25,'полезный отпуск'!DA20:DA25)/4","v":0},{"$f":"F666","v":0},0,{"$f":"H666-SUM('полезный отпуск'!DA20:DA25,'полезный отпуск'!DH20:DH25)","v":0},{"$f":"F666*$I$637","v":0},{"$f":"G666*$I$637","v":0},{"$f":"SUM(J666:K666)","v":0},null,null,{"$f":"M666*N637","v":0}]
["4.","ВСЕГО 2-е полугодие",null,null,null,{"$f":"SUM(F664:F666)","v":0},{"$f":"SUM(G664:G666)","v":0},0,{"$f":"H667-SUM('полезный отпуск'!DE20:DE25,'полезный отпуск'!DA20:DA25)","v":0},{"$f":"SUM(J664:J666)","v":0},0,0,{"$f":"SUM(M664:M666)","v":0},null,{"$f":"SUM(O664:O666)","v":0}]
[]
["5.","ГОД ВСЕГО",null,null,null,{"$f":"F634+F667","v":0},{"$f":"G634+G667","v":0},{"$f":"F669+G669","v":0},null,{"$f":"J634+J667","v":0},0,0,{"$f":"M634+M667","v":0},null,{"$f":"O634+O667","v":0}]
[]
[null,"МО",{"$f":"'данные об организации'!A21","v":0},{"$f":"'данные об организации'!$F$21","v":0}]
[null,null,null,"(наименование населенного пункта)"]
["№","Вид потребителя","Степень благоустройства, наименование скота","Нормы потребления услуги водоотведения, куб.м. в месяц (на 1 чел)",null,"Фактический годовой объем реализации воды,  куб.м.",null,null,"тариф на водоотведение, руб/куб.м.","Сумма, руб",null,null,"компенсация до установленного тарифа"]
[null,null,null,null,null,"водоотведение",null,"ВСЕГО",null,"водоотведение",null,"ИТОГО"]
[null,null,null,"водоотведение",null,"норматив","прибор учета",null,null,"норматив","прибор учета",null,"объем, куб.м.","размер, руб/куб.м.","Сумма, руб"]
[null,"1-е полугодие 2016 года"]
["1.","Население "]
[{"$f":"IF(A637=\"\",\"\",A637)","v":"1.1."},{"$f":"IF(B637=\"\",\"\",B637)","v":"водоотведение"},"Квартиры с ваннами длиной от 1500 до 1700 мм, оборудованными душами",null,null,null,null,{"$f":"F678+G678","v":0},{"$f":"I604","v":0},{"$f":"F678*$I$678","v":0},{"$f":"G678*$I$678","v":0},{"$f":"SUM(J678:K678)","v":0},null,{"$f":"N604","v":0},{"$f":"M678*N678","v":0}]
[{"$f":"IF(A638=\"\",\"\",A638)","v":"1.2."},"водоотведение","Квартиры  без ванн,  без ГВС и кан-ции",null,null,null,null,0,null,0,0,0,null,null,{"$f":"M679*N678","v":0}]
[{"$f":"IF(A639=\"\",\"\",A639)","v":"1.3."},"водоотведение","Квартиры с ваннами длиной от 1500 до 1700 мм, оборудованными душами",null,null,null,null,0,null,0,0,0,null,null,{"$f":"M680*N678","v":0}]
[{"$f":"IF(A640=\"\",\"\",A640)","v":"1.4."},"водоотведение","Квартиры с  общими душами на этаже",null,null,null,null,0,null,0,0,0,null,null,{"$f":"M681*N678","v":0}]
[{"$f":"IF(A641=\"\",\"\",A641)","v":"1.5."},"водоотведение","Квартиры  с ваннами и местным  ГВС (индивид эл.бойлера)",null,null,null,null,0,null,0,0,0,null,null,{"$f":"M682*N678","v":0}]
[{"$f":"IF(A642=\"\",\"\",A642)","v":"1.6."},"водоотведение","Квартиры  с ваннами и местным  ГВС (общий т/обменник от отопления 252 дня)",null,null,null,null,0,null,0,0,0,null,null,{"$f":"M683*N678","v":0}]
[{"$f":"IF(A643=\"\",\"\",A643)","v":"1.7."},"водоотведение","Квартиры с ваннами длиной от 1500 до 1700 мм, оборудованными душами",null,null,null,null,0,null,0,0,0,null,null,{"$f":"M684*N678","v":0}]
[{"$f":"IF(A644=\"\",\"\",A644)","v":"1.8."},"водоотведение","Квартиры  с ваннами и местным  ГВС (индивид эл.бойлера)",null,null,null,null,0,null,0,0,0,null,null,{"$f":"M685*N678","v":0}]
[{"$f":"IF(A645=\"\",\"\",A645)","v":"1.9."},"водоотведение","Квартиры с ваннами длиной от 1500 до 1700 мм, оборудованными душами",null,null,null,null,0,null,0,0,0,null,null,{"$f":"M686*N678","v":0}]
[{"$f":"IF(A646=\"\",\"\",A646)","v":"1.10."},"водоотведение","Квартиры с ваннами длиной от 1500 до 1700 мм, оборудованными душами",null,null,null,null,0,null,0,0,0,null,null,{"$f":"M687*N678","v":0}]
[{"$f":"IF(A647=\"\",\"\",A647)","v":"1.11."},"водоотведение","Квартиры с ваннами сидячими, оборудованными душами",null,null,null,null,0,null,0,0,0,null,null,{"$f":"M688*N678","v":0}]
[{"$f":"IF(A648=\"\",\"\",A648)","v":"1.12."},"водоотведение","Квартиры с общими душами на этаже",null,null,null,null,0,null,0,0,0,null,null,{"$f":"M689*N678","v":0}]
[{"$f":"IF(A649=\"\",\"\",A649)","v":"1.13."},"водоотведение","Квартиры с ваннами длиной от 1500 до 1700 мм, оборудованными душами",null,null,null,null,0,null,0,0,0,null,null,{"$f":"M690*N678","v":0}]
[{"$f":"IF(A650=\"\",\"\",A650)","v":"1.14."},"водоотведение","Квартиры с ваннами длиной от 1500 до 1700 мм, оборудованными душами",null,null,null,null,0,null,0,0,0,null,null,{"$f":"M691*N678","v":0}]
[{"$f":"IF(A651=\"\",\"\",A651)","v":"1.15."},"водоотведение","Квартиры с общими душами в секции",null,null,null,null,0,null,0,0,0,null,null,{"$f":"M692*N678","v":0}]
[{"$f":"IF(A652=\"\",\"\",A652)","v":"1.16."},"водоотведение","Квартиры с ваннами длиной от 1500 до 1700 мм, оборудованными душами",null,null,null,null,0,null,0,0,0,null,null,{"$f":"M693*N678","v":0}]
[{"$f":"IF(A653=\"\",\"\",A653)","v":"1.17."},"водоотведение","с водопроводом без канализации",null,null,null,null,0,null,0,0,0,null,null,{"$f":"M694*N678","v":0}]
[{"$f":"IF(A654=\"\",\"\",A654)","v":"1.18."},"водоотведение","водопровод, ванны без ГВС и кан-ции",null,null,null,null,0,null,0,0,0,null,null,{"$f":"M695*N678","v":0}]
[{"$f":"IF(A655=\"\",\"\",A655)","v":"1.19."},"водоотведение","с ваннами, оборудованными душами и с канализацией",null,null,null,null,0,null,0,0,0,null,null,{"$f":"M696*N678","v":0}]
[{"$f":"IF(A656=\"\",\"\",A656)","v":"1.20."},"водоотведение","с водопроводом без канализации",null,null,null,null,0,null,0,0,0,null,null,{"$f":"M697*N678","v":0}]
[{"$f":"IF(A657=\"\",\"\",A657)","v":"1.21."},"водоотведение","водопровод, ванны без ГВС и кан-ции",null,null,null,null,0,null,0,0,0,null,null,{"$f":"M698*N678","v":0}]
[{"$f":"IF(A658=\"\",\"\",A658)","v":"1.22."},"водоотведение","с ваннами, оборудованными душами и с канализацией",null,null,null,null,0,null,0,0,0,null,null,{"$f":"M699*N678","v":0}]
[{"$f":"IF(A659=\"\",\"\",A659)","v":"1.23."},"водоотведение","с водопроводом без канализации",null,null,null,null,0,null,0,0,0,null,null,{"$f":"M700*N678","v":0}]
[{"$f":"IF(A660=\"\",\"\",A660)","v":"1.24."},"водоотведение","водопровод, ванны без ГВС и кан-ции",null,null,null,null,0,null,0,0,0,null,null,{"$f":"M701*N678","v":0}]
[{"$f":"IF(A661=\"\",\"\",A661)","v":"1.25."},"водоотведение","с ваннами, оборудованными душами и с канализацией",null,null,null,null,0,null,0,0,0,null,null,{"$f":"M702*N678","v":0}]
[{"$f":"IF(A662=\"\",\"\",A662)","v":""},"","",null,null,null,null,0,null,0,0,0,null,null,{"$f":"M703*N678","v":0}]
[null,"перерасчеты",null,"х","х","х","х","х","контроль","х","х"]
[null,"Итого население",null,null,null,{"$f":"SUM(F678:F703)","v":0},0,{"$f":"F705+G705","v":0},{"$f":"H705-SUM('полезный отпуск'!DT14:DT19)","v":0},{"$f":"SUM(J678:J703)","v":0},0,{"$f":"SUM(L678:L704)","v":0},{"$f":"SUM(M678:M704)","v":0},null,{"$f":"SUM(O678:O704)","v":0}]
["2.","Итого бюджет",null,null,null,null,null,0,{"$f":"H706-SUM('полезный отпуск'!DS14:DS19)","v":0},{"$f":"F706*$I$678","v":0},{"$f":"G706*$I$678","v":0},{"$f":"SUM(J706:K706)","v":0},null,null,{"$f":"M706*N678","v":0}]
["3.","Итого прочие+другие водопроводы",null,null,null,null,null,0,{"$f":"H707-SUM('полезный отпуск'!DN14:DN19,'полезный отпуск'!DU14:DU19)","v":0},{"$f":"F707*$I$678","v":0},{"$f":"G707*$I$678","v":0},{"$f":"SUM(J707:K707)","v":0},null,null,{"$f":"M707*N678","v":0}]
["4.","ВСЕГО 1-е полугодие",null,null,null,{"$f":"SUM(F705:F707)","v":0},{"$f":"SUM(G705:G707)","v":0},0,{"$f":"H708-SUM('полезный отпуск'!DN14:DN19,'полезный отпуск'!DR14:DR19)","v":0},{"$f":"SUM(J705:J707)","v":0},0,0,{"$f":"SUM(M705:M707)","v":0},null,{"$f":"SUM(O705:O707)","v":0}]
[null,"2-е полугодие 2016 года"]
["1.","Население "]
[{"$f":"IF(A678=\"\",\"\",A678)","v":"1.1."},{"$f":"IF(B678=\"\",\"\",B678)","v":"водоотведение"},"Квартиры с ваннами длиной от 1500 до 1700 мм, оборудованными душами",null,null,null,null,{"$f":"F711+G711","v":0},{"$f":"'данные об организации'!$I$31","v":0},{"$f":"F711*$I$711","v":0},{"$f":"G711*$I$711","v":0},{"$f":"SUM(J711:K711)","v":0},null,{"$f":"N637","v":0},{"$f":"M711*N711","v":0}]
[{"$f":"IF(A679=\"\",\"\",A679)","v":"1.2."},"водоотведение","Квартиры  без ванн,  без ГВС и кан-ции",null,null,null,null,0,null,0,0,0,null,null,{"$f":"M712*N711","v":0}]
[{"$f":"IF(A680=\"\",\"\",A680)","v":"1.3."},"водоотведение","Квартиры с ваннами длиной от 1500 до 1700 мм, оборудованными душами",null,null,null,null,0,null,0,0,0,null,null,{"$f":"M713*N711","v":0}]
[{"$f":"IF(A681=\"\",\"\",A681)","v":"1.4."},"водоотведение","Квартиры с  общими душами на этаже",null,null,null,null,0,null,0,0,0,null,null,{"$f":"M714*N711","v":0}]
[{"$f":"IF(A682=\"\",\"\",A682)","v":"1.5."},"водоотведение","Квартиры  с ваннами и местным  ГВС (индивид эл.бойлера)",null,null,null,null,0,null,0,0,0,null,null,{"$f":"M715*N711","v":0}]
[{"$f":"IF(A683=\"\",\"\",A683)","v":"1.6."},"водоотведение","Квартиры  с ваннами и местным  ГВС (общий т/обменник от отопления 252 дня)",null,null,null,null,0,null,0,0,0,null,null,{"$f":"M716*N711","v":0}]
[{"$f":"IF(A684=\"\",\"\",A684)","v":"1.7."},"водоотведение","Квартиры с ваннами длиной от 1500 до 1700 мм, оборудованными душами",null,null,null,null,0,null,0,0,0,null,null,{"$f":"M717*N711","v":0}]
[{"$f":"IF(A685=\"\",\"\",A685)","v":"1.8."},"водоотведение","Квартиры  с ваннами и местным  ГВС (индивид эл.бойлера)",null,null,null,null,0,null,0,0,0,null,null,{"$f":"M718*N711","v":0}]
[{"$f":"IF(A686=\"\",\"\",A686)","v":"1.9."},"водоотведение","Квартиры с ваннами длиной от 1500 до 1700 мм, оборудованными душами",null,null,null,null,0,null,0,0,0,null,null,{"$f":"M719*N711","v":0}]
[{"$f":"IF(A687=\"\",\"\",A687)","v":"1.10."},"водоотведение","Квартиры с ваннами длиной от 1500 до 1700 мм, оборудованными душами",null,null,null,null,0,null,0,0,0,null,null,{"$f":"M720*N711","v":0}]
[{"$f":"IF(A688=\"\",\"\",A688)","v":"1.11."},"водоотведение","Квартиры с ваннами сидячими, оборудованными душами",null,null,null,null,0,null,0,0,0,null,null,{"$f":"M721*N711","v":0}]
[{"$f":"IF(A689=\"\",\"\",A689)","v":"1.12."},"водоотведение","Квартиры с общими душами на этаже",null,null,null,null,0,null,0,0,0,null,null,{"$f":"M722*N711","v":0}]
[{"$f":"IF(A690=\"\",\"\",A690)","v":"1.13."},"водоотведение","Квартиры с ваннами длиной от 1500 до 1700 мм, оборудованными душами",null,null,null,null,0,null,0,0,0,null,null,{"$f":"M723*N711","v":0}]
[{"$f":"IF(A691=\"\",\"\",A691)","v":"1.14."},"водоотведение","Квартиры с ваннами длиной от 1500 до 1700 мм, оборудованными душами",null,null,null,null,0,null,0,0,0,null,null,{"$f":"M724*N711","v":0}]
[{"$f":"IF(A692=\"\",\"\",A692)","v":"1.15."},"водоотведение","Квартиры с общими душами в секции",null,null,null,null,0,null,0,0,0,null,null,{"$f":"M725*N711","v":0}]
[{"$f":"IF(A693=\"\",\"\",A693)","v":"1.16."},"водоотведение","Квартиры с ваннами длиной от 1500 до 1700 мм, оборудованными душами",null,null,null,null,0,null,0,0,0,null,null,{"$f":"M726*N711","v":0}]
[{"$f":"IF(A694=\"\",\"\",A694)","v":"1.17."},"водоотведение","с водопроводом без канализации",null,null,null,null,0,null,0,0,0,null,null,{"$f":"M727*N711","v":0}]
[{"$f":"IF(A695=\"\",\"\",A695)","v":"1.18."},"водоотведение","водопровод, ванны без ГВС и кан-ции",null,null,null,null,0,null,0,0,0,null,null,{"$f":"M728*N711","v":0}]
[{"$f":"IF(A696=\"\",\"\",A696)","v":"1.19."},"водоотведение","с ваннами, оборудованными душами и с канализацией",null,null,null,null,0,null,0,0,0,null,null,{"$f":"M729*N711","v":0}]
[{"$f":"IF(A697=\"\",\"\",A697)","v":"1.20."},"водоотведение","с водопроводом без канализации",null,null,null,null,0,null,0,0,0,null,null,{"$f":"M730*N711","v":0}]
[{"$f":"IF(A698=\"\",\"\",A698)","v":"1.21."},"водоотведение","водопровод, ванны без ГВС и кан-ции",null,null,null,null,0,null,0,0,0,null,null,{"$f":"M731*N711","v":0}]
[{"$f":"IF(A699=\"\",\"\",A699)","v":"1.22."},"водоотведение","с ваннами, оборудованными душами и с канализацией",null,null,null,null,0,null,0,0,0,null,null,{"$f":"M732*N711","v":0}]
[{"$f":"IF(A700=\"\",\"\",A700)","v":"1.23."},"водоотведение","с водопроводом без канализации",null,null,null,null,0,null,0,0,0,null,null,{"$f":"M733*N711","v":0}]
[{"$f":"IF(A701=\"\",\"\",A701)","v":"1.24."},"водоотведение","водопровод, ванны без ГВС и кан-ции",null,null,null,null,0,null,0,0,0,null,null,{"$f":"M734*N711","v":0}]
[{"$f":"IF(A702=\"\",\"\",A702)","v":"1.25."},"водоотведение","с ваннами, оборудованными душами и с канализацией",null,null,null,null,0,null,0,0,0,null,null,{"$f":"M735*N711","v":0}]
[{"$f":"IF(A703=\"\",\"\",A703)","v":""},"","",null,null,null,null,0,null,0,0,0,null,null,{"$f":"M736*N711","v":0}]
[null,"перерасчеты",null,"х","х","х","х","х","контроль","х","х"]
[null,"Итого население",null,null,null,{"$f":"SUM(F711:F736)","v":0},0,{"$f":"F738+G738","v":0},{"$f":"H738-SUM('полезный отпуск'!DT20:DT25)","v":0},{"$f":"SUM(J711:J736)","v":0},0,{"$f":"SUM(L711:L737)","v":0},{"$f":"SUM(M711:M737)","v":0},null,{"$f":"SUM(O711:O737)","v":0}]
["2.","Итого бюджет",null,null,null,null,null,0,{"$f":"H739-SUM('полезный отпуск'!DS20:DS25)","v":0},{"$f":"F739*$I$711","v":0},{"$f":"G739*$I$711","v":0},{"$f":"SUM(J739:K739)","v":0},null,null,{"$f":"M739*N711","v":0}]
["3.","Итого прочие+другие водопроводы",null,null,null,null,null,0,{"$f":"H740-SUM('полезный отпуск'!DN20:DN25,'полезный отпуск'!DU20:DU25)","v":0},{"$f":"F740*$I$711","v":0},{"$f":"G740*$I$711","v":0},{"$f":"SUM(J740:K740)","v":0},null,null,{"$f":"M740*N711","v":0}]
["4.","ВСЕГО 2-е полугодие",null,null,null,{"$f":"SUM(F738:F740)","v":0},{"$f":"SUM(G738:G740)","v":0},0,{"$f":"H741-SUM('полезный отпуск'!DN20:DN25,'полезный отпуск'!DR20:DR25)","v":0},{"$f":"SUM(J738:J740)","v":0},0,0,{"$f":"SUM(M738:M740)","v":0},null,{"$f":"SUM(O738:O740)","v":0}]
[]
["5.","ГОД ВСЕГО",null,null,null,{"$f":"F708+F741","v":0},{"$f":"G708+G741","v":0},{"$f":"F743+G743","v":0},null,{"$f":"J708+J741","v":0},0,0,{"$f":"M708+M741","v":0},null,{"$f":"O708+O741","v":0}]
[]
[null,"МО",{"$f":"'данные об организации'!A22","v":0},{"$f":"'данные об организации'!$F$22","v":0}]
[null,null,null,"(наименование населенного пункта)"]
["№","Вид потребителя","Степень благоустройства, наименование скота","Нормы потребления услуги водоотведения, куб.м. в месяц (на 1 чел)",null,"Фактический годовой объем реализации воды,  куб.м.",null,null,"тариф на водоотведение, руб/куб.м.","Сумма, руб",null,null,"компенсация до установленного тарифа"]
[null,null,null,null,null,"водоотведение",null,"ВСЕГО",null,"водоотведение",null,"ИТОГО"]
[null,null,null,"водоотведение",null,"норматив","прибор учета",null,null,"норматив","прибор учета",null,"объем, куб.м.","размер, руб/куб.м.","Сумма, руб"]
[null,"1-е полугодие 2016 года"]
["1.","Население "]
[{"$f":"IF(A711=\"\",\"\",A711)","v":"1.1."},{"$f":"IF(B711=\"\",\"\",B711)","v":"водоотведение"},"Квартиры с ваннами длиной от 1500 до 1700 мм, оборудованными душами",null,null,null,null,{"$f":"F752+G752","v":0},{"$f":"I678","v":0},{"$f":"F752*$I$752","v":0},{"$f":"G752*$I$752","v":0},{"$f":"SUM(J752:K752)","v":0},null,{"$f":"N678","v":0},{"$f":"M752*N752","v":0}]
[{"$f":"IF(A712=\"\",\"\",A712)","v":"1.2."},"водоотведение","Квартиры  без ванн,  без ГВС и кан-ции",null,null,null,null,0,null,0,0,0,null,null,{"$f":"M753*N752","v":0}]
[{"$f":"IF(A713=\"\",\"\",A713)","v":"1.3."},"водоотведение","Квартиры с ваннами длиной от 1500 до 1700 мм, оборудованными душами",null,null,null,null,0,null,0,0,0,null,null,{"$f":"M754*N752","v":0}]
[{"$f":"IF(A714=\"\",\"\",A714)","v":"1.4."},"водоотведение","Квартиры с  общими душами на этаже",null,null,null,null,0,null,0,0,0,null,null,{"$f":"M755*N752","v":0}]
[{"$f":"IF(A715=\"\",\"\",A715)","v":"1.5."},"водоотведение","Квартиры  с ваннами и местным  ГВС (индивид эл.бойлера)",null,null,null,null,0,null,0,0,0,null,null,{"$f":"M756*N752","v":0}]
[{"$f":"IF(A716=\"\",\"\",A716)","v":"1.6."},"водоотведение","Квартиры  с ваннами и местным  ГВС (общий т/обменник от отопления 252 дня)",null,null,null,null,0,null,0,0,0,null,null,{"$f":"M757*N752","v":0}]
[{"$f":"IF(A717=\"\",\"\",A717)","v":"1.7."},"водоотведение","Квартиры с ваннами длиной от 1500 до 1700 мм, оборудованными душами",null,null,null,null,0,null,0,0,0,null,null,{"$f":"M758*N752","v":0}]
[{"$f":"IF(A718=\"\",\"\",A718)","v":"1.8."},"водоотведение","Квартиры  с ваннами и местным  ГВС (индивид эл.бойлера)",null,null,null,null,0,null,0,0,0,null,null,{"$f":"M759*N752","v":0}]
[{"$f":"IF(A719=\"\",\"\",A719)","v":"1.9."},"водоотведение","Квартиры с ваннами длиной от 1500 до 1700 мм, оборудованными душами",null,null,null,null,0,null,0,0,0,null,null,{"$f":"M760*N752","v":0}]
[{"$f":"IF(A720=\"\",\"\",A720)","v":"1.10."},"водоотведение","Квартиры с ваннами длиной от 1500 до 1700 мм, оборудованными душами",null,null,null,null,0,null,0,0,0,null,null,{"$f":"M761*N752","v":0}]
[{"$f":"IF(A721=\"\",\"\",A721)","v":"1.11."},"водоотведение","Квартиры с ваннами сидячими, оборудованными душами",null,null,null,null,0,null,0,0,0,null,null,{"$f":"M762*N752","v":0}]
[{"$f":"IF(A722=\"\",\"\",A722)","v":"1.12."},"водоотведение","Квартиры с общими душами на этаже",null,null,null,null,0,null,0,0,0,null,null,{"$f":"M763*N752","v":0}]
[{"$f":"IF(A723=\"\",\"\",A723)","v":"1.13."},"водоотведение","Квартиры с ваннами длиной от 1500 до 1700 мм, оборудованными душами",null,null,null,null,0,null,0,0,0,null,null,{"$f":"M764*N752","v":0}]
[{"$f":"IF(A724=\"\",\"\",A724)","v":"1.14."},"водоотведение","Квартиры с ваннами длиной от 1500 до 1700 мм, оборудованными душами",null,null,null,null,0,null,0,0,0,null,null,{"$f":"M765*N752","v":0}]
[{"$f":"IF(A725=\"\",\"\",A725)","v":"1.15."},"водоотведение","Квартиры с общими душами в секции",null,null,null,null,0,null,0,0,0,null,null,{"$f":"M766*N752","v":0}]
[{"$f":"IF(A726=\"\",\"\",A726)","v":"1.16."},"водоотведение","Квартиры с ваннами длиной от 1500 до 1700 мм, оборудованными душами",null,null,null,null,0,null,0,0,0,null,null,{"$f":"M767*N752","v":0}]
[{"$f":"IF(A727=\"\",\"\",A727)","v":"1.17."},"водоотведение","с водопроводом без канализации",null,null,null,null,0,null,0,0,0,null,null,{"$f":"M768*N752","v":0}]
[{"$f":"IF(A728=\"\",\"\",A728)","v":"1.18."},"водоотведение","водопровод, ванны без ГВС и кан-ции",null,null,null,null,0,null,0,0,0,null,null,{"$f":"M769*N752","v":0}]
[{"$f":"IF(A729=\"\",\"\",A729)","v":"1.19."},"водоотведение","с ваннами, оборудованными душами и с канализацией",null,null,null,null,0,null,0,0,0,null,null,{"$f":"M770*N752","v":0}]
[{"$f":"IF(A730=\"\",\"\",A730)","v":"1.20."},"водоотведение","с водопроводом без канализации",null,null,null,null,0,null,0,0,0,null,null,{"$f":"M771*N752","v":0}]
[{"$f":"IF(A731=\"\",\"\",A731)","v":"1.21."},"водоотведение","водопровод, ванны без ГВС и кан-ции",null,null,null,null,0,null,0,0,0,null,null,{"$f":"M772*N752","v":0}]
[{"$f":"IF(A732=\"\",\"\",A732)","v":"1.22."},"водоотведение","с ваннами, оборудованными душами и с канализацией",null,null,null,null,0,null,0,0,0,null,null,{"$f":"M773*N752","v":0}]
[{"$f":"IF(A733=\"\",\"\",A733)","v":"1.23."},"водоотведение","с водопроводом без канализации",null,null,null,null,0,null,0,0,0,null,null,{"$f":"M774*N752","v":0}]
[{"$f":"IF(A734=\"\",\"\",A734)","v":"1.24."},"водоотведение","водопровод, ванны без ГВС и кан-ции",null,null,null,null,0,null,0,0,0,null,null,{"$f":"M775*N752","v":0}]
[{"$f":"IF(A735=\"\",\"\",A735)","v":"1.25."},"водоотведение","с ваннами, оборудованными душами и с канализацией",null,null,null,null,0,null,0,0,0,null,null,{"$f":"M776*N752","v":0}]
[{"$f":"IF(A736=\"\",\"\",A736)","v":""},"","",null,null,null,null,0,null,0,0,0,null,null,{"$f":"M777*N752","v":0}]
[null,"перерасчеты",null,"х","х","х","х","х","контроль","х","х"]
[null,"Итого население",null,null,null,{"$f":"SUM(F752:F777)","v":0},0,{"$f":"F779+G779","v":0},{"$f":"H779-SUM('полезный отпуск'!EG14:EG19)","v":0},{"$f":"SUM(J752:J777)","v":0},0,{"$f":"SUM(L752:L778)","v":0},{"$f":"SUM(M752:M778)","v":0},null,{"$f":"SUM(O752:O778)","v":0}]
["2.","Итого бюджет",null,null,null,null,null,0,{"$f":"H780-SUM('полезный отпуск'!EF14:EF19)","v":0},{"$f":"F780*$I$752","v":0},{"$f":"G780*$I$752","v":0},{"$f":"SUM(J780:K780)","v":0},null,null,{"$f":"M780*N752","v":0}]
["3.","Итого прочие+другие водопроводы",null,null,null,null,null,0,{"$f":"H781-SUM('полезный отпуск'!EA14:EA19,'полезный отпуск'!EH14:EH19)","v":0},{"$f":"F781*$I$752","v":0},{"$f":"G781*$I$752","v":0},{"$f":"SUM(J781:K781)","v":0},null,null,{"$f":"M781*N752","v":0}]
["4.","ВСЕГО 1-е полугодие",null,null,null,{"$f":"SUM(F779:F781)","v":0},{"$f":"SUM(G779:G781)","v":0},0,{"$f":"H782-SUM('полезный отпуск'!EA14:EA19,'полезный отпуск'!EE14:EE19)","v":0},{"$f":"SUM(J779:J781)","v":0},0,0,{"$f":"SUM(M779:M781)","v":0},null,{"$f":"SUM(O779:O781)","v":0}]
[null,"2-е полугодие 2016 года"]
["1.","Население "]
[{"$f":"IF(A752=\"\",\"\",A752)","v":"1.1."},{"$f":"IF(B752=\"\",\"\",B752)","v":"водоотведение"},"Квартиры с ваннами длиной от 1500 до 1700 мм, оборудованными душами",null,null,null,null,{"$f":"F785+G785","v":0},{"$f":"I711","v":0},{"$f":"F785*$I$785","v":0},{"$f":"G785*$I$785","v":0},{"$f":"SUM(J785:K785)","v":0},null,{"$f":"N711","v":0},{"$f":"M785*N785","v":0}]
[{"$f":"IF(A753=\"\",\"\",A753)","v":"1.2."},"водоотведение","Квартиры  без ванн,  без ГВС и кан-ции",null,null,null,null,0,null,0,0,0,null,null,{"$f":"M786*N785","v":0}]
[{"$f":"IF(A754=\"\",\"\",A754)","v":"1.3."},"водоотведение","Квартиры с ваннами длиной от 1500 до 1700 мм, оборудованными душами",null,null,null,null,0,null,0,0,0,null,null,{"$f":"M787*N785","v":0}]
[{"$f":"IF(A755=\"\",\"\",A755)","v":"1.4."},"водоотведение","Квартиры с  общими душами на этаже",null,null,null,null,0,null,0,0,0,null,null,{"$f":"M788*N785","v":0}]
[{"$f":"IF(A756=\"\",\"\",A756)","v":"1.5."},"водоотведение","Квартиры  с ваннами и местным  ГВС (индивид эл.бойлера)",null,null,null,null,0,null,0,0,0,null,null,{"$f":"M789*N785","v":0}]
[{"$f":"IF(A757=\"\",\"\",A757)","v":"1.6."},"водоотведение","Квартиры  с ваннами и местным  ГВС (общий т/обменник от отопления 252 дня)",null,null,null,null,0,null,0,0,0,null,null,{"$f":"M790*N785","v":0}]
[{"$f":"IF(A758=\"\",\"\",A758)","v":"1.7."},"водоотведение","Квартиры с ваннами длиной от 1500 до 1700 мм, оборудованными душами",null,null,null,null,0,null,0,0,0,null,null,{"$f":"M791*N785","v":0}]
[{"$f":"IF(A759=\"\",\"\",A759)","v":"1.8."},"водоотведение","Квартиры  с ваннами и местным  ГВС (индивид эл.бойлера)",null,null,null,null,0,null,0,0,0,null,null,{"$f":"M792*N785","v":0}]
[{"$f":"IF(A760=\"\",\"\",A760)","v":"1.9."},"водоотведение","Квартиры с ваннами длиной от 1500 до 1700 мм, оборудованными душами",null,null,null,null,0,null,0,0,0,null,null,{"$f":"M793*N785","v":0}]
[{"$f":"IF(A761=\"\",\"\",A761)","v":"1.10."},"водоотведение","Квартиры с ваннами длиной от 1500 до 1700 мм, оборудованными душами",null,null,null,null,0,null,0,0,0,null,null,{"$f":"M794*N785","v":0}]
[{"$f":"IF(A762=\"\",\"\",A762)","v":"1.11."},"водоотведение","Квартиры с ваннами сидячими, оборудованными душами",null,null,null,null,0,null,0,0,0,null,null,{"$f":"M795*N785","v":0}]
[{"$f":"IF(A763=\"\",\"\",A763)","v":"1.12."},"водоотведение","Квартиры с общими душами на этаже",null,null,null,null,0,null,0,0,0,null,null,{"$f":"M796*N785","v":0}]
[{"$f":"IF(A764=\"\",\"\",A764)","v":"1.13."},"водоотведение","Квартиры с ваннами длиной от 1500 до 1700 мм, оборудованными душами",null,null,null,null,0,null,0,0,0,null,null,{"$f":"M797*N785","v":0}]
[{"$f":"IF(A765=\"\",\"\",A765)","v":"1.14."},"водоотведение","Квартиры с ваннами длиной от 1500 до 1700 мм, оборудованными душами",null,null,null,null,0,null,0,0,0,null,null,{"$f":"M798*N785","v":0}]
[{"$f":"IF(A766=\"\",\"\",A766)","v":"1.15."},"водоотведение","Квартиры с общими душами в секции",null,null,null,null,0,null,0,0,0,null,null,{"$f":"M799*N785","v":0}]
[{"$f":"IF(A767=\"\",\"\",A767)","v":"1.16."},"водоотведение","Квартиры с ваннами длиной от 1500 до 1700 мм, оборудованными душами",null,null,null,null,0,null,0,0,0,null,null,{"$f":"M800*N785","v":0}]
[{"$f":"IF(A768=\"\",\"\",A768)","v":"1.17."},"водоотведение","с водопроводом без канализации",null,null,null,null,0,null,0,0,0,null,null,{"$f":"M801*N785","v":0}]
[{"$f":"IF(A769=\"\",\"\",A769)","v":"1.18."},"водоотведение","водопровод, ванны без ГВС и кан-ции",null,null,null,null,0,null,0,0,0,null,null,{"$f":"M802*N785","v":0}]
[{"$f":"IF(A770=\"\",\"\",A770)","v":"1.19."},"водоотведение","с ваннами, оборудованными душами и с канализацией",null,null,null,null,0,null,0,0,0,null,null,{"$f":"M803*N785","v":0}]
[{"$f":"IF(A771=\"\",\"\",A771)","v":"1.20."},"водоотведение","с водопроводом без канализации",null,null,null,null,0,null,0,0,0,null,null,{"$f":"M804*N785","v":0}]
[{"$f":"IF(A772=\"\",\"\",A772)","v":"1.21."},"водоотведение","водопровод, ванны без ГВС и кан-ции",null,null,null,null,0,null,0,0,0,null,null,{"$f":"M805*N785","v":0}]
[{"$f":"IF(A773=\"\",\"\",A773)","v":"1.22."},"водоотведение","с ваннами, оборудованными душами и с канализацией",null,null,null,null,0,null,0,0,0,null,null,{"$f":"M806*N785","v":0}]
[{"$f":"IF(A774=\"\",\"\",A774)","v":"1.23."},"водоотведение","с водопроводом без канализации",null,null,null,null,0,null,0,0,0,null,null,{"$f":"M807*N785","v":0}]
[{"$f":"IF(A775=\"\",\"\",A775)","v":"1.24."},"водоотведение","водопровод, ванны без ГВС и кан-ции",null,null,null,null,0,null,0,0,0,null,null,{"$f":"M808*N785","v":0}]
[{"$f":"IF(A776=\"\",\"\",A776)","v":"1.25."},"водоотведение","с ваннами, оборудованными душами и с канализацией",null,null,null,null,0,null,0,0,0,null,null,{"$f":"M809*N785","v":0}]
[{"$f":"IF(A777=\"\",\"\",A777)","v":""},"","",null,null,null,null,0,null,0,0,0,null,null,{"$f":"M810*N785","v":0}]
[null,"перерасчеты",null,"х","х","х","х","х","контроль","х","х"]
[null,"Итого население",null,null,null,{"$f":"SUM(F785:F810)","v":0},0,{"$f":"F812+G812","v":0},{"$f":"H812-SUM('полезный отпуск'!EG20:EG25)","v":0},{"$f":"SUM(J785:J810)","v":0},0,{"$f":"SUM(L785:L811)","v":0},{"$f":"SUM(M785:M811)","v":0},null,{"$f":"SUM(O785:O811)","v":0}]
["2.","Итого бюджет",null,null,null,null,null,0,{"$f":"H813-SUM('полезный отпуск'!EF20:EF25)","v":0},{"$f":"F813*$I$785","v":0},{"$f":"G813*$I$785","v":0},{"$f":"SUM(J813:K813)","v":0},null,null,{"$f":"M813*N785","v":0}]
["3.","Итого прочие+другие водопроводы",null,null,null,null,null,0,{"$f":"H814-SUM('полезный отпуск'!EA20:EA25,'полезный отпуск'!EH20:EH25)","v":0},{"$f":"F814*$I$785","v":0},{"$f":"G814*$I$785","v":0},{"$f":"SUM(J814:K814)","v":0},null,null,{"$f":"M814*N785","v":0}]
["4.","ВСЕГО 2-е полугодие",null,null,null,{"$f":"SUM(F812:F814)","v":0},{"$f":"SUM(G812:G814)","v":0},0,{"$f":"H815-SUM('полезный отпуск'!EA20:EA25,'полезный отпуск'!EE20:EE25)","v":0},{"$f":"SUM(J812:J814)","v":0},0,0,{"$f":"SUM(M812:M814)","v":0},null,{"$f":"SUM(O812:O814)","v":0}]
[]
["5.","ГОД ВСЕГО",null,null,null,{"$f":"F782+F815","v":0},{"$f":"G782+G815","v":0},{"$f":"F817+G817","v":0},null,{"$f":"J782+J815","v":0},0,0,{"$f":"M782+M815","v":0},null,{"$f":"O782+O815","v":0}]
[]
[]
[]
[]
[]
[]
[]
[]
[]
[]
[]
[]
[]
[]
[]
[]
[]
[]
[]
[]
[]
[]
[]
[]
[]
[]
[]
[]
[]
[]
[]
[]
[]
[]
[]
[]
[]
[]
[]
[]
[]
[]
[]
[]
[]
[]
[]
[]
[]
[]
[]
[]
[]
[]
[]
[]
[]
[]
[]
[]
[]
[]
[]
[]
[]
[]
[]
[]
[]
[]
[]
[]
[]
[]
[]
[]
[]
[]
[]
[]
[]
[]
[]
[]
[]
[]
[]
[]
[]
[]
[]
[]
[]
[]
[]
[]
[]
[]
[]
[]
[]
[]
[]
[]
[]
[]
[]
[]
[]
[]
[]
[]
[]
[]
[]
[]
[]
[]
[]
[]
[]
[]
[]
[]
[]
[]
[]
[]
[]
[]
[]
[]
[]
[]
[]
[]
[]
[]
[]
[]
[]
[]
[]
[]
[]
[]
[]
[]
[]
[]
[]
[]
[]
[]
[]
[]
[]
[]
[]
[null,null,null,null,null,null,null,null,null,null,null,{"$f":"L71/I12","v":{"$error":"#DIV/0!"}}]
[]
[]
[]
[]
[null,"ООО \"Томскводоканал\""]
[null,"Оборотно-сальдовая ведомость по счету 90.01.1.1 за 2015 г."]
[]
[null,"Выводимые данные:","НУ (данные налогового учета)"]
[]
[null,"Счет",null,"Сальдо на начало периода",null,"Обороты за период"]
[null,"Номенклатурные группы",null,"Дебет","Кредит","Дебет","Кредит"]
[null,"90.01.1.1",null,null,null,1437683838.01,1437683838.01]
[null,"<...>",null,null,null,1437683838.01]
[null,"Вода питьевая",null,null,null,null,796281469.13999999]
[null,"Вода техническая",null,null,null,null,27315952.800000001]
[null,"Котельная на ул. Н.Луговой (Горячая вода)",null,null,null,null,210601.01]
[null,"Котельная на ул. Н.Луговой (Тепло)",null,null,null,null,1117986.92]
[null,"Котельная ПВЗ (Горячая вода)",null,null,null,null,1549026.33]
[null,"Котельная ПВЗ (Тепло)",null,null,null,null,6444567.6799999997]
[null,"Стоки",null,null,null,null,604440417.10000002]
[null,"Стоки ЛПК",null,null,null,null,323817.03000000003]
[null,"Итого",null,null,null,1437683838.01,1437683838.01]

{"sheet":"проверка баланса во и реализац","index":10,"n_rows":18,"n_cols":9,"rows_kept":18,"cut":false,"hidden":false,"merged":[[11,0,11,7],[0,0,0,7]]}
["Полезный отпуск"]
[]
["Наименование показателя","ед.изм","баланс ВО","отчет по реализации","22 ЖКХ (сводная)","отклонение баланса ВСН от отчета по реализации","отклонение баланса ВСН от 22 ЖКХ","Комментарии"]
[1,2,3,4,5,"6=3-4","7=3-5",8]
["Полезный отпуск сторонним потребителям всего","куб.м.",{"$f":"SUM(C6:C8)","v":0},{"$f":"SUM(D6:D8)","v":0},null,{"$f":"C5-D5","v":0},{"$f":"C5-E5","v":0}]
["бюджет","куб.м.",{"$f":"'баланс ВО'!E16","v":0},{"$f":"'отчет по реализации'!H40+'отчет по реализации'!H73","v":0},null,{"$f":"C6-D6","v":0},{"$f":"C6-E6","v":0}]
["население","куб.м.",{"$f":"'баланс ВО'!E17","v":0},{"$f":"'отчет по реализации'!H39+'отчет по реализации'!H72","v":0},null,0,0]
["прочие","куб.м.",{"$f":"'баланс ВО'!E18+'баланс ВО'!E19","v":0},{"$f":"'отчет по реализации'!H74+'отчет по реализации'!H41","v":0},{"$f":"E5-E6-E7","v":0},0,0]
[]
[]
[]
["Товарная продукция"]
[]
["Наименование показателя","ед.изм","баланс ВО (расчет)","отчет по реализации","22 ЖКХ (сводная)","90.01 счет (без НДС)","отклонение отчета по реализации от 90.01","отклонение отчета по реализации от баланса ВО","Комментарии"]
[1,2,3,4,5,6,"7=4-6","8=4-3",9]
["Реализация услуги водоотведения с учетом пересчетов всего","руб",{"$f":"C18+C17","v":0},{"$f":"'отчет по реализации'!L77","v":0},null,null,{"$f":"D16-F16","v":0},{"$f":"D16-C16","v":0}]
["в том числе перерасчеты","руб",{"$f":"'отчет по реализации'!L38+'отчет по реализации'!L71","v":0},{"$f":"'отчет по реализации'!L38+'отчет по реализации'!L71","v":0},"х","х","х","х"]
["реализация услуги водоотведения","руб",{"$f":"SUM('полезный отпуск'!D14:E19)*'данные об организации'!I29+SUM('полезный отпуск'!D20:E25)*'данные об организации'!I31","v":0},"х","х","х","х","х"]

{"sheet":"отчет по электроэнергии","index":11,"n_rows":97,"n_cols":71,"rows_kept":97,"cut":false,"hidden":false,"merged":[[7,66,7,70],[8,56,9,56],[8,57,8,60],[39,0,39,1],[38,0,38,1],[7,51,7,55],[8,51,9,51],[8,52,8,55],[7,56,7,60],[7,61,7,65],[8,41,9,41],[8,61,9,61],[8,62,8,65],[8,66,9,66],[8,67,8,70],[8,46,9,46],[0,0,0,15],[1,0,1,15],[2,0,2,15],[5,0,5,12],[6,2,9,2],[4,2,4,7],[3,2,3,10],[8,4,9,4],[8,7,8,10],[7,11,7,15],[8,11,9,11],[8,12,8,15],[6,1,9,1],[6,0,9,0],[7,3,7,10],[8,47,8,50],[7,21,7,25],[7,26,7,30],[7,31,7,35],[7,36,7,40],[8,21,9,21],[8,22,8,25],[8,36,9,36],[8,37,8,40],[76,3,79,6],[6,3,6,10],[6,11,6,70],[8,3,9,3],[8,5,8,6],[60,7,60,10],[8,26,9,26],[8,27,8,30],[7,41,7,45],[7,46,7,50],[8,31,9,31],[8,32,8,35],[7,16,7,20],[8,16,9,16],[8,17,8,20],[8,42,8,45],[60,1,61,1],[60,0,61,0],[58,0,58,2],[71,3,71,6],[72,3,75,6],[60,2,61,2],[84,3,84,6],[84,7,84,10],[84,0,85,0],[84,1,85,1],[84,2,85,2]]}
["Отчет по стоимости и объему потребленной электроэнергии и мощности"]
[{"$f":"Титульный!C10","v":" "}]
[{"$f":"Титульный!C19","v":0}]
[null,null,"имущество, переданное по договору аренды или принадлежащее на праве собственности"]
[null,"Район",{"$f":"Титульный!C6","v":0},null,null,null,null,null,null,"МО",{"$f":"Титульный!C7","v":0}]
[]
["№ п/п","Наименование направления расхода электрической энергии","Ед.изм","ВСЕГО по тарифу",null,null,null,null,null,null,null,"период"]
[null,null,null,"2016 год всего",null,null,null,null,null,null,null,"январь",null,null,null,null,"февраль",null,null,null,null,"март",null,null,null,null,"апрель",null,null,null,null,"май",null,null,null,null,"июнь",null,null,null,null,"июль",null,null,null,null,"август",null,null,null,null,"сентябрь",null,null,null,null,"октябрь",null,null,null,null,"ноябрь",null,null,null,null,"декабрь"]
[null,null,null,"план ДТР ТО","всего факт по данным организации","отклонение",null,"в том числе по уровням напряжения",null,null,null,"всего","в том числе по уровням напряжения",null,null,null,"всего","в том числе по уровням напряжения",null,null,null,"всего","в том числе по уровням напряжения",null,null,null,"всего","в том числе по уровням напряжения",null,null,null,"всего","в том числе по уровням напряжения",null,null,null,"всего","в том числе по уровням напряжения",null,null,null,"всего","в том числе по уровням напряжения",null,null,null,"всего","в том числе по уровням напряжения",null,null,null,"всего","в том числе по уровням напряжения",null,null,null,"всего","в том числе по уровням напряжения",null,null,null,"всего","в том числе по уровням напряжения",null,null,null,"всего","в том числе по уровням напряжения"]
[null,null,null,null,null,"абс.","%","ВН","СН1","СН2","НН",null,"ВН","СН1","СН2","НН",null,"ВН","СН1","СН2","НН",null,"ВН","СН1","СН2","НН",null,"ВН","СН1","СН2","НН",null,"ВН","СН1","СН2","НН",null,"ВН","СН1","СН2","НН",null,"ВН","СН1","СН2","НН",null,"ВН","СН1","СН2","НН",null,"ВН","СН1","СН2","НН",null,"ВН","СН1","СН2","НН",null,"ВН","СН1","СН2","НН",null,"ВН","СН1","СН2","НН"]
["I.","ВСЕГО стоимость покупной электроэнергии и мощности","руб",{"$f":"'исходные данные'!D52","v":0},{"$f":"SUM(H11:K11)","v":0},{"$f":"E11-D11","v":0},{"$f":"IF(D11=0,\"\",F11/D11*100)","v":""},{"$f":"H15+H23","v":0},{"$f":"I15+I23","v":0},{"$f":"J15+J23","v":0},{"$f":"K15+K23","v":0},{"$f":"SUM(M11:P11)","v":0},{"$f":"M15+M23","v":0},{"$f":"N15+N23","v":0},{"$f":"O15+O23","v":0},{"$f":"P15+P23","v":0},{"$f":"SUM(R11:U11)","v":0},{"$f":"R15+R23","v":0},{"$f":"S15+S23","v":0},{"$f":"T15+T23","v":0},{"$f":"U15+U23","v":0},{"$f":"SUM(W11:Z11)","v":0},{"$f":"W15+W23","v":0},{"$f":"X15+X23","v":0},{"$f":"Y15+Y23","v":0},{"$f":"Z15+Z23","v":0},{"$f":"SUM(AB11:AE11)","v":0},{"$f":"AB15+AB23","v":0},{"$f":"AC15+AC23","v":0},{"$f":"AD15+AD23","v":0},{"$f":"AE15+AE23","v":0},{"$f":"SUM(AG11:AJ11)","v":0},{"$f":"AG15+AG23","v":0},{"$f":"AH15+AH23","v":0},{"$f":"AI15+AI23","v":0},{"$f":"AJ15+AJ23","v":0},{"$f":"SUM(AL11:AO11)","v":0},{"$f":"AL15+AL23","v":0},{"$f":"AM15+AM23","v":0},{"$f":"AN15+AN23","v":0},{"$f":"AO15+AO23","v":0},{"$f":"SUM(AQ11:AT11)","v":0},{"$f":"AQ15+AQ23","v":0},{"$f":"AR15+AR23","v":0},{"$f":"AS15+AS23","v":0},{"$f":"AT15+AT23","v":0},{"$f":"SUM(AV11:AY11)","v":0},{"$f":"AV15+AV23","v":0},{"$f":"AW15+AW23","v":0},{"$f":"AX15+AX23","v":0},{"$f":"AY15+AY23","v":0},{"$f":"SUM(BA11:BD11)","v":0},{"$f":"BA15+BA23","v":0},{"$f":"BB15+BB23","v":0},{"$f":"BC15+BC23","v":0},{"$f":"BD15+BD23","v":0},{"$f":"SUM(BF11:BI11)","v":0},{"$f":"BF15+BF23","v":0},{"$f":"BG15+BG23","v":0},{"$f":"BH15+BH23","v":0},{"$f":"BI15+BI23","v":0},{"$f":"SUM(BK11:BN11)","v":0},{"$f":"BK15+BK23","v":0},{"$f":"BL15+BL23","v":0},{"$f":"BM15+BM23","v":0},{"$f":"BN15+BN23","v":0},{"$f":"SUM(BP11:BS11)","v":0},{"$f":"BP15+BP23","v":0},{"$f":"BQ15+BQ23","v":0},{"$f":"BR15+BR23","v":0},{"$f":"BS15+BS23","v":0}]
[null,"всего  объем  электроэнергии","кВт.ч",{"$f":"D17+D33","v":0},{"$f":"E17+E33","v":0},{"$f":"E12-D12","v":0},{"$f":"IF(D12=0,\"\",F12/D12*100)","v":""},{"$f":"H17+H33","v":0},0,0,0,0,0,0,0,0,0,0,0,0,0,0,0,0,0,0,0,0,0,0,0,0,0,0,0,0,0,0,0,0,0,0,0,0,0,0,0,0,0,0,0,0,0,0,0,0,0,0,0,0,0,0,0,0,0,0,0,0,0,0,0]
[null,"одноставочный тариф с учетом платы за мощность","руб./кВт.ч",{"$f":"IF(D12=0,0,D11/D12)","v":0},{"$f":"IF(E12=0,0,E11/E12)","v":0},0,"",{"$f":"IF(H12=0,0,H11/H12)","v":0},0,0,0,0,0,0,0,0,0,0,0,0,0,0,0,0,0,0,0,0,0,0,0,0,0,0,0,0,0,0,0,0,0,0,0,0,0,0,0,0,0,0,0,0,0,0,0,0,0,0,0,0,0,0,0,0,0,0,0,0,0,0,0]
[]
["II.","Покупная электроэнергия по одноставочному тарифу","руб",{"$f":"'исходные данные'!D54","v":0},{"$f":"SUM(H15:K15)","v":0},{"$f":"E15-D15","v":0},{"$f":"IF(D15=0,\"\",F15/D15*100)","v":""},{"$f":"M15+R15+W15+AB15+AG15+AL15+AQ15+AV15+BA15+BF15+BK15+BP15","v":0},{"$f":"N15+S15+X15+AC15+AH15+AM15+AR15+AW15+BB15+BG15+BL15+BQ15","v":0},0,0,{"$f":"SUM(M15:P15)","v":0},{"$f":"M16*M17","v":0},{"$f":"N16*N17","v":0},0,0,{"$f":"SUM(R15:U15)","v":0},{"$f":"R16*R17","v":0},{"$f":"S16*S17","v":0},{"$f":"T16*T17","v":0},{"$f":"U16*U17","v":0},{"$f":"SUM(W15:Z15)","v":0},{"$f":"W16*W17","v":0},{"$f":"X16*X17","v":0},{"$f":"Y16*Y17","v":0},{"$f":"Z16*Z17","v":0},{"$f":"SUM(AB15:AE15)","v":0},{"$f":"AB16*AB17","v":0},{"$f":"AC16*AC17","v":0},{"$f":"AD16*AD17","v":0},{"$f":"AE16*AE17","v":0},{"$f":"SUM(AG15:AJ15)","v":0},{"$f":"AG16*AG17","v":0},{"$f":"AH16*AH17","v":0},{"$f":"AI16*AI17","v":0},{"$f":"AJ16*AJ17","v":0},{"$f":"SUM(AL15:AO15)","v":0},{"$f":"AL16*AL17","v":0},{"$f":"AM16*AM17","v":0},{"$f":"AN16*AN17","v":0},{"$f":"AO16*AO17","v":0},{"$f":"SUM(AQ15:AT15)","v":0},{"$f":"AQ16*AQ17","v":0},{"$f":"AR16*AR17","v":0},{"$f":"AS16*AS17","v":0},{"$f":"AT16*AT17","v":0},{"$f":"SUM(AV15:AY15)","v":0},{"$f":"AV16*AV17","v":0},{"$f":"AW16*AW17","v":0},{"$f":"AX16*AX17","v":0},{"$f":"AY16*AY17","v":0},{"$f":"SUM(BA15:BD15)","v":0},{"$f":"BA16*BA17","v":0},{"$f":"BB16*BB17","v":0},{"$f":"BC16*BC17","v":0},{"$f":"BD16*BD17","v":0},{"$f":"SUM(BF15:BI15)","v":0},{"$f":"BF16*BF17","v":0},{"$f":"BG16*BG17","v":0},{"$f":"BH16*BH17","v":0},{"$f":"BI16*BI17","v":0},{"$f":"SUM(BK15:BN15)","v":0},{"$f":"BK16*BK17","v":0},{"$f":"BL16*BL17","v":0},{"$f":"BM16*BM17","v":0},{"$f":"BN16*BN17","v":0},{"$f":"SUM(BP15:BS15)","v":0},{"$f":"BP16*BP17","v":0},{"$f":"BQ16*BQ17","v":0},{"$f":"BR16*BR17","v":0},{"$f":"BS16*BS17","v":0}]
["1.","Тариф на электроэнергию","руб./кВт.ч",{"$f":"'исходные данные'!D55","v":0},{"$f":"IF(E17=0,0,E15/E17)","v":0},0,"",0,0,0,0,{"$f":"IF(L17=0,0,L15/L17)","v":0},null,null,null,null,{"$f":"IF(Q17=0,0,Q15/Q17)","v":0},null,null,null,null,{"$f":"IF(V17=0,0,V15/V17)","v":0},null,null,null,null,{"$f":"IF(AA17=0,0,AA15/AA17)","v":0},null,null,null,null,{"$f":"IF(AF17=0,0,AF15/AF17)","v":0},null,null,null,null,{"$f":"IF(AK17=0,0,AK15/AK17)","v":0},null,null,null,null,{"$f":"IF(AP17=0,0,AP15/AP17)","v":0},null,null,null,null,{"$f":"IF(AU17=0,0,AU15/AU17)","v":0},null,null,null,null,{"$f":"IF(AZ17=0,0,AZ15/AZ17)","v":0},null,null,null,null,{"$f":"IF(BE17=0,0,BE15/BE17)","v":0},null,null,null,null,{"$f":"IF(BJ17=0,0,BJ15/BJ17)","v":0},null,null,null,null,{"$f":"IF(BO17=0,0,BO15/BO17)","v":0}]
["2.","Объем электроэнергии всего","кВт.ч",{"$f":"'исходные данные'!D56","v":0},{"$f":"SUM(E19:E21)","v":0},0,"",{"$f":"SUM(H19:H21)","v":0},0,0,0,0,0,0,0,0,0,0,0,0,0,0,0,0,0,0,0,0,0,0,0,0,0,0,0,0,0,0,0,0,0,0,0,0,0,0,0,0,0,0,0,0,0,0,0,0,0,0,0,0,0,0,0,0,0,0,0,0,0,0,0]
[null,"в том числе:","кВт.ч"]
[]
["2.1.","Очистка стоков"," кВт.ч",null,{"$f":"H20+I20+J20+K20","v":0},{"$f":"E20-D20","v":0},{"$f":"IF(D20=0,\"\",F20/D20*100)","v":""},{"$f":"M20+R20+W20+AB20+AG20+AL20+AQ20+AV20+BA20+BF20+BK20+BP20","v":0},{"$f":"N20+S20+X20+AC20+AH20+AM20+AR20+AW20+BB20+BG20+BL20+BQ20","v":0},{"$f":"O20+T20+Y20+AD20+AI20+AN20+AS20+AX20+BC20+BH20+BM20+BR20","v":0},{"$f":"P20+U20+Z20+AE20+AJ20+AO20+AT20+AY20+BD20+BI20+BN20+BS20","v":0},{"$f":"M20+N20+O20+P20","v":0},null,null,null,null,{"$f":"R20+S20+T20+U20","v":0},null,null,null,null,{"$f":"W20+X20+Y20+Z20","v":0},null,null,null,null,{"$f":"AB20+AC20+AD20+AE20","v":0},null,null,null,null,{"$f":"AG20+AH20+AI20+AJ20","v":0},null,null,null,null,{"$f":"AL20+AM20+AN20+AO20","v":0},null,null,null,null,{"$f":"AQ20+AR20+AS20+AT20","v":0},null,null,null,null,{"$f":"AV20+AW20+AX20+AY20","v":0},null,null,null,null,{"$f":"BA20+BB20+BC20+BD20","v":0},null,null,null,null,{"$f":"BF20+BG20+BH20+BI20","v":0},null,null,null,null,{"$f":"BK20+BL20+BM20+BN20","v":0},null,null,null,null,{"$f":"BP20+BQ20+BR20+BS20","v":0}]
["2.2.","Прием и транспортировка стоков"," кВт.ч",null,0,0,"",0,0,0,0,0,null,null,null,null,0,null,null,null,null,0,null,null,null,null,0,null,null,null,null,0,null,null,null,null,0,null,null,null,null,0,null,null,null,null,0,null,null,null,null,0,null,null,null,null,0,null,null,null,null,0,null,null,null,null,0]
[]
["III.","Покупная электроэнергия по двухставочному тарифу","руб",{"$f":"'исходные данные'!D71","v":0},{"$f":"SUM(H23:K23)","v":0},{"$f":"E23-D23","v":0},{"$f":"IF(D23=0,\"\",F23/D23*100)","v":""},{"$f":"H24+H31","v":0},{"$f":"I24+I31","v":0},{"$f":"J24+J31","v":0},{"$f":"K24+K31","v":0},{"$f":"SUM(M23:P23)","v":0},{"$f":"M24+M31","v":0},{"$f":"N24+N31","v":0},{"$f":"O24+O31","v":0},{"$f":"P24+P31","v":0},{"$f":"SUM(R23:U23)","v":0},{"$f":"R24+R31","v":0},{"$f":"S24+S31","v":0},{"$f":"T24+T31","v":0},{"$f":"U24+U31","v":0},{"$f":"SUM(W23:Z23)","v":0},{"$f":"W24+W31","v":0},{"$f":"X24+X31","v":0},{"$f":"Y24+Y31","v":0},{"$f":"Z24+Z31","v":0},{"$f":"SUM(AB23:AE23)","v":0},{"$f":"AB24+AB31","v":0},{"$f":"AC24+AC31","v":0},{"$f":"AD24+AD31","v":0},{"$f":"AE24+AE31","v":0},{"$f":"SUM(AG23:AJ23)","v":0},{"$f":"AG24+AG31","v":0},{"$f":"AH24+AH31","v":0},{"$f":"AI24+AI31","v":0},{"$f":"AJ24+AJ31","v":0},{"$f":"SUM(AL23:AO23)","v":0},{"$f":"AL24+AL31","v":0},{"$f":"AM24+AM31","v":0},{"$f":"AN24+AN31","v":0},{"$f":"AO24+AO31","v":0},{"$f":"SUM(AQ23:AT23)","v":0},{"$f":"AQ24+AQ31","v":0},{"$f":"AR24+AR31","v":0},{"$f":"AS24+AS31","v":0},{"$f":"AT24+AT31","v":0},{"$f":"SUM(AV23:AY23)","v":0},{"$f":"AV24+AV31","v":0},{"$f":"AW24+AW31","v":0},{"$f":"AX24+AX31","v":0},{"$f":"AY24+AY31","v":0},{"$f":"SUM(BA23:BD23)","v":0},{"$f":"BA24+BA31","v":0},{"$f":"BB24+BB31","v":0},{"$f":"BC24+BC31","v":0},{"$f":"BD24+BD31","v":0},{"$f":"SUM(BF23:BI23)","v":0},{"$f":"BF24+BF31","v":0},{"$f":"BG24+BG31","v":0},{"$f":"BH24+BH31","v":0},{"$f":"BI24+BI31","v":0},{"$f":"SUM(BK23:BN23)","v":0},{"$f":"BK24+BK31","v":0},{"$f":"BL24+BL31","v":0},{"$f":"BM24+BM31","v":0},{"$f":"BN24+BN31","v":0},{"$f":"SUM(BP23:BS23)","v":0},{"$f":"BP24+BP31","v":0},{"$f":"BQ24+BQ31","v":0},{"$f":"BR24+BR31","v":0},{"$f":"BS24+BS31","v":0}]
["1.","Мощность","руб",{"$f":"'исходные данные'!D72","v":0},{"$f":"H24+I24+J24+K24","v":0},0,"",{"$f":"M24+R24+W24+AB24+AG24+AL24+AQ24+AV24+BA24+BF24+BK24+BP24","v":0},{"$f":"N24+S24+X24+AC24+AH24+AM24+AR24+AW24+BB24+BG24+BL24+BQ24","v":0},{"$f":"O24+T24+Y24+AD24+AI24+AN24+AS24+AX24+BC24+BH24+BM24+BR24","v":0},{"$f":"P24+U24+Z24+AE24+AJ24+AO24+AT24+AY24+BD24+BI24+BN24+BS24","v":0},{"$f":"SUM(M24:P24)","v":0},{"$f":"M25*M26","v":0},{"$f":"N25*N26","v":0},0,0,{"$f":"SUM(R24:U24)","v":0},{"$f":"R25*R26","v":0},{"$f":"S25*S26","v":0},{"$f":"T25*T26","v":0},{"$f":"U25*U26","v":0},{"$f":"SUM(W24:Z24)","v":0},{"$f":"W25*W26","v":0},{"$f":"X25*X26","v":0},{"$f":"Y25*Y26","v":0},{"$f":"Z25*Z26","v":0},{"$f":"SUM(AB24:AE24)","v":0},{"$f":"AB25*AB26","v":0},{"$f":"AC25*AC26","v":0},{"$f":"AD25*AD26","v":0},{"$f":"AE25*AE26","v":0},{"$f":"SUM(AG24:AJ24)","v":0},{"$f":"AG25*AG26","v":0},{"$f":"AH25*AH26","v":0},{"$f":"AI25*AI26","v":0},{"$f":"AJ25*AJ26","v":0},{"$f":"SUM(AL24:AO24)","v":0},{"$f":"AL25*AL26","v":0},{"$f":"AM25*AM26","v":0},{"$f":"AN25*AN26","v":0},{"$f":"AO25*AO26","v":0},{"$f":"SUM(AQ24:AT24)","v":0},{"$f":"AQ25*AQ26","v":0},{"$f":"AR25*AR26","v":0},{"$f":"AS25*AS26","v":0},{"$f":"AT25*AT26","v":0},{"$f":"SUM(AV24:AY24)","v":0},{"$f":"AV25*AV26","v":0},{"$f":"AW25*AW26","v":0},{"$f":"AX25*AX26","v":0},{"$f":"AY25*AY26","v":0},{"$f":"SUM(BA24:BD24)","v":0},{"$f":"BA25*BA26","v":0},{"$f":"BB25*BB26","v":0},{"$f":"BC25*BC26","v":0},{"$f":"BD25*BD26","v":0},{"$f":"SUM(BF24:BI24)","v":0},{"$f":"BF25*BF26","v":0},{"$f":"BG25*BG26","v":0},{"$f":"BH25*BH26","v":0},{"$f":"BI25*BI26","v":0},{"$f":"SUM(BK24:BN24)","v":0},{"$f":"BK25*BK26","v":0},{"$f":"BL25*BL26","v":0},{"$f":"BM25*BM26","v":0},{"$f":"BN25*BN26","v":0},{"$f":"SUM(BP24:BS24)","v":0},{"$f":"BP25*BP26","v":0},{"$f":"BQ25*BQ26","v":0},{"$f":"BR25*BR26","v":0},{"$f":"BS25*BS26","v":0}]
["1.1.","Тариф на мощность","руб/кВт",{"$f":"IF(D26=0,0,D24/D26)","v":0},0,0,"",{"$f":"IF(H26=0,0,H24/H26)","v":0},{"$f":"IF(I26=0,0,I24/I26)","v":0},{"$f":"IF(J26=0,0,J24/J26)","v":0},{"$f":"IF(K26=0,0,K24/K26)","v":0},{"$f":"IF(L26=0,0,L24/L26)","v":0},null,null,null,null,{"$f":"IF(Q26=0,0,Q24/Q26)","v":0},null,null,null,null,{"$f":"IF(V26=0,0,V24/V26)","v":0},null,null,null,null,{"$f":"IF(AA26=0,0,AA24/AA26)","v":0},null,null,null,null,{"$f":"IF(AF26=0,0,AF24/AF26)","v":0},null,null,null,null,{"$f":"IF(AK26=0,0,AK24/AK26)","v":0},null,null,null,null,{"$f":"IF(AP26=0,0,AP24/AP26)","v":0},null,null,null,null,{"$f":"IF(AU26=0,0,AU24/AU26)","v":0},null,null,null,null,{"$f":"IF(AZ26=0,0,AZ24/AZ26)","v":0},null,null,null,null,{"$f":"IF(BE26=0,0,BE24/BE26)","v":0},null,null,null,null,{"$f":"IF(BJ26=0,0,BJ24/BJ26)","v":0},null,null,null,null,{"$f":"IF(BO26=0,0,BO24/BO26)","v":0}]
["1.2.","Объем мощности всего","кВт",{"$f":"('исходные данные'!D75+'исходные данные'!D78+'исходные данные'!D81+'исходные данные'!D84)*12","v":0},{"$f":"SUM(E28:E30)","v":0},0,"",{"$f":"SUM(H28:H30)","v":0},0,0,0,0,0,0,0,0,0,0,0,0,0,0,0,0,0,0,0,0,0,0,0,0,0,0,0,0,0,0,0,0,0,0,0,0,0,0,0,0,0,0,0,0,0,0,0,0,0,0,0,0,0,0,0,0,0,0,0,0,0,0,0]
[null,"в том числе:","кВт "]
[]
["2.1.","Очистка стоков","кВт ",null,{"$f":"H29+I29+J29+K29","v":0},{"$f":"E29-D29","v":0},{"$f":"IF(D29=0,\"\",F29/D29*100)","v":""},{"$f":"M29+R29+W29+AB29+AG29+AL29+AQ29+AV29+BA29+BF29+BK29+BP29","v":0},{"$f":"N29+S29+X29+AC29+AH29+AM29+AR29+AW29+BB29+BG29+BL29+BQ29","v":0},{"$f":"O29+T29+Y29+AD29+AI29+AN29+AS29+AX29+BC29+BH29+BM29+BR29","v":0},{"$f":"P29+U29+Z29+AE29+AJ29+AO29+AT29+AY29+BD29+BI29+BN29+BS29","v":0},{"$f":"M29+N29+O29+P29","v":0},null,null,null,null,{"$f":"R29+S29+T29+U29","v":0},null,null,null,null,{"$f":"W29+X29+Y29+Z29","v":0},null,null,null,null,{"$f":"AB29+AC29+AD29+AE29","v":0},null,null,null,null,{"$f":"AG29+AH29+AI29+AJ29","v":0},null,null,null,null,{"$f":"AL29+AM29+AN29+AO29","v":0},null,null,null,null,{"$f":"AQ29+AR29+AS29+AT29","v":0},null,null,null,null,{"$f":"AV29+AW29+AX29+AY29","v":0},null,null,null,null,{"$f":"BA29+BB29+BC29+BD29","v":0},null,null,null,null,{"$f":"BF29+BG29+BH29+BI29","v":0},null,null,null,null,{"$f":"BK29+BL29+BM29+BN29","v":0},null,null,null,null,{"$f":"BP29+BQ29+BR29+BS29","v":0}]
["2.2.","Прием и транспортировка стоков","кВт ",null,0,0,"",0,0,0,0,0,null,null,null,null,0,null,null,null,null,0,null,null,null,null,0,null,null,null,null,0,null,null,null,null,0,null,null,null,null,0,null,null,null,null,0,null,null,null,null,0,null,null,null,null,0,null,null,null,null,0,null,null,null,null,0]
["2.","Активная электроэнергия","руб",{"$f":"'исходные данные'!D86","v":0},{"$f":"H31+I31+J31+K31","v":0},0,"",{"$f":"M31+R31+W31+AB31+AG31+AL31+AQ31+AV31+BA31+BF31+BK31+BP31","v":0},{"$f":"N31+S31+X31+AC31+AH31+AM31+AR31+AW31+BB31+BG31+BL31+BQ31","v":0},{"$f":"O31+T31+Y31+AD31+AI31+AN31+AS31+AX31+BC31+BH31+BM31+BR31","v":0},{"$f":"P31+U31+Z31+AE31+AJ31+AO31+AT31+AY31+BD31+BI31+BN31+BS31","v":0},{"$f":"SUM(M31:P31)","v":0},{"$f":"M32*M33","v":0},{"$f":"N32*N33","v":0},0,0,{"$f":"SUM(R31:U31)","v":0},{"$f":"R32*R33","v":0},{"$f":"S32*S33","v":0},{"$f":"T32*T33","v":0},{"$f":"U32*U33","v":0},{"$f":"SUM(W31:Z31)","v":0},{"$f":"W32*W33","v":0},{"$f":"X32*X33","v":0},{"$f":"Y32*Y33","v":0},{"$f":"Z32*Z33","v":0},{"$f":"SUM(AB31:AE31)","v":0},{"$f":"AB32*AB33","v":0},{"$f":"AC32*AC33","v":0},{"$f":"AD32*AD33","v":0},{"$f":"AE32*AE33","v":0},{"$f":"SUM(AG31:AJ31)","v":0},{"$f":"AG32*AG33","v":0},{"$f":"AH32*AH33","v":0},{"$f":"AI32*AI33","v":0},{"$f":"AJ32*AJ33","v":0},{"$f":"SUM(AL31:AO31)","v":0},{"$f":"AL32*AL33","v":0},{"$f":"AM32*AM33","v":0},{"$f":"AN32*AN33","v":0},{"$f":"AO32*AO33","v":0},{"$f":"SUM(AQ31:AT31)","v":0},{"$f":"AQ32*AQ33","v":0},{"$f":"AR32*AR33","v":0},{"$f":"AS32*AS33","v":0},{"$f":"AT32*AT33","v":0},{"$f":"SUM(AV31:AY31)","v":0},{"$f":"AV32*AV33","v":0},{"$f":"AW32*AW33","v":0},{"$f":"AX32*AX33","v":0},{"$f":"AY32*AY33","v":0},{"$f":"SUM(BA31:BD31)","v":0},{"$f":"BA32*BA33","v":0},{"$f":"BB32*BB33","v":0},{"$f":"BC32*BC33","v":0},{"$f":"BD32*BD33","v":0},{"$f":"SUM(BF31:BI31)","v":0},{"$f":"BF32*BF33","v":0},{"$f":"BG32*BG33","v":0},{"$f":"BH32*BH33","v":0},{"$f":"BI32*BI33","v":0},{"$f":"SUM(BK31:BN31)","v":0},{"$f":"BK32*BK33","v":0},{"$f":"BL32*BL33","v":0},{"$f":"BM32*BM33","v":0},{"$f":"BN32*BN33","v":0},{"$f":"SUM(BP31:BS31)","v":0},{"$f":"BP32*BP33","v":0},{"$f":"BQ32*BQ33","v":0},{"$f":"BR32*BR33","v":0},{"$f":"BS32*BS33","v":0}]
["2.1.","Тариф на электроэнергию","руб/кВт.ч",{"$f":"IF(D33=0,0,D31/D33)","v":0},0,0,"",{"$f":"IF(H33=0,0,H31/H33)","v":0},{"$f":"IF(I33=0,0,I31/I33)","v":0},{"$f":"IF(J33=0,0,J31/J33)","v":0},{"$f":"IF(K33=0,0,K31/K33)","v":0},{"$f":"IF(L33=0,0,L31/L33)","v":0},null,null,null,null,{"$f":"IF(Q33=0,0,Q31/Q33)","v":0},null,null,null,null,{"$f":"IF(V33=0,0,V31/V33)","v":0},null,null,null,null,{"$f":"IF(AA33=0,0,AA31/AA33)","v":0},null,null,null,null,{"$f":"IF(AF33=0,0,AF31/AF33)","v":0},null,null,null,null,{"$f":"IF(AK33=0,0,AK31/AK33)","v":0},null,null,null,null,{"$f":"IF(AP33=0,0,AP31/AP33)","v":0},null,null,null,null,{"$f":"IF(AU33=0,0,AU31/AU33)","v":0},null,null,null,null,{"$f":"IF(AZ33=0,0,AZ31/AZ33)","v":0},null,null,null,null,{"$f":"IF(BE33=0,0,BE31/BE33)","v":0},null,null,null,null,{"$f":"IF(BJ33=0,0,BJ31/BJ33)","v":0},null,null,null,null,{"$f":"IF(BO33=0,0,BO31/BO33)","v":0}]
["2.2.","Объем электроэнергии всего","кВт.ч",{"$f":"'исходные данные'!D89+'исходные данные'!D92+'исходные данные'!D95+'исходные данные'!D98","v":0},{"$f":"SUM(E35:E37)","v":0},0,"",{"$f":"SUM(H35:H37)","v":0},0,0,0,0,0,0,0,0,0,0,0,0,0,0,0,0,0,0,0,0,0,0,0,0,0,0,0,0,0,0,0,0,0,0,0,0,0,0,0,0,0,0,0,0,0,0,0,0,0,0,0,0,0,0,0,0,0,0,0,0,0,0,0]
[null,"в том числе:","кВт.ч"]
[]
["2.1.","Очистка стоков"," кВт.ч",null,{"$f":"H36+I36+J36+K36","v":0},{"$f":"E36-D36","v":0},{"$f":"IF(D36=0,\"\",F36/D36*100)","v":""},{"$f":"M36+R36+W36+AB36+AG36+AL36+AQ36+AV36+BA36+BF36+BK36+BP36","v":0},{"$f":"N36+S36+X36+AC36+AH36+AM36+AR36+AW36+BB36+BG36+BL36+BQ36","v":0},{"$f":"O36+T36+Y36+AD36+AI36+AN36+AS36+AX36+BC36+BH36+BM36+BR36","v":0},{"$f":"P36+U36+Z36+AE36+AJ36+AO36+AT36+AY36+BD36+BI36+BN36+BS36","v":0},{"$f":"M36+N36+O36+P36","v":0},null,null,null,null,{"$f":"R36+S36+T36+U36","v":0},null,null,null,null,{"$f":"W36+X36+Y36+Z36","v":0},null,null,null,null,{"$f":"AB36+AC36+AD36+AE36","v":0},null,null,null,null,{"$f":"AG36+AH36+AI36+AJ36","v":0},null,null,null,null,{"$f":"AL36+AM36+AN36+AO36","v":0},null,null,null,null,{"$f":"AQ36+AR36+AS36+AT36","v":0},null,null,null,null,{"$f":"AV36+AW36+AX36+AY36","v":0},null,null,null,null,{"$f":"BA36+BB36+BC36+BD36","v":0},null,null,null,null,{"$f":"BF36+BG36+BH36+BI36","v":0},null,null,null,null,{"$f":"BK36+BL36+BM36+BN36","v":0},null,null,null,null,{"$f":"BP36+BQ36+BR36+BS36","v":0}]
["2.2.","Прием и транспортировка стоков"," кВт.ч",null,0,0,"",0,0,0,0,0,null,null,null,null,0,null,null,null,null,0,null,null,null,null,0,null,null,null,null,0,null,null,null,null,0,null,null,null,null,0,null,null,null,null,0,null,null,null,null,0,null,null,null,null,0,null,null,null,null,0,null,null,null,null,0]
[]
["расход электроэнергии на очистку стоков",null,"кВт.ч",{"$f":"D52*'баланс ВО'!D27","v":0},{"$f":"H39+I39+J39+K39","v":0},{"$f":"E39-D39","v":0},{"$f":"IF(D39=0,\"\",F39/D39*100)","v":""},{"$f":"H19+H20+H35+H36","v":0},0,0,0,0,{"$f":"M19+M20+M35+M36","v":0},0,0,0,0,0,0,0,0,0,0,0,0,0,0,0,0,0,0,0,0,0,0,0,0,0,0,0,0,0,0,0,0,0,0,0,0,0,0,0,0,0,0,0,0,0,0,0,0,0,0,0,0,0,0,0,0,0,0]
["расход электроэнергии наприем и транспортировку стоков",null,"кВт.ч",{"$f":"D53*'баланс ВО'!D24","v":0},{"$f":"H40+I40+J40+K40","v":0},0,"",{"$f":"H37+H21","v":0},{"$f":"I37+I21","v":0},0,0,0,0,0,0,0,0,0,0,0,0,0,0,0,0,0,0,0,0,0,0,0,0,0,0,0,0,0,0,0,0,0,0,0,0,0,0,0,0,0,0,0,0,0,0,0,0,0,0,0,0,0,0,0,0,0,0,0,0,0,0]
[null,null,null,{"$f":"D12-D39-D40","v":0}]
[]
["Показатели, принятые экспертом по факту 2016 года"]
[]
[]
["№ п/п","Наименование показателя","ед.изм","план","факт по данным организации","факт, принятый экспертом","отклонение факта, принятого экспертом, от плана"]
["1.","Объем электроэнергии всего","кВтч",{"$f":"D12","v":0},{"$f":"E12","v":0},{"$f":"E47","v":0},{"$f":"F47-D47","v":0}]
["1.1.","в том числе на очистку сточных вод","кВтч",{"$f":"D39","v":0},{"$f":"E39","v":0},{"$f":"E48","v":0},{"$f":"F48-D48","v":0}]
["1.2.","в том числе на прием и транспортировку сточных вод","кВтч",{"$f":"D40","v":0},{"$f":"E40","v":0},{"$f":"F47-F48","v":0},0]
["2.","Тариф на электроэнергию с учетом оплаты мощности","руб/кВтч",{"$f":"D13","v":0},{"$f":"E13","v":0},{"$f":"E50","v":0},{"$f":"F50-D50","v":0}]
["3.","Стоимость электроэнергии","руб",{"$f":"D50*D47","v":0},{"$f":"E50*E47","v":0},0,{"$f":"F51-D51","v":0}]
["4.","Удельный расход электроэнергии на очистку сточных вод","кВтч",{"$f":"'исходные данные'!F114","v":0},{"$f":"IF('баланс ВО'!E27=0,,E48/'баланс ВО'!E27)","v":0},{"$f":"IF('баланс ВО'!F27=0,,F48/'баланс ВО'!F27)","v":0},0]
["5.","Удельный расход электроэнергии на транспортировку сточных вод","кВтч",{"$f":"'исходные данные'!F115","v":0},{"$f":"IF('баланс ВО'!E24=0,,E49/'баланс ВО'!E24)","v":0},{"$f":"IF('баланс ВО'!F24=0,,F49/'баланс ВО'!F24)","v":0},{"$f":"F53-D53","v":0}]
[]
[]
[]
[]
[]
["Анализ расходов на электроэнергию"]
[]
["№ п/п","Наименование показателя","ед.изм.","2012 год","2013 год","2014 год","2015 год","2016 год"]
[null,null,null,"факт по данным организации","факт по данным организации","факт по данным организации","факт по данным организации","план","факт по данным организации","абс.откл.","%"]
["1.","Объем электроэнергии","кВтч",{"$f":"'исходные данные'!D36","v":0},{"$f":"'исходные данные'!E36","v":0},{"$f":"'исходные данные'!F36","v":0},{"$f":"'исходные данные'!G36","v":0},{"$f":"D12","v":0},{"$f":"E12","v":0},{"$f":"I63-H63","v":0},{"$f":"IF(H63=0,,J63/H63*100)","v":0}]
["1.1.","темп роста к предыдущему году","%","х",{"$f":"IF(D63=0,,(E63-D63)/D63*100)","v":0},{"$f":"IF(E63=0,,(F63-E63)/E63*100)","v":0},0,"х",{"$f":"IF(G63=0,,(I63-G63)/G63*100)","v":0},"х","х"]
["2.","Объем реализации услуг водоотведения","куб.м.",{"$f":"'исходные данные'!D14*1000","v":0},{"$f":"'исходные данные'!E14*1000","v":0},{"$f":"'исходные данные'!F14*1000","v":0},{"$f":"'исходные данные'!G14*1000","v":0},{"$f":"'баланс ВО'!D14","v":0},{"$f":"'баланс ВО'!E14","v":0},{"$f":"I65-H65","v":0},{"$f":"IF(H65=0,,J65/H65*100)","v":0}]
["2.1.","темп роста к предыдущему году","%","х",{"$f":"IF(D65=0,,(E65-D65)/D65*100)","v":0},{"$f":"IF(E65=0,,(F65-E65)/E65*100)","v":0},0,"х",{"$f":"IF(G65=0,,(I65-G65)/G65*100)","v":0},"х","х"]
["3.","Удельный расход электроэнергии на реализацию 1 куб.м. воды","кВтч/куб.м.",{"$f":"IF(D65=0,,D63/D65)","v":0},{"$f":"IF(E65=0,,E63/E65)","v":0},{"$f":"IF(F65=0,,F63/F65)","v":0},0,{"$f":"IF(H65=0,,H63/H65)","v":0},{"$f":"IF(I65=0,,I63/I65)","v":0},{"$f":"I67-H67","v":0},{"$f":"IF(H67=0,,J67/H67*100)","v":0}]
["3.1.","темп роста к предыдущему году","%","х",{"$f":"IF(D67=0,,(E67-D67)/D67*100)","v":0},{"$f":"IF(E67=0,,(F67-E67)/E67*100)","v":0},0,"х",{"$f":"IF(H67=0,,(I67-H67)/H67*100)","v":0},"х","х"]
["4.","Удельный расход на 1 куб.м. очистки сточных вод","кВтч/куб.м.","х","х","х","х",{"$f":"D52","v":0},{"$f":"E52","v":0},{"$f":"I69-H69","v":0},{"$f":"IF(H69=0,,J69/H69*100)","v":0}]
["5.","Удельный расход на 1 куб.м. транспортировки сточных вод","кВтч/куб.м.","х","х","х","х",{"$f":"D53","v":0},{"$f":"E53","v":0},0,0]
[]
["6.","Стоимость электроэнергии","руб","2016 год",null,null,null,{"$f":"D11","v":0},{"$f":"E11","v":0},{"$f":"I72-H72","v":0},{"$f":"IF(H72=0,,J72/H72*100)","v":0}]
["6.1.","1 полугодие 2016 года",null,"1-е полугодие 2016 года"]
[null,"стоимость электроэнергии","руб",null,null,null,null,{"$f":"'исходные данные'!E52","v":0},{"$f":"L11+Q11+V11+AA11+AF11+AK11","v":0},{"$f":"I74-H74","v":0},{"$f":"IF(H74=0,,J74/H74*100)","v":0}]
[null,"объем электроэнергии","кВтч",null,null,null,null,{"$f":"'исходные данные'!E60+'исходные данные'!E63+'исходные данные'!E66+'исходные данные'!E69+'исходные данные'!E89+'исходные данные'!E92+'исходные данные'!E95+'исходные данные'!E98","v":0},{"$f":"L12+Q12+V12+AA12+AF12+AK12","v":0},0,0]
[null,"тариф с учетом стоимости мощности","руб/кВтч",null,null,null,null,{"$f":"IF(H75=0,,H74/H75)","v":0},{"$f":"IF(I75=0,,I74/I75)","v":0},0,0]
["6.2.","2 полугодие 2016 года","руб","2-е полугодие 2016 года"]
[null,"стоимость электроэнергии","руб",null,null,null,null,{"$f":"H72-H74","v":0},{"$f":"AP11+AU11+AZ11+BE11+BJ11+BO11","v":0},{"$f":"I78-H78","v":0},{"$f":"IF(H78=0,,J78/H78*100)","v":0}]
[null,"объем электроэнергии","кВтч",null,null,null,null,{"$f":"H63-H75","v":0},{"$f":"AP12+AU12+AZ12+BE12+BJ12+BO12","v":0},0,0]
[null,"тариф с учетом стоимости мощности","руб/кВтч",null,null,null,null,{"$f":"IF(H79=0,,H78/H79)","v":0},{"$f":"IF(I79=0,,I78/I79)","v":0},0,0]
[null,null,null,null,null,null,null,null,{"$f":"I74+I78-I72","v":0}]
[]
[null,"Пересчет расхода электроэнергии на плановые показатели"]
[]
["№ п/п","Наименование показателя","ед.изм.","1-й вариант (без учета отопления, обогрева)",null,null,null,"2-й вариант (с учетом отопления, обогрева)"]
[null,null,null,"план","факт по данным организации","пересчет фактических показателей","отклонение от плановых показателей","план","факт по данным организации","пересчет фактических показателей","отклонение от плановых показателей"]
["1.","Расход электроэнергии на очистку сточных вод","кВтч",{"$f":"D39","v":0},{"$f":"E39","v":0},{"$f":"F90*F89","v":0},{"$f":"F87-D87","v":0},{"$f":"D39","v":0},{"$f":"E39","v":0},{"$f":"IF(H87=0,0,(H87-H88)/H89*I89+H88)","v":0},{"$f":"J87-H87","v":0}]
["1.1.","в том числе расход электроэнергии на отопление, освещение","кВтч",null,null,{"$f":"D88","v":0},null,null,null,{"$f":"H88","v":0}]
["2.","Объем очищаемых сточных вод","куб.м.",{"$f":"'баланс ВО'!D27","v":0},{"$f":"'баланс ВО'!E27","v":0},{"$f":"E89","v":0},{"$f":"F89-D89","v":0},{"$f":"'баланс ВО'!D27","v":0},{"$f":"'баланс ВО'!E27","v":0},{"$f":"H89","v":0},{"$f":"J89-H89","v":0}]
["3.","Удельный расход электроэнергии на очистку стоков","кВтч/куб.м.",{"$f":"IF(D89=0,,D87/D89)","v":0},{"$f":"IF(E89=0,,E87/E89)","v":0},{"$f":"D90","v":0},0,{"$f":"IF(H89=0,,H87/H89)","v":0},{"$f":"IF(I89=0,,I87/I89)","v":0},{"$f":"IF(J89=0,,J87/J89)","v":0},0]
["4.","Расход электроэнергии на транспортировку сточных вод","кВтч",{"$f":"D40","v":0},{"$f":"E40","v":0},{"$f":"F94*F93","v":0},0,{"$f":"D40","v":0},{"$f":"E40","v":0},{"$f":"IF(H91=0,0,(H91-H92)/H93*I93+H92)","v":0},0]
["4.1.","в том числе расход электроэнергии на отопление, освещение","кВтч",null,null,null,null,null,null,{"$f":"H92","v":0}]
["5.","Объем транспортируемых сточных вод","куб.м.",{"$f":"'баланс ВО'!D24","v":0},{"$f":"'баланс ВО'!E24","v":0},{"$f":"E93","v":0},{"$f":"F93-D93","v":0},{"$f":"'баланс ВО'!D24","v":0},{"$f":"'баланс ВО'!E24","v":0},{"$f":"H93","v":0},{"$f":"J93-H93","v":0}]
["6.","Удельный расход электроэнергии на транспортировку сточных вод","кВтч/куб.м.",{"$f":"IF(D93=0,,D91/D93)","v":0},{"$f":"IF(E93=0,,E91/E93)","v":0},{"$f":"D94","v":0},0,{"$f":"IF(H93=0,,H91/H93)","v":0},{"$f":"IF(I93=0,,I91/I93)","v":0},{"$f":"IF(J93=0,,J91/J93)","v":0},0]
["7.","Всего расход электроэнергии","кВтч",{"$f":"D87+D91","v":0},{"$f":"E87+E91","v":0},{"$f":"F87+F91","v":0},0,{"$f":"H87+H91","v":0},{"$f":"I87+I91","v":0},0,0]
["8.","тариф на электроэнергию с учетом оплаты за мощность","руб/кВтч",{"$f":"D13","v":0},{"$f":"E13","v":0},{"$f":"E96","v":0},0,{"$f":"D13","v":0},{"$f":"E13","v":0},{"$f":"I96","v":0},{"$f":"J96-H96","v":0}]
["9.","Стоимость электроэнергии","кВтч/куб.м.",{"$f":"D95*D96","v":0},{"$f":"E95*E96","v":0},{"$f":"F95*F96","v":0},0,{"$f":"H95*H96","v":0},{"$f":"I95*I96","v":0},0,0]

{"sheet":"отчет по электроэнергии (бсх)","index":12,"n_rows":80,"n_cols":71,"rows_kept":80,"cut":false,"hidden":false,"merged":[[5,0,5,12],[7,3,7,10],[0,0,0,15],[1,0,1,15],[2,0,2,15],[3,2,3,10],[4,2,4,7],[6,0,9,0],[6,1,9,1],[6,2,9,2],[6,3,6,10],[6,11,6,70],[7,11,7,15],[7,16,7,20],[7,21,7,25],[7,26,7,30],[7,61,7,65],[7,66,7,70],[8,3,9,3],[8,4,9,4],[8,5,8,6],[8,7,8,10],[8,11,9,11],[8,12,8,15],[8,16,9,16],[8,17,8,20],[7,31,7,35],[7,36,7,40],[7,41,7,45],[7,46,7,50],[7,51,7,55],[7,56,7,60],[8,42,8,45],[8,46,9,46],[8,47,8,50],[8,21,9,21],[8,22,8,25],[8,26,9,26],[8,27,8,30],[8,31,9,31],[8,32,8,35],[8,66,9,66],[8,67,8,70],[49,0,49,2],[51,0,52,0],[51,1,52,1],[51,2,52,2],[51,3,51,6],[8,51,9,51],[8,52,8,55],[8,56,9,56],[8,57,8,60],[8,61,9,61],[8,62,8,65],[8,36,9,36],[8,37,8,40],[8,41,9,41],[67,0,68,0],[67,15,67,17],[67,2,67,5],[67,1,68,1],[67,6,67,14]]}
["Отчет по стоимости и объему потребленной электроэнергии и мощности"]
[{"$f":"Титульный!C10","v":" "}]
[{"$f":"Титульный!C19","v":0}]
[null,null,"объекты бесхозяйного имущества"]
[null,"Район",{"$f":"Титульный!C6","v":0},null,null,null,null,null,null,"МО",{"$f":"Титульный!C7","v":0}]
[]
["№ п/п","Наименование направления расхода электрической энергии","Ед.изм","ВСЕГО по тарифу",null,null,null,null,null,null,null,"период"]
[null,null,null,"2016 год всего",null,null,null,null,null,null,null,"январь",null,null,null,null,"февраль",null,null,null,null,"март",null,null,null,null,"апрель",null,null,null,null,"май",null,null,null,null,"июнь",null,null,null,null,"июль",null,null,null,null,"август",null,null,null,null,"сентябрь",null,null,null,null,"октябрь",null,null,null,null,"ноябрь",null,null,null,null,"декабрь"]
[null,null,null,"план ДТР ТО","всего по факту организации","отклонение",null,"в том числе по уровням напряжения",null,null,null,"всего","в том числе по уровням напряжения",null,null,null,"всего","в том числе по уровням напряжения",null,null,null,"всего","в том числе по уровням напряжения",null,null,null,"всего","в том числе по уровням напряжения",null,null,null,"всего","в том числе по уровням напряжения",null,null,null,"всего","в том числе по уровням напряжения",null,null,null,"всего","в том числе по уровням напряжения",null,null,null,"всего","в том числе по уровням напряжения",null,null,null,"всего","в том числе по уровням напряжения",null,null,null,"всего","в том числе по уровням напряжения",null,null,null,"всего","в том числе по уровням напряжения",null,null,null,"всего","в том числе по уровням напряжения"]
[null,null,null,null,null,"абс.","%","ВН","СН1","СН2","НН",null,"ВН","СН1","СН2","НН",null,"ВН","СН1","СН2","НН",null,"ВН","СН1","СН2","НН",null,"ВН","СН1","СН2","НН",null,"ВН","СН1","СН2","НН",null,"ВН","СН1","СН2","НН",null,"ВН","СН1","СН2","НН",null,"ВН","СН1","СН2","НН",null,"ВН","СН1","СН2","НН",null,"ВН","СН1","СН2","НН",null,"ВН","СН1","СН2","НН",null,"ВН","СН1","СН2","НН"]
["I.","ВСЕГО стоимость покупной электроэнергии и мощности","руб",null,{"$f":"SUM(H11:K11)","v":0},{"$f":"E11-D11","v":0},{"$f":"IF(D11=0,\"\",F11/D11*100)","v":""},{"$f":"H15+H23","v":0},{"$f":"I15+I23","v":0},{"$f":"J15+J23","v":0},{"$f":"K15+K23","v":0},{"$f":"SUM(M11:P11)","v":0},{"$f":"M15+M23","v":0},{"$f":"N15+N23","v":0},{"$f":"O15+O23","v":0},{"$f":"P15+P23","v":0},{"$f":"SUM(R11:U11)","v":0},{"$f":"R15+R23","v":0},{"$f":"S15+S23","v":0},{"$f":"T15+T23","v":0},{"$f":"U15+U23","v":0},{"$f":"SUM(W11:Z11)","v":0},{"$f":"W15+W23","v":0},{"$f":"X15+X23","v":0},{"$f":"Y15+Y23","v":0},{"$f":"Z15+Z23","v":0},{"$f":"SUM(AB11:AE11)","v":0},{"$f":"AB15+AB23","v":0},{"$f":"AC15+AC23","v":0},{"$f":"AD15+AD23","v":0},{"$f":"AE15+AE23","v":0},{"$f":"SUM(AG11:AJ11)","v":0},{"$f":"AG15+AG23","v":0},{"$f":"AH15+AH23","v":0},{"$f":"AI15+AI23","v":0},{"$f":"AJ15+AJ23","v":0},{"$f":"SUM(AL11:AO11)","v":0},{"$f":"AL15+AL23","v":0},{"$f":"AM15+AM23","v":0},{"$f":"AN15+AN23","v":0},{"$f":"AO15+AO23","v":0},{"$f":"SUM(AQ11:AT11)","v":0},{"$f":"AQ15+AQ23","v":0},{"$f":"AR15+AR23","v":0},{"$f":"AS15+AS23","v":0},{"$f":"AT15+AT23","v":0},{"$f":"SUM(AV11:AY11)","v":0},{"$f":"AV15+AV23","v":0},{"$f":"AW15+AW23","v":0},{"$f":"AX15+AX23","v":0},{"$f":"AY15+AY23","v":0},{"$f":"SUM(BA11:BD11)","v":0},{"$f":"BA15+BA23","v":0},{"$f":"BB15+BB23","v":0},{"$f":"BC15+BC23","v":0},{"$f":"BD15+BD23","v":0},{"$f":"SUM(BF11:BI11)","v":0},{"$f":"BF15+BF23","v":0},{"$f":"BG15+BG23","v":0},{"$f":"BH15+BH23","v":0},{"$f":"BI15+BI23","v":0},{"$f":"SUM(BK11:BN11)","v":0},{"$f":"BK15+BK23","v":0},{"$f":"BL15+BL23","v":0},{"$f":"BM15+BM23","v":0},{"$f":"BN15+BN23","v":0},{"$f":"SUM(BP11:BS11)","v":0},{"$f":"BP15+BP23","v":0},{"$f":"BQ15+BQ23","v":0},{"$f":"BR15+BR23","v":0},{"$f":"BS15+BS23","v":0}]
[null,"всего  объем  электроэнергии","кВт.ч",null,{"$f":"E17+E33","v":0},{"$f":"E12-D12","v":0},{"$f":"IF(D12=0,\"\",F12/D12*100)","v":""},{"$f":"H17+H33","v":0},0,0,0,0,0,0,0,0,0,0,0,0,0,0,0,0,0,0,0,0,0,0,0,0,0,0,0,0,0,0,0,0,0,0,0,0,0,0,0,0,0,0,0,0,0,0,0,0,0,0,0,0,0,0,0,0,0,0,0,0,0,0,0]
[null,"одноставочный тариф с учетом платы за мощность","руб./кВт.ч",{"$f":"IF(D12=0,0,D11/D12)","v":0},{"$f":"IF(E12=0,0,E11/E12)","v":0},0,"",{"$f":"IF(H12=0,0,H11/H12)","v":0},0,0,0,0,0,0,0,0,0,0,0,0,0,0,0,0,0,0,0,0,0,0,0,0,0,0,0,0,0,0,0,0,0,0,0,0,0,0,0,0,0,0,0,0,0,0,0,0,0,0,0,0,0,0,0,0,0,0,0,0,0,0,0]
[]
["II.","Покупная электроэнергия по одноставочному тарифу","руб",null,{"$f":"SUM(H15:K15)","v":0},{"$f":"E15-D15","v":0},{"$f":"IF(D15=0,\"\",F15/D15*100)","v":""},{"$f":"M15+R15+W15+AB15+AG15+AL15+AQ15+AV15+BA15+BF15+BK15+BP15","v":0},{"$f":"N15+S15+X15+AC15+AH15+AM15+AR15+AW15+BB15+BG15+BL15+BQ15","v":0},0,0,{"$f":"SUM(M15:P15)","v":0},{"$f":"M16*M17","v":0},{"$f":"N16*N17","v":0},0,0,{"$f":"SUM(R15:U15)","v":0},{"$f":"R16*R17","v":0},{"$f":"S16*S17","v":0},0,0,{"$f":"SUM(W15:Z15)","v":0},{"$f":"W16*W17","v":0},{"$f":"X16*X17","v":0},0,0,{"$f":"SUM(AB15:AE15)","v":0},{"$f":"AB16*AB17","v":0},{"$f":"AC16*AC17","v":0},0,0,{"$f":"SUM(AG15:AJ15)","v":0},{"$f":"AG16*AG17","v":0},{"$f":"AH16*AH17","v":0},0,0,{"$f":"SUM(AL15:AO15)","v":0},{"$f":"AL16*AL17","v":0},{"$f":"AM16*AM17","v":0},0,0,{"$f":"SUM(AQ15:AT15)","v":0},{"$f":"AQ16*AQ17","v":0},{"$f":"AR16*AR17","v":0},0,0,{"$f":"SUM(AV15:AY15)","v":0},{"$f":"AV16*AV17","v":0},{"$f":"AW16*AW17","v":0},0,0,{"$f":"SUM(BA15:BD15)","v":0},{"$f":"BA16*BA17","v":0},{"$f":"BB16*BB17","v":0},0,0,{"$f":"SUM(BF15:BI15)","v":0},{"$f":"BF16*BF17","v":0},0,0,0,{"$f":"SUM(BK15:BN15)","v":0},{"$f":"BK16*BK17","v":0},0,0,0,{"$f":"SUM(BP15:BS15)","v":0},{"$f":"BP16*BP17","v":0},0,0,0]
["1.","Тариф на электроэнергию","руб./кВт.ч",{"$f":"IF(D17=0,0,D15/D17)","v":0},{"$f":"IF(E17=0,0,E15/E17)","v":0},0,"",0,0,0,0,{"$f":"IF(L17=0,0,L15/L17)","v":0},null,null,null,null,{"$f":"IF(Q17=0,0,Q15/Q17)","v":0},null,null,null,null,{"$f":"IF(V17=0,0,V15/V17)","v":0},null,null,null,null,{"$f":"IF(AA17=0,0,AA15/AA17)","v":0},null,null,null,null,{"$f":"IF(AF17=0,0,AF15/AF17)","v":0},null,null,null,null,{"$f":"IF(AK17=0,0,AK15/AK17)","v":0},null,null,null,null,{"$f":"IF(AP17=0,0,AP15/AP17)","v":0},null,null,null,null,{"$f":"IF(AU17=0,0,AU15/AU17)","v":0},null,null,null,null,{"$f":"IF(AZ17=0,0,AZ15/AZ17)","v":0},null,null,null,null,{"$f":"IF(BE17=0,0,BE15/BE17)","v":0},null,null,null,null,{"$f":"IF(BJ17=0,0,BJ15/BJ17)","v":0},null,null,null,null,{"$f":"IF(BO17=0,0,BO15/BO17)","v":0}]
["2.","Объем электроэнергии всего","кВт.ч",null,{"$f":"SUM(E19:E21)","v":0},0,"",{"$f":"SUM(H19:H21)","v":0},0,0,0,0,0,0,0,0,0,0,0,0,0,0,0,0,0,{"$f":"SUM(Z19:Z21)","v":0},0,0,0,0,{"$f":"SUM(AE19:AE21)","v":0},0,0,0,0,{"$f":"SUM(AJ19:AJ21)","v":0},0,0,0,0,{"$f":"SUM(AO19:AO21)","v":0},0,0,0,0,{"$f":"SUM(AT19:AT21)","v":0},0,0,0,0,{"$f":"SUM(AY19:AY21)","v":0},0,0,0,0,{"$f":"SUM(BD19:BD21)","v":0},0,0,0,0,{"$f":"SUM(BI19:BI21)","v":0},0,0,0,0,{"$f":"SUM(BN19:BN21)","v":0},0,0,0,0,{"$f":"SUM(BS19:BS21)","v":0}]
[null,"в том числе:","кВт.ч"]
[]
["2.1.","Очистка стоков"," кВт.ч",null,{"$f":"H20+I20+J20+K20","v":0},{"$f":"E20-D20","v":0},{"$f":"IF(D20=0,\"\",F20/D20*100)","v":""},{"$f":"M20+R20+W20+AB20+AG20+AL20+AQ20+AV20+BA20+BF20+BK20+BP20","v":0},0,0,0,{"$f":"M20+N20+O20+P20","v":0},null,null,null,null,{"$f":"R20+S20+T20+U20","v":0},null,null,null,null,{"$f":"W20+X20+Y20+Z20","v":0},null,null,null,null,{"$f":"AB20+AC20+AD20+AE20","v":0},null,null,null,null,{"$f":"AG20+AH20+AI20+AJ20","v":0},null,null,null,null,{"$f":"AL20+AM20+AN20+AO20","v":0},null,null,null,null,{"$f":"AQ20+AR20+AS20+AT20","v":0},null,null,null,null,{"$f":"AV20+AW20+AX20+AY20","v":0},null,null,null,null,{"$f":"BA20+BB20+BC20+BD20","v":0},null,null,null,null,{"$f":"BF20+BG20+BH20+BI20","v":0},null,null,null,null,{"$f":"BK20+BL20+BM20+BN20","v":0},null,null,null,null,{"$f":"BP20+BQ20+BR20+BS20","v":0}]
["2.2.","Прием и транспортировка стоков"," кВт.ч",null,0,0,"",0,0,0,0,0,null,null,null,null,0,null,null,null,null,0,null,null,null,null,0,null,null,null,null,0,null,null,null,null,0,null,null,null,null,0,null,null,null,null,0,null,null,null,null,0,null,null,null,null,0,null,null,null,null,0,null,null,null,null,0]
[]
["III.","Покупная электроэнергия по двухставочному тарифу","руб",null,{"$f":"SUM(H23:K23)","v":0},{"$f":"E23-D23","v":0},{"$f":"IF(D23=0,\"\",F23/D23*100)","v":""},{"$f":"H24+H31","v":0},{"$f":"I24+I31","v":0},{"$f":"J24+J31","v":0},{"$f":"K24+K31","v":0},{"$f":"SUM(M23:P23)","v":0},{"$f":"M24+M31","v":0},{"$f":"N24+N31","v":0},{"$f":"O24+O31","v":0},{"$f":"P24+P31","v":0},{"$f":"SUM(R23:U23)","v":0},{"$f":"R24+R31","v":0},{"$f":"S24+S31","v":0},{"$f":"T24+T31","v":0},{"$f":"U24+U31","v":0},{"$f":"SUM(W23:Z23)","v":0},{"$f":"W24+W31","v":0},{"$f":"X24+X31","v":0},{"$f":"Y24+Y31","v":0},{"$f":"Z24+Z31","v":0},{"$f":"SUM(AB23:AE23)","v":0},{"$f":"AB24+AB31","v":0},{"$f":"AC24+AC31","v":0},{"$f":"AD24+AD31","v":0},{"$f":"AE24+AE31","v":0},{"$f":"SUM(AG23:AJ23)","v":0},{"$f":"AG24+AG31","v":0},{"$f":"AH24+AH31","v":0},{"$f":"AI24+AI31","v":0},{"$f":"AJ24+AJ31","v":0},{"$f":"SUM(AL23:AO23)","v":0},{"$f":"AL24+AL31","v":0},{"$f":"AM24+AM31","v":0},{"$f":"AN24+AN31","v":0},{"$f":"AO24+AO31","v":0},{"$f":"SUM(AQ23:AT23)","v":0},{"$f":"AQ24+AQ31","v":0},{"$f":"AR24+AR31","v":0},{"$f":"AS24+AS31","v":0},{"$f":"AT24+AT31","v":0},{"$f":"SUM(AV23:AY23)","v":0},{"$f":"AV24+AV31","v":0},{"$f":"AW24+AW31","v":0},{"$f":"AX24+AX31","v":0},{"$f":"AY24+AY31","v":0},{"$f":"SUM(BA23:BD23)","v":0},{"$f":"BA24+BA31","v":0},{"$f":"BB24+BB31","v":0},{"$f":"BC24+BC31","v":0},{"$f":"BD24+BD31","v":0},{"$f":"SUM(BF23:BI23)","v":0},{"$f":"BF24+BF31","v":0},{"$f":"BG24+BG31","v":0},{"$f":"BH24+BH31","v":0},{"$f":"BI24+BI31","v":0},{"$f":"SUM(BK23:BN23)","v":0},{"$f":"BK24+BK31","v":0},{"$f":"BL24+BL31","v":0},{"$f":"BM24+BM31","v":0},{"$f":"BN24+BN31","v":0},{"$f":"SUM(BP23:BS23)","v":0},{"$f":"BP24+BP31","v":0},{"$f":"BQ24+BQ31","v":0},{"$f":"BR24+BR31","v":0},{"$f":"BS24+BS31","v":0}]
["1.","Мощность","руб",null,{"$f":"H24+I24+J24+K24","v":0},0,"",{"$f":"M24+R24+W24+AB24+AG24+AL24+AQ24+AV24+BA24+BF24+BK24+BP24","v":0},0,0,0,{"$f":"SUM(M24:P24)","v":0},{"$f":"M25*M26","v":0},{"$f":"N25*N26","v":0},0,0,{"$f":"SUM(R24:U24)","v":0},{"$f":"R25*R26","v":0},{"$f":"S25*S26","v":0},0,0,{"$f":"SUM(W24:Z24)","v":0},{"$f":"W25*W26","v":0},{"$f":"X25*X26","v":0},0,0,{"$f":"SUM(AB24:AE24)","v":0},{"$f":"AB25*AB26","v":0},{"$f":"AC25*AC26","v":0},0,0,{"$f":"SUM(AG24:AJ24)","v":0},{"$f":"AG25*AG26","v":0},{"$f":"AH25*AH26","v":0},0,0,{"$f":"SUM(AL24:AO24)","v":0},{"$f":"AL25*AL26","v":0},{"$f":"AM25*AM26","v":0},0,0,{"$f":"SUM(AQ24:AT24)","v":0},{"$f":"AQ25*AQ26","v":0},{"$f":"AR25*AR26","v":0},0,0,{"$f":"SUM(AV24:AY24)","v":0},{"$f":"AV25*AV26","v":0},{"$f":"AW25*AW26","v":0},0,0,{"$f":"SUM(BA24:BD24)","v":0},{"$f":"BA25*BA26","v":0},{"$f":"BB25*BB26","v":0},0,0,{"$f":"SUM(BF24:BI24)","v":0},{"$f":"BF25*BF26","v":0},{"$f":"BG25*BG26","v":0},0,0,{"$f":"SUM(BK24:BN24)","v":0},{"$f":"BK25*BK26","v":0},{"$f":"BL25*BL26","v":0},0,0,{"$f":"SUM(BP24:BS24)","v":0},{"$f":"BP25*BP26","v":0},{"$f":"BQ25*BQ26","v":0},0,0]
["1.1.","Тариф на мощность","руб/кВт",{"$f":"IF(D26=0,0,D24/D26)","v":0},{"$f":"IF(E26=0,0,E24/E26)","v":0},0,"",{"$f":"IF(H26=0,0,H24/H26)","v":0},0,0,0,{"$f":"IF(L26=0,0,L24/L26)","v":0},null,null,null,null,{"$f":"IF(Q26=0,0,Q24/Q26)","v":0},null,null,null,null,{"$f":"IF(V26=0,0,V24/V26)","v":0},null,null,null,null,{"$f":"IF(AA26=0,0,AA24/AA26)","v":0},null,null,null,null,{"$f":"IF(AF26=0,0,AF24/AF26)","v":0},null,null,null,null,{"$f":"IF(AK26=0,0,AK24/AK26)","v":0},null,null,null,null,{"$f":"IF(AP26=0,0,AP24/AP26)","v":0},null,null,null,null,{"$f":"IF(AU26=0,0,AU24/AU26)","v":0},null,null,null,null,{"$f":"IF(AZ26=0,0,AZ24/AZ26)","v":0},null,null,null,null,{"$f":"IF(BE26=0,0,BE24/BE26)","v":0},null,null,null,null,{"$f":"IF(BJ26=0,0,BJ24/BJ26)","v":0},null,null,null,null,{"$f":"IF(BO26=0,0,BO24/BO26)","v":0}]
["1.2.","Объем мощности всего","кВт",null,{"$f":"SUM(E28:E30)","v":0},0,"",{"$f":"SUM(H28:H30)","v":0},0,0,0,0,0,0,0,0,0,0,0,0,0,0,0,{"$f":"SUM(X28:X30)","v":0},0,0,0,0,{"$f":"SUM(AC28:AC30)","v":0},0,0,0,0,{"$f":"SUM(AH28:AH30)","v":0},0,0,0,0,{"$f":"SUM(AM28:AM30)","v":0},0,0,0,0,{"$f":"SUM(AR28:AR30)","v":0},0,0,0,0,{"$f":"SUM(AW28:AW30)","v":0},0,0,0,0,{"$f":"SUM(BB28:BB30)","v":0},0,0,0,0,{"$f":"SUM(BG28:BG30)","v":0},0,0,0,0,{"$f":"SUM(BL28:BL30)","v":0},0,0,0,0,{"$f":"SUM(BQ28:BQ30)","v":0},0,0]
[null,"в том числе:","кВт "]
[]
["2.1.","Очистка стоков","кВт ",null,{"$f":"H29+I29+J29+K29","v":0},{"$f":"E29-D29","v":0},{"$f":"IF(D29=0,\"\",F29/D29*100)","v":""},{"$f":"M29+R29+W29+AB29+AG29+AL29+AQ29+AV29+BA29+BF29+BK29+BP29","v":0},0,0,0,{"$f":"M29+N29+O29+P29","v":0},null,null,null,null,{"$f":"R29+S29+T29+U29","v":0},null,null,null,null,{"$f":"W29+X29+Y29+Z29","v":0},null,null,null,null,{"$f":"AB29+AC29+AD29+AE29","v":0},null,null,null,null,{"$f":"AG29+AH29+AI29+AJ29","v":0},null,null,null,null,{"$f":"AL29+AM29+AN29+AO29","v":0},null,null,null,null,{"$f":"AQ29+AR29+AS29+AT29","v":0},null,null,null,null,{"$f":"AV29+AW29+AX29+AY29","v":0},null,null,null,null,{"$f":"BA29+BB29+BC29+BD29","v":0},null,null,null,null,{"$f":"BF29+BG29+BH29+BI29","v":0},null,null,null,null,{"$f":"BK29+BL29+BM29+BN29","v":0},null,null,null,null,{"$f":"BP29+BQ29+BR29+BS29","v":0}]
["2.2.","Прием и транспортировка стоков","кВт ",null,0,0,"",0,0,0,0,0,null,null,null,null,0,null,null,null,null,0,null,null,null,null,0,null,null,null,null,0,null,null,null,null,0,null,null,null,null,0,null,null,null,null,0,null,null,null,null,0,null,null,null,null,0,null,null,null,null,0,null,null,null,null,0]
["2.","Активная электроэнергия","руб",null,0,0,"",0,0,0,0,{"$f":"SUM(M31:P31)","v":0},{"$f":"M32*M33","v":0},{"$f":"N32*N33","v":0},0,0,{"$f":"SUM(R31:U31)","v":0},{"$f":"R32*R33","v":0},{"$f":"S32*S33","v":0},0,0,{"$f":"SUM(W31:Z31)","v":0},{"$f":"W32*W33","v":0},{"$f":"X32*X33","v":0},0,0,{"$f":"SUM(AB31:AE31)","v":0},{"$f":"AB32*AB33","v":0},{"$f":"AC32*AC33","v":0},0,0,{"$f":"SUM(AG31:AJ31)","v":0},{"$f":"AG32*AG33","v":0},{"$f":"AH32*AH33","v":0},0,0,{"$f":"SUM(AL31:AO31)","v":0},{"$f":"AL32*AL33","v":0},{"$f":"AM32*AM33","v":0},0,0,{"$f":"SUM(AQ31:AT31)","v":0},{"$f":"AQ32*AQ33","v":0},{"$f":"AR32*AR33","v":0},0,0,{"$f":"SUM(AV31:AY31)","v":0},{"$f":"AV32*AV33","v":0},{"$f":"AW32*AW33","v":0},0,0,{"$f":"SUM(BA31:BD31)","v":0},{"$f":"BA32*BA33","v":0},{"$f":"BB32*BB33","v":0},0,0,{"$f":"SUM(BF31:BI31)","v":0},{"$f":"BF32*BF33","v":0},{"$f":"BG32*BG33","v":0},0,0,{"$f":"SUM(BK31:BN31)","v":0},{"$f":"BK32*BK33","v":0},{"$f":"BL32*BL33","v":0},0,0,{"$f":"SUM(BP31:BS31)","v":0},{"$f":"BP32*BP33","v":0},{"$f":"BQ32*BQ33","v":0},0,0]
["2.1.","Тариф на электроэнергию","руб/кВт.ч",{"$f":"IF(D33=0,0,D31/D33)","v":0},0,0,"",{"$f":"IF(H33=0,0,H31/H33)","v":0},0,0,0,{"$f":"IF(L33=0,0,L31/L33)","v":0},null,null,null,null,{"$f":"IF(Q33=0,0,Q31/Q33)","v":0},null,null,null,null,{"$f":"IF(V33=0,0,V31/V33)","v":0},null,null,null,null,{"$f":"IF(AA33=0,0,AA31/AA33)","v":0},null,null,null,null,{"$f":"IF(AF33=0,0,AF31/AF33)","v":0},null,null,null,null,{"$f":"IF(AK33=0,0,AK31/AK33)","v":0},null,null,null,null,{"$f":"IF(AP33=0,0,AP31/AP33)","v":0},null,null,null,null,{"$f":"IF(AU33=0,0,AU31/AU33)","v":0},null,null,null,null,{"$f":"IF(AZ33=0,0,AZ31/AZ33)","v":0},null,null,null,null,{"$f":"IF(BE33=0,0,BE31/BE33)","v":0},null,null,null,null,{"$f":"IF(BJ33=0,0,BJ31/BJ33)","v":0},null,null,null,null,{"$f":"IF(BO33=0,0,BO31/BO33)","v":0}]
["2.2.","Объем электроэнергии всего","кВт.ч",null,{"$f":"SUM(E35:E37)","v":0},0,"",{"$f":"SUM(H35:H37)","v":0},0,0,0,0,0,0,0,0,0,0,{"$f":"SUM(S35:S37)","v":0},0,0,0,0,0,0,0,0,0,0,0,0,0,0,0,0,0,0,0,0,0,0,0,0,0,0,0,0,0,0,0,0,0,0,0,0,0,0,0,0,0,0,0,0,0,0,0,0,0,0,0,0]
[null,"в том числе:","кВт.ч"]
[]
["2.1.","Очистка стоков"," кВт.ч",null,{"$f":"H36+I36+J36+K36","v":0},{"$f":"E36-D36","v":0},{"$f":"IF(D36=0,\"\",F36/D36*100)","v":""},{"$f":"M36+R36+W36+AB36+AG36+AL36+AQ36+AV36+BA36+BF36+BK36+BP36","v":0},0,0,0,{"$f":"M36+N36+O36+P36","v":0},null,null,null,null,{"$f":"R36+S36+T36+U36","v":0},null,null,null,null,{"$f":"W36+X36+Y36+Z36","v":0},null,null,null,null,{"$f":"AB36+AC36+AD36+AE36","v":0},null,null,null,null,{"$f":"AG36+AH36+AI36+AJ36","v":0},null,null,null,null,{"$f":"AL36+AM36+AN36+AO36","v":0},null,null,null,null,{"$f":"AQ36+AR36+AS36+AT36","v":0},null,null,null,null,{"$f":"AV36+AW36+AX36+AY36","v":0},null,null,null,null,{"$f":"BA36+BB36+BC36+BD36","v":0},null,null,null,null,{"$f":"BF36+BG36+BH36+BI36","v":0},null,null,null,null,{"$f":"BK36+BL36+BM36+BN36","v":0},null,null,null,null,{"$f":"BP36+BQ36+BR36+BS36","v":0}]
["2.2.","Прием и транспортировка стоков"," кВт.ч",null,0,0,"",0,0,0,0,0,null,null,null,null,0,null,null,null,null,0,null,null,null,null,0,null,null,null,null,0,null,null,null,null,0,null,null,null,null,0,null,null,null,null,0,null,null,null,null,0,null,null,null,null,0,null,null,null,null,0,null,null,null,null,0]
[]
[]
[]
[]
["Показатели, принятые экспертом по факту 2016 года"]
[]
[]
["№ п/п","Наименование показателя","ед.изм","план","факт по данным организации","факт, принятый экспертом","отклонение факта, принятого экспертом, от плана"]
["1.","Объем электроэнергии всего","кВтч",{"$f":"D12","v":0},{"$f":"E12","v":0},null,{"$f":"F46-D46","v":0}]
["2.","Тариф на электроэнергию с учетом оплаты мощности","руб/кВтч",{"$f":"D13","v":0},{"$f":"E13","v":0},{"$f":"E47","v":0},{"$f":"F47-D47","v":0}]
["3.","Стоимость электроэнергии","руб",{"$f":"D47*D46","v":0},{"$f":"E47*E46","v":0},{"$f":"F47*F46","v":0},{"$f":"F48-D48","v":0}]
[]
["Анализ расходов на электроэнергию"]
[]
["№ п/п","Наименование показателя","ед.изм.","2016 год"]
[null,null,null,"план","факт по данным организации","абс.откл.","%"]
[]
["6.","Стоимость электроэнергии","руб",{"$f":"D11","v":0},{"$f":"E11","v":0},{"$f":"E55-D55","v":0},{"$f":"IF(D55=0,,F55/D55*100)","v":0}]
["6.1.","1 полугодие 2016 года"]
[null,"стоимость электроэнергии","руб",{"$f":"'исходные данные'!E52","v":0},{"$f":"L11+Q11+V11+AA11+AF11+AK11","v":0},{"$f":"E57-D57","v":0},{"$f":"IF(D57=0,,F57/D57*100)","v":0}]
[null,"объем электроэнергии","кВтч",{"$f":"'исходные данные'!E60+'исходные данные'!E63+'исходные данные'!E66+'исходные данные'!E69+'исходные данные'!E89+'исходные данные'!E92+'исходные данные'!E95+'исходные данные'!E98","v":0},{"$f":"L12+Q12+V12+AA12+AF12+AK12","v":0},0,0]
[null,"тариф с учетом стоимости мощности","руб/кВтч",{"$f":"IF(D58=0,,D57/D58)","v":0},{"$f":"IF(E58=0,,E57/E58)","v":0},0,0]
["6.2.","2 полугодие 2016 года","руб"]
[null,"стоимость электроэнергии","руб",{"$f":"D55-D57","v":0},{"$f":"AP11+AU11+AZ11+BE11+BJ11+BO11","v":0},{"$f":"E61-D61","v":0},{"$f":"IF(D61=0,,F61/D61*100)","v":0}]
[null,"объем электроэнергии","кВтч",{"$f":"D12-D58","v":0},{"$f":"AP12+AU12+AZ12+BE12+BJ12+BO12","v":0},0,0]
[null,"тариф с учетом стоимости мощности","руб/кВтч",{"$f":"IF(D62=0,,D61/D62)","v":0},{"$f":"IF(E62=0,,E61/E62)","v":0},0,0]
[null,null,null,null,{"$f":"E57+E61-E55","v":0}]
[]
["Затраты на электроэнергию за 2016 год по объектам бесхозяйного имущества"]
[]
["№ п/п","Перечень объектов бесхозяйного имущества, адрес расположения","одноставочный тариф",null,null,null,"двухставочный тариф",null,null,null,null,null,null,null,null,"ВСЕГО по объектам бесхозяного имущества"]
[null,null,"вид напряжения","годовой расход электроэнергии, кВтч","тариф на электроэнергию, руб/кВтч","сумма затрат, руб","вид напряжения","мощность за год, кВт","тариф на мощность, руб/кВт","сумма затрат на мощность, руб","годовой расход электроэнергии, кВтч","тариф на электроэнергию, руб/кВтч","сумма затрат на электроэнергию, руб","Итого затрат на электроэнергию и мощность, руб","тариф на электроэнергию с учетом оплаты за мощность, руб/кВтч","Итого затрат на электроэнергию и мощность, руб","Итого объем электроэнергии, кВтч","тариф на электроэнергию с учетом оплаты за мощность, руб/кВтч"]
[1,null,null,null,{"$f":"IF(D70=0,,F70/D70)","v":0},null,null,null,{"$f":"IF(H70=0,,J70/H70)","v":0},null,null,{"$f":"IF(K70=0,,M70/K70)","v":0},null,{"$f":"J70+M70","v":0},{"$f":"IF(K70=0,,N70/K70)","v":0},{"$f":"F70+N70","v":0},{"$f":"D70+K70","v":0},{"$f":"IF(Q70=0,,P70/Q70)","v":0}]
[2,null,null,null,{"$f":"IF(D71=0,,F71/D71)","v":0},null,null,null,{"$f":"IF(H71=0,,J71/H71)","v":0},null,null,{"$f":"IF(K71=0,,M71/K71)","v":0},null,{"$f":"J71+M71","v":0},{"$f":"IF(K71=0,,N71/K71)","v":0},{"$f":"F71+N71","v":0},{"$f":"D71+K71","v":0},{"$f":"IF(Q71=0,,P71/Q71)","v":0}]
[3,null,null,null,0,null,null,null,0,null,null,0,null,0,0,0,0,0]
[null,null,null,null,0,null,null,null,0,null,null,0,null,0,0,0,0,0]
[null,null,null,null,0,null,null,null,0,null,null,0,null,0,0,0,0,0]
[null,null,null,null,0,null,null,null,0,null,null,0,null,0,0,0,0,0]
[null,null,null,null,0,null,null,null,0,null,null,0,null,0,0,0,0,0]
[null,null,null,null,0,null,null,null,0,null,null,0,null,0,0,0,0,0]
[null,null,null,null,0,null,null,null,0,null,null,0,null,0,0,0,0,0]
[null,null,null,{"$f":"SUM(D70:D78)","v":0},{"$f":"IF(D79=0,,F79/D79)","v":0},{"$f":"SUM(F70:F78)","v":0},null,{"$f":"SUM(H70:H78)","v":0},{"$f":"IF(H79=0,,J79/H79)","v":0},{"$f":"SUM(J70:J78)","v":0},{"$f":"SUM(K70:K78)","v":0},{"$f":"IF(K79=0,,M79/K79)","v":0},{"$f":"SUM(M70:M78)","v":0},{"$f":"SUM(N70:N78)","v":0},{"$f":"IF(K79=0,,N79/K79)","v":0},{"$f":"SUM(P70:P78)","v":0},0,{"$f":"IF(Q79=0,,P79/Q79)","v":0}]
[null,null,null,null,null,null,null,null,null,null,null,null,null,null,null,{"$f":"P79-E55","v":0},{"$f":"Q79-E58-E62","v":0}]

{"sheet":"ремонт хозспособ","index":13,"n_rows":61,"n_cols":10,"rows_kept":61,"cut":false,"hidden":false,"merged":[[9,3,10,3],[37,1,40,1],[36,1,36,8],[38,2,38,3],[37,2,37,8],[38,7,40,7],[38,4,40,4],[38,5,40,5],[38,6,40,6],[38,8,40,8],[39,2,40,2],[39,3,40,3],[37,0,40,0],[0,0,0,8],[1,0,1,8],[2,0,2,8],[6,1,6,8],[7,1,10,1],[8,7,10,7],[8,5,10,5],[7,2,7,8],[8,6,10,6],[8,8,10,8],[3,0,3,8],[7,0,10,0],[8,2,8,3],[8,4,10,4],[9,2,10,2]]}
["Отчет о выполнении текущего и капитального ремонтов хозспособом "]
[{"$f":"Титульный!C10","v":" "}]
[{"$f":"Титульный!C19","v":0}]
["имущество, переданное по договору аренды или принадлежащее на праве собственности"]
["район",{"$f":"Титульный!C6","v":0},null,null,"МО",{"$f":"Титульный!C7","v":0}]
["Текущий ремонт"]
["Без расшифровки видов выполненных работ отчет принят не будет!","Расходы на преведение текущего ремонта в 2016 году, руб"]
["Наименование работ","всего","в том числе"]
[null,null,"расходы на оплату труда ремонтного персонала ",null,"материалы","транспортные расходы","услуги вспомогательных производств","цеховые (общепроизводственные) расходы","Общехозяйственные расходы"]
[null,null,"заработная плата","отчисления от ФОТ"]
[]
[null,{"$f":"SUM(C12:I12)","v":0}]
[null,{"$f":"SUM(C13:I13)","v":0}]
[null,0]
[null,0]
[null,0,null,null,null,null,null,null,null,"строки вставлять здесь"]
[null,0]
[null,0]
[null,0]
[null,0]
[null,0]
[null,0]
[null,0]
[null,0]
[null,0]
[null,0]
[null,0]
[null,0]
[null,0]
["ВСЕГО",{"$f":"SUM(B12:B29)","v":0},0,0,0,0,0,0,0]
["в том числе"]
[]
["очистка стоков",{"$f":"SUM(C33:I33)","v":0}]
["прием и транспортировка стоков",{"$f":"SUM(C34:I34)","v":0},{"$f":"C30-C32-C33","v":0},{"$f":"D30-D32-D33","v":0},0,0,0,0,0]
[]
["Капитальный ремонт"]
["Без расшифровки видов выполненных работ отчет принят не будет!","Расходы на преведение капитального ремонта в 2016 году, руб"]
["Наименование работ","всего","в том числе"]
[null,null,"расходы на оплату труда ремонтного персонала ",null,"материалы","транспортные расходы","услуги вспомогательных производств",{"$f":"H9","v":"цеховые (общепроизводственные) расходы"},"Общехозяйственные расходы"]
[null,null,"заработная плата","отчисления от ФОТ"]
[]
[null,{"$f":"SUM(C42:I42)","v":0}]
[null,{"$f":"SUM(C43:I43)","v":0}]
[null,0]
[null,0]
[null,0]
[null,0]
[null,0]
[null,0]
[null,0]
[null,{"$f":"SUM(C51:I51)","v":0},null,null,null,null,null,null,null,"строки вставлять здесь"]
[null,{"$f":"SUM(C52:I52)","v":0}]
[null,0]
[null,0]
[null,0]
[null,0]
["ВСЕГО",{"$f":"SUM(B42:B56)","v":0},{"$f":"SUM(C42:C56)","v":0},0,0,0,0,0,0]
["в том числе"]
[]
["очистка стоков",{"$f":"SUM(C60:I60)","v":0}]
["прием и транспортировка стоков",{"$f":"SUM(C61:I61)","v":0},{"$f":"C57-C59-C60","v":0},{"$f":"D57-D59-D60","v":0},{"$f":"E57-E59-E60","v":0},{"$f":"F57-F59-F60","v":0},{"$f":"G57-G59-G60","v":0},{"$f":"H57-H59-H60","v":0},{"$f":"I57-I59-I60","v":0}]

{"sheet":"ремонт хозспособ (бсх)","index":14,"n_rows":66,"n_cols":10,"rows_kept":66,"cut":false,"hidden":false,"merged":[[8,7,10,7],[8,8,10,8],[3,0,3,8],[0,0,0,8],[1,0,1,8],[2,0,2,8],[6,1,6,8],[7,0,10,0],[7,1,10,1],[7,2,7,8],[8,2,8,3],[9,2,10,2],[9,3,10,3],[8,4,10,4],[8,5,10,5],[8,6,10,6],[40,0,43,0],[39,1,39,8],[40,1,43,1],[40,2,40,8],[41,2,41,3],[41,8,43,8],[42,2,43,2],[42,3,43,3],[41,7,43,7],[41,4,43,4],[41,5,43,5],[41,6,43,6]]}
["Отчет о выполнении текущего и капитального ремонтов хозспособом "]
[{"$f":"Титульный!C10","v":" "}]
[{"$f":"Титульный!C19","v":0}]
["Объекты бесхозяйного имущества"]
["район",{"$f":"Титульный!C6","v":0},null,null,"МО",{"$f":"Титульный!C7","v":0}]
["Текущий ремонт"]
["Без расшифровки видов выполненных работ отчет принят не будет!","Расходы на преведение текущего ремонта в 2016 году, руб"]
["Наименование работ","всего","в том числе"]
[null,null,"расходы на оплату труда ремонтного персонала ",null,"материалы","транспортные расходы","услуги вспомогательных производств","цеховые (общепроизводственные) расходы","Общехозяйственные расходы"]
[null,null,"заработная плата","отчисления от ФОТ"]
[]
[null,{"$f":"SUM(C12:I12)","v":0}]
[null,{"$f":"SUM(C13:I13)","v":0}]
[null,0]
[null,0]
[null,0]
[null,0]
[null,0]
[null,0]
[null,0]
[null,0]
[null,0]
[null,0]
[null,0]
[null,0]
[null,0]
[null,0]
[null,0]
[null,0,null,null,null,null,null,null,null,"строки вставлять здесь"]
[null,0]
[null,0]
[null,0]
["ВСЕГО",{"$f":"SUM(B12:B32)","v":0},0,0,0,0,0,0,0]
["в том числе"]
[null,{"$f":"SUM(C35:I35)","v":0}]
["очистка стоков",{"$f":"SUM(C36:I36)","v":0}]
["прием и транспортировка стоков",{"$f":"SUM(C37:I37)","v":0},{"$f":"C33-C35-C36","v":0},{"$f":"D33-D35-D36","v":0},0,0,0,0,0]
[]
["Капитальный ремонт"]
["Без расшифровки видов выполненных работ отчет принят не будет!","Расходы на преведение капитального ремонта в 2016 году, руб"]
["Наименование работ","всего","в том числе"]
[null,null,"расходы на оплату труда ремонтного персонала ",null,"материалы","транспортные расходы","услуги вспомогательных производств",{"$f":"H9","v":"цеховые (общепроизводственные) расходы"},"Общехозяйственные расходы"]
[null,null,"заработная плата","отчисления от ФОТ"]
[]
[null,{"$f":"SUM(C45:I45)","v":0}]
[null,{"$f":"SUM(C46:I46)","v":0}]
[null,0]
[null,0]
[null,0]
[null,0]
[null,0]
[null,0]
[null,0]
[null,0]
[null,0,null,null,null,null,null,null,null,"строки вставлять здесь"]
[null,0]
[null,0]
[null,0]
["ВСЕГО",{"$f":"SUM(B45:B58)","v":0},0,0,0,0,0,0,0]
["в том числе"]
[null,{"$f":"SUM(C61:I61)","v":0}]
["очистка стоков",{"$f":"SUM(C62:I62)","v":0}]
["прием и транспортировка стоков",{"$f":"SUM(C63:I63)","v":0},{"$f":"C59-C61-C62","v":0},{"$f":"D59-D61-D62","v":0},0,0,0,0,0]
[]
[]
[{"$f":"'данные об организации'!B45","v":0}]

{"sheet":"ремонт подряд","index":15,"n_rows":52,"n_cols":6,"rows_kept":52,"cut":false,"hidden":false,"merged":[[0,0,0,3],[1,0,1,3],[2,0,2,3],[6,0,6,3]]}
["Отчет о выполнении текущего и капитального ремонтов подрядным способом"]
[{"$f":"Титульный!C10","v":" "}]
[{"$f":"Титульный!C19","v":0}]
[]
["район",null,{"$f":"Титульный!C6","v":0}]
["МО",null,{"$f":"Титульный!C7","v":0}]
["имущество, переданное по договору аренды или принадлежащее на праве собственности"]
["Текущий ремонт"]
["Наименование работ","Наименование организации- подрядчика","№ договора","Сумма в 2016 году, руб"]
[]
[]
[]
[]
[]
[null,null,null,null,"строки вставлять здесь"]
[]
[]
[]
[]
[]
[]
[]
[]
[]
["ВСЕГО","х","х",{"$f":"SUM(D10:D24)","v":0}]
["в том числе"]
[]
["очистка стоков"]
["прием и транспортировка стоков",null,null,{"$f":"D25-D27-D28","v":0}]
[]
["Капитальный ремонт"]
["Наименование работ","Наименование организации- подрядчика","№ договора","Сумма в 2016 году, руб"]
[]
[]
[]
[]
[]
[]
[]
[]
[]
[]
[]
[null,null,null,null,null,"строки вставлять здесь"]
[]
[]
[]
["ВСЕГО","х","х",{"$f":"SUM(D33:D42)","v":0}]
["в том числе"]
[]
["очистка стоков"]
["прием и транспортировка стоков",null,null,{"$f":"D48-D50-D51","v":0}]

{"sheet":"ремонт подряд (бсх)","index":16,"n_rows":47,"n_cols":6,"rows_kept":47,"cut":false,"hidden":false,"merged":[[0,0,0,3],[1,0,1,3],[2,0,2,3],[6,0,6,3]]}
["Отчет о выполнении текущего и капитального ремонтов подрядным способом"]
[{"$f":"Титульный!C10","v":" "}]
[{"$f":"Титульный!C19","v":0}]
[]
["район",null,{"$f":"Титульный!C6","v":0}]
["МО",null,{"$f":"Титульный!C7","v":0}]
["Объекты бесхозяйного имущества"]
["Текущий ремонт"]
["Наименование работ","Наименование организации- подрядчика","№ договора","Сумма в 2016 году, руб"]
[]
[]
[]
[]
[]
[]
[]
[null,null,null,null,null,"строки вставлять здесь"]
[]
[]
["ВСЕГО","х","х",{"$f":"SUM(D10:D19)","v":0}]
["в том числе"]
[]
["очистка стоков"]
["прием и транспортировка стоков",null,null,{"$f":"D20-D22-D23","v":0}]
[]
[]
["Капитальный ремонт"]
["Наименование работ","Наименование организации- подрядчика","№ договора","Сумма в 2016 году, руб"]
[]
[]
[]
[]
[]
[]
[]
[]
[]
[]
[null,null,null,null,null,"строки вставлять здесь"]
[]
[]
[]
["ВСЕГО","х","х",{"$f":"SUM(D29:D42)","v":0}]
["в том числе"]
[]
["очистка стоков"]
["прием и транспортировка стоков",null,null,{"$f":"D43-D45-D46","v":0}]

{"sheet":"Смета факт","index":17,"n_rows":232,"n_cols":5,"rows_kept":232,"cut":false,"hidden":false,"merged":[[226,3,226,4],[228,3,228,4],[221,3,221,4],[222,3,222,4],[223,3,223,4],[224,3,224,4],[225,3,225,4],[214,3,214,4],[215,3,215,4],[218,3,218,4],[219,3,219,4],[220,3,220,4],[209,3,209,4],[210,3,210,4],[211,3,211,4],[212,3,212,4],[213,3,213,4],[202,3,202,4],[203,3,203,4],[204,3,204,4],[207,3,207,4],[208,3,208,4],[197,3,197,4],[198,3,198,4],[199,3,199,4],[200,3,200,4],[201,3,201,4],[192,3,192,4],[193,3,193,4],[194,3,194,4],[195,3,195,4],[196,3,196,4],[8,0,8,2],[5,0,7,0],[5,1,7,1],[0,0,0,4],[1,0,1,4],[2,0,2,4],[5,2,5,4],[6,2,7,2],[6,3,7,3],[6,4,7,4]]}
["Фактическая смета расходов и НВВ по установленному тарифу в сфере водоотведения за 2016 год"]
[{"$f":"Титульный!C10","v":" "}]
[{"$f":"Титульный!C19","v":0}]
["район",{"$f":"Титульный!C6","v":0},"МО"]
[]
["№ п/п","Наименование статьи","Сумма, руб"]
[null,null,"ВСЕГО","имущество по договору аренды или находящееся в собственности","объекты бесхозяйного имущества"]
[]
["номер бухгалтерского счета (субсчета) учета затрат"]
["I","ПРОИЗВОДСТВЕННЫЕ РАСХОДЫ",{"$f":"D10+E10","v":0},{"$f":"D11+D19+D32+D38+D45","v":0},{"$f":"E11+E19+E32+E38+E45","v":0}]
["1.","Расходы на приобретение сырья и материалов и их хранения",0,{"$f":"D12+D13+D14+D15","v":0},{"$f":"E12+E13+E14+E15","v":0}]
["1.1.","реагенты",{"$f":"D12+E12","v":0}]
[]
["1.3.","горюче-смазочные материалы",0]
["1.4.","материалы и малоценные основные средства, в т.ч.",0,{"$f":"D16+D17+D18","v":0},{"$f":"E16+E17+E18","v":0}]
["1.4.1.","материалы на техническое обслуживание",0]
["1.4.2.","специальная одежда",0]
["1.4.3.","хозяйственный инвентарь и другие  вспомогательные материалы",0]
["2.","Расходы на энергетические ресурсы и холодную воду",0,{"$f":"D20+D23+D24+D25+D26+D27","v":0},{"$f":"E20+E23+E24+E25+E26+E27","v":0}]
["2.1.","Электроэнергия, в том числе",0,{"$f":"D21+D22","v":0},{"$f":"E21+E22","v":0}]
["2.1.1.","активная",0,{"$f":"'отчет по электроэнергии'!E15+'отчет по электроэнергии'!E31","v":0},{"$f":"'отчет по электроэнергии (бсх)'!E15+'отчет по электроэнергии (бсх)'!E31","v":0}]
["2.1.2.","мощность",0,{"$f":"'отчет по электроэнергии'!E24","v":0},{"$f":"'отчет по электроэнергии (бсх)'!E24","v":0}]
["2.2.","Тепловая энергия",0]
["2.3.","Вода на собственные нужды",0]
["2.4.","Водоотведение на собственные нужды",0]
["2.5.","Прочие энергоресурсы",0]
[]
[]
[]
[]
[]
["3.","Расходы на оплат уработ и услуг, выполняемых сторонними организациями,  связанные с эксплуатацией централизованных систем либо объектов в составе таких систем, по регулируемым тарифам",0,{"$f":"D33+D34+D35","v":0},{"$f":"E33+E34+E35","v":0}]
[]
["3.1.","Услуги по очистке сточных вод",0]
["3.2.","Услуги  по транспортировке сточных вод",0,{"$f":"D36+D37","v":0},{"$f":"E36+E37","v":0}]
[]
[]
["4.","Расходы на оплату труда и отчисления на социальные нужды",0,{"$f":"D39+D42","v":0},{"$f":"E39+E42","v":0}]
["4.1.","Расходы на оплату труда основного персонала",0]
["4.2.","Численность основного персонала, относимого на регулируемый вид деятельности, чел",0]
["4.2.1.","средняя заработная плата",{"$f":"IF(C40=0,,C39/C40/12)","v":0},{"$f":"IF(D40=0,,D39/D40/12)","v":0},0]
["4.3.","Отчисления на социальные нужды от расходов на оплату труда",{"$f":"D42+E42","v":0}]
["4.3.1."," % расходов на уплату страховых взносов в ПФ, ФСС, ОМС",{"$f":"IF(C39=0,,C42/C39*100-C44)","v":0},{"$f":"IF(D39=0,,D42/D39*100-D44)","v":0},0]
["4.3.2.","% платежей в фонд социального страхования от несчастных случаев",null,0.2,0.2]
["5.","Прочие производственные расходы",{"$f":"D45+E45","v":0},{"$f":"D46+D71+D77+D78+D79","v":0},{"$f":"E46+E71+E77+E78+E79","v":0}]
["5.1.","Услуги собственных подразделений",{"$f":"D46+E46","v":0},{"$f":"D47+D53+D59+D65","v":0},{"$f":"E47+E53+E59+E65","v":0}]
["5.1.1.","Услуги вспомогательных производств",{"$f":"D47+E47","v":0},{"$f":"D48+D51+D52","v":0},{"$f":"E48+E51+E52","v":0}]
["5.1.1.1.","Расходы на оплату труда, относимую на регулируемый вид деятельности",{"$f":"D48+E48","v":0}]
["5.1.1.1.1.","Численность, относимая на регулируемый вид деятельности, чел",{"$f":"D49+E49","v":0}]
["5.1.1.1.2.","средняя заработная плата",{"$f":"IF(C49=0,,C48/C49/12)","v":0},{"$f":"IF(D49=0,,D48/D49/12)","v":0},0]
["5.1.1.2.","Отчисления на социальные нужды от расходов на оплату труда",{"$f":"D51+E51","v":0}]
["5.1.1.3.","Прочие расходы",{"$f":"D52+E52","v":0}]
["5.1.2.","Транспортные расходы",{"$f":"D53+E53","v":0},{"$f":"D54+D57+D58","v":0},{"$f":"E54+E57+E58","v":0}]
["5.1.2.1.","Расходы на оплату труда, относимую на регулируемый вид деятельности",{"$f":"D54+E54","v":0}]
["5.1.2.1.1.","Численность, относимая на регулируемый вид деятельности, чел",{"$f":"D55+E55","v":0}]
["5.1.2.1.2.","средняя заработная плата",{"$f":"IF(C55=0,,C54/C55/12)","v":0},0,0]
["5.1.2.2.","Отчисления на социальные нужды от расходов на оплату труда",{"$f":"D57+E57","v":0}]
["5.1.2.3.","Прочие расходы",{"$f":"D58+E58","v":0}]
["5.1.3.","Цеховые расходы",{"$f":"D59+E59","v":0},{"$f":"D60+D63+D64","v":0},{"$f":"E60+E63+E64","v":0}]
["5.1.3.1.","Расходы на оплату труда, относимую на регулируемый вид деятельности",{"$f":"D60+E60","v":0}]
["5.1.3.1.1.","Численность, относимая на регулируемый вид деятельности, чел",{"$f":"D61+E61","v":0}]
["5.1.3.1.2.","средняя заработная плата",{"$f":"IF(C61=0,,C60/C61/12)","v":0},{"$f":"IF(D61=0,,D60/D61/12)","v":0},{"$f":"IF(E61=0,,E60/E61/12)","v":0}]
["5.1.3.2.","Отчисления на социальные нужды от расходов на оплату труда",{"$f":"D63+E63","v":0}]
["5.1.3.3.","Прочие расходы",{"$f":"D64+E64","v":0}]
["5.1.4.","Общепроизводственные расходы",{"$f":"D65+E65","v":0},{"$f":"D66+D69+D70","v":0},{"$f":"E66+E69+E70","v":0}]
["5.1.4.1.","Расходы на оплату труда, относимую на регулируемый вид деятельности",{"$f":"D66+E66","v":0}]
["5.1.4.1.1.","Численность, относимая на регулируемый вид деятельности, чел",{"$f":"D67+E67","v":0}]
["5.1.4.1.2.","средняя заработная плата",{"$f":"IF(C67=0,,C66/C67/12)","v":0},{"$f":"IF(D67=0,,D66/D67/12)","v":0},{"$f":"IF(E67=0,,E66/E67/12)","v":0}]
["5.1.4.2.","Отчисления на социальные нужды от расходов на оплату труда",{"$f":"D69+E69","v":0}]
["5.1.4.3.","Прочие расходы",0]
["5.2.","Охрана труда всего, в том числе:",0,{"$f":"SUM(D72:D76)","v":0},{"$f":"SUM(E72:E76)","v":0}]
["5.2.1.","моющие средства",0]
["5.2.2.","специальное питание",0]
["5.2.3.","страхование персонала (кроме ДМС)",0]
["5.2.4.","аттестация",0]
["5.2.5.","медицинский осмотр",0]
["5.3.","Расходы на льготный проезд",0]
["5.4.","Расходы на содержание зданий (вывоз ТБО, дератизация, дезинсекция)",0]
["5.5.","Производственный контроль состава и свойств сточных вод",0,{"$f":"SUM(D80:D81)","v":0},{"$f":"SUM(E80:E81)","v":0}]
["5.5.1."," контроль состава и свойств сточных вод",0]
["5.5.2.","оборудование  лаборатории",0]
["II","РЕМОНТНЫЕ РАСХОДЫ",0,{"$f":"D83+D95","v":0},{"$f":"E83+E95","v":0}]
["6.1.","Текущий ремонт централизованных систем водоотведения, объектов, входящих в состав таких систем, в том числе:",0,{"$f":"D84+D94","v":0},{"$f":"E84+E94","v":0}]
["6.1.1.","затраты на ремонт хоз. способом:",0,{"$f":"SUM(D85:D93)","v":0},{"$f":"SUM(E85:E93)","v":0}]
["6.1.1.1.","заработная плата ремонтного персонала",0,{"$f":"'ремонт хозспособ'!C30","v":0},{"$f":"'ремонт хозспособ (бсх)'!C33","v":0}]
["6.1.1.1.1.","Численность, относимая на регулируемый вид деятельности, чел",0]
["6.1.1.1.2.","средняя заработная плата",{"$f":"IF(C86=0,,C85/C86/12)","v":0},{"$f":"IF(D86=0,,D85/D86/12)","v":0},{"$f":"IF(E86=0,,E85/E86/12)","v":0}]
["6.1.1.2.","отчисления на социальные нужды от расходов на оплату труда",{"$f":"D88+E88","v":0},{"$f":"'ремонт хозспособ'!D30","v":0},{"$f":"'ремонт хозспособ (бсх)'!D33","v":0}]
["6.1.1.3.","материалы",0,{"$f":"'ремонт хозспособ'!E30","v":0},{"$f":"'ремонт хозспособ (бсх)'!E33","v":0}]
["6.1.1.4.","услуги вспомогательных производств",0,{"$f":"'ремонт хозспособ'!G30","v":0},{"$f":"'ремонт хозспособ (бсх)'!G33","v":0}]
["6.1.1.5.","транспортные расходы",0,{"$f":"'ремонт хозспособ'!F30","v":0},{"$f":"'ремонт хозспособ (бсх)'!F33","v":0}]
["6.1.1.6.","цеховые расходы",0,{"$f":"'ремонт хозспособ'!H30","v":0},{"$f":"'ремонт хозспособ (бсх)'!H33","v":0}]
["6.1.1.7.","общехозяйственные расходы",0,{"$f":"'ремонт хозспособ'!I30","v":0},{"$f":"'ремонт хозспособ (бсх)'!I33","v":0}]
["6.1.2.","затраты на ремонт подрядным способом",0,{"$f":"'ремонт подряд'!D25","v":0},{"$f":"'ремонт подряд (бсх)'!D20","v":0}]
["6.2.","Капитальный ремонт централизованных систем водоотведения, объектов, входящих в состав таких систем, в том числе:",0,{"$f":"D96+D106","v":0},{"$f":"E96+E106","v":0}]
["6.2.1."," затраты на ремонт хоз.способом:",0,{"$f":"SUM(D97:D105)","v":0},{"$f":"SUM(E97:E105)","v":0}]
["6.2.1.1.","заработная плата ремонтного персонала",0,{"$f":"'ремонт хозспособ'!C57","v":0},{"$f":"'ремонт хозспособ (бсх)'!C59","v":0}]
["6.2.1.1.1.","Численность, относимая на регулируемый вид деятельности, чел",0]
["6.2.1.1.2.","средняя заработная плата",{"$f":"IF(C98=0,,C97/C98/12)","v":0},{"$f":"IF(D98=0,,D97/D98/12)","v":0},{"$f":"IF(E98=0,,E97/E98/12)","v":0}]
["6.2.1.2.","отчисления на социальные нужды от расходов на оплату труда",{"$f":"D100+E100","v":0},{"$f":"'ремонт хозспособ'!D57","v":0},{"$f":"'ремонт хозспособ (бсх)'!D59","v":0}]
["6.2.1.3.","материалы",0,{"$f":"'ремонт хозспособ'!E57","v":0},{"$f":"'ремонт хозспособ (бсх)'!E59","v":0}]
["6.2.1.4.","услуги вспомогательных производств",0,{"$f":"'ремонт хозспособ'!G57","v":0},{"$f":"'ремонт хозспособ (бсх)'!G59","v":0}]
["6.2.1.5.","транспортные расходы",0,{"$f":"'ремонт хозспособ'!F57","v":0},{"$f":"'ремонт хозспособ (бсх)'!F59","v":0}]
["6.2.1.6.","цеховые расходы",0,{"$f":"'ремонт хозспособ'!H57","v":0},{"$f":"'ремонт хозспособ (бсх)'!H59","v":0}]
["6.2.1.7.","общехозяйственные расходы",0,{"$f":"'ремонт хозспособ'!I57","v":0},{"$f":"'ремонт хозспособ (бсх)'!I59","v":0}]
["6.2.2.","затраты на ремонт подрядным способом",0,{"$f":"'ремонт подряд'!D48","v":0},{"$f":"'ремонт подряд (бсх)'!D43","v":0}]
["III","ПРОЧИЕ РАСХОДЫ",0,{"$f":"SUM(D108:D114)","v":0},{"$f":"SUM(E108:E114)","v":0}]
["7.1.","Расходы на услуги связи",0]
["7.2.","Вневедомственная охрана объектов и территории",0]
["7.3.","Расходы на обучение персонала",0]
["7.4.","Расходы на служебные командировки",0]
["7.5.","Расходы на страхование производственных объектов",0]
["7.6.","Лицензирование",0]
["7.7.","Прочие расходы",0,{"$f":"SUM(D115:D134)","v":0},{"$f":"SUM(E115:E134)","v":0}]
["7.7.1.",null,0]
["7.7.2.",null,0]
["7.7.3.",null,0]
["7.7.4.",null,0]
["7..7.5.",null,0]
["7.7.6.",null,0]
["7.7.7.",null,0]
["7.7.8.",null,0]
["7.7.9.",null,0]
["7.7.10.",null,0]
["7.7.11.",null,0]
["7.7.12.",null,0]
["7.7.13.",null,0]
["7.7.14.",null,0]
["7.7.15.",null,0]
["7.7.16.",null,0]
["7.7.17.",null,0]
["7.7.18.",null,0]
["7.7.19.",null,0]
["7.7.20.","прочие расходы",0]
["IV","ОБЩЕХОЗЯЙСТВЕННЫЕ РАСХОДЫ",0,{"$f":"D136+D139+D140","v":0},{"$f":"E136+E139+E140","v":0}]
["8.1.","Расходы на оплату труда, относимую на регулируемый вид деятельности",0]
["8.1.1.","Численность, относимая на регулируемый вид деятельности, чел",0]
["8.1.2.","средняя заработная плата",{"$f":"IF(C137=0,,C136/C137/12)","v":0},{"$f":"IF(D137=0,,D136/D137/12)","v":0},{"$f":"IF(E137=0,,E136/E137/12)","v":0}]
["8.2.","Отчисления на социальные нужды от расходов на оплату труда",{"$f":"D139+E139","v":0}]
["8.3.","Прочие расходы",0,{"$f":"SUM(D141:D155)","v":0},{"$f":"SUM(E141:E155)","v":0}]
["8.3.1.",null,0]
["8.3.2.",null,0]
["8.3.3.",null,0]
["8.3.4.",null,0]
["8.3.5.",null,0]
["8.3.6.",null,0]
["8.3.7.",null,0]
["8.3.8.",null,0]
["8.3.9.",null,0]
["8.3.10.",null,0]
["8.3.11.",null,0]
["8.3.12.",null,0]
["8.3.13.",null,0]
["8.3.14.",null,0]
["8.3.15.","прочие расходы",0]
["IV","СБЫТОВЫЕ РАСХОДЫ",0,{"$f":"SUM(D157:D158)","v":0},{"$f":"SUM(E157:E158)","v":0}]
["9.1.","Расходы по сомнительным долгам",0]
["9.2.","Прочие сбытовые расходы",0]
["V","РАСХОДЫ НА АМОРТИЗАЦИЮ ОСНОВНЫХ СРЕДСТВ И НЕМАТЕРИАЛЬНЫХ АКТИВОВ",0,{"$f":"SUM(D160:D161)","v":0},{"$f":"SUM(E160:E161)","v":0}]
["10.1.","Амортизация основных средств,относимых к объектам централизованной системы водоотведения",0]
["10.2.","Амортизация нематериальных активов,относимых к объектам централизованной системы водоотведения",0]
["VI","РАСХОДЫ НА АРЕНДНУЮ ПЛАТУ, ЛИЗИНГОВЫЕ ПЛАТЕЖИ, КОНЦЕССИОННУЮ ПЛАТУ",0,{"$f":"SUM(D163:D166)","v":0},0]
["11.1.","лизинговые платежи",0]
["11.2.","концессионная плата",0]
["11.3.","аренда имущества (объектов централизованной системы водоотведения)",0]
["11.4.","аренда земельных участков (под объектами централизованной системы водоотведения)",0]
["VII","РАСХОДЫ, СВЯЗАННЫЕ С ОПЛАТОЙ НАЛОГОВ И СБОРОВ",0,{"$f":"SUM(D168:D173)","v":0},{"$f":"SUM(E168:E173)","v":0}]
["11.5.","водный налог",0]
["11.6.","налог на землю",0]
["11.7.","налог на имущество (на объекты централизованной системы водоотведения)",0]
["11.8.","плата за загрязнение окружающей среды",0]
["11.9.","транспортный налог",0]
["11.10.","прочие налоги и сборы",0]
["VIII","ВСЕГО СЕБЕСТОИМОСТЬ",{"$f":"SUM(C10,C82,C107,C135,C156,C159,C162,C167)","v":0},{"$f":"SUM(D10,D82,D107,D135,D156,D159,D162,D167)","v":0},0]
["IХ","Финансовый результат от реализации",0,{"$f":"D177+D178+D179+D180+D181+D182","v":0}]
["12.1.","то же в %",{"$f":"IF(SUM(C10,C82,C107,C135,C156,C159,C162,C167,C181:C182)=0,0,SUM(C177:C180)/SUM(C10,C82,C107,C135,C156,C159,C162,C167,C181:C182)*100)","v":0},{"$f":"IF(SUM(D10,D82,D107,D135,D156,D159,D162,D167,D181:D182)=0,0,SUM(D177:D180)/SUM(D10,D82,D107,D135,D156,D159,D162,D167,D181:D182)*100)","v":0},{"$f":"IF(SUM(E10,E82,E107,E135,E156,E159,E162,E167,E181:E182)=0,0,SUM(E177:E180)/SUM(E10,E82,E107,E135,E156,E159,E162,E167,E181:E182)*100)","v":0}]
["12.2.","средства на возврат займов и кредитов и процентов по ним",{"$f":"D177+E177","v":0}]
["12.3.","расходы на капитальные вложения (инвестиции)",0]
["12.4.","денежные выплаты социального характера (по коллективному договору)",0]
["12.5.","прибыль, обеспечивающая финансирование других расходов, не учитываемых  при определении налоговой бызы налога на прибыль (остающаяся в распоряжении организации)",0]
["13.1.","налог на прибыль",0]
["13.2."," (или)единый налог при УСН ",0]
["Х","НЕОБХОДИМАЯ ВАЛОВАЯ ВЫРУЧКА",{"$f":"C175+C167+C162+C159+C156+C135+C107+C82+C10","v":0},0,0]
["16.","Товарная продукция",{"$f":"D184","v":0},{"$f":"'форма №2'!C11","v":0}]
[]
["18.","Объем реализации услуг водоотведения всего, м3, в том числе: ",{"$f":"'баланс ВО'!E14","v":0},{"$f":"C186","v":0},0]
["18.1.","на собственное потребление",{"$f":"'баланс ВО'!E23","v":0},0,0]
["18.2.","сторонним потребителям",{"$f":"C186-C187","v":0},0,0]
["XI","Цена (тариф) на водоотведение, руб./м3",{"$f":"IF(C186=0,0,C183/C186)","v":0},{"$f":"IF(D186=0,0,D183/D186)","v":0},{"$f":"IF(E186=0,0,E183/E186)","v":0}]
[]
[null,"Итоги по смете"]
[null,"Себестоимость"]
[null,"наименование расходов, номер счета, субсчета","сумма, рублей","Номер страницы отчета"]
[null,"20 счет"]
[null,"23 счет"]
[null,"25 счет"]
[null,"Транспортные расходы"]
[null,"ОХР"]
[]
[]
[]
[]
[]
[]
[null,"итого",{"$f":"SUM(C194:C204)","v":0}]
[]
[null,"Не принято в отчет"]
[null,"наименование расходов, номер счета, субсчета","сумма, рублей","Номер страницы отчета"]
[]
[]
[]
[]
[]
[]
[]
[null,"итого",{"$f":"SUM(C209:C215)","v":0}]
[]
[null,"91 счет"]
[null,"наименование расходов, номер счета, субсчета","сумма, рублей","Номер страницы отчета"]
[null,"УСН / налог на прибыль"]
[null,"Соц.выплаты"]
[null,"Услуги банков"]
[]
[]
[]
[]
[null,"итого",{"$f":"SUM(C220:C226)","v":0}]
[]
[null,"ВСЕГО НВВ по смете",{"$f":"C205-C216+C227","v":0}]
[]
[null,"Проверка",{"$f":"C229-C183","v":0}]
[null,null,"должен быть ноль!"]

{"sheet":"форма №2","index":18,"n_rows":170,"n_cols":3,"rows_kept":170,"cut":false,"hidden":false,"merged":[[0,0,0,2],[1,0,1,2],[3,2,4,2],[3,0,4,0],[3,1,4,1]]}
["Отчёт по бухгалтерской форме № 2 за 2016 год  с детализацией по видам деятельности"]
[{"$f":"Титульный!C10","v":" "}]
[]
["№ п/п","Наименование показателя","Сумма по данным организации, руб"]
[]
["I","Доходы и расходы по обычным видам деятельности"]
["1.1","Выручка (нетто) от продажи товаров, продукции, работ, услуг (за минусом налога на добавленную стоимость, акцизов и аналогичных обязательных платежей)",{"$f":"SUM(C8:C22)","v":0}]
["1.1.1","тепловая энергия"]
["1.1.2","электроэнергия"]
["1.1.3","горячая вода"]
["1.1.4",{"$f":"Титульный!C19","v":0},{"$f":"'отчет по реализации'!L77","v":0}]
["1.1.5","объекты бесхозяйного имущества водоотведение"]
["1.1.6","питьевая вода"]
["1.1.7","очистка сточных вод"]
["1.1.8","техническая вода"]
["1.1.9","очистка воды"]
["1.1.10"]
["1.1.11"]
["1.1.12"]
["1.1.13"]
["1.1.14"]
["1.1.15","прочие (нерегулируемые) виды деятельности"]
["1.2","Себестоимость проданных товаров, продукции, работ, услуг",{"$f":"SUM(C24:C38)","v":0}]
["1.2.1",{"$f":"B8","v":"тепловая энергия"}]
["1.2.2","электроэнергия"]
["1.2.3","горячая вода"]
["1.2.4",0]
["1.2.5","объекты бесхозяйного имущества водоотведение"]
["1.2.6","питьевая вода"]
["1.2.7","очистка сточных вод"]
["1.2.8","техническая вода"]
["1.2.9","очистка воды"]
["1.2.10",0]
["1.2.11",0]
["1.2.12",0]
["1.2.13",0]
["1.2.14",0]
["1.2.15","прочие (нерегулируемые) виды деятельности"]
["1.3","Валовая прибыль",{"$f":"SUM(C40:C54)","v":0}]
["1.3.1",{"$f":"B24","v":"тепловая энергия"},{"$f":"C8-C24","v":0}]
["1.3.2","электроэнергия",{"$f":"C9-C25","v":0}]
["1.3.3","горячая вода",0]
["1.3.4",0,0]
["1.3.5","объекты бесхозяйного имущества водоотведение",0]
["1.3.6","питьевая вода",0]
["1.3.7","очистка сточных вод",0]
["1.3.8","техническая вода",0]
["1.3.9","очистка воды",0]
["1.3.10",0,0]
["1.3.11",0,0]
["1.3.12",0,0]
["1.3.13",0,0]
["1.3.14",0,0]
["1.3.15","прочие (нерегулируемые) виды деятельности",0]
["1.4","Коммерческие расходы",{"$f":"SUM(C56:C70)","v":0}]
["1.4.1",{"$f":"B40","v":"тепловая энергия"}]
["1.4.2","электроэнергия"]
["1.4.3","горячая вода"]
["1.4.4",0]
["1.4.5","объекты бесхозяйного имущества водоотведение"]
["1.4.6","питьевая вода"]
["1.4.7","очистка сточных вод"]
["1.4.8","техническая вода"]
["1.4.9","очистка воды"]
["1.4.10",0]
["1.4.11",0]
["1.4.12",0]
["1.4.13",{"$f":"B52","v":0}]
["1.4.14",0]
["1.4.15","прочие (нерегулируемые) виды деятельности"]
["1.5","Управленческие расходы",{"$f":"SUM(C72:C86)","v":0}]
["1.5.1",{"$f":"B56","v":"тепловая энергия"}]
["1.5.2","электроэнергия"]
["1.5.3","горячая вода"]
["1.5.4",0]
["1.5.5","объекты бесхозяйного имущества водоотведение"]
["1.5.6","питьевая вода"]
["1.5.7","очистка сточных вод"]
["1.5.8","техническая вода"]
["1.5.9","очистка воды"]
["1.5.10",0]
["1.5.11",0]
["1.5.12",0]
["1.5.13",{"$f":"B68","v":0}]
["1.5.14",0]
["1.5.15","прочие (нерегулируемые) виды деятельности"]
["1.6","Прибыль (убыток) от продаж ",{"$f":"SUM(C88:C102)","v":0}]
["1.6.1",{"$f":"B8","v":"тепловая энергия"},{"$f":"C40-C56-C72","v":0}]
["1.6.2","электроэнергия",{"$f":"C41-C57-C73","v":0}]
["1.6.3","горячая вода",0]
["1.6.4",0,0]
["1.6.5","объекты бесхозяйного имущества водоотведение",0]
["1.6.6","питьевая вода",0]
["1.6.7","очистка сточных вод",0]
["1.6.8","техническая вода",0]
["1.6.9","очистка воды",0]
["1.6.10",0,0]
["1.6.11",0,0]
["1.6.12",0,0]
["1.6.13",0,0]
["1.6.14",0,0]
["1.6.15","прочие (нерегулируемые) виды деятельности",0]
["II","Прочие доходы и расходы",{"$f":"C104-C120","v":0}]
["2.3","Прочие доходы",{"$f":"SUM(C105:C119)","v":0}]
["2.3.1",{"$f":"B88","v":"тепловая энергия"}]
["2.3.2",{"$f":"B89","v":"электроэнергия"}]
["2.3.3","горячая вода"]
["2.3.4",0]
["2.3.5","объекты бесхозяйного имущества водоотведение"]
["2.3.6","питьевая вода"]
["2.3.7","очистка сточных вод"]
["2.3.8","техническая вода"]
["2.3.9","очистка воды"]
["2.3.10",0]
["2.3.11",0]
["2.3.12",0]
["2.3.13",0]
["2.3.14",0]
["2.3.15","прочие (нерегулируемые) виды деятельности"]
["2.4","Прочие расходы",{"$f":"SUM(C121:C135)","v":0}]
["2.4.1",{"$f":"B105","v":"тепловая энергия"}]
["2.4.2",{"$f":"B106","v":"электроэнергия"}]
["2.4.3","горячая вода"]
["2.4.4",0]
["2.4.5","объекты бесхозяйного имущества водоотведение"]
["2.4.6","питьевая вода"]
["2.4.7","очистка сточных вод"]
["2.4.8","техническая вода"]
["2.4.9","очистка воды"]
["2.4.10",0]
["2.4.11",0]
["2.4.12",0]
["2.4.13",0]
["2.4.14",0]
["2.4.15","прочие (нерегулируемые) виды деятельности"]
["3","Прибыль (убыток) до налогообложения ",{"$f":"SUM(C137:C151)","v":0}]
["3.1.1",{"$f":"B8","v":"тепловая энергия"},{"$f":"C88+C105-C121","v":0}]
["3.1.2",{"$f":"B9","v":"электроэнергия"},{"$f":"C89+C106-C122","v":0}]
["3.1.3","горячая вода",0]
["3.1.4",0,0]
["3.1.5","объекты бесхозяйного имущества водоотведение",0]
["3.1.6","питьевая вода",0]
["3.1.7","очистка сточных вод",0]
["3.1.8","техническая вода",0]
["3.1.9","очистка воды",0]
["3.1.10",0,0]
["3.1.11",0,0]
["3.1.12",0,0]
["3.1.13",0,0]
["3.1.14",0,0]
["3.1.15","прочие (нерегулируемые) виды деятельности",0]
["3.2.2","Текущий налог на прибыль",{"$f":"SUM(C153:C167)","v":0}]
["3.2.2.1",{"$f":"B24","v":"тепловая энергия"}]
["3.2.2.2",{"$f":"B25","v":"электроэнергия"}]
["3.2.2.3","горячая вода"]
["3.2.2.4",0]
["3.2.2.5","объекты бесхозяйного имущества водоотведение"]
["3.2.2.6","питьевая вода"]
["3.2.2.7","очистка сточных вод"]
["3.2.2.8","техническая вода"]
["3.2.2.9","очистка воды"]
["3.2.2.10",0]
["3.2.2.11",0]
["3.2.2.12",0]
["3.2.2.13",0]
["3.2.2.14",0]
["3.2.2.15","прочие (нерегулируемые) виды деятельности"]
[]
[]
["5.","Чистая прибыль (убыток) отчетного периода",{"$f":"C136-C152+C168+C169","v":0}]

{"sheet":"показатели надежн и качества","index":19,"n_rows":25,"n_cols":8,"rows_kept":25,"cut":false,"hidden":false,"merged":[[9,0,9,2],[18,0,18,2],[22,0,22,2],[7,3,8,3],[7,4,8,4],[2,0,2,4],[0,0,0,4],[1,0,1,4],[6,0,8,0],[6,1,8,1],[6,2,8,2],[6,3,6,6],[7,5,7,6]]}
["Фактические значения показателей надежности, качества и энергетической эффективности объектов централизованных систем водоснабжения"]
[{"$f":"Титульный!C10","v":" "}]
[{"$f":"Титульный!C19","v":0}]
["район",{"$f":"Титульный!C6","v":0}]
["МО",{"$f":"Титульный!C7","v":0}]
[]
["№ п/п","Наименование показателя","ед. изм.","2016 год"]
[null,null,null,"план","факт","отклонение"]
[null,null,null,null,null,"абс.","%"]
["Показатели качества очистки стоков"]
[1,"Доля сточных вод, не подвергающихся очистке, в общем объеме сточных вод, сбрасываемых в централизованные системы водоотведения","%",null,null,{"$f":"E11-D11","v":0},{"$f":"IF(D11=0,,F11/D11*100)","v":0}]
[2,"Доля поверхностных сточных вод, не подвергающихся очистке, в общем объеме поверхностных сточных вод, принимаемых в централизованную ливневую систему водоотведения","%"]
[3,"Доля проб сточных вод, не соответствующих установленным нормативам допустимых сбросов, лимитам на сбросы для централизованной системы водоотведения","%",null,{"$f":"IF(E15=0,0,E14/E15*100)","v":0},{"$f":"E13-D13","v":0},{"$f":"IF(D13=0,,F13/D13*100)","v":0},"приложить отчеты о проведении исследований!"]
["3.1.","количество проб сточной воды, не соответствующих установленным нормативам для централизованной системы водоотведения","ед"]
["3.2.","количество проб сточной воды в централизованной системе водоотведения всего","ед",null,null,null,null,"если исследования не проводились поставить прочерк"]
[4,"Доля проб сточных вод, не соответствующих установленным нормативам допустимых сбросов, лимитам на сбросы для ливневой системы водоотведения","%",null,{"$f":"IF(E18=0,0,E17/E18*100)","v":0},{"$f":"E16-D16","v":0},{"$f":"IF(D16=0,,F16/D16*100)","v":0},"приложить отчеты о проведении исследований!"]
["4.1.","количество проб сточной воды, не соответствующих установленным нормативам для ливневой системы водоотведения","ед"]
["4.2.","количество проб сточной воды в ливневой системе водоотведения всего","ед",null,null,null,null,"если исследования не проводились поставить прочерк"]
["Показатели надежности и бесперебойности водоотведения"]
[1,"Удельное количество аварий и засоров в расчете на протяженность канализационной сети в год","ед в год/ км",null,{"$f":"IF(E22=0,0,E21/E22*100)","v":0},{"$f":"E20-D20","v":0},{"$f":"IF(D20=0,,F20/D20*100)","v":0},"приложить подтверждающие документы!"]
["1.1.","количество аварий и засоров канализационной сети за год","ед"]
["1.2.","протяженность канализационных сетей","км",null,{"$f":"'Техн характер системы'!B85/1000","v":0}]
["Показатели энергетической эффективности использования ресурсов"]
[1,"Удельный расход электроэнергии, потребляемой в технологическом процессе очистки сточных вод на единицу объема очищаемых сточных вод","кВт.ч / куб.м",null,{"$f":"IF('баланс ВО'!E27=0,,'отчет по электроэнергии'!E39/'баланс ВО'!E27)","v":0},{"$f":"E24-D24","v":0},{"$f":"IF(D24=0,,F24/D24*100)","v":0}]
[2,"Удельный расход электроэнергии, потребляемой в технологическом процессе транспортировки сточных вод на единицу объема транспортируемых сточных вод","кВт.ч / куб.м",null,{"$f":"IF('баланс ВО'!E24=0,,'отчет по электроэнергии'!E40/'баланс ВО'!E24)","v":0},{"$f":"E25-D25","v":0},{"$f":"IF(D25=0,,F25/D25*100)","v":0}]

{"sheet":"отчет ПП","index":20,"n_rows":45,"n_cols":11,"rows_kept":45,"cut":false,"hidden":false,"merged":[[3,2,3,7],[1,0,1,1],[1,2,1,3],[1,4,1,5],[44,1,44,3],[42,0,42,7],[41,1,41,3],[37,1,37,3],[36,1,36,3],[35,0,35,7],[43,1,43,3],[15,1,15,4],[33,1,34,3],[33,0,34,0],[33,4,34,4],[33,5,33,7],[40,0,40,7],[16,1,16,4],[17,1,17,4],[21,5,21,7],[21,1,22,4],[31,0,31,7],[38,1,38,3],[39,1,39,3],[27,1,28,4],[29,1,29,4],[23,1,23,4],[2,0,2,1],[2,2,2,7],[3,0,3,1],[27,5,27,7],[26,2,26,3],[26,4,26,5],[27,0,28,0],[25,0,25,7],[21,0,22,0],[18,2,18,3],[18,4,18,5],[11,2,11,3],[11,4,11,5],[12,0,13,0],[12,1,13,4],[6,0,6,1],[6,2,6,7],[7,0,7,1],[7,2,7,7],[4,0,4,1],[4,2,4,7],[5,0,5,1],[5,2,5,7],[12,5,12,7],[14,1,14,4],[8,5,8,7],[9,2,9,3],[9,4,9,5],[8,0,8,1]]}
["I. Отчет о выполнении производственной программы за 2016 год"]
[]
["Полное наименование организации",null,{"$f":"Титульный!C10","v":" "}]
["Юридический адрес, телефон, факс",null,{"$f":"CONCATENATE('данные об организации'!C4,'данные об организации'!C5)","v":""}]
["ИНН",null,{"$f":"Титульный!C9","v":0}]
["Сфера деятельности",null,{"$f":"Титульный!C15","v":"Водоотведение"}]
["Наименование уполномоченного органа",null,"Департамент тарифного регулирования Томской   области"]
["Юридический адрес, телефон, факс",null,"634041, г. Томск, пр. Кирова 41, тел./факс: (3822)   560-373"]
["Период реализации производственной программы (график реализации мероприятий производственной программы)",null,"с ","2016-01-01","по","2016-12-31"]
[]
["II. Выполнение плановых мероприятий"]
[]
["№ п/п","Вид плановых мероприятий",null,null,null,"Сумма за 2016 год, тыс.руб"]
[null,null,null,null,null,"план","факт","откл"]
[1,"Плановые мероприятия: по ремонту объектов водоотведения и канализационных сетей, направленные на улучшение качества очистки сточных вод, обслуживания абонентов",null,null,null,null,{"$f":"'Смета факт'!C82/1000","v":0},{"$f":"G15-F15","v":0}]
[2,"Плановые мероприятия по энергосбережению и повышению энергетической эффективности, в том числе по снижению удельного расхода электроэнергии в технологическом процессе очистки (транспортировки) сточных вод",null,null,null,0,null,{"$f":"G16-F16","v":0},null,null,"указать источник финансирования"]
[3,"Другие мероприятия, в том числе мероприятия, направленные на компенсацию вреда, причиненного водному объекту (за счет взимания платы за нарушение нормативов по объему и (или) составу сточных вод)",null,null,null,null,null,{"$f":"G17-F17","v":0},null,null,"указать источник финансирования"]
[null,"Итого",null,null,null,{"$f":"SUM(F15:F17)","v":0},{"$f":"SUM(G15:G17)","v":0},0]
[]
["III.Планируемый объем принимаемых сточных вод (очистки сточных вод)"]
[]
["№ п/п","Наименование показателя",null,null,null,"Объем за 2016 год, тыс. куб.м."]
[null,null,null,null,null,"план","факт","откл"]
[1,"Объем реализации",null,null,null,null,{"$f":"'баланс ВО'!E26/1000","v":0},{"$f":"G24-F24","v":0}]
[]
["IV. Объем финансовых потребностей, необходимых для реализации производственной программы"]
[]
["№ п/п","Наименование показателя",null,null,null,"Сумма за 2016 год, тыс.руб"]
[null,null,null,null,null,"план","факт","откл"]
[1,"Необходимая валовая выручка",null,null,null,null,{"$f":"'Смета факт'!C183/1000","v":0},{"$f":"G30-F30","v":0}]
[]
["V. Выполнение плановые значения показателей надежности, качества и энергетической эффективности объектов централизованных систем водоснабжения"]
[]
["№ п/п","Наименование показателя",null,null,"ед. изм.","Значение за 2016 год"]
[null,null,null,null,null,"план","факт","откл"]
["Показатели качества очистки стоков"]
[1,"Доля сточных вод, не подвергающихся очистке, в общем объеме сточных вод, сбрасываемых в централизованные системы водоотведения",null,null,"%",{"$f":"'показатели надежн и качества'!D11","v":0},{"$f":"'показатели надежн и качества'!E11","v":0},{"$f":"G37-F37","v":0}]
[2,"Доля поверхностных сточных вод, не подвергающихся очистке, в общем объеме поверхностных сточных вод, принимаемых в централизованную ливневую систему водоотведения",null,null,"%",{"$f":"'показатели надежн и качества'!D12","v":0},{"$f":"'показатели надежн и качества'!E12","v":0},{"$f":"G38-F38","v":0}]
[3,"Доля проб сточных вод, не соответствующих установленным нормативам допустимых сбросов, лимитам на сбросы для централизованной системы водоотведения",null,null,"%",{"$f":"'показатели надежн и качества'!D13","v":0},{"$f":"'показатели надежн и качества'!E13","v":0},{"$f":"G39-F39","v":0}]
[4,"Доля проб сточных вод, не соответствующих установленным нормативам допустимых сбросов, лимитам на сбросы для ливневой системы водоотведения",null,null,"%",{"$f":"'показатели надежн и качества'!D16","v":0},{"$f":"'показатели надежн и качества'!E16","v":0},0]
["Показатели надежности и бесперебойности водоотведения"]
[1,"Удельное количество аварий и засоров в расчете на протяженность канализационной сети в год",null,null,"ед в год/ км",{"$f":"'показатели надежн и качества'!D20","v":0},{"$f":"'показатели надежн и качества'!E20","v":0},{"$f":"G42-F42","v":0}]
["Показатели энергетической эффективности использования ресурсов"]
[1,"Удельный расход электроэнергии, потребляемой в технологическом процессе очистки сточных вод на единицу объема очищаемых сточных вод",null,null,"кВт.ч  куб.м",{"$f":"'показатели надежн и качества'!D24","v":0},{"$f":"'показатели надежн и качества'!E24","v":0},{"$f":"G44-F44","v":0}]
[2,"Удельный расход электроэнергии, потребляемой в технологическом процессе транспортировки сточных вод на единицу объема транспортируемых сточных вод",null,null,"кВт.ч  куб.м",{"$f":"'показатели надежн и качества'!D25","v":0},{"$f":"'показатели надежн и качества'!E25","v":0},0]

{"sheet":"Смета 2016","index":21,"n_rows":114,"n_cols":17,"rows_kept":114,"cut":false,"hidden":true,"merged":[[3,7,4,7],[0,0,4,0],[0,1,4,1],[3,8,3,9],[3,12,4,12],[3,13,3,14],[0,2,0,16],[1,2,1,16],[2,2,2,6],[2,7,2,11],[2,12,2,16],[3,15,4,15],[3,16,4,16],[3,2,4,2],[3,3,3,4],[3,5,4,5],[3,6,4,6]]}
["№ п/п","Наименование статей","период регулирования"]
[null,null,"2016 год"]
[null,null,"всего",null,null,null,null,"01.01.-30.06",null,null,null,null,"01.07.-31.12"]
[null,null,"итого","подъем, транспортировка, очистка",null,"общехозяйственные расходы","Транспортные расходы","итого","подъем, транспортировка, очистка",null,"общехозяйственные расходы","Транспортные расходы","итого","подъем, транспортировка, очистка",null,"общехозяйственные расходы","Транспортные расходы"]
[null,null,null,"оформленное имущество","бесхозяйное имущество",null,null,null,"оформленное имущество","бесхозяйное имущество","по распределению","индексация 2015 года",null,"оформленное имущество","бесхозяйное имущество"]
["I","ПРОИЗВОДСТВЕННЫЕ РАСХОДЫ"]
["1.","Материалы , в том числе:"]
["1.1","реагенты"]
["1.2","горюче-смазочные материалы"]
["1.3","материалы и малоценные основные средства, в т.ч."]
["1.3.1","материалы на техническое обслуживание"]
["1.3.2","специальная одежда"]
["1.3.3","хозяйственный инвентарь и другие  вспомогательные материалы"]
["2.","Расходы на энергетические ресурсы"]
["2.1.","Расходы на электроэнергию, в том числе"]
["2.1.1.","                      по показаниям счетчика "]
["2.1.2.","                      за заявленную мощность "]
["2.2.","Расходы на тепловую энергию "]
["2.3.","Расходы воды на хозбытовые нужды"]
["2.4.","Расходы на услуги по водоотведению для хозбытовых нужд"]
["2.5.","Расходы на прочие энергоресурсы"]
["3.","Услуги, оказываемые сторонними организациями"]
["3.1."," Услуги по транспортированию стоков, оказываемые сторонними организациями"]
["3.2.","Услуги по очистке стоков, оказываемые сторонними организациями"]
["3.3."," Услуги по  утилизации сточной жидкости, оказываемые сторонними организациями"]
["4.","Расходы на обезвозживание, обезвреживание и захоронение  осадка сточных вод"]
["5.","Расходы на оплату труда и отчисления на социальные нужды"]
["5.1","Расходы на оплату труда"]
["5.1.1","Численность по регулируемому виду деятельности, чел"]
["5.1.2","Ставка рабочего 1-го разряда (с учетом отраслевого коэффициента)"]
["5.2","Отчисления на социальные нужды от расходов на оплату труда"]
["5.2.1"," % расходов на уплату страховых взносов в ПФ, ФСС, ОМС"]
["5.2.2","% платежей в фонд социального страхования от несчастных случаев"]
["6","Прочие производственные расходы"]
["6.1","Расходы на проведение аварийно-восстановительных работ, в том числе:"]
["6.1.1","Заработная плата "]
[null,"Среднемесячная оплата труда "]
[null,"Численность персонала"]
["6.1.2","Отчисления на соц.нужды от заработной платы"]
["6.1.3","Прочие расходы"]
["6.2","охрана труда всего, в том числе:"]
["6.2.1","моющие средства"]
["6.2.2","специальное питание"]
["6.2.3","страхование персонала (кроме ДМС)"]
["6.2.4","аттестация"]
["6.2.5","медицинский осмотр"]
["6.3","расходы на льготный проезд"]
["6.4","расходы на содержание зданий (за исключением расходов на энергетические ресурсы)"]
["6.5","Производственный контроль качества воды"]
["6.5.1"," контроль качества воды"]
["6.5.2","оборудование  лаборатории"]
["II","РЕМОНТНЫЕ РАСХОДЫ"]
["7.","Ремонт и техническое обслуживание основных средств, в том числе:"]
["7.1","Текущий ремонт, в том числе:"]
["7.1.1","  затраты на ремонт хоз. способом:"]
["7.1.1.1","              заработная плата ремонтного персонала"]
["7.1.1.2","              отчисления на соц. нужды от заработной платы                                                  ремонтного  персонала"]
["7.1.1.3","              материалы"]
["7.1.2","  затраты на ремонт подрядным способом"]
["7.2","Капитальный ремонт основных средств, в том числе:"]
["7.2.1","  затраты на ремонт хоз.способом:"]
["7.2.1.1","            заработная плата ремонтного персонала"]
["7.2.1.2","            отчисления на соц.нужды от заработной платы ремонтного персонала"]
["7.2.1.3","            материалы"]
["7.2.2","  затраты на ремонт подрядным способом"]
["7.3","Отчисления в ремонтный фонд в случае его формирования "]
["III","ПРОЧИЕ РАСХОДЫ"]
["8.1","Расходы на оплату работ и услуг, выполняемых сторонними организациями (услуги связи, вневедомственная охрана, юридические, аудиторкие, информационные услуги и т.д.)"]
["8.2","Расходы на служебные командировки"]
["8.3","Расходы на обучение персонала"]
["8.4","Расходы на страхование производственных объектов"]
["8.5","Прочие расходы"]
["IV","СБЫТОВЫЕ РАСХОДЫ"]
["8.","в т.ч. расходы по сомнительным долгам"]
["V","РАСХОДЫ НА АМОРТИЗАЦИЮ ОСНОВНЫХ СРЕДСТВ И НЕМАТЕРИАЛЬНЫХ АКТИВОВ"]
["9.","Амортизация основных средств"]
["VI","РАСХОДЫ НА АРЕНДНУЮ ПЛАТУ, ЛИЗИНГОВЫЕ ПЛАТЕЖИ, КОНЦЕССИОННУЮ ПЛАТУ"]
["10.","Аренда основных средств, из них:"]
["10.1.","        по договорам лизинга"]
["10.2.","        по концессионным соглашениям"]
["10.3.","        по другим договорам"]
["11.","Аренда земельных участков"]
["VII","РАСХОДЫ, СВЯЗАННЫЕ С ОПЛАТОЙ НАЛОГОВ И СБОРОВ"]
["12.1.","             водный налог"]
["12.2.","             налог на землю"]
["12.3.","             налог на имущество"]
["12.4.","             плата за загрязнение окружающей среды"]
["12.5.","             транспортный налог"]
["12.6.","             прочие налоги и сборы"]
["VIII","НОРМАТИВНАЯ ПРИБЫЛЬ"]
["13.","Финансовый результат от реализации"]
["13.1.","в том числе в %"]
["13.2.","средства на возврат займов и кредитов и процентов по ним"]
["13.3.","расходы на капитальные вложения (инвестиции)"]
["13.4.","денежные выплаты социального характера (по коллективному договору)"]
["13.5.","другие расходы, не учитываемые при определении налоговой бызы налога на прибыль"]
["13.6.","прибыль, обеспечивающая финансирование других расходов, не учитываемых  при определении налоговой бызы налога на прибыль (остающаяся в распоряжении организации)"]
["13.6.1.","налог на прибыль"]
["13.6.2."," (или)единый налог при УСН "]
["14.","Недополученный по независящим причинам доход"]
["14.1.","выпадающие расходы/экономия (в целях выравнивания сметы между полугодия регулируемого периода)"]
["14.2.","экономически обоснованные расходы, понесённые за отчётные периоды "]
["14.3.","выпадающие доходы за отчётные периоды регулирования, связанные с изменением объёмов реализации  "]
["14.4.","Избыток средств, полученный за отчётные периоды регулирования"]
["15.","Расчетная предпринимательская прибыль гарантирующей организации"]
["IХ","НЕОБХОДИМАЯ ВАЛОВАЯ ВЫРУЧКА"]
["16.","Товарная продукция"]
["17.","Затраты на собственное потребление"]
["18.","Объем реализации всего, м3, в том числе: "]
["18.1.","собственное потребление"]
["18.2.","сторонние потребители"]
["X","Цена (тариф) на водоотведение, руб./м3"]
["ХI","Дествующий тариф, руб./м3"]
[null,"Темп роста"]

{"sheet":"анализ факт сметы","index":22,"n_rows":231,"n_cols":18,"rows_kept":231,"cut":false,"hidden":true,"merged":[[0,0,0,17],[1,0,1,17],[2,0,2,17],[5,0,6,0],[5,1,6,1],[5,2,5,6],[5,7,5,11],[5,12,5,16],[5,17,6,17]]}
["Анализ фактической  сметы расходов и НВВ по установленному тарифу в сфере водоснабжения за 2016 год"]
[{"$f":"Титульный!C10","v":" "}]
[{"$f":"Титульный!C19","v":0}]
["район",{"$f":"Титульный!C6","v":0},{"$f":"Титульный!C7","v":0}]
[]
["№ п/п","Наименование статьи","ВСЕГО",null,null,null,null,"имущество, переданное по договору аренды (концессионному соглашению) или находящееся в собственности",null,null,null,null,"бесхозяйное имущество",null,null,null,null,"Примечание"]
[null,null,"план","факт организации","факт, принятый ДТР","Абсолютное отклонение","Относительное отклонение","план","факт организации","факт, принятый ДТР","Абсолютное отклонение","Относительное отклонение","план","факт организации","факт, принятый ДТР","Абсолютное отклонение","Относительное отклонение"]
["I","ПРОИЗВОДСТВЕННЫЕ РАСХОДЫ",{"$f":"C9+C17+C30+C36+C43","v":0},{"$f":"D9+D17+D30+D36+D43","v":0},{"$f":"E9+E17+E30+E36+E43","v":0},{"$f":"E8-C8","v":0},{"$f":"IF(C8=0,0,E8/C8)","v":0},0,0,0,{"$f":"K9+K17+K30+K36+K43","v":0},{"$f":"IF(H8=0,0,J8/H8)","v":0},{"$f":"M9+M17+M30+M36+M43","v":0},{"$f":"N9+N17+N30+N36+N43","v":0},0,{"$f":"P9+P17+P30+P36+P43","v":0},{"$f":"IF(M8=0,0,O8/M8)","v":0}]
["1.","Расходы на приобретение сырья и материалов и их хранения",{"$f":"C10+C11+C12+C13","v":0},{"$f":"D10+D11+D12+D13","v":0},{"$f":"E10+E11+E12+E13","v":0},0,0,0,0,0,{"$f":"K10+K11+K12+K13","v":0},0,{"$f":"M10+M11+M12+M13","v":0},{"$f":"N10+N11+N12+N13","v":0},0,{"$f":"P10+P11+P12+P13","v":0},0]
["1.1.","реагенты",{"$f":"H10+M10","v":0},{"$f":"I10+N10","v":0},0,0,0,{"$f":"'Смета 2016'!D8","v":0},{"$f":"'Смета факт'!D12","v":0},null,{"$f":"J10-H10","v":0},0,{"$f":"'Смета 2016'!E8","v":0},{"$f":"'Смета факт'!E12","v":0},null,{"$f":"O10-M10","v":0},0]
[]
["1.2.","горюче-смазочные материалы",{"$f":"H12+M12","v":0},{"$f":"I12+N12","v":0},{"$f":"J12+O12","v":0},0,0,{"$f":"'Смета 2016'!D9","v":0},{"$f":"'Смета факт'!D14","v":0},null,{"$f":"J12-H12","v":0},0,{"$f":"'Смета 2016'!E9","v":0},{"$f":"'Смета факт'!E14","v":0},null,{"$f":"O12-M12","v":0},0]
["1.3.","материалы и малоценные основные средства, в т.ч.",{"$f":"C14+C15+C16","v":0},{"$f":"D14+D15+D16","v":0},{"$f":"E14+E15+E16","v":0},0,0,0,{"$f":"'Смета факт'!D15","v":0},0,{"$f":"K14+K15+K16","v":0},0,{"$f":"M14+M15+M16","v":0},{"$f":"'Смета факт'!E15","v":0},0,{"$f":"P14+P15+P16","v":0},0]
["1.3.1.","материалы на техническое обслуживание",{"$f":"H14+M14","v":0},{"$f":"I14+N14","v":0},{"$f":"J14+O14","v":0},0,0,{"$f":"'Смета 2016'!D11","v":0},{"$f":"'Смета факт'!D16","v":0},null,{"$f":"J14-H14","v":0},0,{"$f":"'Смета 2016'!E11","v":0},{"$f":"'Смета факт'!E16","v":0},null,{"$f":"O14-M14","v":0},0]
["1.3.2.","специальная одежда",0,0,0,{"$f":"E15-C15","v":0},0,{"$f":"'Смета 2016'!D12","v":0},{"$f":"'Смета факт'!D17","v":0},null,{"$f":"J15-H15","v":0},0,{"$f":"'Смета 2016'!E12","v":0},{"$f":"'Смета факт'!E17","v":0},null,0,0]
[37681,"хозяйственный инвентарь и другие  вспомогательные материалы",0,0,0,0,0,{"$f":"'Смета 2016'!D13","v":0},{"$f":"'Смета факт'!D18","v":0},null,{"$f":"J16-H16","v":0},0,{"$f":"'Смета 2016'!E13","v":0},{"$f":"'Смета факт'!E18","v":0},null,0,0]
["2.","Расходы на энергетические ресурсы и холодную воду",{"$f":"C18+C21+C22+C23+C24+C25","v":0},{"$f":"D18+D21+D22+D23+D24+D25","v":0},{"$f":"E18+E21+E22+E23+E24+E25","v":0},0,0,0,0,0,0,0,{"$f":"M18+M21+M22+M23+M24+M25","v":0},{"$f":"N18+N21+N22+N23+N24+N25","v":0},0,0,0]
["2.1.","Электроэнергия, в том числе",{"$f":"H18+M18","v":0},{"$f":"I18+N18","v":0},{"$f":"J18+O18","v":0},0,0,{"$f":"H19+H20","v":0},0,{"$f":"'отчет по электроэнергии'!F47","v":0},0,0,{"$f":"M19+M20","v":0},{"$f":"N19+N20","v":0},{"$f":"'отчет по электроэнергии (бсх)'!F46","v":0},0,0]
["2.1.1.","активная",0,0,0,0,0,{"$f":"'Смета 2016'!D16","v":0},{"$f":"'Смета факт'!D21","v":0},null,0,0,{"$f":"'Смета 2016'!E16","v":0},{"$f":"'Смета факт'!E21","v":0},null,0,0]
["2.1.2.","мощность",0,0,0,0,0,{"$f":"'Смета 2016'!D17","v":0},{"$f":"'Смета факт'!D22","v":0},null,0,0,{"$f":"'Смета 2016'!E17","v":0},{"$f":"'Смета факт'!E22","v":0},null,0,0]
["2.2.","Тепловая энергия",0,0,0,0,0,{"$f":"'Смета 2016'!D18","v":0},{"$f":"'Смета факт'!D23","v":0},null,0,0,{"$f":"'Смета 2016'!E18","v":0},{"$f":"'Смета факт'!E23","v":0},null,0,0]
["2.3.","Вода на собственные нужды",{"$f":"H22+M22","v":0},{"$f":"I22+N22","v":0},{"$f":"J22+O22","v":0},0,0,{"$f":"'Смета 2016'!D19","v":0},{"$f":"'Смета факт'!D24","v":0},null,0,0,{"$f":"'Смета 2016'!E19","v":0},{"$f":"'Смета факт'!E24","v":0},null,0,0]
["2.4.","Водоотведение на собственные нужды",0,0,0,0,0,{"$f":"'Смета 2016'!D20","v":0},{"$f":"'Смета факт'!D25","v":0},null,0,0,{"$f":"'Смета 2016'!E20","v":0},{"$f":"'Смета факт'!E25","v":0},null,0,0]
["2.5.","Прочие энергоресурсы",0,0,0,0,0,{"$f":"'Смета 2016'!D21","v":0},{"$f":"'Смета факт'!D26","v":0},null,{"$f":"J24-H24","v":0},0,{"$f":"'Смета 2016'!E21","v":0},{"$f":"'Смета факт'!E26","v":0},null,0,0]
[null,null,null,null,null,null,null,{"$f":"'Смета 2016'!D22","v":0},null,null,null,null,{"$f":"'Смета 2016'!E22","v":0}]
[null,null,null,null,null,null,null,{"$f":"'Смета 2016'!D23","v":0},null,null,null,null,{"$f":"'Смета 2016'!E23","v":0}]
[null,null,null,null,null,null,null,{"$f":"'Смета 2016'!D24","v":0},null,null,null,null,{"$f":"'Смета 2016'!E24","v":0}]
[null,null,null,null,null,null,null,{"$f":"'Смета 2016'!D25","v":0},null,null,null,null,{"$f":"'Смета 2016'!E25","v":0}]
[null,null,null,null,null,null,null,{"$f":"'Смета 2016'!D26","v":0},null,null,null,null,{"$f":"'Смета 2016'!E26","v":0}]
["3.","Расходы на оплат уработ и услуг, выполняемых сторонними организациями,  связанные с эксплуатацией централизованных систем либо объектов в составе таких систем, по регулируемым тарифам",{"$f":"C31+C32+C33","v":0},{"$f":"D31+D32+D33","v":0},{"$f":"E31+E32+E33","v":0},0,0,0,0,0,{"$f":"K31+K32+K33","v":0},0,{"$f":"M31+M32+M33","v":0},{"$f":"N31+N32+N33","v":0},0,{"$f":"P31+P32+P33","v":0},0]
[]
["3.1.","Услуги по очистке сточных вод",{"$f":"H32+M32","v":0},{"$f":"I32+N32","v":0},{"$f":"J32+O32","v":0},0,0,{"$f":"'Смета 2016'!D24","v":0},{"$f":"'Смета факт'!D34","v":0},null,{"$f":"J32-H32","v":0},0,{"$f":"'Смета 2016'!E24","v":0},{"$f":"'Смета факт'!E34","v":0},null,{"$f":"O32-M32","v":0},0]
["3.2.","Услуги  по транспортировке сточных вод",{"$f":"C34+C35","v":0},{"$f":"D34+D35","v":0},{"$f":"E34+E35","v":0},0,0,{"$f":"'Смета 2016'!D23","v":0},0,0,{"$f":"K34+K35","v":0},0,{"$f":"'Смета 2016'!E23","v":0},{"$f":"N34+N35","v":0},0,{"$f":"P34+P35","v":0},0]
[]
[]
["4.","Расходы на оплату труда и отчисления на социальные нужды",{"$f":"C37+C40","v":0},{"$f":"D37+D40","v":0},{"$f":"E37+E40","v":0},0,0,0,0,0,{"$f":"K37+K40","v":0},0,{"$f":"M37+M40","v":0},{"$f":"N37+N40","v":0},0,{"$f":"P37+P40","v":0},0]
["4.1.","Расходы на оплату труда основного персонала",{"$f":"H37+M37","v":0},{"$f":"I37+N37","v":0},{"$f":"J37+O37","v":0},0,0,{"$f":"'Смета 2016'!D28","v":0},{"$f":"'Смета факт'!D39","v":0},null,{"$f":"J37-H37","v":0},0,{"$f":"'Смета 2016'!E28","v":0},{"$f":"'Смета факт'!E39","v":0},null,{"$f":"O37-M37","v":0},0]
["4.2.","Численность основного персонала, относимого на регулируемый вид деятельности, чел",0,0,0,0,0,{"$f":"'Смета 2016'!D29","v":0},{"$f":"'Смета факт'!D40","v":0},null,0,0,{"$f":"'Смета 2016'!E29","v":0},{"$f":"'Смета факт'!E40","v":0},null,0,0]
["4.2.1.","средняя заработная плата",{"$f":"IF(C38=0,,C37/C38/12)","v":0},0,0,0,0,{"$f":"IF(H38=0,,H37/H38/12)","v":0},{"$f":"IF(I38=0,,I37/I38/12)","v":0},{"$f":"IF(J38=0,,J37/J38/12)","v":0},0,0,{"$f":"IF(M38=0,,M37/M38/12)","v":0},{"$f":"IF(N38=0,,N37/N38/12)","v":0},0,0,0]
["4.3.","Отчисления на социальные нужды от расходов на оплату труда",{"$f":"H40+M40","v":0},{"$f":"I40+N40","v":0},{"$f":"J40+O40","v":0},0,0,{"$f":"'Смета 2016'!D31","v":0},{"$f":"'Смета факт'!D42","v":0},null,0,0,{"$f":"'Смета 2016'!E31","v":0},{"$f":"'Смета факт'!E42","v":0},null,0,0]
["4.3.1."," % расходов на уплату страховых взносов в ПФ, ФСС, ОМС",{"$f":"IF(C37=0,,C40/C37*100-C42)","v":0},0,0,0,0,{"$f":"IF(H37=0,,H40/H37*100-H42)","v":0},{"$f":"IF(I37=0,,I40/I37*100-I42)","v":0},0,0,0,{"$f":"IF(M37=0,,M40/M37*100-M42)","v":0},{"$f":"IF(N37=0,,N40/N37*100-N42)","v":0},0,0,0]
["4.3.2.","% платежей в фонд социального страхования от несчастных случаев",{"$f":"H42","v":0},0.2,{"$f":"J42","v":0.2},0.2,0,{"$f":"'Смета 2016'!D33","v":0},{"$f":"'Смета факт'!D44","v":0.2},0.2,0.2,0,{"$f":"'Смета 2016'!E33","v":0},{"$f":"'Смета факт'!E44","v":0.2},0.2,0.2,0]
["5.","Прочие производственные расходы",{"$f":"C44+C69+C75+C76+C77","v":0},{"$f":"D44+D69+D75+D76+D77","v":0},{"$f":"E44+E69+E75+E76+E77","v":0},0,0,{"$f":"H44+H69+H75+H76+H77","v":0},{"$f":"I44+I69+I75+I76+I77","v":0},{"$f":"J44+J69+J75+J76+J77","v":0},{"$f":"K44+K69+K75+K76+K77","v":0},0,{"$f":"M44+M69+M75+M76+M77","v":0},{"$f":"N44+N69+N75+N76+N77","v":0},{"$f":"O44+O69+O75+O76+O77","v":0},{"$f":"P44+P69+P75+P76+P77","v":0},0]
["5.1.","Услуги собственных подразделений",{"$f":"C45+C51+C57+C63","v":0},{"$f":"D45+D51+D57+D63","v":0},{"$f":"E45+E51+E57+E63","v":0},0,0,{"$f":"H45+H51+H57+H63","v":0},{"$f":"I45+I51+I57+I63","v":0},{"$f":"J45+J51+J57+J63","v":0},{"$f":"K45+K51+K57+K63","v":0},0,{"$f":"M45+M51+M57+M63","v":0},{"$f":"N45+N51+N57+N63","v":0},{"$f":"O45+O51+O57+O63","v":0},{"$f":"P45+P51+P57+P63","v":0},0]
["5.1.1.","Услуги вспомогательных производств",{"$f":"C46+C49+C50","v":0},{"$f":"D46+D49+D50","v":0},{"$f":"E46+E49+E50","v":0},0,0,{"$f":"H46+H49+H50","v":0},{"$f":"I46+I49+I50","v":0},{"$f":"J46+J49+J50","v":0},{"$f":"K46+K49+K50","v":0},0,{"$f":"M46+M49+M50","v":0},{"$f":"N46+N49+N50","v":0},{"$f":"O46+O49+O50","v":0},{"$f":"P46+P49+P50","v":0},0]
["5.1.1.1.","Расходы на оплату труда, относимую на регулируемый вид деятельности",{"$f":"H46+M46","v":0},{"$f":"I46+N46","v":0},{"$f":"J46+O46","v":0},0,0,null,{"$f":"'Смета факт'!D48","v":0},null,{"$f":"J46-H46","v":0},0,null,{"$f":"'Смета факт'!E48","v":0},null,{"$f":"O46-M46","v":0},0]
["5.1.1.1.1.","Численность, относимая на регулируемый вид деятельности, чел",0,0,0,0,0,null,{"$f":"'Смета факт'!D49","v":0},null,0,0,null,{"$f":"'Смета факт'!E49","v":0},null,0,0]
[null,"средняя заработная плата",{"$f":"IF(C47=0,,C46/C47/12)","v":0},0,0,0,0,{"$f":"IF(H47=0,,H46/H47/12)","v":0},{"$f":"IF(I47=0,,I46/I47/12)","v":0},0,{"$f":"J48-H48","v":0},{"$f":"IF(H48=0,0,J48/H48)","v":0},{"$f":"IF(M47=0,,M46/M47/12)","v":0},{"$f":"IF(N47=0,,N46/N47/12)","v":0},0,{"$f":"O48-M48","v":0},{"$f":"IF(M48=0,0,O48/M48)","v":0}]
["5.1.1.2.","Отчисления на социальные нужды от расходов на оплату труда",0,0,0,0,{"$f":"IF(C49=0,0,E49/C49)","v":0},null,{"$f":"'Смета факт'!D51","v":0},null,0,0,null,{"$f":"'Смета факт'!E51","v":0},null,0,0]
["5.1.1.3.","Прочие расходы",0,0,0,0,0,null,{"$f":"'Смета факт'!D52","v":0},null,0,0,null,{"$f":"'Смета факт'!E52","v":0},null,0,0]
["5.1.2.","Транспортные расходы",{"$f":"C52+C55+C56","v":0},{"$f":"D52+D55+D56","v":0},{"$f":"E52+E55+E56","v":0},0,0,0,0,0,{"$f":"K52+K55+K56","v":0},0,null,{"$f":"N52+N55+N56","v":0},0,{"$f":"P52+P55+P56","v":0},0]
["5.1.2.1.","Расходы на оплату труда, относимую на регулируемый вид деятельности",{"$f":"H52+M52","v":0},{"$f":"I52+N52","v":0},{"$f":"J52+O52","v":0},0,0,{"$f":"'Смета 2016'!G28","v":0},{"$f":"'Смета факт'!D54","v":0},null,{"$f":"J52-H52","v":0},0,null,{"$f":"'Смета факт'!E54","v":0},null,{"$f":"O52-M52","v":0},0]
["5.1.2.1.1.","Численность, относимая на регулируемый вид деятельности, чел",0,0,0,0,0,{"$f":"'Смета 2016'!G29","v":0},{"$f":"'Смета факт'!D55","v":0},null,0,0,null,{"$f":"'Смета факт'!E55","v":0},null,0,0]
[null,"средняя заработная плата",{"$f":"IF(C53=0,,C52/C53/12)","v":0},0,0,0,0,{"$f":"IF(H53=0,,H52/H53/12)","v":0},{"$f":"IF(I53=0,,I52/I53/12)","v":0},0,{"$f":"J54-H54","v":0},{"$f":"IF(H54=0,0,J54/H54)","v":0},null,{"$f":"IF(N53=0,,N52/N53/12)","v":0},0,{"$f":"O54-M54","v":0},{"$f":"IF(M54=0,0,O54/M54)","v":0}]
["5.1.2.2.","Отчисления на социальные нужды от расходов на оплату труда",0,0,0,0,{"$f":"IF(C55=0,0,E55/C55)","v":0},{"$f":"'Смета 2016'!G31","v":0},{"$f":"'Смета факт'!D57","v":0},null,0,0,null,{"$f":"'Смета факт'!E57","v":0},null,0,0]
["5.1.2.3.","Прочие расходы",0,0,0,0,0,{"$f":"'Смета 2016'!G106-H52-H55","v":0},{"$f":"'Смета факт'!D58","v":0},null,0,0,null,{"$f":"'Смета факт'!E58","v":0},null,0,0]
["5.1.3.","Цеховые расходы",{"$f":"C58+C61+C62","v":0},{"$f":"D58+D61+D62","v":0},{"$f":"E58+E61+E62","v":0},0,0,0,0,0,{"$f":"K58+K61+K62","v":0},0,{"$f":"M58+M61+M62","v":0},{"$f":"N58+N61+N62","v":0},0,{"$f":"P58+P61+P62","v":0},0]
["5.1.3.1.","Расходы на оплату труда, относимую на регулируемый вид деятельности",{"$f":"H58+M58","v":0},{"$f":"I58+N58","v":0},{"$f":"J58+O58","v":0},0,0,null,{"$f":"'Смета факт'!D60","v":0},null,{"$f":"J58-H58","v":0},0,null,{"$f":"'Смета факт'!E60","v":0},null,{"$f":"O58-M58","v":0},0]
["5.1.3.1.1.","Численность, относимая на регулируемый вид деятельности, чел",0,0,0,0,0,null,{"$f":"'Смета факт'!D61","v":0},null,0,0,null,{"$f":"'Смета факт'!E61","v":0},null,0,0]
[null,"средняя заработная плата",{"$f":"IF(C59=0,,C58/C59/12)","v":0},0,0,{"$f":"E60-C60","v":0},{"$f":"IF(C60=0,0,E60/C60)","v":0},{"$f":"IF(H59=0,,H58/H59/12)","v":0},{"$f":"IF(I59=0,,I58/I59/12)","v":0},0,{"$f":"J60-H60","v":0},{"$f":"IF(H60=0,0,J60/H60)","v":0},{"$f":"IF(M59=0,,M58/M59/12)","v":0},{"$f":"IF(N59=0,,N58/N59/12)","v":0},0,{"$f":"O60-M60","v":0},{"$f":"IF(M60=0,0,O60/M60)","v":0}]
["5.1.3.2.","Отчисления на социальные нужды от расходов на оплату труда",0,0,0,0,0,null,{"$f":"'Смета факт'!D63","v":0},null,0,0,null,{"$f":"'Смета факт'!E63","v":0},null,0,0]
["5.1.3.3.","Прочие расходы",0,0,0,0,0,null,{"$f":"'Смета факт'!D64","v":0},null,0,0,null,{"$f":"'Смета факт'!E64","v":0},null,0,0]
["5.1.4.","Общепроизводственные расходы",{"$f":"C64+C67+C68","v":0},{"$f":"D64+D67+D68","v":0},{"$f":"E64+E67+E68","v":0},0,0,0,0,0,{"$f":"K64+K67+K68","v":0},0,{"$f":"M64+M67+M68","v":0},{"$f":"N64+N67+N68","v":0},0,{"$f":"P64+P67+P68","v":0},0]
["5.1.4.1.","Расходы на оплату труда, относимую на регулируемый вид деятельности",{"$f":"H64+M64","v":0},{"$f":"I64+N64","v":0},{"$f":"J64+O64","v":0},0,0,null,{"$f":"'Смета факт'!D66","v":0},null,{"$f":"J64-H64","v":0},0,null,{"$f":"'Смета факт'!E66","v":0},null,{"$f":"O64-M64","v":0},0]
["5.1.4.1.1.","Численность, относимая на регулируемый вид деятельности, чел",0,0,0,0,0,null,{"$f":"'Смета факт'!D67","v":0},null,0,0,null,{"$f":"'Смета факт'!E67","v":0},null,0,0]
[null,"средняя заработная плата",{"$f":"IF(C65=0,,C64/C65/12)","v":0},0,0,{"$f":"E66-C66","v":0},{"$f":"IF(C66=0,0,E66/C66)","v":0},{"$f":"IF(H65=0,,H64/H65/12)","v":0},{"$f":"IF(I65=0,,I64/I65/12)","v":0},0,{"$f":"J66-H66","v":0},{"$f":"IF(H66=0,0,J66/H66)","v":0},{"$f":"IF(M65=0,,M64/M65/12)","v":0},{"$f":"IF(N65=0,,N64/N65/12)","v":0},0,{"$f":"O66-M66","v":0},{"$f":"IF(M66=0,0,O66/M66)","v":0}]
["5.1.4.2.","Отчисления на социальные нужды от расходов на оплату труда",0,0,0,0,0,null,{"$f":"'Смета факт'!D69","v":0},null,0,0,null,{"$f":"'Смета факт'!E69","v":0},null,0,0]
["5.1.4.3.","Прочие расходы",0,0,0,0,0,null,{"$f":"'Смета факт'!D70","v":0},null,0,0,null,{"$f":"'Смета факт'!E70","v":0},null,0,0]
["5.2.","Охрана труда всего, в том числе:",{"$f":"SUM(C70:C74)","v":0},{"$f":"SUM(D70:D74)","v":0},{"$f":"SUM(E70:E74)","v":0},0,0,0,0,0,{"$f":"SUM(K70:K74)","v":0},0,{"$f":"SUM(M70:M74)","v":0},{"$f":"SUM(N70:N74)","v":0},0,{"$f":"SUM(P70:P74)","v":0},0]
["5.2.1.","моющие средства",{"$f":"H70+M70","v":0},{"$f":"I70+N70","v":0},{"$f":"J70+O70","v":0},0,0,{"$f":"'Смета 2016'!D42","v":0},{"$f":"'Смета факт'!D72","v":0},null,{"$f":"J70-H70","v":0},0,{"$f":"'Смета 2016'!E42","v":0},{"$f":"'Смета факт'!E72","v":0},null,{"$f":"O70-M70","v":0},0]
["5.2.2.","специальное питание",0,0,0,0,0,{"$f":"'Смета 2016'!D43","v":0},{"$f":"'Смета факт'!D73","v":0},null,0,0,{"$f":"'Смета 2016'!E43","v":0},{"$f":"'Смета факт'!E73","v":0},null,0,0]
["5.2.3.","страхование персонала (кроме ДМС)",0,0,0,0,0,{"$f":"'Смета 2016'!D44","v":0},{"$f":"'Смета факт'!D74","v":0},null,0,0,{"$f":"'Смета 2016'!E44","v":0},{"$f":"'Смета факт'!E74","v":0},null,0,0]
["5.2.4.","аттестация",0,0,0,0,0,{"$f":"'Смета 2016'!D45","v":0},{"$f":"'Смета факт'!D75","v":0},null,0,0,{"$f":"'Смета 2016'!E45","v":0},{"$f":"'Смета факт'!E75","v":0},null,0,0]
["5.2.5.","медицинский осмотр",0,0,0,{"$f":"E74-C74","v":0},0,{"$f":"'Смета 2016'!D46","v":0},{"$f":"'Смета факт'!D76","v":0},null,0,0,{"$f":"'Смета 2016'!E46","v":0},{"$f":"'Смета факт'!E76","v":0},null,0,0]
["5.3.","Расходы на льготный проезд",0,0,0,0,0,{"$f":"'Смета 2016'!D47","v":0},{"$f":"'Смета факт'!D77","v":0},null,0,0,{"$f":"'Смета 2016'!E47","v":0},{"$f":"'Смета факт'!E77","v":0},null,0,0]
["5.4.","Расходы на содержание зданий (вывоз ТБО, дератизация, дезинсекция)",0,0,0,0,0,{"$f":"'Смета 2016'!D48","v":0},{"$f":"'Смета факт'!D78","v":0},null,0,{"$f":"IF(H76=0,0,J76/H76)","v":0},{"$f":"'Смета 2016'!E48","v":0},{"$f":"'Смета факт'!E78","v":0},null,0,{"$f":"IF(M76=0,0,O76/M76)","v":0}]
["5.5.","Производственный контроль состава и свойств сточных вод",{"$f":"SUM(C78:C79)","v":0},{"$f":"SUM(D78:D79)","v":0},{"$f":"SUM(E78:E79)","v":0},0,0,0,0,0,{"$f":"SUM(K78:K79)","v":0},0,{"$f":"SUM(M78:M79)","v":0},{"$f":"SUM(N78:N79)","v":0},0,{"$f":"SUM(P78:P79)","v":0},0]
["5.5.1."," контроль состава и свойств сточных вод",{"$f":"H78+M78","v":0},{"$f":"I78+N78","v":0},{"$f":"J78+O78","v":0},0,0,{"$f":"'Смета 2016'!D50","v":0},{"$f":"'Смета факт'!D80","v":0},null,{"$f":"J78-H78","v":0},0,{"$f":"'Смета 2016'!E50","v":0},{"$f":"'Смета факт'!E80","v":0},null,{"$f":"O78-M78","v":0},0]
["5.5.2.","оборудование  лаборатории",0,0,0,0,0,{"$f":"'Смета 2016'!D51","v":0},{"$f":"'Смета факт'!D81","v":0},null,0,0,{"$f":"'Смета 2016'!E51","v":0},{"$f":"'Смета факт'!E81","v":0},null,0,0]
["II","РЕМОНТНЫЕ РАСХОДЫ",{"$f":"C81+C93","v":0},{"$f":"D81+D93","v":0},{"$f":"E81+E93","v":0},0,0,{"$f":"H81+H93","v":0},0,0,{"$f":"K81+K93","v":0},0,{"$f":"M81+M93","v":0},{"$f":"N81+N93","v":0},0,{"$f":"P81+P93","v":0},0]
["6.1.","Текущий ремонт централизованных систем водоотведения, объектов, входящих в состав таких систем, в том числе:",{"$f":"C82+C92","v":0},{"$f":"D82+D92","v":0},{"$f":"E82+E92","v":0},0,0,{"$f":"H82+H92","v":0},0,0,{"$f":"K82+K92","v":0},0,{"$f":"M82+M92","v":0},{"$f":"N82+N92","v":0},0,{"$f":"P82+P92","v":0},0]
["6.1.1.","затраты на ремонт хоз. способом:",{"$f":"SUM(C83:C91)","v":0},{"$f":"SUM(D83:D91)","v":0},{"$f":"SUM(E83:E91)","v":0},0,0,{"$f":"H83+H86+H87+H88+H89+H90+H91","v":0},0,0,{"$f":"SUM(K83:K91)","v":0},0,{"$f":"M83+M86+M87+M88+M89+M90+M91","v":0},{"$f":"SUM(N83:N91)","v":0},0,{"$f":"SUM(P83:P91)","v":0},0]
["6.1.1.1.","заработная плата ремонтного персонала",{"$f":"H83+M83","v":0},{"$f":"I83+N83","v":0},{"$f":"J83+O83","v":0},0,0,{"$f":"'Смета 2016'!D56","v":0},{"$f":"'Смета факт'!D85","v":0},null,{"$f":"J83-H83","v":0},0,{"$f":"'Смета 2016'!E56","v":0},{"$f":"'Смета факт'!E85","v":0},null,{"$f":"O83-M83","v":0},0]
["6.1.1.1.1.","Численность, относимая на регулируемый вид деятельности, чел",0,0,0,0,0,null,{"$f":"'Смета факт'!D86","v":0},null,0,0,null,{"$f":"'Смета факт'!E86","v":0},null,0,0]
[null,"средняя заработная плата",{"$f":"IF(C84=0,,C83/C84/12)","v":0},0,0,{"$f":"E85-C85","v":0},{"$f":"IF(C85=0,0,E85/C85)","v":0},{"$f":"IF(H84=0,,H83/H84/12)","v":0},{"$f":"IF(I84=0,,I83/I84/12)","v":0},0,{"$f":"J85-H85","v":0},{"$f":"IF(H85=0,0,J85/H85)","v":0},{"$f":"IF(M84=0,,M83/M84/12)","v":0},{"$f":"IF(N84=0,,N83/N84/12)","v":0},0,{"$f":"O85-M85","v":0},{"$f":"IF(M85=0,0,O85/M85)","v":0}]
["6.1.1.2.","отчисления на социальные нужды от расходов на оплату труда",0,0,0,0,0,{"$f":"'Смета 2016'!D57","v":0},{"$f":"'Смета факт'!D88","v":0},null,0,0,{"$f":"'Смета 2016'!E57","v":0},{"$f":"'Смета факт'!E88","v":0},null,0,0]
["6.1.1.3.","материалы",0,0,0,0,0,{"$f":"'Смета 2016'!D58","v":0},{"$f":"'Смета факт'!D89","v":0},null,0,0,{"$f":"'Смета 2016'!E58","v":0},{"$f":"'Смета факт'!E89","v":0},null,0,0]
["6.1.1.4.","услуги вспомогательных производств",0,0,0,0,0,null,{"$f":"'Смета факт'!D90","v":0},null,0,0,null,{"$f":"'Смета факт'!E90","v":0},null,0,0]
["6.1.1.5.","транспортные расходы",0,0,0,0,0,null,{"$f":"'Смета факт'!D91","v":0},null,0,0,null,{"$f":"'Смета факт'!E91","v":0},null,0,0]
["6.1.1.6.","цеховые расходы",0,0,0,0,{"$f":"IF(C90=0,0,E90/C90)","v":0},null,{"$f":"'Смета факт'!D92","v":0},null,0,0,null,{"$f":"'Смета факт'!E92","v":0},null,0,0]
["6.1.1.7.","общехозяйственные расходы",0,0,0,0,0,null,{"$f":"'Смета факт'!D93","v":0},null,0,0,null,{"$f":"'Смета факт'!E93","v":0},null,0,0]
["6.1.2.","затраты на ремонт подрядным способом",0,0,0,0,0,{"$f":"'Смета 2016'!D59","v":0},{"$f":"'Смета факт'!D94","v":0},null,0,0,{"$f":"'Смета 2016'!E59","v":0},{"$f":"'Смета факт'!E94","v":0},null,0,0]
["6.2.","Капитальный ремонт централизованных систем водоотведения, объектов, входящих в состав таких систем, в том числе:",{"$f":"C94+C104","v":0},{"$f":"D94+D104","v":0},{"$f":"E94+E104","v":0},0,0,{"$f":"H94+H104","v":0},{"$f":"I94+I104","v":0},{"$f":"J94+J104","v":0},{"$f":"K94+K104","v":0},0,{"$f":"M94+M104","v":0},{"$f":"N94+N104","v":0},{"$f":"O94+O104","v":0},{"$f":"P94+P104","v":0},0]
["6.2.1."," затраты на ремонт хоз.способом:",{"$f":"SUM(C95:C103)","v":0},{"$f":"SUM(D95:D103)","v":0},{"$f":"SUM(E95:E103)","v":0},0,0,{"$f":"H95+H98+H99+H100+H101+H102+H103","v":0},{"$f":"SUM(I95:I103)","v":0},{"$f":"SUM(J95:J103)","v":0},{"$f":"SUM(K95:K103)","v":0},0,{"$f":"M95+M98+M99+M100+M101+M102+M103","v":0},{"$f":"SUM(N95:N103)","v":0},{"$f":"SUM(O95:O103)","v":0},{"$f":"SUM(P95:P103)","v":0},0]
["6.2.1.1.","заработная плата ремонтного персонала",{"$f":"H95+M95","v":0},{"$f":"I95+N95","v":0},{"$f":"J95+O95","v":0},0,0,{"$f":"'Смета 2016'!D62","v":0},{"$f":"'Смета факт'!D97","v":0},null,{"$f":"J95-H95","v":0},0,{"$f":"'Смета 2016'!E62","v":0},{"$f":"'Смета факт'!E97","v":0},null,{"$f":"O95-M95","v":0},0]
[null,"Численность, относимая на регулируемый вид деятельности, чел",0,0,0,0,0,null,{"$f":"'Смета факт'!D98","v":0},null,0,0,null,{"$f":"'Смета факт'!E98","v":0},null,0,0]
[null,"средняя заработная плата",{"$f":"IF(C96=0,,C95/C96/12)","v":0},0,0,{"$f":"E97-C97","v":0},{"$f":"IF(C97=0,0,E97/C97)","v":0},{"$f":"IF(H96=0,,H95/H96/12)","v":0},{"$f":"IF(I96=0,,I95/I96/12)","v":0},0,{"$f":"J97-H97","v":0},{"$f":"IF(H97=0,0,J97/H97)","v":0},{"$f":"IF(M96=0,,M95/M96/12)","v":0},{"$f":"IF(N96=0,,N95/N96/12)","v":0},0,{"$f":"O97-M97","v":0},{"$f":"IF(M97=0,0,O97/M97)","v":0}]
["6.2.1.2.","отчисления на социальные нужды от расходов на оплату труда",0,0,0,0,0,{"$f":"'Смета 2016'!D63","v":0},{"$f":"'Смета факт'!D100","v":0},null,0,0,{"$f":"'Смета 2016'!E63","v":0},{"$f":"'Смета факт'!E100","v":0},null,0,0]
["6.2.1.3.","материалы",0,0,0,0,0,{"$f":"'Смета 2016'!D64","v":0},{"$f":"'Смета факт'!D101","v":0},null,0,0,{"$f":"'Смета 2016'!E64","v":0},{"$f":"'Смета факт'!E101","v":0},null,0,0]
["6.2.1.4.","услуги вспомогательных производств",0,0,0,0,0,null,{"$f":"'Смета факт'!D102","v":0},null,0,0,null,{"$f":"'Смета факт'!E102","v":0},null,0,0]
["6.2.1.5.","транспортные расходы",0,0,0,0,0,null,{"$f":"'Смета факт'!D103","v":0},null,0,0,null,{"$f":"'Смета факт'!E103","v":0},null,0,0]
["6.2.1.6.","цеховые расходы",0,0,0,0,0,null,{"$f":"'Смета факт'!D104","v":0},null,0,0,null,{"$f":"'Смета факт'!E104","v":0},null,0,0]
["6.2.1.7.","общехозяйственные расходы",0,0,0,0,0,null,{"$f":"'Смета факт'!D105","v":0},null,0,0,null,{"$f":"'Смета факт'!E105","v":0},null,0,0]
["6.2.2.","затраты на ремонт подрядным способом",0,0,0,0,0,{"$f":"'Смета 2016'!D65","v":0},{"$f":"'Смета факт'!D106","v":0},null,0,0,{"$f":"'Смета 2016'!E65","v":0},{"$f":"'Смета факт'!E106","v":0},null,0,0]
["III","ПРОЧИЕ РАСХОДЫ",{"$f":"SUM(C106:C112)","v":0},{"$f":"SUM(D106:D112)","v":0},{"$f":"SUM(E106:E112)","v":0},0,0,{"$f":"SUM(H106:H112)","v":0},{"$f":"SUM(I106:I112)","v":0},{"$f":"SUM(J106:J112)","v":0},{"$f":"SUM(K106:K112)","v":0},0,{"$f":"SUM(M106:M112)","v":0},{"$f":"SUM(N106:N112)","v":0},{"$f":"SUM(O106:O112)","v":0},{"$f":"SUM(P106:P112)","v":0},0]
["7.1.","Расходы на услуги связи",{"$f":"H106+M106","v":0},{"$f":"I106+N106","v":0},{"$f":"J106+O106","v":0},0,0,null,{"$f":"'Смета факт'!D108","v":0},null,{"$f":"J106-H106","v":0},0,null,{"$f":"'Смета факт'!E108","v":0},null,{"$f":"O106-M106","v":0},0]
["7.2.","Вневедомственная охрана объектов и территории",0,0,0,0,0,null,{"$f":"'Смета факт'!D109","v":0},null,0,0,null,{"$f":"'Смета факт'!E109","v":0},null,0,0]
["7.3.","Расходы на обучение персонала",0,0,0,0,0,{"$f":"'Смета 2016'!D70","v":0},{"$f":"'Смета факт'!D110","v":0},null,0,0,{"$f":"'Смета 2016'!E70","v":0},{"$f":"'Смета факт'!E110","v":0},null,0,0]
["7.4.","Расходы на служебные командировки",0,0,0,0,0,{"$f":"'Смета 2016'!D69","v":0},{"$f":"'Смета факт'!D111","v":0},null,0,0,{"$f":"'Смета 2016'!E69","v":0},{"$f":"'Смета факт'!E111","v":0},null,0,0]
["7.6.","Расходы на страхование производственных объектов",0,0,0,0,0,{"$f":"'Смета 2016'!D71","v":0},{"$f":"'Смета факт'!D112","v":0},null,0,0,{"$f":"'Смета 2016'!E71","v":0},{"$f":"'Смета факт'!E112","v":0},null,0,0]
["7.7.","Лицензирование",0,0,0,0,0,null,{"$f":"'Смета факт'!D113","v":0},null,0,0,null,{"$f":"'Смета факт'!E113","v":0},null,0,0]
["7.8.","Прочие расходы",{"$f":"SUM(C113:C132)","v":0},{"$f":"SUM(D113:D132)","v":0},{"$f":"SUM(E113:E132)","v":0},0,0,0,0,0,{"$f":"SUM(K113:K132)","v":0},0,{"$f":"SUM(M113:M132)","v":0},{"$f":"SUM(N113:N132)","v":0},0,{"$f":"SUM(P113:P132)","v":0},0]
[null,{"$f":"'Смета факт'!B115","v":0},{"$f":"H113+M113","v":0},{"$f":"I113+N113","v":0},{"$f":"J113+O113","v":0},0,0,null,{"$f":"'Смета факт'!D115","v":0},null,{"$f":"J113-H113","v":0},0,null,{"$f":"'Смета факт'!E115","v":0},null,{"$f":"O113-M113","v":0},0]
[null,{"$f":"'Смета факт'!B116","v":0},0,0,0,0,0,null,{"$f":"'Смета факт'!D116","v":0},null,0,0,null,{"$f":"'Смета факт'!E116","v":0},null,0,0]
[null,{"$f":"'Смета факт'!B117","v":0},0,0,0,0,0,null,{"$f":"'Смета факт'!D117","v":0},null,0,0,null,{"$f":"'Смета факт'!E117","v":0},null,0,0]
[null,{"$f":"'Смета факт'!B118","v":0},0,0,0,0,0,null,{"$f":"'Смета факт'!D118","v":0},null,0,0,null,{"$f":"'Смета факт'!E118","v":0},null,0,0]
[null,{"$f":"'Смета факт'!B119","v":0},0,0,0,0,0,null,{"$f":"'Смета факт'!D119","v":0},null,0,0,null,{"$f":"'Смета факт'!E119","v":0},null,0,0]
[null,{"$f":"'Смета факт'!B120","v":0},0,0,0,0,0,null,{"$f":"'Смета факт'!D120","v":0},null,0,0,null,{"$f":"'Смета факт'!E120","v":0},null,0,0]
[null,{"$f":"'Смета факт'!B121","v":0},0,0,0,0,0,null,{"$f":"'Смета факт'!D121","v":0},null,0,0,null,{"$f":"'Смета факт'!E121","v":0},null,0,0]
[null,{"$f":"'Смета факт'!B122","v":0},0,0,0,0,0,null,{"$f":"'Смета факт'!D122","v":0},null,0,0,null,{"$f":"'Смета факт'!E122","v":0},null,0,0]
[null,{"$f":"'Смета факт'!B123","v":0},0,0,0,0,0,null,{"$f":"'Смета факт'!D123","v":0},null,0,0,null,{"$f":"'Смета факт'!E123","v":0},null,0,0]
[null,{"$f":"'Смета факт'!B124","v":0},0,0,0,0,0,null,{"$f":"'Смета факт'!D124","v":0},null,0,0,null,{"$f":"'Смета факт'!E124","v":0},null,0,0]
[null,{"$f":"'Смета факт'!B125","v":0},0,0,0,0,{"$f":"IF(C123=0,0,E123/C123)","v":0},null,{"$f":"'Смета факт'!D125","v":0},null,0,0,null,{"$f":"'Смета факт'!E125","v":0},null,0,0]
[null,{"$f":"'Смета факт'!B126","v":0},0,0,0,0,0,null,{"$f":"'Смета факт'!D126","v":0},null,0,0,null,{"$f":"'Смета факт'!E126","v":0},null,0,0]
[null,{"$f":"'Смета факт'!B127","v":0},0,0,0,0,0,null,{"$f":"'Смета факт'!D127","v":0},null,0,0,null,{"$f":"'Смета факт'!E127","v":0},null,0,0]
[null,{"$f":"'Смета факт'!B128","v":0},0,0,0,0,0,null,{"$f":"'Смета факт'!D128","v":0},null,0,0,null,{"$f":"'Смета факт'!E128","v":0},null,0,0]
[null,{"$f":"'Смета факт'!B129","v":0},0,0,0,0,0,null,{"$f":"'Смета факт'!D129","v":0},null,0,0,null,{"$f":"'Смета факт'!E129","v":0},null,0,0]
[null,{"$f":"'Смета факт'!B130","v":0},0,0,0,0,0,null,{"$f":"'Смета факт'!D130","v":0},null,0,0,null,{"$f":"'Смета факт'!E130","v":0},null,0,0]
[null,{"$f":"'Смета факт'!B131","v":0},0,0,0,0,0,null,{"$f":"'Смета факт'!D131","v":0},null,0,0,null,{"$f":"'Смета факт'!E131","v":0},null,0,0]
[null,{"$f":"'Смета факт'!B132","v":0},0,0,0,0,0,null,{"$f":"'Смета факт'!D132","v":0},null,0,0,null,{"$f":"'Смета факт'!E132","v":0},null,0,0]
[null,{"$f":"'Смета факт'!B133","v":0},0,0,0,0,0,null,{"$f":"'Смета факт'!D133","v":0},null,0,0,null,{"$f":"'Смета факт'!E133","v":0},null,0,0]
[null,"прочие",0,0,0,0,0,{"$f":"'Смета 2016'!D72+'Смета 2016'!D68","v":0},{"$f":"'Смета факт'!D134","v":0},null,0,0,{"$f":"'Смета 2016'!E72+'Смета 2016'!E68","v":0},{"$f":"'Смета факт'!E134","v":0},null,0,0]
["IV","ОБЩЕХОЗЯЙСТВЕННЫЕ РАСХОДЫ",{"$f":"C134+C137+C138","v":0},{"$f":"D134+D137+D138","v":0},{"$f":"E134+E137+E138","v":0},0,0,0,0,0,{"$f":"K134+K137+K138","v":0},0,{"$f":"M134+M137+M138","v":0},{"$f":"N134+N137+N138","v":0},{"$f":"O134+O137+O138","v":0},{"$f":"O133-M133","v":0},0]
["8.1.","Расходы на оплату труда, относимую на регулируемый вид деятельности",{"$f":"H134+M134","v":0},{"$f":"I134+N134","v":0},{"$f":"J134+O134","v":0},0,0,{"$f":"'Смета 2016'!F28","v":0},{"$f":"'Смета факт'!D136","v":0},null,{"$f":"J134-H134","v":0},0,null,{"$f":"'Смета факт'!E136","v":0},null,0,0]
["8.1.1.","Численность, относимая на регулируемый вид деятельности, чел",0,0,0,0,0,{"$f":"'Смета 2016'!F29","v":0},{"$f":"'Смета факт'!D137","v":0},null,0,0,null,{"$f":"'Смета факт'!E137","v":0},null,0,0]
[null,"средняя заработная плата",{"$f":"IF(C135=0,,C134/C135/12)","v":0},0,0,0,0,{"$f":"IF(H135=0,,H134/H135/12)","v":0},{"$f":"IF(I135=0,,I134/I135/12)","v":0},0,{"$f":"J136-H136","v":0},{"$f":"IF(H136=0,0,J136/H136)","v":0},null,{"$f":"IF(N135=0,,N134/N135/12)","v":0},0,0,0]
["8.2.","Отчисления на социальные нужды от расходов на оплату труда",0,0,0,0,{"$f":"IF(C137=0,0,E137/C137)","v":0},{"$f":"'Смета 2016'!F31","v":0},{"$f":"'Смета факт'!D139","v":0},null,0,0,null,{"$f":"'Смета факт'!E139","v":0},null,0,0]
["8.3.","Прочие расходы",{"$f":"SUM(C139:C153)","v":0},{"$f":"SUM(D139:D153)","v":0},{"$f":"SUM(E139:E153)","v":0},0,0,0,0,0,{"$f":"SUM(K139:K153)","v":0},0,null,{"$f":"SUM(N139:N153)","v":0},0,0,0]
[null,{"$f":"'Смета факт'!B141","v":0},{"$f":"H139+M139","v":0},{"$f":"I139+N139","v":0},{"$f":"J139+O139","v":0},0,0,null,{"$f":"'Смета факт'!D141","v":0},null,{"$f":"J139-H139","v":0},0,null,{"$f":"'Смета факт'!E141","v":0},null,{"$f":"O139-M139","v":0},0]
[null,{"$f":"'Смета факт'!B142","v":0},0,0,0,{"$f":"E140-C140","v":0},0,null,{"$f":"'Смета факт'!D142","v":0},null,0,0,null,{"$f":"'Смета факт'!E142","v":0},null,0,0]
[null,{"$f":"'Смета факт'!B143","v":0},0,0,0,0,0,null,{"$f":"'Смета факт'!D143","v":0},null,0,0,null,{"$f":"'Смета факт'!E143","v":0},null,0,0]
[null,{"$f":"'Смета факт'!B144","v":0},0,0,0,0,0,null,{"$f":"'Смета факт'!D144","v":0},null,0,0,null,{"$f":"'Смета факт'!E144","v":0},null,0,0]
[null,{"$f":"'Смета факт'!B145","v":0},0,0,0,0,0,null,{"$f":"'Смета факт'!D145","v":0},null,0,{"$f":"IF(H143=0,0,J143/H143)","v":0},null,{"$f":"'Смета факт'!E145","v":0},null,0,{"$f":"IF(M143=0,0,O143/M143)","v":0}]
[null,{"$f":"'Смета факт'!B146","v":0},0,0,0,0,0,null,{"$f":"'Смета факт'!D146","v":0},null,0,0,null,{"$f":"'Смета факт'!E146","v":0},null,0,0]
[null,{"$f":"'Смета факт'!B147","v":0},0,0,0,0,0,null,{"$f":"'Смета факт'!D147","v":0},null,0,0,null,{"$f":"'Смета факт'!E147","v":0},null,0,0]
[null,{"$f":"'Смета факт'!B148","v":0},0,0,0,0,0,null,{"$f":"'Смета факт'!D148","v":0},null,0,0,null,{"$f":"'Смета факт'!E148","v":0},null,0,0]
[null,{"$f":"'Смета факт'!B149","v":0},0,0,0,0,0,null,{"$f":"'Смета факт'!D149","v":0},null,0,0,null,{"$f":"'Смета факт'!E149","v":0},null,0,0]
[null,{"$f":"'Смета факт'!B150","v":0},0,0,0,0,0,null,{"$f":"'Смета факт'!D150","v":0},null,0,0,null,{"$f":"'Смета факт'!E150","v":0},null,0,0]
[null,{"$f":"'Смета факт'!B151","v":0},0,0,0,0,0,null,{"$f":"'Смета факт'!D151","v":0},null,0,0,null,{"$f":"'Смета факт'!E151","v":0},null,0,0]
[null,{"$f":"'Смета факт'!B152","v":0},0,0,0,0,0,null,{"$f":"'Смета факт'!D152","v":0},null,0,0,null,{"$f":"'Смета факт'!E152","v":0},null,0,0]
[null,{"$f":"'Смета факт'!B153","v":0},0,0,0,0,0,null,{"$f":"'Смета факт'!D153","v":0},null,0,0,null,{"$f":"'Смета факт'!E153","v":0},null,0,0]
[null,{"$f":"'Смета факт'!B154","v":0},0,0,0,0,0,null,{"$f":"'Смета факт'!D154","v":0},null,0,0,null,{"$f":"'Смета факт'!E154","v":0},null,0,0]
[null,"прочие",0,0,0,0,0,{"$f":"'Смета 2016'!F106-H134-H137-SUM(H139:H152)","v":0},{"$f":"'Смета факт'!D155","v":0},null,0,0,null,{"$f":"'Смета факт'!E155","v":0},null,0,0]
["IV","СБЫТОВЫЕ РАСХОДЫ",{"$f":"SUM(C155:C156)","v":0},{"$f":"SUM(D155:D156)","v":0},{"$f":"SUM(E155:E156)","v":0},0,0,0,0,0,{"$f":"SUM(K155:K156)","v":0},0,{"$f":"SUM(M155:M156)","v":0},{"$f":"SUM(N155:N156)","v":0},0,{"$f":"SUM(P155:P156)","v":0},0]
["9.1.","Расходы по сомнительным долгам (для ГО)",{"$f":"H155+M155","v":0},{"$f":"I155+N155","v":0},{"$f":"J155+O155","v":0},0,0,{"$f":"'Смета 2016'!D74","v":0},{"$f":"'Смета факт'!D157","v":0},null,{"$f":"J155-H155","v":0},0,{"$f":"'Смета 2016'!E74","v":0},{"$f":"'Смета факт'!E157","v":0},null,{"$f":"O155-M155","v":0},0]
["9.2.","Прочие сбытовые расходы",0,0,0,0,0,{"$f":"'Смета 2016'!D73-'Смета 2016'!D74","v":0},{"$f":"'Смета факт'!D158","v":0},null,0,0,{"$f":"'Смета 2016'!E73-'Смета 2016'!E74","v":0},{"$f":"'Смета факт'!E158","v":0},null,0,0]
["V","РАСХОДЫ НА АМОРТИЗАЦИЮ ОСНОВНЫХ СРЕДСТВ И НЕМАТЕРИАЛЬНЫХ АКТИВОВ",{"$f":"SUM(C158:C159)","v":0},{"$f":"SUM(D158:D159)","v":0},{"$f":"SUM(E158:E159)","v":0},0,0,0,0,0,{"$f":"SUM(K158:K159)","v":0},0,{"$f":"SUM(M158:M159)","v":0},{"$f":"SUM(N158:N159)","v":0},0,{"$f":"SUM(P158:P159)","v":0},0]
["10.1.","Амортизация основных средств,относимых к объектам централизованной системы водоотведения",{"$f":"H158+M158","v":0},{"$f":"I158+N158","v":0},{"$f":"J158+O158","v":0},0,0,{"$f":"'Смета 2016'!D76","v":0},{"$f":"'Смета факт'!D160","v":0},null,{"$f":"J158-H158","v":0},0,{"$f":"'Смета 2016'!E76","v":0},{"$f":"'Смета факт'!E160","v":0},null,{"$f":"O158-M158","v":0},0]
["10.2.","Амортизация нематериальных активов,относимых к объектам централизованной системы водоотведения",0,0,0,0,0,{"$f":"'Смета 2016'!D75-'Смета 2016'!D76","v":0},{"$f":"'Смета факт'!D161","v":0},null,0,0,{"$f":"'Смета 2016'!E75-'Смета 2016'!E76","v":0},{"$f":"'Смета факт'!E161","v":0},null,0,0]
["VI","РАСХОДЫ НА АРЕНДНУЮ ПЛАТУ, ЛИЗИНГОВЫЕ ПЛАТЕЖИ, КОНЦЕССИОННУЮ ПЛАТУ",{"$f":"SUM(C161:C164)","v":0},{"$f":"SUM(D161:D164)","v":0},0,0,0,0,0,0,{"$f":"SUM(K161:K164)","v":0},0,{"$f":"SUM(M161:M164)","v":0},{"$f":"SUM(N161:N164)","v":0},{"$f":"SUM(O161:O164)","v":0},0,0]
["11.1.","лизинговые платежи",{"$f":"H161+M161","v":0},{"$f":"I161+N161","v":0},{"$f":"J161+O161","v":0},0,0,{"$f":"'Смета 2016'!D79","v":0},{"$f":"'Смета факт'!D163","v":0},null,{"$f":"J161-H161","v":0},0,{"$f":"'Смета 2016'!E79","v":0},{"$f":"'Смета факт'!E163","v":0},null,{"$f":"O161-M161","v":0},0]
["11.2.","концессионная плата",0,0,0,0,0,{"$f":"'Смета 2016'!D80","v":0},{"$f":"'Смета факт'!D164","v":0},null,0,0,{"$f":"'Смета 2016'!E80","v":0},{"$f":"'Смета факт'!E164","v":0},null,0,0]
["11.3.","аренда имущества",0,0,0,0,0,{"$f":"'Смета 2016'!D81","v":0},{"$f":"'Смета факт'!D165","v":0},null,0,0,{"$f":"'Смета 2016'!E81","v":0},{"$f":"'Смета факт'!E165","v":0},null,0,0]
["11.4.","аренда земельных участков",0,0,0,0,0,{"$f":"'Смета 2016'!D82","v":0},{"$f":"'Смета факт'!D166","v":0},null,0,0,{"$f":"'Смета 2016'!E82","v":0},{"$f":"'Смета факт'!E166","v":0},null,0,0]
["VII","РАСХОДЫ, СВЯЗАННЫЕ С ОПЛАТОЙ НАЛОГОВ И СБОРОВ",{"$f":"SUM(C166:C171)","v":0},{"$f":"SUM(D166:D171)","v":0},{"$f":"SUM(E166:E171)","v":0},0,0,0,0,0,{"$f":"SUM(K166:K171)","v":0},0,{"$f":"SUM(M166:M171)","v":0},{"$f":"SUM(N166:N171)","v":0},0,{"$f":"SUM(P166:P171)","v":0},0]
[]
["11.5.","налог на землю",{"$f":"H167+M167","v":0},{"$f":"I167+N167","v":0},{"$f":"J167+O167","v":0},0,0,{"$f":"'Смета 2016'!D85","v":0},{"$f":"'Смета факт'!D169","v":0},null,{"$f":"J167-H167","v":0},0,{"$f":"'Смета 2016'!E85","v":0},{"$f":"'Смета факт'!E169","v":0},null,{"$f":"O167-M167","v":0},0]
["11.6.","налог на имущество",0,0,0,0,0,{"$f":"'Смета 2016'!D86","v":0},{"$f":"'Смета факт'!D170","v":0},null,0,0,{"$f":"'Смета 2016'!E86","v":0},{"$f":"'Смета факт'!E170","v":0},null,0,0]
["11.7.","плата за загрязнение окружающей среды",0,0,0,0,{"$f":"IF(C169=0,0,E169/C169)","v":0},{"$f":"'Смета 2016'!D87","v":0},{"$f":"'Смета факт'!D171","v":0},null,0,0,{"$f":"'Смета 2016'!E87","v":0},{"$f":"'Смета факт'!E171","v":0},null,0,0]
["11.8.","транспортный налог",0,0,0,0,0,{"$f":"'Смета 2016'!D88","v":0},{"$f":"'Смета факт'!D172","v":0},null,0,0,{"$f":"'Смета 2016'!E88","v":0},{"$f":"'Смета факт'!E172","v":0},null,0,0]
["11.9.","прочие налоги и сборы",0,0,0,0,0,{"$f":"'Смета 2016'!D89","v":0},{"$f":"'Смета факт'!D173","v":0},null,0,0,{"$f":"'Смета 2016'!E89","v":0},{"$f":"'Смета факт'!E173","v":0},null,0,0]
["VIII","ВСЕГО СЕБЕСТОИМОСТЬ",{"$f":"C174+C175+C176+C177+C178+C179","v":0},{"$f":"D174+D175+D176+D177+D178+D179","v":0},0,{"$f":"E172-C172","v":0},{"$f":"IF(C172=0,0,E172/C172)","v":0},{"$f":"SUM(H8,H80,H105,H133,H154,H157,H160,H165)","v":0},{"$f":"SUM(I8,I80,I105,I133,I154,I157,I160,I165)","v":0},0,{"$f":"J172-H172","v":0},{"$f":"IF(H172=0,0,J172/H172)","v":0},{"$f":"SUM(M8,M80,M105,M133,M154,M157,M160,M165)","v":0},{"$f":"SUM(N8,N80,N105,N133,N154,N157,N160,N165)","v":0},0,{"$f":"O172-M172","v":0},{"$f":"IF(M172=0,0,O172/M172)","v":0}]
["IХ","Финансовый результат от реализации",{"$f":"C175+C176+C177+C178+C179+C180","v":0},0,0,0,0,{"$f":"'Смета 2016'!C99","v":0},{"$f":"'Смета факт'!D175","v":0},{"$f":"J175+J176+J177+J178+J179+J180","v":0},0,0,{"$f":"'Смета 2016'!H99","v":0},{"$f":"'Смета факт'!E175","v":0},{"$f":"O175+O176+O177+O178+O179+O180","v":0},0,0]
["12.1.","то же в %",{"$f":"IF(SUM(C8,C80,C105,C133,C154,C157,C160,C165,C179:C180)=0,0,SUM(C175:C178)/SUM(C8,C80,C105,C133,C154,C157,C160,C165,C179:C180)*100)","v":0},{"$f":"IF(SUM(D8,D80,D105,D133,D154,D157,D160,D165,D179:D180)=0,0,SUM(D175:D178)/SUM(D8,D80,D105,D133,D154,D157,D160,D165,D179:D180)*100)","v":0},{"$f":"IF(SUM(E8,E80,E105,E133,E154,E157,E160,E165,E179:E180)=0,0,SUM(E175:E178)/SUM(E8,E80,E105,E133,E154,E157,E160,E165,E179:E180)*100)","v":0},0,0,{"$f":"IF(SUM(H8,H80,H105,H133,H154,H157,H160,H165,H179:H180)=0,0,SUM(H175:H178)/SUM(H8,H80,H105,H133,H154,H157,H160,H165,H179:H180)*100)","v":0},0,{"$f":"IF(SUM(J8,J80,J105,J133,J154,J157,J160,J165,J179:J180)=0,0,SUM(J175:J178)/SUM(J8,J80,J105,J133,J154,J157,J160,J165,J179:J180)*100)","v":0},0,0,{"$f":"IF(SUM(M8,M80,M105,M133,M154,M157,M160,M165,M179:M180)=0,0,SUM(M175:M178)/SUM(M8,M80,M105,M133,M154,M157,M160,M165,M179:M180)*100)","v":0},{"$f":"IF(SUM(N8,N80,N105,N133,N154,N157,N160,N165,N179:N180)=0,0,SUM(N175:N178)/SUM(N8,N80,N105,N133,N154,N157,N160,N165,N179:N180)*100)","v":0},{"$f":"IF(SUM(O8,O80,O105,O133,O154,O157,O160,O165,O179:O180)=0,0,SUM(O175:O178)/SUM(O8,O80,O105,O133,O154,O157,O160,O165,O179:O180)*100)","v":0},0,0]
["12.2.","средства на возврат займов и кредитов и процентов по ним",{"$f":"H175+M175","v":0},{"$f":"I175+N175","v":0},{"$f":"J175+O175","v":0},0,0,{"$f":"'Смета 2016'!D93","v":0},{"$f":"'Смета факт'!D177","v":0},null,0,0,{"$f":"'Смета 2016'!E93","v":0},{"$f":"'Смета факт'!E177","v":0},null,0,0]
["12.3.","расходы на капитальные вложения (инвестиции)",0,0,0,0,0,{"$f":"'Смета 2016'!D94","v":0},{"$f":"'Смета факт'!D178","v":0},null,0,0,{"$f":"'Смета 2016'!E94","v":0},{"$f":"'Смета факт'!E178","v":0},null,0,0]
["12.4.","денежные выплаты социального характера (по коллективному договору)",0,0,0,0,0,{"$f":"'Смета 2016'!D95","v":0},{"$f":"'Смета факт'!D179","v":0},null,0,0,{"$f":"'Смета 2016'!E95","v":0},{"$f":"'Смета факт'!E179","v":0},null,0,0]
["12.5.","прибыль, обеспечивающая финансирование других расходов, не учитываемых  при определении налоговой бызы налога на прибыль (остающаяся в распоряжении организации)",0,0,0,0,0,{"$f":"'Смета 2016'!D96+'Смета 2016'!D97","v":0},{"$f":"'Смета факт'!D180","v":0},null,0,0,{"$f":"'Смета 2016'!E96+'Смета 2016'!E97","v":0},{"$f":"'Смета факт'!E180","v":0},null,0,0]
["13.1.","налог на прибыль",0,0,0,0,0,{"$f":"'Смета 2016'!D98","v":0},{"$f":"'Смета факт'!D181","v":0},null,0,0,{"$f":"'Смета 2016'!E98","v":0},{"$f":"'Смета факт'!E181","v":0},null,0,0]
["13.2."," (или)единый налог при УСН ",0,0,0,0,0,{"$f":"'Смета 2016'!D99","v":0},{"$f":"'Смета факт'!D182","v":0},null,0,0,{"$f":"'Смета 2016'!E99","v":0},{"$f":"'Смета факт'!E182","v":0},null,0,0]
["IХ","НЕОБХОДИМАЯ ВАЛОВАЯ ВЫРУЧКА",{"$f":"C173+C165+C160+C157+C154+C133+C105+C80+C8","v":0},{"$f":"D173+D165+D160+D157+D154+D133+D105+D80+D8","v":0},{"$f":"E173+E165+E160+E157+E154+E133+E105+E80+E8","v":0},0,0,{"$f":"H173+H165+H160+H157+H154+H133+H105+H80+H8","v":0},{"$f":"I173+I165+I160+I157+I154+I133+I105+I80+I8","v":0},{"$f":"J173+J165+J160+J157+J154+J133+J105+J80+J8","v":0},0,0,{"$f":"M173+M165+M160+M157+M154+M133+M105+M80+M8","v":0},{"$f":"N173+N165+N160+N157+N154+N133+N105+N80+N8","v":0},{"$f":"O173+O165+O160+O157+O154+O133+O105+O80+O8","v":0},0,0]
["16.","Товарная продукция",{"$f":"H182+M182","v":0},{"$f":"I182+N182","v":0},{"$f":"J182+O182","v":0},0,0,{"$f":"'Смета 2016'!D107","v":0},{"$f":"'форма №2'!C11","v":0},{"$f":"'форма №2'!C11","v":0},0,0,{"$f":"'Смета 2016'!E107","v":0},null,null,0,0]
["17.","Затраты на собственное потребление",0,0,0,0,0,null,null,null,null,0,null,null,null,0,0]
["18.","Объем реализации услуг водоотведения всего, м3, в том числе: ",{"$f":"H184","v":0},{"$f":"I184","v":0},0,0,0,{"$f":"'баланс ВО'!D14","v":0},{"$f":"'баланс ВО'!E26","v":0},{"$f":"'баланс ВО'!E26","v":0},0,0,{"$f":"'баланс ВО'!E14","v":0},{"$f":"J184","v":0},{"$f":"N184","v":0},0,0]
["18.1.","на собственное потребление",{"$f":"H185","v":0},0,0,0,0,{"$f":"'баланс ВО'!D23","v":0},{"$f":"'баланс ВО'!E27","v":0},{"$f":"'баланс ВО'!E27","v":0},0,0,{"$f":"'баланс ВО'!E23","v":0},{"$f":"J185","v":0},{"$f":"N185","v":0},0,0]
["18.2.","сторонним потребителям",0,0,0,0,0,{"$f":"H184-H185","v":0},{"$f":"I184-I185","v":0},{"$f":"J184-J185","v":0},0,0,{"$f":"M184-M185","v":0},{"$f":"N184-N185","v":0},{"$f":"O184-O185","v":0},0,0]
["X","Цена (тариф) на водоотведение, руб./м3",{"$f":"IF(C184=0,0,C181/C184)","v":0},{"$f":"IF(D184=0,0,D181/D184)","v":0},{"$f":"IF(E184=0,0,E181/E184)","v":0},0,0,{"$f":"IF(H184=0,,H181/H184)","v":0},{"$f":"IF(I184=0,0,I181/I184)","v":0},{"$f":"IF(J184=0,0,J181/J184)","v":0},0,0,{"$f":"IF(M184=0,,M181/M184)","v":0},{"$f":"IF(N184=0,0,N181/N184)","v":0},{"$f":"IF(O184=0,0,O181/O184)","v":0},0,0]
[null,null,{"$f":"C181-'Смета 2016'!C106","v":0},{"$f":"'Смета факт'!C183-D181","v":0},null,null,null,{"$f":"H181-('Смета 2016'!C106-'Смета 2016'!E106)","v":0},{"$f":"I181-'Смета факт'!D183","v":0},null,null,null,{"$f":"M181-'Смета 2016'!E106","v":0},{"$f":"N181-'Смета факт'!E183","v":0}]
[]
[]
[null,null,null,null,null,null,null,"Итоги по смете"]
[null,null,null,null,null,null,null,"Себестоимость"]
[null,null,null,null,null,null,null,"наименование расходов, номер счета, субсчета","сумма, рублей","принято экспертом, рублей","Примечание"]
[null,null,null,null,null,null,null,{"$f":"'Смета факт'!B194","v":"20 счет"},{"$f":"'Смета факт'!C194","v":0}]
[null,null,null,null,null,null,null,{"$f":"'Смета факт'!B195","v":"23 счет"},{"$f":"'Смета факт'!C195","v":0}]
[null,null,null,null,null,null,null,{"$f":"'Смета факт'!B196","v":"25 счет"},{"$f":"'Смета факт'!C196","v":0}]
[null,null,null,null,null,null,null,{"$f":"'Смета факт'!B197","v":"Транспортные расходы"},{"$f":"'Смета факт'!C197","v":0}]
[null,null,null,null,null,null,null,{"$f":"'Смета факт'!B198","v":"ОХР"},{"$f":"'Смета факт'!C198","v":0}]
[null,null,null,null,null,null,null,{"$f":"'Смета факт'!B199","v":0},{"$f":"'Смета факт'!C199","v":0}]
[null,null,null,null,null,null,null,{"$f":"'Смета факт'!B200","v":0},{"$f":"'Смета факт'!C200","v":0}]
[null,null,null,null,null,null,null,{"$f":"'Смета факт'!B201","v":0},{"$f":"'Смета факт'!C201","v":0}]
[null,null,null,null,null,null,null,{"$f":"'Смета факт'!B202","v":0},{"$f":"'Смета факт'!C202","v":0}]
[null,null,null,null,null,null,null,{"$f":"'Смета факт'!B203","v":0},{"$f":"'Смета факт'!C203","v":0}]
[null,null,null,null,null,null,null,{"$f":"'Смета факт'!B204","v":0},{"$f":"'Смета факт'!C204","v":0}]
[null,null,null,null,null,null,null,"итого",{"$f":"SUM(I194:I204)","v":0},{"$f":"SUM(J194:J204)","v":0}]
[]
[null,null,null,null,null,null,null,"Не принято в отчет"]
[null,null,null,null,null,null,null,"наименование расходов, номер счета, субсчета","сумма, рублей","сумма эксперта, рублей","Примечание"]
[null,null,null,null,null,null,null,{"$f":"'Смета факт'!B209","v":0},{"$f":"'Смета факт'!C209","v":0}]
[null,null,null,null,null,null,null,{"$f":"'Смета факт'!B210","v":0},{"$f":"'Смета факт'!C210","v":0}]
[null,null,null,null,null,null,null,{"$f":"'Смета факт'!B211","v":0},{"$f":"'Смета факт'!C211","v":0}]
[null,null,null,null,null,null,null,{"$f":"'Смета факт'!B212","v":0},{"$f":"'Смета факт'!C212","v":0}]
[null,null,null,null,null,null,null,{"$f":"'Смета факт'!B213","v":0},{"$f":"'Смета факт'!C213","v":0}]
[null,null,null,null,null,null,null,{"$f":"'Смета факт'!B214","v":0},{"$f":"'Смета факт'!C214","v":0}]
[null,null,null,null,null,null,null,{"$f":"'Смета факт'!B215","v":0},{"$f":"'Смета факт'!C215","v":0}]
[null,null,null,null,null,null,null,"итого",{"$f":"SUM(I209:I215)","v":0},{"$f":"SUM(J209:J215)","v":0},{"$f":"SUM(K209:K215)","v":0}]
[]
[null,null,null,null,null,null,null,"91 счет"]
[null,null,null,null,null,null,null,"наименование расходов, номер счета, субсчета","сумма, рублей","принято экспертом, рублей","Примечание"]
[null,null,null,null,null,null,null,{"$f":"'Смета факт'!B220","v":"УСН / налог на прибыль"},{"$f":"'Смета факт'!C220","v":0}]
[null,null,null,null,null,null,null,{"$f":"'Смета факт'!B221","v":"Соц.выплаты"},{"$f":"'Смета факт'!C221","v":0}]
[null,null,null,null,null,null,null,{"$f":"'Смета факт'!B222","v":"Услуги банков"},{"$f":"'Смета факт'!C222","v":0}]
[null,null,null,null,null,null,null,{"$f":"'Смета факт'!B223","v":0},{"$f":"'Смета факт'!C223","v":0}]
[null,null,null,null,null,null,null,{"$f":"'Смета факт'!B224","v":0},{"$f":"'Смета факт'!C224","v":0}]
[null,null,null,null,null,null,null,{"$f":"'Смета факт'!B225","v":0},{"$f":"'Смета факт'!C225","v":0}]
[null,null,null,null,null,null,null,{"$f":"'Смета факт'!B226","v":0},{"$f":"'Смета факт'!C226","v":0}]
[null,null,null,null,null,null,null,"итого",{"$f":"SUM(I220:I226)","v":0},{"$f":"SUM(J220:J226)","v":0},{"$f":"SUM(K220:K226)","v":0}]
[]
[null,null,null,null,null,null,null,"ВСЕГО НВВ по смете",{"$f":"I205-I216+I227","v":0},{"$f":"J205-J216+J227","v":0}]
[]
[null,null,null,null,null,null,null,null,{"$f":"I229-I181","v":0},{"$f":"J229-J181","v":0}]

{"sheet":"расчет выпадающих","index":23,"n_rows":26,"n_cols":10,"rows_kept":26,"cut":false,"hidden":true,"merged":[[12,5,13,7],[12,8,13,9],[0,0,0,9],[2,0,4,0],[2,1,4,1],[2,2,3,4],[2,5,3,7],[2,8,3,9],[10,0,10,9],[12,0,14,0],[12,1,14,1],[12,2,13,4]]}
["Расчет выпадающих по полезному отпуску"]
[]
["№ п/п","Наименование показателя","План",null,null,"Факт по данным организации",null,null,"Отклонение"]
[]
[null,null,"01.01.-30.06.","01.07.-31.12.","2016 год","01.01.-30.06.","01.07.-31.12.","2016 год","абсолютное","в %"]
[1,"Полезный отпуск, куб.м",{"$f":"'баланс ВО'!D14/2","v":0},{"$f":"C6","v":0},{"$f":"C6+D6","v":0},{"$f":"SUM('полезный отпуск'!B14:B19)","v":0},{"$f":"SUM('полезный отпуск'!B20:B25)","v":0},{"$f":"F6+G6","v":0},{"$f":"H6-E6","v":0},{"$f":"IF(E6=0,0,H6/E6*100)","v":0}]
[2,"Тариф, руб/куб.м.",{"$f":"F7","v":0},{"$f":"G7","v":0},null,{"$f":"'данные об организации'!I29","v":0},{"$f":"'данные об организации'!I31","v":0}]
[3,"Выручка, руб.",{"$f":"C6*C7","v":0},{"$f":"D6*D7","v":0},{"$f":"C8+D8","v":0},{"$f":"F6*F7","v":0},{"$f":"G6*G7","v":0},{"$f":"F8+G8","v":0},{"$f":"H8-E8","v":0},{"$f":"IF(E8=0,0,H8/E8*100)","v":0}]
[null,null,null,null,{"$f":"E8-'анализ факт сметы'!C181","v":0}]
[]
["Расчет выпадающих по полезному отпуску"]
[]
["№ п/п","Наименование показателя","План",null,null,"Факт по данным эксперта",null,null,"Отклонение"]
[]
[null,null,"01.01.-30.06.","01.07.-31.12.","2016 год","01.01.-30.06.","01.07.-31.12.","2016 год","абсолютное","в %"]
[1,"Полезный отпуск, куб.м",{"$f":"C6","v":0},{"$f":"D6","v":0},{"$f":"C16+D16","v":0},{"$f":"IF(H6=0,,F6/H6*'баланс ВО'!F26)","v":0},{"$f":"H16-F16","v":0},{"$f":"'баланс ВО'!F26","v":0},{"$f":"H16-E16","v":0},{"$f":"IF(E16=0,0,H16/E16*100)","v":0}]
[2,"Тариф, руб/куб.м.",{"$f":"C7","v":0},{"$f":"D7","v":0},null,{"$f":"F7","v":0},{"$f":"G7","v":0}]
[3,"Выручка, руб.",{"$f":"C16*C17","v":0},{"$f":"D16*D17","v":0},{"$f":"C18+D18","v":0},{"$f":"F16*F17","v":0},{"$f":"G16*G17","v":0},{"$f":"F18+G18","v":0},{"$f":"H18-E18","v":0},{"$f":"IF(E18=0,0,H18/E18*100)","v":0}]
[null,null,null,null,{"$f":"E8-'анализ факт сметы'!C181","v":0}]
[]
[]
[null,"Корректировка НВВ по результатам 2016 года (МЭОР)"]
[]
[null,"ПО",{"$f":"-'расчет выпадающих'!I18","v":0}]
[null,"Смета расходов",{"$f":"'анализ факт сметы'!K181","v":0}]
[null,"ВСЕГО",{"$f":"C24+C25","v":0}]

{"sheet":"ЭЗ","index":24,"n_rows":80,"n_cols":10,"rows_kept":80,"cut":false,"hidden":true,"merged":[[13,0,14,1],[13,2,13,4],[13,5,14,5],[0,0,0,9],[2,0,4,0],[2,1,4,1],[2,2,3,4],[2,5,3,7],[2,8,3,9]]}
["Расчет выпадающих по полезному отпуску"]
[]
["№ п/п","Наименование показателя","План",null,null,"Факт по данным эксперта",null,null,"Отклонение"]
[]
[null,null,"01.01.-30.06.","01.07.-31.12.","2016 год","01.01.-30.06.","01.07.-31.12.","2016 год","абсолютное","в %"]
[1,"Полезный отпуск, тыс.куб.м",{"$f":"'расчет выпадающих'!C16/1000","v":0},{"$f":"'расчет выпадающих'!D16/1000","v":0},{"$f":"C6+D6","v":0},{"$f":"'расчет выпадающих'!F16/1000","v":0},{"$f":"'расчет выпадающих'!G16/1000","v":0},{"$f":"F6+G6","v":0},{"$f":"H6-E6","v":0},{"$f":"IF(E6=0,0,H6/E6*100)","v":0}]
[2,"Тариф, руб/куб.м.",{"$f":"'расчет выпадающих'!C17","v":0},{"$f":"'расчет выпадающих'!D17","v":0},null,{"$f":"'расчет выпадающих'!F17","v":0},{"$f":"'расчет выпадающих'!G17","v":0}]
[3,"Выручка, тыс.руб.",{"$f":"C6*C7","v":0},{"$f":"D6*D7","v":0},{"$f":"C8+D8","v":0},{"$f":"F6*F7","v":0},{"$f":"G6*G7","v":0},{"$f":"F8+G8","v":0},{"$f":"H8-E8","v":0},{"$f":"IF(E8=0,0,H8/E8*100)","v":0}]
[]
[]
[]
[]
[null,null,null,null,null,"тыс.рублей"]
["Наименование показателя",null,"2016 год",null,null,"отклонение (\"-\" - экономия, \"+\" - перерасход)            гр. 6=(гр. 5-гр.3)"]
[null,null,"план   ДТР ТО по установленным тарифам","факт по данным организации","Факт, принятый экспертом"]
[1,"Производственные расходы",{"$f":"C17+C20+C25+C29+C34","v":0},{"$f":"D17+D20+D25+D29+D34","v":0},0,{"$f":"E16-C16","v":0}]
["1.1.","Расходы на приобретение сырья и материалов и их хранение",{"$f":"C18+C19","v":0},{"$f":"D18+D19","v":0},0,{"$f":"E17-C17","v":0}]
["1.1.1.","Реагенты",{"$f":"'анализ факт сметы'!H10/1000","v":0},{"$f":"'анализ факт сметы'!I10/1000","v":0},{"$f":"'анализ факт сметы'!J10/1000","v":0},0]
["1.1.2.","Материалы и малоценные основные средства",{"$f":"'анализ факт сметы'!H9/1000-C18","v":0},{"$f":"'анализ факт сметы'!I9/1000-D18","v":0},{"$f":"'анализ факт сметы'!J9/1000-E18","v":0},0]
["1.2.","Расходы на энергетические ресурсы и холодную воду",{"$f":"C21+C22+C23+C24","v":0},{"$f":"D21+D22+D23+D24","v":0},0,0]
["1.2.1.","электроэнергия",{"$f":"'анализ факт сметы'!H18/1000","v":0},{"$f":"'анализ факт сметы'!I18/1000","v":0},{"$f":"'анализ факт сметы'!J18/1000","v":0},0]
["1.2.2.","теплоэнергия",{"$f":"'анализ факт сметы'!H21/1000","v":0},{"$f":"'анализ факт сметы'!I21/1000","v":0},{"$f":"'анализ факт сметы'!J21/1000","v":0},0]
["1.2.3.","вода",{"$f":"'анализ факт сметы'!H25/1000","v":0},{"$f":"'анализ факт сметы'!I25/1000","v":0},{"$f":"'анализ факт сметы'!J25/1000","v":0},0]
["1.2.4.","прочие энергетические ресурсы на хозбытовые нужды",{"$f":"'анализ факт сметы'!H17/1000-C23-C22-C21","v":0},{"$f":"'анализ факт сметы'!I17/1000-D23-D22-D21","v":0},{"$f":"'анализ факт сметы'!J17/1000-E23-E22-E21","v":0},0]
["1.3.","Услуги, оказываемые сторонними организациями",{"$f":"C26+C27+C28","v":0},{"$f":"D26+D27+D28","v":0},0,0]
["1.3.1.","услуги по подъему воды",{"$f":"'анализ факт сметы'!H31/1000","v":0},{"$f":"'анализ факт сметы'!I31/1000","v":0},{"$f":"'анализ факт сметы'!J31/1000","v":0},0]
["1.3.2.","услуги по очистке воды",{"$f":"'анализ факт сметы'!H32/1000","v":0},{"$f":"'анализ факт сметы'!I32/1000","v":0},{"$f":"'анализ факт сметы'!J32/1000","v":0},0]
["1.3.3.","услуги  по транспортированию воды",{"$f":"'анализ факт сметы'!H33/1000","v":0},{"$f":"'анализ факт сметы'!I33/1000","v":0},{"$f":"'анализ факт сметы'!J33/1000","v":0},0]
["1.4.","Расходы на оплату труда и отчисления на социальные нужды основного производственного персонала, в том числе налоги и сборы:",{"$f":"C30+C33","v":0},{"$f":"D30+D33","v":0},0,0]
["1.4.1.","Расходы на оплату труда производственного персонала",{"$f":"'анализ факт сметы'!H37/1000","v":0},{"$f":"'анализ факт сметы'!I37/1000","v":0},{"$f":"'анализ факт сметы'!J37/1000","v":0},0]
["1.4.1.1","численность ППП, чел",{"$f":"'анализ факт сметы'!H38","v":0},{"$f":"'анализ факт сметы'!I38","v":0},{"$f":"'анализ факт сметы'!J38","v":0}]
[null,"средняя заработная плата, руб/чел",{"$f":"IF(C31=0,,C30/12/C31*1000)","v":0},{"$f":"IF(D31=0,,D30/12/D31*1000)","v":0},0]
["1.4.2.","Отчисления на социальные нужды производственного персонала, в том числе налоги и сборы",{"$f":"'анализ факт сметы'!H40/1000","v":0},{"$f":"'анализ факт сметы'!I40/1000","v":0},{"$f":"'анализ факт сметы'!J40/1000","v":0},0]
["1.5.","Прочие производственные расходы",{"$f":"SUM(C35:C40)","v":0},{"$f":"SUM(D35:D40)","v":0},0,0]
["1.5.1.","Услуги вспомогательных производств",{"$f":"'анализ факт сметы'!H45/1000","v":0},{"$f":"'анализ факт сметы'!I45/1000","v":0},{"$f":"'анализ факт сметы'!J45/1000","v":0},0]
["1.5.2.","Расходы на эксплуатацию, техническое обслуживание и ремонт автотранспорта",{"$f":"'анализ факт сметы'!H51/1000","v":0},{"$f":"'анализ факт сметы'!I51/1000","v":0},{"$f":"'анализ факт сметы'!J51/1000","v":0},0]
["1.5.3.","Цеховые расходы",{"$f":"'анализ факт сметы'!H57/1000","v":0},{"$f":"'анализ факт сметы'!I57/1000","v":0},{"$f":"'анализ факт сметы'!J57/1000","v":0},0]
["1.5.4.","Общепроизводственные расходы",{"$f":"'анализ факт сметы'!H63/1000","v":0},{"$f":"'анализ факт сметы'!I63/1000","v":0},{"$f":"'анализ факт сметы'!J63/1000","v":0},0]
["1.5.5.","Контроль качества воды и сточных вод",{"$f":"'анализ факт сметы'!H77/1000","v":0},{"$f":"'анализ факт сметы'!I77/1000","v":0},{"$f":"'анализ факт сметы'!J77/1000","v":0},0]
["1.5.6.","Прочие расходы",{"$f":"SUM(C41:C44)","v":0},{"$f":"SUM(D41:D44)","v":0},0,0]
["1.5.3.2.","расходы на охрану труда",{"$f":"'анализ факт сметы'!H69/1000","v":0},{"$f":"'анализ факт сметы'!I69/1000","v":0},{"$f":"'анализ факт сметы'!J69/1000","v":0},0]
["1.5.3.3.","расходы на льготный проезд",{"$f":"'анализ факт сметы'!H75/1000","v":0},{"$f":"'анализ факт сметы'!I75/1000","v":0},{"$f":"'анализ факт сметы'!J75/1000","v":0},0]
["1.5.3.4.","расходы на содержание зданий",{"$f":"'анализ факт сметы'!H76/1000","v":0},{"$f":"'анализ факт сметы'!I76/1000","v":0},{"$f":"'анализ факт сметы'!J76/1000","v":0},0]
["1.5.3.5.","прочие цеховые расходы",{"$f":"'анализ факт сметы'!H105/1000","v":0},{"$f":"'анализ факт сметы'!I105/1000","v":0},{"$f":"'анализ факт сметы'!J105/1000","v":0}]
[2,"Ремонтные расходы",{"$f":"C46+C47","v":0},{"$f":"D46+D47","v":0},0,0]
["2.1.","Расходы на текущий ремонт централизованных систем водоснабжения и (или) водоотведения либо объектов, входящих в состав таких систем",{"$f":"'анализ факт сметы'!H81/1000","v":0},{"$f":"'анализ факт сметы'!I81/1000","v":0},{"$f":"'анализ факт сметы'!J81/1000","v":0},0]
["2.2.","Расходы на капитальный ремонт централизованных систем водоснабжения и (или) водоотведения либо объектов, входящих в состав таких систем",{"$f":"'анализ факт сметы'!H93/1000","v":0},{"$f":"'анализ факт сметы'!I93/1000","v":0},{"$f":"'анализ факт сметы'!J93/1000","v":0},0]
[3,"Расходы на обслуживание и ремонт бесхозяйных сетей",{"$f":"'анализ факт сметы'!M181/1000","v":0},{"$f":"'анализ факт сметы'!N181/1000","v":0},{"$f":"'анализ факт сметы'!O181/1000","v":0},0]
[4,"Административные расходы",{"$f":"C50+C53+C54","v":0},{"$f":"D50+D53+D54","v":0},0,0]
["4.1.","Расходы на оплату труда административно-управленческого персонала",{"$f":"'анализ факт сметы'!H134/1000","v":0},{"$f":"'анализ факт сметы'!I134/1000","v":0},{"$f":"'анализ факт сметы'!J134/1000","v":0},0]
["4.1.1.","численность персонала, относимого на данный вид деятельности, чел",{"$f":"'анализ факт сметы'!H135","v":0},{"$f":"'анализ факт сметы'!I135","v":0},{"$f":"'анализ факт сметы'!J135","v":0}]
["4.1.2.","средняя заработная плата, руб/чел",{"$f":"IF(C51=0,,C50/12/C51*1000)","v":0},{"$f":"IF(D51=0,,D50/12/D51*1000)","v":0},0]
["4.2.","Отчисления на социальные нужды административно-управленческого персонала, в том числе налоги и сборы",{"$f":"'анализ факт сметы'!H137/1000","v":0},{"$f":"'анализ факт сметы'!I137/1000","v":0},{"$f":"'анализ факт сметы'!J137/1000","v":0},0]
["4.3.","Прочие административные расходы",{"$f":"'анализ факт сметы'!H138/1000","v":0},{"$f":"'анализ факт сметы'!I138/1000","v":0},{"$f":"'анализ факт сметы'!J138/1000","v":0},0]
[5,"Сбытовые расходы гарантирующих организаций",{"$f":"'анализ факт сметы'!H154/1000","v":0},{"$f":"'анализ факт сметы'!I154/1000","v":0},{"$f":"'анализ факт сметы'!J154/1000","v":0},0]
["5.1.","Расходы ГО по сомнительным долгам, в размере не более 2% НВВ",{"$f":"'анализ факт сметы'!H155/1000","v":0},{"$f":"'анализ факт сметы'!I155/1000","v":0},{"$f":"'анализ факт сметы'!J155/1000","v":0},0]
[6,"Амортизация",{"$f":"'анализ факт сметы'!H157/1000","v":0},{"$f":"'анализ факт сметы'!I157/1000","v":0},{"$f":"'анализ факт сметы'!J157/1000","v":0},0]
[7,"Расходы на арендную плату, лизинговые платежи, концессионную плату",{"$f":"C59+C60+C61+C62","v":0},{"$f":"D59+D60+D61+D62","v":0},0,0]
["7.1.","Аренда имущества",{"$f":"'анализ факт сметы'!H163/1000","v":0},{"$f":"'анализ факт сметы'!I163/1000","v":0},{"$f":"'анализ факт сметы'!J163/1000","v":0},0]
["7.2.","Концессионная плата",{"$f":"'анализ факт сметы'!H162/1000","v":0},{"$f":"'анализ факт сметы'!I162/1000","v":0},{"$f":"'анализ факт сметы'!J162/1000","v":0},0]
["7.3.","Лизинговые платежи",{"$f":"'анализ факт сметы'!H161/1000","v":0},{"$f":"'анализ факт сметы'!I161/1000","v":0},{"$f":"'анализ факт сметы'!J161/1000","v":0},0]
["7.4.","Аренда земельных участков",{"$f":"'анализ факт сметы'!H164/1000","v":0},{"$f":"'анализ факт сметы'!I164/1000","v":0},{"$f":"'анализ факт сметы'!J164/1000","v":0},0]
[8,"Расходы, связанные с уплатой налогов и сборов",{"$f":"SUM(C64:C69)","v":0},{"$f":"SUM(D64:D69)","v":0},0,0]
["8.1.","водный налог",{"$f":"'анализ факт сметы'!H166/1000","v":0},{"$f":"'анализ факт сметы'!I166/1000","v":0},{"$f":"'анализ факт сметы'!J166/1000","v":0},0]
["8.2.","налог на землю",{"$f":"'анализ факт сметы'!H167/1000","v":0},{"$f":"'анализ факт сметы'!I167/1000","v":0},{"$f":"'анализ факт сметы'!J167/1000","v":0},0]
["8.3.","налог на имущество",{"$f":"'анализ факт сметы'!H168/1000","v":0},{"$f":"'анализ факт сметы'!I168/1000","v":0},{"$f":"'анализ факт сметы'!J168/1000","v":0},0]
["8.4.","плата за загрязнение окружающей среды",{"$f":"'анализ факт сметы'!H169/1000","v":0},{"$f":"'анализ факт сметы'!I169/1000","v":0},{"$f":"'анализ факт сметы'!J169/1000","v":0},0]
["8.5.","транспортный налог",{"$f":"'анализ факт сметы'!H170/1000","v":0},{"$f":"'анализ факт сметы'!I170/1000","v":0},{"$f":"'анализ факт сметы'!J170/1000","v":0},0]
["8.6.","прочие налоги и сборы",{"$f":"'анализ факт сметы'!H171/1000","v":0},{"$f":"'анализ факт сметы'!I171/1000","v":0},{"$f":"'анализ факт сметы'!J171/1000","v":0},0]
[9,"ИТОГО СЕБЕСТОИМОСТЬ (сумма стр 1+стр 2+…+ стр 8)",{"$f":"SUM(C16,C45,C48,C49,C55,C57:C58,C63)","v":0},{"$f":"SUM(D16,D45,D48,D49,D55,D57:D58,D63)","v":0},0]
[10,"Нормативная прибыль",{"$f":"C73+C74+C75+C76","v":0},{"$f":"D73+D74+D75+D76","v":0},0,0]
[null,"в том числе в %",{"$f":"(C71-C77-C78)/C70","v":{"$error":"#DIV/0!"}},{"$f":"(D71-D77-D78)/D70","v":{"$error":"#DIV/0!"}},{"$error":"#DIV/0!"},{"$error":"#DIV/0!"}]
["9.1.","средства на возврат займов и кредитов и процентов по ним",{"$f":"'анализ факт сметы'!H175/1000","v":0},{"$f":"'анализ факт сметы'!I175/1000","v":0},{"$f":"'анализ факт сметы'!J175/1000","v":0},0]
["9.2.","расходы на капитальные вложения (инвестиции)",{"$f":"'анализ факт сметы'!H176/1000","v":0},{"$f":"'анализ факт сметы'!I176/1000","v":0},{"$f":"'анализ факт сметы'!J176/1000","v":0},0]
["9.3.","денежные выплаты социального характера (по коллективному договору)",{"$f":"'анализ факт сметы'!H177/1000","v":0},{"$f":"'анализ факт сметы'!I177/1000","v":0},{"$f":"'анализ факт сметы'!J177/1000","v":0},0]
["9.4.","прибыль, обеспечивающая финансирование других расходов, не учитываемых  при определении налоговой бызы налога на прибыль (остающаяся в распоряжении организации)",{"$f":"'анализ факт сметы'!H178/1000","v":0},{"$f":"'анализ факт сметы'!I178/1000","v":0},{"$f":"'анализ факт сметы'!J178/1000","v":0},0]
[11,"Налог на прибыль",{"$f":"'анализ факт сметы'!H179/1000","v":0},{"$f":"'анализ факт сметы'!I179/1000","v":0},{"$f":"'анализ факт сметы'!J179/1000","v":0},0]
[null,"(или)единый налог при УСН ",{"$f":"'анализ факт сметы'!H180/1000","v":0},{"$f":"'анализ факт сметы'!I180/1000","v":0},{"$f":"'анализ факт сметы'!J180/1000","v":0},0]
[12,"ВСЕГО (стр 9+стр 10+стр11)",{"$f":"C70+C71+C77+C78","v":0},{"$f":"D70+D71+D77+D78","v":0},0,0]
[null,null,{"$f":"C79*1000-'анализ факт сметы'!C181","v":0},{"$f":"D79*1000-'анализ факт сметы'!D181","v":0},{"$f":"E79*1000-'анализ факт сметы'!E181","v":0}]