{"text_format":"1","workbook":"xlsx","n_sheets":38,"sheets":["изменения в шаблон","списки","Инструкция","Титульный","исходные данные","данные об организации","Техн характер системы","техн характер системы (бесхоз)","полезный отпуск","Показания ПУ","баланс ВСН","отчет по реализации","проверка баланса всн и реализац","отчет по электроэнергии","отчет по электроэнергии (бсх)","ремонт хозспособ","ремонт хозспособ (бсх)","ремонт подряд","ремонт подряд (бсх)","форма №2","показатели раздельного учета 1","показатели раздельного учета 2","показатели раздельного учета 3","показатели раздельного учета 4","показатели раздельного учета 5","показатели раздельного учета 6","показатели надежн и качества","отчет ПП","Смета факт","Смета пл 2017 МЭОР","анализ факт сметы МЭОР","ОР 2017","Смета 2017 МДИ ","Смета 2017 КОРР ","анализ факт сметы  КОРР","НВВ16ф","расчет выпадающих","ЭЗ"],"not_rendered":{"charts":0,"images":1,"macros":1,"external_links":4,"defined_names":561,"comments":1,"pivot_tables":0},"unopened":[],"bounds":{"document_bytes":16777216,"sheet_cells":100000,"rows_first":2000,"rows_last":500,"rows_between":2000,"halvings":0,"cell_chars":16384,"cell_head_chars":4096},"cells_cut":0,"cells_raw":0,"read":"whole","date_system":"1900"}

{"sheet":"изменения в шаблон","index":0,"n_rows":24,"n_cols":9,"rows_kept":24,"cut":false,"hidden":true,"merged":[[0,7,0,8]]}
[null,null,null,null,null,null,null,"НЕ ТРОГАТЬ!!!!"]
[null,null,null,null,null,null,null,"18dtrTO","пароль кроме титульного "]
[null,null,null,null,null,null,null,"18dtrTO18"]
[]
[null,"изменения","дата","исполнитель","отметка об исполнении"]
[1,"Добавить колонку на лист \"анализ сметы факт\" , факт организации по бухгалтерскому учету","март 2018 года","Петранцова","выполнено"]
[2,"Лист \"Технические характеристики системы\" дополнить следующим столбцом: высота подъема","март 2018 года","Петранцова","выполнено"]
[3,"на листе \"баланс ВСН\" дополнить таблицу данными  количество лицевых счетов","март 2018 года","Петранцова","выполнено"]
[4,"Добавить лист \"показания приборов учета\"","март 2018 года","Петранцова","выполнено"]
[5,"на листе \"Списки\" добавить список методов регулирования","март 2018 года","Касьянова","выполнено"]
[6,"на листе \"данные организации\" добавить таблицу долгосрочные параметры","март 2018 года","Касьянова","выполнено"]
[7,"на листе \"Титульный\" добавлен выбор метода регулирования","март 2018 года","Касьянова","выполнено"]
[8,"на листах \"технические характеристики\" и технические характеристики (бесхоз)\"  изменены таблицы по протяженности сетей","март 2018 года","Касьянова","выполнено"]
[9,"изменен лист \"полезный отпуск\"","март 2018 года","Касьянова","выполнено"]
[10,"на вкладках по ремонту внесены изменения в таблицы, добавлена версия  эксперта","март 2018 года","Касьянова","выполнено"]
[11,"добавлена связка для выгрузки плановой сметы 2017 года взависимости от метода регулирования","март 2018 года","Касьянова","выполнено"]
[12,"\"Развернуть\" плановую смету 2017 корр",null,null,"в другой шаблон"]
[13,"\"Развернуть\" баланс 2017 ",null,null,"в другой шаблон"]
[14,"Сделать таблицу : перечень имущества, балансовые стоимости с разбивкой по стадиям.",null,null,"нужно делать  отдельный запрос по имуществу"]
[15]
[16]
[17]
[18]
[19]

{"sheet":"списки","index":1,"n_rows":185,"n_cols":16,"rows_kept":185,"cut":false,"hidden":true,"merged":[]}
["Районы",null,"Муниципальные образования",null,"Год",null,"Выбор","Вид тарифа","Система налогообложения",null,null,null,"ИНН","КПП","Наименование организации","Имущество"]
[null,null,null,null,null,null,null,null,null,null,1,2,"5116000922","540645001","акционерное общество \"Главное управление жилищно-коммунального хозяйства\"","договор аренды"]
["Александровский",null,"Александровское",null,2011,null,"да","питьевая вода","Общая",1,"прибыль","доходы","7002006723","701701001","муниципальное бюджетное учреждение здравоохранения \"Асиновская центральная районная больница\"","постановление"]
["Асиновский",null,"Анастасьевское",null,2012,null,"нет","питьевая вода (с дополнительной очисткой)","Упрощенная",2,null,"доходы минус расходы","7002010695","700201001","муниципальное унитарное предприятие \"Спецавтохозяйство\"","акт приема-передачи"]
["Бакчарский",null,"Асиновское городское",null,2013,null,null,"техническая вода",null,null,null,null,"7002011508","700201001","муниципальное унитарное предприятие \"Большедороховское жилищно-коммунальное хозяйство\"","иное"]
["Верхнекетский",null,"Базойское",null,2014,null,null,"транспортировка воды",null,null,null,null,"7002011515","700201001","муниципальное унитарное предприятие \"Новокусковское жилищно-коммунальное хозяйство\""]
["г. Кедровый",null,"Бакчарское",null,2015,null,null,"очистка воды",null,null,null,null,"7002011522","700201001","муниципальное унитарное предприятие \"Новиковское жилищно-коммунальное хозяйство\""]
["г. Северск",null,"Баткатское",null,2016,null,null,"подвоз воды",null,null,null,null,"7002011530","700201001","муниципальное унитарное предприятие \"Батуринское жилищно-коммунальное хозяйство\""]
["г. Стрежевой",null,"Батуринское",null,2017,null,null,null,null,null,null,null,"7002011547","700201001","муниципальноте унитарное предприятие \"Ягодное жилищно-коммунальное хозяйство\""]
["г. Томск",null,"Белоярское",null,2018,null,null,null,null,null,null,null,"7002011787","700201001","муниципальное унитарное предприятие \"Новониколаевское жилищно-коммунальное хозяйство\""]
["Зырянский",null,"Белоярское городское",null,2019,null,null,null,null,null,null,null,"7002016312","700201001","общество с ограниченной ответственностью \"Асиновская водяная компания\""]
["Каргасокский",null,"Берегаевское",null,2020,null,null,"Метод регулирования",null,null,null,null,"7002016626","700201001","общество с ограниченной ответственностью \"Асиновская тепло-генерирующая компания-№1\""]
["Кожевниковский",null,"Богатыревское",null,null,null,null,null,null,null,null,null,"7002016954","700201001","муниципальное унитарное предприятие \"Новокусковские коммунальные системы\""]
["Колпашевский",null,"Богашевское",null,null,null,null,"метод экономически обоснованных расходов",null,null,null,null,"7002017027","700201001","общество с ограниченной ответсвенностью \"Асиновский водоканал\""]
["Кривошеинский",null,"Большедороховское",null,null,null,null,"метод долгосрочной индексации",null,null,null,null,"7002017059","700201001","общество с ограниченной ответственностью \"АКОС\""]
["Молчановский",null,"Вавиловское",null,null,null,null,"корректировка необходимой валовой выручки и  долгосрочных тарифов (1-я корректировка)",null,null,null,null,"7002017186","700201001","общество с ограниченной ответственностью \"Теплоэнергоресурс №1\""]
["Парабельский",null,"Вертикосское",null,null,null,null,"корректировка необходимой валовой выручки и  долгосрочных тарифов (2-я корректировка)",null,null,null,null,"7002017193","700201001","общество с ограниченной ответственностью \"Теплоэнергоресурс №2\""]
["Первомайский",null,"Володинское",null,null,null,null,null,null,null,null,null,"7002017203","700201001","общество с ограниченной ответственностью \"Теплоэнергоресурс №3\""]
["Тегульдетский",null,"Воронинское",null,null,null,null,null,null,null,null,null,"7002017210","700201001","общество с ограниченной ответственностью \"Теплоэнергоресурс №4\""]
["Томский",null,"Высоковское",null,null,null,null,null,null,null,null,null,"7003000227","700301001","муниципальное унитарное предприятие Бакчарского района \"Бакчарский коммунальный комплекс\""]
["Чаинский",null,"Высокоярское",null,null,null,null,null,null,null,null,null,"7003000273","700301001","областное государственное бюджетное образовательное учреждение начального профессионального образования \"Профессиональное училище № 35\""]
["Шегарский",null,"Галкинское",null,null,null,null,null,null,null,null,null,"7003003130","700301001","открытое акционерное общество \"Агропромышленная компания \"Галкинская\""]
[null,null,"г. Кедровый",null,null,null,null,null,null,null,null,null,"7004004746","700401001","общество с ограниченной ответственностью \"Гранит\""]
[null,null,"городской округ \"ЗАТО Северск\"",null,null,null,null,null,null,null,null,null,"7004005323","700401001","общество с ограниченной ответственностью \"БИО ТЭК Верхняя Кеть\""]
[null,null,"городской округ \"Город Стрежевой\"",null,null,null,null,null,null,null,null,null,"7004006052","700401001","общество с ограниченной ответственностью \"БИО ТЭК-С\""]
[null,null,"городской округ \"Город  Томск\"",null,null,null,null,null,null,null,null,null,"700400687080","отсутствует","индивидуальный предприниматель Ковыряхин Юрий Анатольевич"]
[null,null,"Колпашевское городское поселение",null,null,null,null,null,null,null,null,null,"7004007151","700401001","общество с ограниченной ответственностью \"Деметра\""]
[null,null,"Дальненское",null,null,null,null,null,null,null,null,null,"7004007200","700401001","общество с ограниченной ответственностью \"Сайга-Энерго\""]
[null,null,"Дубровское",null,null,null,null,null,null,null,null,null,"7004007240","700401001","общество с ограниченной ответственностью \"Коммунально-жилищный сервис Ягодное\""]
[null,null,"Заводское",null,null,null,null,null,null,null,null,null,"7004007610","700401001","муниципальное унитарное предприятие Степановского сельского поселения \"Степановское\""]
[null,null,"Заречное",null,null,null,null,null,null,null,null,null,"7004007708","700401001","общество с ограниченной ответственностью \"Орловка\""]
[null,null,"Зональненское",null,null,null,null,null,null,null,null,null,"700500339834","отсутствует","индивидуальный предприниматель Маслов Сергей Афанасьевич"]
[null,null,"Зоркальцевское",null,null,null,null,null,null,null,null,null,"7005006305","700501001","муниципальное учреждение - Администрация Чердатского сельского поселения"]
[null,null,"Зырянское",null,null,null,null,null,null,null,null,null,"7005006312","700501001","муниципальное учреждение - Администрация Высоковского сельского поселения"]
[null,null,"Инкинское",null,null,null,null,null,null,null,null,null,"7005006344","700501001","муниципальное учреждение - Администрация Дубровского сельского поселения"]
[null,null,"Итатское",null,null,null,null,null,null,null,null,null,"7005006560","700501001","Михайловское муниципальное унитарное предприятие \"Родник\""]
[null,null,"Иштанское",null,null,null,null,null,null,null,null,null,"7005007193","700501001","общество с ограниченной ответственностью \"Аква-Сервис\""]
[null,null,"Калтайское",null,null,null,null,null,null,null,null,null,"7005007203","700501001","общество с ограниченной ответственностью \"Эко-Транс\""]
[null,null,"Каргасокское",null,null,null,null,null,null,null,null,null,"7005015638","700501001","общество с ограниченной ответственностью \"КомСервис Тегульдет\""]
[null,null,"Катайгинское",null,null,null,null,null,null,null,null,null,"7005016590","700501001","муниципальное унитарное предприятие \"Прогресс\""]
[null,null,"Кидальское",null,null,null,null,null,null,null,null,null,"700501702507","отсутствует","индивидуальный предприниматель Антипин Андрей Федорович"]
[null,null,"Клюквинское",null,null,null,null,null,null,null,null,null,"7006005110","700601001","муниципальное унитарное предприятие \"Каргасокский жилищно=эксплуатационный участок\" Каргасокского сельского поселения"]
[null,null,"Кожевниковское",null,null,null,null,null,null,null,null,null,"7006005632","700601001","муниципальное унитарное предприятие  Каргасокский \"Тепловодоканал\""]
[null,null,"Коломинское",null,null,null,null,null,null,null,null,null,"7006006153","700601001","муниципальное унитарное предприятие \"ЖКХ Сосновское\" муниципального образования \"Сосновское сельское поселение\""]
[null,null,"Комсомольское",null,null,null,null,null,null,null,null,null,"7006006160","700601001","муниципальное унитарное предприятие \"ЖКХ Молодежный\" муниципального образования \"Среднетымское сельское поселение\""]
[null,null,"Копыловское",null,null,null,null,null,null,null,null,null,"7006006298","700601001","муниципальное унитарное предприятие \"ЖКХ Тымское\" муниципального образования \"Тымское сельское поселение\""]
[null,null,"Корниловское",null,null,null,null,null,null,null,null,null,"7006007407","700601001","муниципальное унитарное предприятие \" Нововасюганское\" муниципального образования \"Нововасюганское сельское поселение\""]
[null,null,"Красногорское",null,null,null,null,null,null,null,null,null,"7006008432","700601001","муниципальное унитарное предприятие \"ЖКХ Васюган\" муниципального образования \"Средневасюганское сельское поселение\""]
[null,null,"Красноярское",null,null,null,null,null,null,null,null,null,"700700053744","отсутствует","индивидуальный предприниматель Волшуков Виктор Николаевич"]
[null,null,"Кривошеинское",null,null,null,null,null,null,null,null,null,"7007007583","700701001","общество с ограниченной ответственностью \"Риск\""]
[null,null,"Курлекское",null,null,null,null,null,null,null,null,null,"7007007657","700701001","общество с ограниченной ответственностью \"Заря - Сервис\""]
[null,null,"Куяновское",null,null,null,null,null,null,null,null,null,"7007009950","700701001","общество с ограниченной ответственностью \"Колпашевская тепловая компания\""]
[null,null,"Лукашкин-Ярское",null,null,null,null,null,null,null,null,null,"7007010120","700701001","общество с ограниченной ответственностью \"Водоканал - 2\""]
[null,null,"Макзырское",null,null,null,null,null,null,null,null,null,"7007010138","700701001","общество с ограниченной ответственностью \"Водоканал - 1\""]
[null,null,"Малиновское",null,null,null,null,null,null,null,null,null,"7007011117","700701001","общество с ограниченной ответственностью \"Энергия\""]
[null,null,"Межениновское",null,null,null,null,null,null,null,null,null,"7007011269","700701001","муниципальное унитарное предприятие \"Пламя\""]
[null,null,"Мирнинское",null,null,null,null,null,null,null,null,null,"7007011639","700701001","общество с ограниченной ответственностью \"Колпашевские очистные системы\""]
[null,null,"Михайловское",null,null,null,null,null,null,null,null,null,"700704480874","отсутствует","индивидуальный предприниматель Воронин Сергей Петрович"]
[null,null,"Могочинское",null,null,null,null,null,null,null,null,null,"7008006430","700801001","Кожевниковское районное муниципальное унитарное предприятие \"Коммунальное ремонтно-строительное хозяйство\""]
[null,null,"Молчановское",null,null,null,null,null,null,null,null,null,"7008006448","700801001","общество с ограниченной ответственностью  \"Кожевниковский КОМХОЗ\""]
[null,null,"Моряковское",null,null,null,null,null,null,null,null,null,"7008007554","700801001","общество с ограниченной ответственностью \"Селькомхоз\""]
[null,null,"Назинское",null,null,null,null,null,null,null,null,null,"7009003954","700901001","муниципальное унитарное предприятие \"Жилищно-коммунальное хозяйство Кривошеинского сельского поселения\""]
[null,null,"Наргинское",null,null,null,null,null,null,null,null,null,"7009004027","700901001","общество с ограниченной ответственностью \"H 2 O\""]
[null,null,"Нарымское",null,null,null,null,null,null,null,null,null,"7009004073","700901001","общество с ограниченной ответственностью \"Энергоресурс\""]
[null,null,"Наумовское",null,null,null,null,null,null,null,null,null,"701000127664","отсутствует","индивидуальный предприниматель Сысоев Владимир Геннадьевич"]
[null,null,"Национальное Иванкинское",null,null,null,null,null,null,null,null,null,"7010002296","701001001","общество с ограниченной ответственностью \"Энергия-М\""]
[null,null,"Новиковское",null,null,null,null,null,null,null,null,null,"7010002673","701001001","общество с ограниченной ответственностью \"Компания экологической безопасности\""]
[null,null,"Нововасюганское",null,null,null,null,null,null,null,null,null,"7010002916","701001001","общество с ограниченной ответственностью \"Водовод\""]
[null,null,"Новогоренское",null,null,null,null,null,null,null,null,null,"7010005579","701001001","исполнительно-распорядительный орган муниципального образованияТунгусовского сельского поселения Администрация Тунгусовского сельского поселения"]
[null,null,"Новокривошеинское",null,null,null,null,null,null,null,null,null,"7011003207","701101001","муниципальное унитарное предприятие \"Нарымское жилищно-коммунальное хозяйство\""]
[null,null,"Новокусковское",null,null,null,null,null,null,null,null,null,"7011005155","701101001","муниципальное казенное учреждение Администрация Новосельцевского сельского поселения - исполнительно распорядительный орган муниципального образования Новосельцевского сельского поселения"]
[null,null,"Новомариинское",null,null,null,null,null,null,null,null,null,"7011005162","701101001","муниципальное казенное учреждение Администрация Заводского сельского поселения - исполнительно распорядительный орган муниципального образования Заводского сельского поселения"]
[null,null,"Новониколаевское",null,null,null,null,null,null,null,null,null,"7011006014","700401001","общество с ограниченной ответственностью \"Универсал-Сервис\""]
[null,null,"Новоникольское",null,null,null,null,null,null,null,null,null,"7011006092","701101001","муниципальное унитарное предприятие \"Парабель - Энергокомплекс\""]
[null,null,"Новопокровское",null,null,null,null,null,null,null,null,null,"7011006215","701101001","общество с ограниченной ответственностью \"Строитель\""]
[null,null,"Новорождественское",null,null,null,null,null,null,null,null,null,"701100720660","отсутствует","индивидуальный предприниматель Стрельников Сергей Владимирович"]
[null,null,"Новоселовское",null,null,null,null,null,null,null,null,null,"701101197192","отсутствует","индивидуальный предприниматель Михайлов Андрей Васильевич"]
[null,null,"Новосельцевское",null,null,null,null,null,null,null,null,null,"7012004926","701201001","муниципальное унитарное предприятие \"Сергеевское\""]
[null,null,"Новоюгинское",null,null,null,null,null,null,null,null,null,"7012004958","701201001","муниципальное унитарное предприятие \"Жилкомхоз\""]
[null,null,"Октябрьское",null,null,null,null,null,null,null,null,null,"7012006779","701201001","общество с ограниченной ответственностью \"Луговское\""]
[null,null,"Орловское",null,null,null,null,null,null,null,null,null,"7012007162","701201001","общество с ограниченной ответственностью \"Жилкомфорт\""]
[null,null,"Палочкинское",null,null,null,null,null,null,null,null,null,"7012007170","701201001","общество с ограниченной ответственностью \"Альянс\""]
[null,null,"Парабельское",null,null,null,null,null,null,null,null,null,"7014000490","701701001","открытое акционерное общество \"Томскснаб\""]
[null,null,"Парбигское",null,null,null,null,null,null,null,null,null,"701401371204","отсутствует","индивидуальный предприниматель Тимофеев Юрий Никитович"]
[null,null,"Первомайское",null,null,null,null,null,null,null,null,null,"701401633450","отсутствует","ииндивидуальный предприниматель Градовец Александр Владимирович"]
[null,null,"Песочно-Дубровское",null,null,null,null,null,null,null,null,null,"7014027742","701401001","общество с ограниченной ответственностью \"Межениновская птицефабрика\""]
[null,null,"Петровское",null,null,null,null,null,null,null,null,null,"7014040790","701401001","общество с ограниченной ответственностью \"Тепло-энергетическое предприятие Лоскутовское\""]
[null,null,"Плотниковское",null,null,null,null,null,null,null,null,null,"7014041063","701401001","общество с ограниченной ответственностью \"ЖКХ Рыбаловское\""]
[null,null,"Побединское",null,null,null,null,null,null,null,null,null,"7014041634","701401001","общество с ограниченной ответственностью  \"Санаторий Синий Утес\""]
[null,null,"Подгорнское",null,null,null,null,null,null,null,null,null,"7014043021","701401001","общество с ограниченной ответственностью \"РЕКА+\""]
[null,null,"Поротниковское",null,null,null,null,null,null,null,null,null,"7014044794","701701001","общество с ограниченной ответственностью \"КП \"Ключи\""]
[null,null,"Пудовское",null,null,null,null,null,null,null,null,null,"7014045068","701401001","муниципальное унитарное предприятие Богашевского сельского поселения \"Орион\""]
[null,null,"Рыбаловское",null,null,null,null,null,null,null,null,null,"7014048076","701401001","общество с ограниченной ответственностью \"Восточная Инвестиционная Газовая Компания\""]
[null,null,"Сайгинское",null,null,null,null,null,null,null,null,null,"7014049866","701401001","муниципальное казенное предприятие Томского района \"Технополигон\""]
[null,null,"Саровское",null,null,null,null,null,null,null,null,null,"7014049915","701401001","общество с ограниченной ответственностью \"ЭКМО\""]
[null,null,"Северное",null,null,null,null,null,null,null,null,null,"7014053541","701401001","общество с ограниченной ответственностью \"Ресурс-Т\""]
[null,null,"Сергеевское",null,null,null,null,null,null,null,null,null,"7014054440","701401001","общество с ограниченной ответственностью \"Водоресурс\""]
[null,null,"Сосновское",null,null,null,null,null,null,null,null,null,"7014054979","701401001","муниципальное предприятие Зональненского сельского поселения \"Служба коммунального сервиса\""]
[null,null,"Спасское",null,null,null,null,null,null,null,null,null,"7014055027","701401001","муниципальное унитарное предприятие Мирненского сельского поселения \"ТВК\""]
[null,null,"Средневасюганское",null,null,null,null,null,null,null,null,null,"7014055404","701401001","муниципальное унитарное предприятие жилищно-коммунального хозяйства \"Исток\" Новорождественского сельского поселения"]
[null,null,"Среднетымское",null,null,null,null,null,null,null,null,null,"7014055644","701401001","общество с ограниченной ответственностью \"Управляющая компания \"Томскосельское\""]
[null,null,"Старицынское",null,null,null,null,null,null,null,null,null,"7014055796","701401001","общество с ограниченной ответственностью \"Восточная Водяная Компания\""]
[null,null,"Староювалинское",null,null,null,null,null,null,null,null,null,"7014055806","701401001","общество с ограниченной ответственностью \"Восточная Тепловая Компания\""]
[null,null,"Степановское",null,null,null,null,null,null,null,null,null,"7014055813","701401001","общество с ограниченной ответственностью \"Восточная Компания\""]
[null,null,"Суйгинское",null,null,null,null,null,null,null,null,null,"7014055845","701401001","общество с ограниченной ответственность \"Западная Тепловая Компания\""]
[null,null,"Тевризское",null,null,null,null,null,null,null,null,null,"7014055884","701401001","общество с ограниченной ответственностью \"Южная Тепловая Компания\""]
[null,null,"Тегульдетское",null,null,null,null,null,null,null,null,null,"7014056084","701401001","общество с ограниченной ответственностью \"Теплогазсервис\""]
[null,null,"Тогуровское",null,null,null,null,null,null,null,null,null,"7014056711","701401001","общество с ограниченной ответственностью \"Гарант\""]
[null,null,"Толпаровское",null,null,null,null,null,null,null,null,null,"7014057257","701401001","муниципальное унитарное предприятие Межениновского сельского поселения \"Жилищно-коммунальное хозяйство ВодСервис\""]
[null,null,"Трубоческое",null,null,null,null,null,null,null,null,null,"7014057320","701401001","муниципальное унитарное предприятие \"Жилищное коммунальное хозяйство Октябрьское\""]
[null,null,"Тунгуссовское",null,null,null,null,null,null,null,null,null,"7014057377","701401001","общество с ограниченной ответственностью \"Комсервис+М\""]
[null,null,"Турунтаевское",null,null,null,null,null,null,null,null,null,"7014057715","701401001","муниципальное унитарное предприятие Заречного сельского поселения \"Заречное\""]
[null,null,"Тымское",null,null,null,null,null,null,null,null,null,"7014057754","701701001","общество с ограниченной ответственностью \"Водоканал\""]
[null,null,"Улу-Юльское",null,null,null,null,null,null,null,null,null,"7014057779","701401001","муниципальное унитарное предприятие «ТУРУНТАЕВО-ПАРТНЕР»"]
[null,null,"Уртамское",null,null,null,null,null,null,null,null,null,"7014057916","701401001","муниципальное унитарное предприятие \"Норма\""]
[null,null,"Усть-Бакчарское",null,null,null,null,null,null,null,null,null,"7014059825","701401001","Муниципальное унитарное предприятие Мирненского сельского поселения \"ВК\""]
[null,null,"Усть-Тымское",null,null,null,null,null,null,null,null,null,"7014059920","701401001","муниципальное унитарное предприятие Спасского сельского поселения \"Техник\""]
[null,null,"Усть-Чижапское",null,null,null,null,null,null,null,null,null,"7014061454","701401001","общество с ограниченной ответственностью \"Ресурс\""]
[null,null,"Чажемтовское",null,null,null,null,null,null,null,null,null,"7015000373","701501001","муниципальное унитарное предприятие Чаинского района \"Чаинское производственное объединение жилищно-коммунального хозяйства\""]
[null,null,"Чаинское",null,null,null,null,null,null,null,null,null,"7015000535","701501001","областное государственное бюджетное учреждение здравоохранения \"Чаинская районная больница\""]
[null,null,"Черноярское",null,null,null,null,null,null,null,null,null,"7016000016","701601001","общество с ограниченной ответственностью \"Водоканал\""]
[null,null,"Чернышевское",null,null,null,null,null,null,null,null,null,"7016000030","701601001","общество с ограниченной ответственностью \"Автотранс\""]
[null,null,"Четское",null,null,null,null,null,null,null,null,null,"7016000584","701601001","муниципальное унитарное предприятие \"Комфорт\""]
[null,null,"Чилинское",null,null,null,null,null,null,null,null,null,"7016001098","701601001","областное государственное социальное учреждение \"Дом-интернат для престарелых и инвалидов \"Лесная дача\""]
[null,null,"Шегарское",null,null,null,null,null,null,null,null,null,"7016001620","701601001","областное государственное автономное учреждение \"Шегарский психоневрологический интернат \"ЗАБОТА\""]
[null,null,"Ягоднинское",null,null,null,null,null,null,null,null,null,"7016005617","701601001","общество с ограниченной ответственностью \"Шегарский водоканал\""]
[null,null,"Ягодное",null,null,null,null,null,null,null,null,null,"7016007156","701601001","общество с ограниченной отвественностью Управляющая компания \"Успех\""]
[null,null,null,null,null,null,null,null,null,null,null,null,"7017001968","701701001","онитарное муниципальное предприятие \"Спецавтохозяйство г. Томска\""]
[null,null,null,null,null,null,null,null,null,null,null,null,"7017002136","701701001","онитарное муниципальное предприятие г. Томска \"Комбинат Спецобслуживания\" по организации похорон и предоставлению связанных с ними услуг"]
[null,null,null,null,null,null,null,null,null,null,null,null,"7017004366","701701001","акционерное общество \"Транснефть-Центральная Сибирь\""]
[null,null,null,null,null,null,null,null,null,null,null,null,"7017005289","701702010","общество с ограниченной ответственностью \"Газпром трансгаз Томск\""]
[null,null,null,null,null,null,null,null,null,null,null,null,"7017005289","702243001","общество с ограниченной ответственностью \"Газпром трансгаз Томск\""]
[null,null,null,null,null,null,null,null,null,null,null,null,"7017012254","701401001","закрытое акционерное общество \"Сибирская Аграрная Группа\""]
[null,null,null,null,null,null,null,null,null,null,null,null,"7017063682","701401001","закрытое акционерное общество \"Восточная Инвестиционная Газовая Компания\""]
[null,null,null,null,null,null,null,null,null,null,null,null,"7017071531","701401001","общество с ограниченной ответственностью \"Квинта\""]
[null,null,null,null,null,null,null,null,null,null,null,null,"7017075536","701701001","общество с ограниченной ответственностью \"Томскнефтехим\""]
[null,null,null,null,null,null,null,null,null,null,null,null,"7017095349","701701001","открытое акционерное общество \"Организация \"Технотрон\""]
[null,null,null,null,null,null,null,null,null,null,null,null,"7017098220","701701001","общество с ограниченной ответственностью \"Завод приборных подшипников\""]
[null,null,null,null,null,null,null,null,null,null,null,null,"7017110131","701701001","закрытое акционерное общество Кондитерская фабрика \"Красная звезда\""]
[null,null,null,null,null,null,null,null,null,null,null,null,"7017123606","701701001","общество с ограниченной ответственностью \"Управляющая компания \"Томского приборного завода\""]
[null,null,null,null,null,null,null,null,null,null,null,null,"7017129118","701701001","общество с ограниченной ответственностью \"СетьСервис\""]
[null,null,null,null,null,null,null,null,null,null,null,null,"7017134397","701701001","общество с ограниченной ответственностью \"ГазТехСервис\""]
[null,null,null,null,null,null,null,null,null,null,null,null,"7017213271","701701001","общество с ограниченной ответственностью \"Томлесдрев\""]
[null,null,null,null,null,null,null,null,null,null,null,null,"7017245330","701701001","общество с ограниченной ответственностью \"Сетевая компания ТДСК\""]
[null,null,null,null,null,null,null,null,null,null,null,null,"7017249750","701701001","общество с ограниченной ответственностью «Термо»"]
[null,null,null,null,null,null,null,null,null,null,null,null,"7017253147","700743001","государственное унитарное предприятие Томской области  \"Областное дорожное ремонтно - строительное управление\""]
[null,null,null,null,null,null,null,null,null,null,null,null,"7017253147","701443001","государственное унитарное предприятие Томской области \"Областное дорожное ремонтно - строительное управление\""]
[null,null,null,null,null,null,null,null,null,null,null,null,"7017270664","701701001","общество с ограниченной ответственностью \"Томскводоканал\""]
[null,null,null,null,null,null,null,null,null,null,null,null,"7017291311","701701001","общество с ограниченной ответственностью \"Колос-С\""]
[null,null,null,null,null,null,null,null,null,null,null,null,"7017318531","701701001","общество с ограниченной ответственностью \"ЭнергоТЭК\""]
[null,null,null,null,null,null,null,null,null,null,null,null,"7017323595","701701001","общество с ограниченной ответственностью \"Тепловая компания \"Стандарт\""]
[null,null,null,null,null,null,null,null,null,null,null,null,"7017326170","701401001","общество с ограниченной ответственностью \"Аргентум\""]
[null,null,null,null,null,null,null,null,null,null,null,null,"7017351521","701701001","акционерное общество \"ТомскРТС\""]
[null,null,null,null,null,null,null,null,null,null,null,null,"7017373035","701701001","общество с ограниченной ответственностью \"Энергогарант\""]
[null,null,null,null,null,null,null,null,null,null,null,null,"7017373959","701701001","акционерное общество \"Томская генерация\""]
[null,null,null,null,null,null,null,null,null,null,null,null,"7017374014","701701001","общество с ограниченной ответсвенностью \"Городские очистные сооружения\""]
[null,null,null,null,null,null,null,null,null,null,null,null,"7020008610","702001001","открытое акционерное общество Финансово-строительная компания \"Газ Химстрой Инвест\""]
[null,null,null,null,null,null,null,null,null,null,null,null,"7020035798","701701001","федеральное казенное учреждение \"Исправительная колония № 3 Управления Федеральной службы исполнения наказаний по Томской области\""]
[null,null,null,null,null,null,null,null,null,null,null,null,"7021001569","701701001","федеральное государственное унитарное предприятие \"Комбинат коммунальных предприятий Томского научного центра  Сибирского отделения Российской академии наук\""]
[null,null,null,null,null,null,null,null,null,null,null,null,"7022000310","997150001","открытое акционерное общество \"Томскнефть\" Восточной Нефтяной Компании"]
[null,null,null,null,null,null,null,null,null,null,null,null,"7022010478","702201001","муниципальное унитарное предприятие \"Жилкомсервис\" Александровского сельского поселения"]
[null,null,null,null,null,null,null,null,null,null,null,null,"7022010799","702201001","общество с ограниченной ответственностью \"Энергонефть Томск\""]
[null,null,null,null,null,null,null,null,null,null,null,null,"7022011087","702201001","общество с ограниченной ответственностью \"Стрежевой теплоэнергоснабжение\""]
[null,null,null,null,null,null,null,null,null,null,null,null,"7022014835","702201001","муниципальное унитарное предприятие \"Комсервис\" Лукашкин-Ярского сельского поселения Александровского района Томской области"]
[null,null,null,null,null,null,null,null,null,null,null,null,"7022014842","702201001","муниципальное унитарное предприятие \"Жилищно-коммунальное хозяйство\" села  Назино"]
[null,null,null,null,null,null,null,null,null,null,null,null,"7022014874","702201001","муниципальное унитарное предприятие \"Комсервис\" Александровского района Томской области"]
[null,null,null,null,null,null,null,null,null,null,null,null,"7022017561","702201001","общество с ограниченной ответственностью \"Транспортные коммунальные системы\""]
[null,null,null,null,null,null,null,null,null,null,null,null,"7022018300","702201001","общество с ограниченной ответственностью \"Жилстрой\""]
[null,null,null,null,null,null,null,null,null,null,null,null,"7022019336","702201001","общество с ограниченной ответственностью \"ТРАНССИБ\""]
[null,null,null,null,null,null,null,null,null,null,null,null,"702280350128","отсутствует","индивидуальный предприниматель Голованов Андрей Николаевич"]
[null,null,null,null,null,null,null,null,null,null,null,null,"7023005209","702301001","общество с ограниченной ответственностью \"Северная Тепловая Компания\""]
[null,null,null,null,null,null,null,null,null,null,null,null,"7024021972","701401001","общество с ограниченной ответственностью \"Экополис\""]
[null,null,null,null,null,null,null,null,null,null,null,null,"7024024853","702401001","открытое акционерное общество \"Северский водоканал\""]
[null,null,null,null,null,null,null,null,null,null,null,null,"7024024860","702401001","открытое акционерное общество \"Тепловые сети\""]
[null,null,null,null,null,null,null,null,null,null,null,null,"7024028054","702401001","общество с ограниченной ответственностью \"Полигон твердых бытовых отходов комбината благоустройства\""]
[null,null,null,null,null,null,null,null,null,null,null,null,"7024029499","702401001","акционерное общество \"Сибирский химический комбинат\""]
[null,null,null,null,null,null,null,null,null,null,null,null,"7024032100","702401001","общество с ограниченной ответственностью \"ВКХ\""]
[null,null,null,null,null,null,null,null,null,null,null,null,"7024033488","702401001","общество с ограниченной ответственностью \"Управление энергоснабжения\""]
[null,null,null,null,null,null,null,null,null,null,null,null,"7024037595","702401001","общество с ограниченной ответственностью \"Северские энергетические сети\""]
[null,null,null,null,null,null,null,null,null,null,null,null,"7024038704","702401001","общество с ограниченной ответственностью \"Тепло плюс\""]
[null,null,null,null,null,null,null,null,null,null,null,null,"7024038863","702401001","общество с ограниченной ответственностью \"ВКХ \"Самусь\""]
[null,null,null,null,null,null,null,null,null,null,null,null,"7224031400","701401001","закрытое акционерное общество \"Сибирская Аграрная Группа Мясопереработка\""]
[null,null,null,null,null,null,null,null,null,null,null,null,"7224067981","722401001","общество с ограниченной ответственностью \"Промпереработка\""]
[null,null,null,null,null,null,null,null,null,null,null,null,"7708503727","540775040","Кузбасский территорильный  участокЗападно-Сибирской дирекции по тепловодоснабжению - структурного подразделения Центральной дирекции по тепловодоснабжению-филиал ОАО \"РЖД\""]
[null,null,null,null,null,null,null,null,null,null,null,null,"7722292838","701702001","федеральное государственное унитарное предприятие \"Научно-производственное объединение по медицинским иммунобиологическим препаратам \"Микроген\" Министерства здравоохранения Российской Федерации"]

{"sheet":"Инструкция","index":2,"n_rows":151,"n_cols":1,"rows_kept":151,"cut":false,"hidden":false,"merged":[]}
[]
[]
[]
[]
[]
[]
[]
[]
[]
[]
[]
[]
[]
[]
[]
[]
[]
[]
[]
[]
[]
[]
[]
[]
[]
[]
[]
[]
[]
[]
[]
[]
[]
[]
[]
[]
[]
[]
[]
[]
[]
[]
[]
[]
[]
[]
[]
[]
[]
[]
[]
[]
[]
[]
[]
[]
[]
[]
[]
[]
[]
[]
[]
[]
[]
[]
[]
[]
[]
[]
[]
[]
[]
[]
[]
[]
[]
[]
[]
[]
[]
[]
[]
[]
[]
[]
[]
[]
[]
[]
[]
[]
[]
[]
[]
[]
[]
[]
[]
[]
[]
[]
[]
[]
[]
[]
[]
[]
[]
[]
[]
[]
[]
[]
[]
[]
[]
[]
[]
[]
[]
[]
[]
[]
[]
[]
[]
[]
[]
[]
[]
[]
[]
[]
[]
[]
[]
[]
[]
[]
[]
[]
[]
[]
[]
[]
[]
[]
[]
["18dtrTO"]
["18dtrTO18"]

{"sheet":"Титульный","index":3,"n_rows":25,"n_cols":3,"rows_kept":25,"cut":false,"hidden":false,"merged":[]}
[]
[null,null,"ОТЧЕТ О ВЫПОЛНЕНИИ ПРОИЗВОДСТВЕННОЙ ПРОГРАММЫ"]
[]
[null,"Регион РФ","Томская область"]
[]
[null,"Муниципальный район "]
[null,"Муниципальное образование "]
[]
[null,"ИНН "]
[null,"Наименование  организации",{"$f":"IF(Титульный!C9=\"\",\" \",INDEX(списки!M2:O185,MATCH(Титульный!C9,списки!M2:M185,0),3))","v":" "}]
[null,"Наименование филиала"]
[]
[null,"КПП ",{"$f":"IF(Титульный!C9=\"\",\" \",INDEX(списки!M2:O185,MATCH(Титульный!C9,списки!M2:M185,0),2))","v":" "}]
[]
[null,"Вид деятельности","Водоснабжение"]
[]
[null,"период отчета","2017"]
[]
[null,"Вид  тарифа  в системе холодного водоснабжения"]
[]
[]
[]
[null,"Система налогообложения","Общая"]
[]
[null,"метод регулирования на 2017 год","метод экономически обоснованных расходов"]

{"sheet":"исходные данные","index":4,"n_rows":138,"n_cols":8,"rows_kept":138,"cut":false,"hidden":true,"merged":[[0,1,0,7],[127,0,128,0],[127,1,128,1],[127,2,128,2],[71,4,71,5],[70,3,70,5],[68,3,68,5],[69,3,69,5],[68,0,72,0],[68,1,72,1],[68,2,72,2],[4,3,5,3],[6,3,7,3],[71,3,72,3],[3,3,3,5],[1,0,1,7],[4,0,7,0],[4,1,7,1],[4,2,7,2],[4,7,5,7],[6,7,7,7],[4,4,5,4],[4,5,5,5],[6,4,7,4],[6,5,7,5],[4,6,5,6],[6,6,7,6]]}
[null,"заполняются экспертом для переноса на соответствующие листы"]
["Баланс водоснабжения"]
[]
[]
["№ п/п","Наименование показателей","Единицы измерения","2013 год","2014 год","2015 год","2016 год","2017 год"]
[]
[null,null,null,"факт","факт","факт","факт","ДТР ТО"]
[]
[1,2,3,"тыс.куб.м.!","тыс.куб.м.!","тыс.куб.м.!","куб.м.!","тыс.куб.м.!"]
["1.","Поднято воды насосными станциями 1 подъема, в том числе:","тыс.куб.м"]
[null,"в том числе на нужды ГВС","тыс.куб.м"]
["1.1.","Из поверхностных водоисточников","тыс.куб.м"]
["1.2.","Из подземных водоисточников","тыс.куб.м"]
[null,"Доочищенная сточная вода для нужд технического водоснабжения","тыс.куб.м"]
["2.","Пропущено воды через водопроводные очистные сооружения","тыс.куб.м"]
["3.","Расход воды на хозяйственные и технологические нужды, в т.ч.","тыс.куб.м"]
["3.1.","                        на очистные сооружения","тыс.куб.м"]
["3.2.","                       на промывку ","тыс.куб.м"]
["3.3.","                       на хозяйственно-бытовые нужды","тыс.куб.м"]
["3.4.","                       прочие","тыс.куб.м"]
["3.5."," вода на хозяйственные и технологические нужды в % к поднятой воде","%"]
["4.","Получено воды  со стороны","тыс.куб.м"]
[null,"в том числе на нужды ГВС","тыс.куб.м"]
["5.","Подано воды в водопроводную сеть","тыс.куб.м"]
[null,"     своими насосами","тыс.куб.м"]
["6.","Потери воды в водопроводных сетях    ","тыс.куб.м"]
[null,"в том числе потери горячей воды","тыс.куб.м"]
[null," то же в % к отпуску в сеть","%"]
["6.1.","                в том числе расход воды на промывку систем водоснабжения (водопроводных сетей)","тыс.куб.м"]
["7.","Отпущено (реализовано) воды  всего, в том числе:","тыс.куб.м"]
["7.1.","           Расход воды на собственные нужды предприятия","тыс.куб.м"]
["7.2.","          Отпущено воды другим водопроводам","тыс.куб.м"]
["7.3.","          Отпущено товарной воды сторонним  потребителям, в том числе:","тыс.куб.м"]
["7.3.1.","                     бюджетные организации","тыс.куб.м"]
[null," - по приборам учета","тыс.куб.м"]
[null," - по нормативам","тыс.куб.м"]
["7.3.2.","                     население","тыс.куб.м"]
[null," - по приборам учета","тыс.куб.м"]
[null," - по нормативам","тыс.куб.м"]
["7.3.3.","                     прочие","тыс.куб.м"]
[null," - по приборам учета","тыс.куб.м"]
[null," - по нормативам","тыс.куб.м"]
[null,"В ТОМ ЧИСЛЕ"]
["8.","Отпущено (реализовано) горячей воды  всего, в том числе:","тыс.куб.м"]
["8.1.","           Расход воды на собственные нужды предприятия","тыс.куб.м"]
["8.2.","          Отпущено воды другим водопроводам","тыс.куб.м"]
["8.3.","          Отпущено товарной воды сторонним  потребителям, в том числе:","тыс.куб.м"]
["8.3.1.","                     бюджетные организации","тыс.куб.м"]
[null," - по приборам учета","тыс.куб.м"]
[null," - по нормативам","тыс.куб.м"]
["8.3.2.","                     население","тыс.куб.м"]
[null," - по приборам учета","тыс.куб.м"]
[null," - по нормативам","тыс.куб.м"]
["8.3.3.","                     прочие","тыс.куб.м"]
[null," - по приборам учета"]
[null," - по нормативам"]
["8.","Объем потребленной электроэнергии ","кВт.ч."]
["9.","Удельный расход электроэнергии на реализованную воду","кВт*ч/куб.м"]
["10.","Объем реализации воды питьевого качества по приборам учета","тыс.куб.м"]
["11.","Объем реализации воды питьевого качества по нормативу","тыс.куб.м"]
["12.","Удельное потребление воды населением","куб.м/час"]
["13.","Объем отпущенной воды на 1 человека","куб.м/чел в мес."]
["14.","Присоединенная мощность потребителей товаров (услуг) по холодному водоснабжению","куб.м/час"]
[null,"Справочно:"]
["15.","Численность населения, получающего услуги организации","чел"]
[]
[]
[]
["№ п/п","Наименование статей","Единица измерения","Утверждено на регулируемый период"]
[null,null,null,"2017 год"]
[null,null,null,"ДТР ТО"]
[null,null,null,"всего","в том числе по периодам"]
[null,null,null,null,"01.01.-30.06","01.07-31.12"]
[1,{"$f":"A74+1","v":2},3,4,5,6]
[null,"Затраты на покупную электрическую энергию и мощность","руб."]
[]
[1,"Затраты на покупную электрическую энергию по одноставочному тарифу","руб"]
[null,"  средневзвешенный  тариф на электрическую энергию ","руб/кВт.ч"]
[null,"  объем электроэнергии ","кВт.ч"]
[null,"в том числе"]
["1.1.","низкое (0,4 и ниже) ","руб."]
[null,"    тариф на электрическую энергию ","руб/кВт.ч"]
[null,"  объем электроэнергии ","кВт.ч"]
["1.2.","среднее  напряжение СН2 ","руб."]
[null,"    тариф на электрическую энергию ","руб/кВт.ч"]
[null,"  объем электроэнергии ","кВт.ч"]
["1.3.","среднее  напряжение СН1 (35 кВ)","руб."]
[null,"    тариф на электрическую энергию ","руб/кВт.ч"]
[null,"  объем электроэнергии ","кВт.ч"]
["1.4.","высокое  напряжение  (110 кВ и выше)","руб."]
[null,"    тариф на электрическую энергию ","руб/кВт.ч"]
[null,"  объем электроэнергии ","кВт.ч"]
[]
["2.","Затраты на покупную электрическую энергию по двухставочному тарифу","руб"]
["2.1.","Затраты на покупку мощности"]
["2.1.1.","низкое (0,4 и ниже) ","руб."]
[null,"    ставка за мощность ","руб/кВт в мес"]
[null,"  объем мощности ",0]
["2.1.2.","среднее  напряжение СН2 ","руб."]
[null,"    ставка за мощность ","руб/кВт в мес"]
[null,"  объем мощности ","кВт в мес"]
["2.1.3.","среднее  напряжение СН1 (35 кВ)","руб."]
[null,"    ставка за мощность ","руб/кВт в мес"]
[null,"  объем мощности ","кВт в мес"]
["2.1.4.","высокое  напряжение  (110 кВ и выше)","руб."]
[null,"    ставка за мощность ","руб/кВт в мес"]
[null,"  объем мощности ","кВт в мес"]
[]
["2.2.","Затраты на покупку активной электроэнергии"]
["2.2.1.","низкое (0,4 и ниже) ","руб."]
[null,"    тариф на электрическую энергию ","руб/кВт.ч"]
[null,"  объем электроэнергии ","кВт.ч"]
["2.2.2.","среднее  напряжение СН2 ","руб."]
[null,"    тариф на электрическую энергию ","руб/кВт.ч"]
[null,"  объем электроэнергии ","кВт.ч"]
["2.2.3.","среднее  напряжение СН1 (35 кВ)","руб."]
[null,"    тариф на электрическую энергию ","руб/кВт.ч"]
[null,"  объем электроэнергии ","кВт.ч"]
["2.2.4.","высокое  напряжение  (110 кВ и выше)","руб."]
[null,"    тариф на электрическую энергию ","руб/кВт.ч"]
[null,"  объем электроэнергии ","кВт.ч"]
[]
[]
[]
[]
["V. Плановые значения показателей надежности, качества и энергетической эффективности объектов централизованных систем водоснабжения"]
[]
["№ п/п","Наименование показателя","ед. изм.",2017]
[null,null,null,"утверждено"]
["Показатели качества воды"]
[1,"Доля проб питьевой воды, подаваемой с водопроводных станций в распределительную водопроводную сеть, не соответствующих установленным требованиям, в общем объеме проб, отобранных по результатам производственного контроля качества питьевой воды","%"]
[2,"Доля проб питьевой воды в распределительной водопроводной сети, не соответствующих установленным требованиям, в общем объеме проб, отобранных по результатам производственного контроля качества питьевой воды","%"]
["Показатели надежности и бесперебойности водоснабжения"]
[1,"Количество зафиксированных перерывов в подаче холодной воды, возникших в результате аварий, повреждений и иных технологических нарушений","ед в год/ км"]
["Показатели энергетической эффективности использования ресурсов"]
[1,"Доля потерь воды в централизованных системах водоснабжения при транспортировке в общем объеме воды, поданной в водопроводную сеть","%"]
[2,"Удельный расход электроэнергии, потребляемой в технологическом процессе для подготовки воды на единицу объема воды, отпускаемой в сеть","кВт.ч  куб.м"]
[3,"Удельный расход электроэнергии, потребляемой в технологическом процессе транспортировки воды на единицу объема транспортируемой воды, отпускаемой в сеть","кВт.ч  куб.м"]

{"sheet":"данные об организации","index":5,"n_rows":55,"n_cols":10,"rows_kept":55,"cut":false,"hidden":false,"merged":[[26,1,26,2],[34,1,34,8],[36,1,36,3],[38,1,41,3],[38,4,41,4],[38,8,39,8],[40,8,41,8],[38,7,39,7],[40,7,41,7],[6,2,6,9],[19,5,19,9],[19,0,19,3],[18,5,18,9],[18,0,18,3],[17,5,17,9],[15,0,15,3],[16,0,16,3],[17,0,17,3],[13,0,13,3],[14,0,14,3],[12,5,12,9],[13,5,13,9],[14,5,14,9],[15,5,15,9],[16,5,16,9],[0,0,0,9],[9,0,9,9],[11,4,11,9],[11,0,11,3],[12,0,12,3],[2,0,2,1],[3,0,3,1],[4,0,4,1],[5,0,5,1],[7,2,7,9],[6,0,6,1],[7,0,7,1],[2,2,2,9],[3,2,3,9],[4,2,4,9],[5,2,5,9],[24,0,24,3],[20,5,20,9],[21,5,21,9],[21,0,21,3],[20,0,20,3],[24,5,24,9],[28,10,29,10],[30,10,31,10],[28,8,29,8],[30,8,31,8],[28,0,31,0],[28,1,31,2],[28,3,31,3],[28,5,31,5],[28,6,31,6],[40,9,41,9],[38,9,39,9],[38,5,41,5],[28,9,29,9],[30,9,31,9],[44,0,44,10],[47,8,47,9],[49,1,49,3],[49,8,54,9],[50,1,50,3],[51,1,51,3],[52,1,52,3],[53,1,53,3],[54,1,54,3],[47,0,48,0],[47,1,48,3],[47,4,48,4]]}
["Краткие сведения об организации"]
[]
["Наименование организации:",null,{"$f":"Титульный!C10","v":" "}]
["Юридический адрес:"]
["Тел/факс:"]
["E-mail:"]
["Должность руководителя"]
["Ф.И.О. (полностью)"]
[]
["Перечень населенных пунктов, в которых организация осуществляет деятельность по водоснабжению"]
[]
["Наименование МО",null,null,null,"Наименование населенного пункта"]
[null,null,null,null,1]
[null,null,null,null,2]
[null,null,null,null,3]
[null,null,null,null,4]
[null,null,null,null,5]
[null,null,null,null,6]
[null,null,null,null,7]
[null,null,null,null,8]
[null,null,null,null,9]
[null,null,null,null,10]
[]
[]
["Налогообложение",null,null,null,null,"Сведения об установленных тарифах на 2017 год"]
[]
["система налогообложения","объект налогообложения",null,"налоговая ставка",null,"№ приказа ДТР ТО","дата приказа","срок действия тарифа","величина тарифа, руб/куб.м.","НДС"]
[]
[{"$f":"Титульный!C23","v":"Общая"},null,null,{"$f":"IF(B29=\"доходы\",6,IF(B29=\"доходы минус расходы\",10,20))","v":20},null,null,null,"2017-01-01",null,{"$f":"IF(A29=\"Общая\",\"без учета НДС\",\"НДС не предусмотрен\")","v":"без учета НДС"}]
[null,null,null,null,null,null,null,"2017-06-30"]
[null,null,null,null,null,null,null,"2017-07-01",null,{"$f":"IF(A29=\"Общая\",\"без учета НДС\",\"НДС не предусмотрен\")","v":"без учета НДС"}]
[null,null,null,null,null,null,null,"2017-12-31"]
[]
[]
[null,"Сведения о компенсации до установленного тарифа на 2017 год"]
[]
[null,"Наименование документа",null,null,"№ документа","дата ","срок действия компенсации","разница в тарифах, руб/куб.м.","НДС"]
[]
[null,null,null,null,null,null,"2017-01-01",null,{"$f":"J29","v":"без учета НДС"}]
[null,null,null,null,null,null,"2017-06-30"]
[null,null,null,null,null,null,"2017-07-01",null,{"$f":"J31","v":"без учета НДС"}]
[null,null,null,null,null,null,"2017-12-31"]
[]
[]
["Долгосрочные параметры регулирования"]
[]
["заполняется в случае если отчетный год является годом долгосрочного периода"]
["№ п/п","Наименование показателя",null,null,"ед. изм.","1-й год долгосрочного периода","2-й год долгосрочного периода","3-й год долгосрочного периода","Примечание"]
[null,null,null,null,null,2017,{"$f":"F49+1","v":2018},{"$f":"G49+1","v":2019}]
[1,"Базовый уровень операционных расходов",null,null,"тыс.руб",null,{"$f":"F50","v":0},{"$f":"G50","v":0},"утверждены в Приложении 2 к приказу \"Об утверждении производственной программы, установлении долгосрочных параметров регулирования и тарифов\"  (указать реквизиты приказа)"]
[2,"Индекс эффективности операционных расходов",null,null,"%",1,1,1]
[3,"Нормативный уровень прибыли",null,null,"%"]
[4,"Доля потерь воды в централизованных системах водоснабжения при транспортировке в общем объеме воды, поданной в водопроводную сеть",null,null,"%"]
[5,"Удельный расход электроэнергии, потребляемой в технологическом процессе для подготовки воды на единицу объема воды, отпускаемой в сеть",null,null,"кВт.ч / куб.м"]
[6,"Удельный расход электроэнергии, потребляемой в технологическом процессе транспортировки воды на единицу объема транспортируемой воды, отпускаемой в сеть",null,null,"кВт.ч / куб.м"]

{"sheet":"Техн характер системы","index":6,"n_rows":135,"n_cols":14,"rows_kept":135,"cut":false,"hidden":false,"merged":[[103,1,104,1],[103,2,104,2],[100,10,101,10],[99,10,99,11],[99,12,99,13],[100,12,101,12],[101,5,102,5],[101,6,102,6],[10,11,12,11],[10,3,12,3],[10,4,12,4],[8,0,8,10],[0,0,0,10],[2,0,2,10],[10,0,12,0],[10,1,12,1],[10,5,12,5],[10,6,12,6],[10,7,12,7],[10,8,10,10],[11,8,11,9],[10,2,12,2],[11,10,12,10],[98,0,98,6],[99,9,101,9],[101,0,102,0],[101,1,102,1],[101,2,102,2],[101,3,102,3],[101,4,102,4],[98,9,98,13]]}
[{"$f":"Титульный!C10","v":" "}]
[]
["Имущество, переданное по договору аренды (концессионному соглашению) и (или) принадлежащее на праве собственности"]
[]
["Район",{"$f":"Титульный!C6","v":0}]
[]
["МО",{"$f":"Титульный!C7","v":0}]
[]
[{"$f":"Титульный!C19","v":0}]
[]
["Наименование и адрес объектов","Количество оборудования, находящегося  одновременно в работе","Наличие прибора учета воды","Наличие прибора учета электроэнергии","Марка оборудования (насоса)","Производительность оборудования (насоса), куб.м./час","Продолжительность работы в году, час","Мощность оборудования (насоса), кВт","Отопление (обогрев) объектов",null,null,"Высота  подъема"]
[null,null,null,null,null,null,null,null,"ТЭН",null,"Наименование организации-поставщика тепловой энергии "]
[null,null,null,null,null,null,null,null,"количество, шт","Суммарная мощность, кВт"]
["Артезианские скважины"]
[]
[]
[]
[]
[]
[]
[]
[]
[]
[]
[]
[]
[]
[]
[]
[]
[]
[]
["Насосные станции 2-ого подъема"]
[]
[]
[]
[]
[]
[]
["Насосные станции 3-ого подъема"]
[]
[]
[]
[]
[]
[]
["Водонапорные башни"]
[]
[]
[]
[]
[]
[]
[]
[]
[]
[]
[]
[]
[]
[]
[]
[]
[]
[]
[]
[]
[]
[]
[]
[]
[]
[]
[]
[]
[]
[]
[]
[]
[]
["Водоразборные колонки (шт.)"]
[]
[]
["Водоочистные сооружения"]
[]
[]
[]
[]
[]
[]
[]
[]
[]
[]
[]
[]
[]
[]
["Расчет организации по изменению протяженности водопроводных сетей за 2017 год",null,null,null,null,null,null,null,"СЕТИ","2017 год"]
[null,null,null,null,null,null,null,null,null,"план (утверждено)","факт по данным организации",null,"факт по данным эксперта"]
[null,null,null,null,null,null,null,null,null,null,"на 31.12.2017 года","в том числе","на 31.12.2017 года","в том числе"]
["№ п/п","Показатель","Ед. изм","на 01.01.2017","на 31.12.2017","среднее значение за год","изменение за год, %",null,null,null,null,"передано в отчетном 2017 году",null,"передано в отчетном 2017 году"]
[null,null,null,null,null,null,null,null,"Протяженность водопроводных сетей всего, м",{"$f":"SUM(J104:J118)","v":0},{"$f":"SUM(K104:K118)","v":0},{"$f":"SUM(L104:L118)","v":0},{"$f":"SUM(M104:M118)","v":0},{"$f":"SUM(N104:N118)","v":0}]
["по данным организации","Протяженность сетей ","м",{"$f":"J103","v":0},{"$f":"K103","v":0},{"$f":"(D104+E104)/2","v":0},{"$f":"IF(D104=0,,(F104-D104)/D104*100)","v":0},null,"в том числе диаметром"]
["по данным эксперта",null,null,{"$f":"J103","v":0},{"$f":"M103","v":0},{"$f":"(D105+E105)/2","v":0},{"$f":"IF(D105=0,,(F105-D105)/D105*100)","v":0},null,"диаметр до 50 мм"]
[null,null,null,null,null,null,null,null,"диаметр  от 50 до 100 мм"]
[null,null,null,null,null,null,null,null,"диаметр  от 100 до 150 мм"]
[null,null,null,null,null,null,null,null,"диаметр  от 150 до 200 мм"]
[null,null,null,null,null,null,null,null,"диаметр  от 200 до 300 мм"]
[null,null,null,null,null,null,null,null,"диаметр  от 300 до 400 мм"]
[null,null,null,null,null,null,null,null,"диаметр  от 400 до 500 мм"]
[null,null,null,null,null,null,null,null,"диаметр  от 500 до 600 мм"]
[null,null,null,null,null,null,null,null,"диаметр  от 600 до 700 мм"]
[null,null,null,null,null,null,null,null,"диаметр  от 700 до 800 мм"]
[null,null,null,null,null,null,null,null,"диаметр от 800 до 900  мм"]
[null,null,null,null,null,null,null,null,"диаметр  от 900 до 1000 мм"]
[null,null,null,null,null,null,null,null,"диаметр  от 1000 до 1200 мм"]
[null,null,null,null,null,null,null,null,"диаметр  свыше  1200 мм"]
[null,null,null,null,null,null,null,null,"Протяженность водопроводных сетей, нуждающихся в замене всего, м",{"$f":"SUM(J120:J134)","v":0},{"$f":"SUM(K120:K134)","v":0},{"$f":"SUM(L120:L134)","v":0},{"$f":"SUM(M120:M134)","v":0},{"$f":"SUM(N120:N134)","v":0}]
[null,null,null,null,null,null,null,null,"в том числе диаметром"]
[null,null,null,null,null,null,null,null,"диаметр до 50 мм"]
[null,null,null,null,null,null,null,null,"диаметр  от 50 до 100 мм"]
[null,null,null,null,null,null,null,null,"диаметр  от 100 до 150 мм"]
[null,null,null,null,null,null,null,null,"диаметр  от 150 до 200 мм"]
[null,null,null,null,null,null,null,null,"диаметр  от 200 до 300 мм"]
[null,null,null,null,null,null,null,null,"диаметр  от 300 до 400 мм"]
[null,null,null,null,null,null,null,null,"диаметр  от 400 до 500 мм"]
[null,null,null,null,null,null,null,null,"диаметр  от 500 до 600 мм"]
[null,null,null,null,null,null,null,null,"диаметр  от 600 до 700 мм"]
[null,null,null,null,null,null,null,null,"диаметр  от 700 до 800 мм"]
[null,null,null,null,null,null,null,null,"диаметр от 800 до 900  мм"]
[null,null,null,null,null,null,null,null,"диаметр  от 900 до 1000 мм"]
[null,null,null,null,null,null,null,null,"диаметр  от 1000 до 1200 мм"]
[null,null,null,null,null,null,null,null,"диаметр  свыше  1200 мм"]
[null,null,null,null,null,null,null,null,"Удельный вес сетей, нуждающихся в замене, %",{"$f":"IF(J103=0,0,J119/J103*100)","v":0},{"$f":"IF(K103=0,0,K119/K103*100)","v":0},{"$f":"IF(L103=0,0,L119/L103*100)","v":0},{"$f":"IF(M103=0,0,M119/M103*100)","v":0},{"$f":"IF(N103=0,0,N119/N103*100)","v":0}]

{"sheet":"техн характер системы (бесхоз)","index":7,"n_rows":130,"n_cols":14,"rows_kept":130,"cut":false,"hidden":false,"merged":[[98,0,99,0],[98,1,99,1],[98,2,99,2],[98,3,99,3],[98,4,99,4],[10,11,12,11],[93,8,96,8],[94,12,94,13],[95,12,96,12],[96,0,96,6],[100,1,101,1],[100,2,101,2],[94,9,96,9],[94,10,94,11],[93,9,93,11],[95,10,96,10],[98,5,99,5],[98,6,99,6],[0,0,0,10],[2,0,2,10],[8,0,8,10],[10,0,12,0],[10,1,12,1],[10,2,12,2],[10,3,12,3],[10,4,12,4],[10,5,12,5],[10,6,12,6],[10,7,12,7],[10,8,10,10],[11,8,11,9],[11,10,12,10]]}
[{"$f":"Титульный!C10","v":" "}]
[]
["Объекты бесхозяйного имущества"]
[]
["Район",{"$f":"Титульный!C6","v":0}]
[]
["МО",{"$f":"Титульный!C7","v":0}]
[]
[{"$f":"Титульный!C19","v":0}]
[]
["Наименование и адрес объектов","Количество оборудования, находящегося  одновременно в работе","Наличие прибора учета воды","Наличие прибора учета электроэнергии","Марка оборудования (насоса)","Производительность оборудования (насоса), куб.м./час","Продолжительность работы в году, час","Мощность оборудования (насоса), кВт","Отопление (обогрев) объектов",null,null,"Высота  подъема"]
[null,null,null,null,null,null,null,null,"ТЭН",null,"Наименование организации-поставщика тепловой энергии "]
[null,null,null,null,null,null,null,null,"количество, шт","Суммарная мощность, кВт"]
["Артезианские скважины"]
[]
[]
[]
[]
[]
[]
[]
[]
[]
[]
[]
[]
[]
[]
[]
["Насосные станции 2-ого подъема"]
[]
[]
[]
[]
[]
[]
["Насосные станции 3-ого подъема"]
[]
[]
[]
[]
[]
[]
["Водонапорные башни"]
[]
[]
[]
[]
[]
[]
[]
[]
[]
[]
[]
[]
[]
[]
[]
[]
[]
[]
[]
[]
[]
[]
[]
[]
[]
[]
[]
[]
[]
[]
[]
[]
[]
["Водоразборные колонки (шт.)"]
[]
[]
["Водоочистные сооружения"]
[]
[]
[]
[]
[]
[]
[]
[]
[]
[]
[]
[]
[null,null,null,null,null,null,null,null,"СЕТИ","2017 год"]
[null,null,null,null,null,null,null,null,null,"план (утверждено)","факт по данным организации",null,"факт по данным эксперта"]
[null,null,null,null,null,null,null,null,null,null,"на 31.12.2017 года","в том числе","на 31.12.2017 года","в том числе"]
["Расчет организации по изменению протяженности водопроводных сетей за 2017 год",null,null,null,null,null,null,null,null,null,null,"передано в отчетном 2017 году",null,"передано в отчетном 2017 году"]
[null,null,null,null,null,null,null,null,"Протяженность водопроводных сетей всего, м",{"$f":"SUM(J99:J113)","v":0},{"$f":"SUM(K99:K113)","v":0},{"$f":"SUM(L99:L113)","v":0},{"$f":"SUM(M99:M113)","v":0},{"$f":"SUM(N99:N113)","v":0}]
["№ п/п","Показатель","Ед. изм","на 01.01.2017","на 31.12.2017","среднее значение за год","изменение за год, %",null,"в том числе диаметром"]
[null,null,null,null,null,null,null,null,"диаметр до 50 мм"]
["по данным организации","Протяженность сетей ","м",{"$f":"J98","v":0},{"$f":"K98","v":0},{"$f":"(D101+E101)/2","v":0},{"$f":"IF(D101=0,,(F101-D101)/D101*100)","v":0},null,"диаметр  от 50 до 100 мм"]
["по данным эксперта",null,null,{"$f":"J98","v":0},{"$f":"M98","v":0},{"$f":"(D102+E102)/2","v":0},{"$f":"IF(D102=0,,(F102-D102)/D102*100)","v":0},null,"диаметр  от 100 до 150 мм"]
[null,null,null,null,null,null,null,null,"диаметр  от 150 до 200 мм"]
[null,null,null,null,null,null,null,null,"диаметр  от 200 до 300 мм"]
[null,null,null,null,null,null,null,null,"диаметр  от 300 до 400 мм"]
[null,null,null,null,null,null,null,null,"диаметр  от 400 до 500 мм"]
[null,null,null,null,null,null,null,null,"диаметр  от 500 до 600 мм"]
[null,null,null,null,null,null,null,null,"диаметр  от 600 до 700 мм"]
[null,null,null,null,null,null,null,null,"диаметр  от 700 до 800 мм"]
[null,null,null,null,null,null,null,null,"диаметр от 800 до 900  мм"]
[null,null,null,null,null,null,null,null,"диаметр  от 900 до 1000 мм"]
[null,null,null,null,null,null,null,null,"диаметр  от 1000 до 1200 мм"]
[null,null,null,null,null,null,null,null,"диаметр  свыше  1200 мм"]
[null,null,null,null,null,null,null,null,"Протяженность водопроводных сетей, нуждающихся в замене всего, м",null,{"$f":"SUM(K115:K129)","v":0},{"$f":"SUM(L115:L129)","v":0},{"$f":"SUM(M115:M129)","v":0},{"$f":"SUM(N115:N129)","v":0}]
[null,null,null,null,null,null,null,null,"в том числе диаметром"]
[null,null,null,null,null,null,null,null,"диаметр до 50 мм"]
[null,null,null,null,null,null,null,null,"диаметр  от 50 до 100 мм"]
[null,null,null,null,null,null,null,null,"диаметр  от 100 до 150 мм"]
[null,null,null,null,null,null,null,null,"диаметр  от 150 до 200 мм"]
[null,null,null,null,null,null,null,null,"диаметр  от 200 до 300 мм"]
[null,null,null,null,null,null,null,null,"диаметр  от 300 до 400 мм"]
[null,null,null,null,null,null,null,null,"диаметр  от 400 до 500 мм"]
[null,null,null,null,null,null,null,null,"диаметр  от 500 до 600 мм"]
[null,null,null,null,null,null,null,null,"диаметр  от 600 до 700 мм"]
[null,null,null,null,null,null,null,null,"диаметр  от 700 до 800 мм"]
[null,null,null,null,null,null,null,null,"диаметр от 800 до 900  мм"]
[null,null,null,null,null,null,null,null,"диаметр  от 900 до 1000 мм"]
[null,null,null,null,null,null,null,null,"диаметр  от 1000 до 1200 мм"]
[null,null,null,null,null,null,null,null,"диаметр  свыше  1200 мм"]
[null,null,null,null,null,null,null,null,"Удельный вес сетей, нуждающихся в замене, %",null,{"$f":"IF(K98=0,0,K114/K98*100)","v":0},{"$f":"IF(L98=0,0,L114/L98*100)","v":0},{"$f":"IF(M98=0,0,M114/M98*100)","v":0},{"$f":"IF(N98=0,0,N114/N98*100)","v":0}]

{"sheet":"полезный отпуск","index":8,"n_rows":282,"n_cols":18,"rows_kept":282,"cut":false,"hidden":false,"merged":[[6,1,6,2],[13,3,14,3],[13,12,13,14],[12,11,12,17],[13,11,14,11],[11,3,11,17],[9,2,10,17],[8,2,8,17],[13,7,14,7],[12,3,12,6],[13,8,14,8],[13,9,14,9],[13,10,14,10],[12,7,12,10],[13,16,14,16],[13,17,14,17],[159,1,166,1],[184,1,191,1],[209,1,216,1],[234,1,241,1],[259,1,266,1],[13,4,14,4],[13,5,14,5],[13,6,14,6],[13,15,14,15],[34,1,41,1],[59,1,66,1],[84,1,91,1],[109,1,116,1],[134,1,141,1],[259,2,259,14],[260,2,260,14],[261,2,261,14],[262,2,266,2],[262,3,262,14],[263,3,263,6],[263,7,263,10],[263,11,263,14],[264,3,266,3],[264,4,264,6],[264,7,266,7],[264,8,264,10],[264,11,266,11],[264,12,266,12],[264,13,266,13],[264,14,266,14],[266,4,266,6],[266,8,266,10],[234,2,234,14],[235,2,235,14],[236,2,236,14],[237,2,241,2],[237,3,237,14],[238,3,238,6],[238,7,238,10],[238,11,238,14],[239,3,241,3],[239,4,239,6],[239,7,241,7],[239,8,239,10],[239,11,241,11],[239,12,241,12],[239,13,241,13],[239,14,241,14],[241,4,241,6],[241,8,241,10],[209,2,209,14],[210,2,210,14],[211,2,211,14],[212,2,216,2],[212,3,212,14],[213,3,213,6],[213,7,213,10],[213,11,213,14],[214,3,216,3],[214,4,214,6],[214,7,216,7],[214,8,214,10],[214,11,216,11],[214,12,216,12],[214,13,216,13],[214,14,216,14],[216,4,216,6],[216,8,216,10],[184,2,184,14],[185,2,185,14],[186,2,186,14],[187,2,191,2],[187,3,187,14],[188,3,188,6],[188,7,188,10],[188,11,188,14],[189,3,191,3],[189,4,189,6],[189,7,191,7],[189,8,189,10],[189,11,191,11],[189,12,191,12],[189,13,191,13],[189,14,191,14],[191,4,191,6],[191,8,191,10],[159,2,159,14],[160,2,160,14],[161,2,161,14],[162,2,166,2],[162,3,162,14],[163,3,163,6],[163,7,163,10],[163,11,163,14],[164,3,166,3],[164,4,164,6],[164,7,166,7],[164,8,164,10],[164,11,166,11],[164,12,166,12],[164,13,166,13],[164,14,166,14],[166,4,166,6],[166,8,166,10],[134,2,134,14],[135,2,135,14],[136,2,136,14],[137,2,141,2],[137,3,137,14],[138,3,138,6],[138,7,138,10],[138,11,138,14],[139,3,141,3],[139,4,139,6],[139,7,141,7],[139,8,139,10],[139,11,141,11],[139,12,141,12],[139,13,141,13],[139,14,141,14],[141,4,141,6],[141,8,141,10],[109,2,109,14],[110,2,110,14],[111,2,111,14],[112,2,116,2],[112,3,112,14],[113,3,113,6],[113,7,113,10],[113,11,113,14],[114,3,116,3],[114,4,114,6],[114,7,116,7],[114,8,114,10],[114,11,116,11],[114,12,116,12],[114,13,116,13],[114,14,116,14],[116,4,116,6],[116,8,116,10],[84,2,84,14],[85,2,85,14],[86,2,86,14],[87,2,91,2],[87,3,87,14],[88,3,88,6],[88,7,88,10],[88,11,88,14],[89,3,91,3],[89,4,89,6],[89,7,91,7],[89,8,89,10],[89,11,91,11],[89,12,91,12],[89,13,91,13],[89,14,91,14],[91,4,91,6],[91,8,91,10],[59,2,59,14],[60,2,60,14],[61,2,61,14],[62,2,66,2],[62,3,62,14],[63,3,63,6],[63,7,63,10],[63,11,63,14],[64,3,66,3],[64,4,64,6],[64,7,66,7],[64,8,64,10],[64,11,66,11],[64,12,66,12],[64,13,66,13],[64,14,66,14],[66,4,66,6],[66,8,66,10],[0,2,0,9],[1,2,1,9],[8,1,15,1],[11,2,15,2],[39,14,41,14],[38,3,38,6],[38,7,38,10],[38,11,38,14],[35,2,35,14],[36,2,36,14],[34,2,34,14],[37,2,41,2],[37,3,37,14],[41,4,41,6],[41,8,41,10],[39,3,41,3],[39,4,39,6],[39,7,41,7],[39,8,39,10],[39,11,41,11],[39,12,41,12],[39,13,41,13],[4,1,4,2],[5,1,5,2]]}
[null,null,"Сводный отчет об объемах отпущенной воды на собственное потребление и сторонним потребителям"]
[null,null,{"$f":"Титульный!C10","v":" "}]
[null,null,"Район",{"$f":"Титульный!C6","v":0},null,"МО",{"$f":"Титульный!C7","v":0}]
[]
[null,"срок действия утвержденных тарифов",null,"01.01.2017- 30.06.2017","01.07.2017 - 31.12.2017"]
[null,"величина тарифов, руб/куб.м.",null,{"$f":"'данные об организации'!I29","v":0},{"$f":"'данные об организации'!I31","v":0}]
[null,"НДС",null,{"$f":"'данные об организации'!J29","v":"без учета НДС"},{"$f":"'данные об организации'!J31","v":"без учета НДС"}]
[]
[null,"Период","Объем реализации, куб.м."]
[null,null,"ВСЕГО по тарифу за 2017 год"]
[]
[null,null,"всего","в том числе:"]
[null,null,null,"собственное потребление",null,null,null,"отпущено воды другим водопроводам",null,null,null,"сторонние потребители"]
[null,null,null,"Итого объем","расчетная сумма НВВ","сумма НВВ согласно бухгалтерскому учету","отклонение","Итого объем","расчетная сумма НВВ","сумма НВВ согласно бухгалтерскому учету","отклонение","Итого объем","в том числе:",null,null,"расчетная сумма НВВ","сумма НВВ согласно бухгалтерскому учету","отклонение"]
[null,null,null,null,null,null,null,null,null,null,null,null,"бюджет","население","прочие"]
[null,null,null," м3","руб.","руб.","руб."," м3","руб.","руб.","руб."," м3"," м3"," м3"," м3","руб.","руб.","руб."]
[null,1,2,3,5,6,"7=6-5",8,9,10,"11=10-9",12,13,14,15,9,10,"11=10-9"]
[null,"Январь",{"$f":"D18+H18+L18","v":0},{"$f":"D43+D68+D93+D118+D143+D168+D193+D218+D243+D268","v":0},{"$f":"$D$6*D18","v":0},null,{"$f":"F18-E18","v":0},{"$f":"H43+H68+H93+H118+H143+H168+H193+H218+H243+H268","v":0},{"$f":"$D$6*H18","v":0},null,{"$f":"J18-I18","v":0},{"$f":"SUM(M18:O18)","v":0},{"$f":"M43+M68+M93+M118+M143+M168+M193+M218+M243+M268","v":0},0,{"$f":"O43+O68+O93+O118+O143+O168+O193+O218+O243+O268","v":0},{"$f":"$D$6*L18","v":0},null,{"$f":"Q18-P18","v":0}]
[null,"Февраль",0,{"$f":"D44+D69+D94+D119+D144+D169+D194+D219+D244+D269","v":0},{"$f":"$D$6*D19","v":0},null,{"$f":"F19-E19","v":0},{"$f":"H44+H69+H94+H119+H144+H169+H194+H219+H244+H269","v":0},{"$f":"$D$6*H19","v":0},null,{"$f":"J19-I19","v":0},{"$f":"SUM(M19:O19)","v":0},0,0,0,{"$f":"$D$6*L19","v":0},null,{"$f":"Q19-P19","v":0}]
[null,"Март",0,0,0,null,0,0,{"$f":"$D$6*H20","v":0},null,0,0,0,0,0,0,null,0]
[null,"Апрель",0,0,0,null,0,0,0,null,0,0,0,0,0,0,null,0]
[null,"Май",0,0,0,null,0,0,0,null,0,0,0,0,0,0,null,0]
[null,"Июнь",0,0,{"$f":"$D$6*D23","v":0},null,0,0,{"$f":"$D$6*H23","v":0},null,0,0,0,0,0,0,null,0]
[null,"Июль",0,0,{"$f":"V24*D24","v":0},null,0,0,{"$f":"Z24*H24","v":0},null,0,0,0,0,0,{"$f":"$E$6*L24","v":0},null,0]
[null,"Август",0,0,{"$f":"$E$6*D25","v":0},null,0,0,{"$f":"$E$6*H25","v":0},null,0,0,0,0,0,{"$f":"$E$6*L25","v":0},null,0]
[null,"Сентябрь",0,0,{"$f":"$E$6*D26","v":0},null,0,0,{"$f":"$E$6*H26","v":0},null,0,0,0,0,0,0,null,0]
[null,"Октябрь",0,0,0,null,0,{"$f":"H52+H77+H102+H127+H152+H177+H202+H227+H252+H277","v":0},{"$f":"$E$6*H27","v":0},null,0,0,{"$f":"M52+M77+M102+M127+M152+M177+M202+M227+M252+M277","v":0},0,0,0,null,0]
[null,"Ноябрь",0,0,0,null,0,0,0,null,0,0,0,0,0,0,null,0]
[null,"Декабрь",0,0,0,null,0,0,0,null,0,0,0,0,0,{"$f":"$E$6*L29","v":0},null,0]
[null,"Итого год",{"$f":"SUM(C18:C29)","v":0},{"$f":"SUM(D18:D29)","v":0},{"$f":"SUM(E18:E29)","v":0},0,0,0,0,0,0,0,0,{"$f":"SUM(N18:N29)","v":0},0,{"$f":"SUM(P18:P29)","v":0},{"$f":"SUM(Q18:Q29)","v":0},{"$f":"SUM(R18:R29)","v":0}]
[null,"в том числе I полугодие",{"$f":"SUM(C18:C23)","v":0},0,0,0,0,0,0,0,0,0,{"$f":"SUM(M18:M23)","v":0},0,0,{"$f":"SUM(P18:P23)","v":0},{"$f":"SUM(Q18:Q23)","v":0},{"$f":"SUM(R18:R23)","v":0}]
[null,"в том числе II полугодие",{"$f":"SUM(C24:C29)","v":0},0,0,0,0,0,0,0,0,0,0,{"$f":"SUM(N24:N29)","v":0},0,{"$f":"SUM(P24:P29)","v":0},{"$f":"SUM(Q24:Q29)","v":0},{"$f":"SUM(R24:R29)","v":0}]
[]
[]
[null,"Период","Объем реализации, куб.м."]
[null,null,{"$f":"'данные об организации'!$F$13","v":0}]
[null,null,"(наименование населенного пункта)"]
[null,null,"всего","в том числе:"]
[null,null,null,"собственное потребление",null,null,null,"отпущено воды другим водопроводам",null,null,null,"сторонние потребители"]
[null,null,null,"Итого","в том числе",null,null,"Итого","в том числе",null,null,"Итого","бюджет","население","прочие"]
[]
[null,null,null,null,"(наименование расходов)",null,null,null,"(наименование организаций)"]
[null,"Январь",{"$f":"D43+H43+L43","v":0},{"$f":"SUM(E43:G43)","v":0},null,null,null,{"$f":"SUM(I43:K43)","v":0},null,null,null,{"$f":"SUM(M43:O43)","v":0}]
[null,"Февраль",{"$f":"D44+H44+L44","v":0},{"$f":"SUM(E44:G44)","v":0},null,null,null,{"$f":"SUM(I44:K44)","v":0},null,null,null,{"$f":"SUM(M44:O44)","v":0}]
[null,"Март",0,0,null,null,null,0,null,null,null,0]
[null,"Апрель",0,0,null,null,null,0,null,null,null,0]
[null,"Май",0,0,null,null,null,0,null,null,null,0]
[null,"Июнь",0,0,null,null,null,0,null,null,null,0]
[null,"Июль",0,0,null,null,null,0,null,null,null,0]
[null,"Август",0,0,null,null,null,0,null,null,null,0]
[null,"Сентябрь",0,0,null,null,null,0,null,null,null,0]
[null,"Октябрь",0,0,null,null,null,0,null,null,null,0]
[null,"Ноябрь",0,0,null,null,null,0,null,null,null,0]
[null,"Декабрь",0,0,null,null,null,0,null,null,null,0]
[null,"Итого год",{"$f":"SUM(C43:C54)","v":0},{"$f":"SUM(D43:D54)","v":0},0,0,0,0,0,0,0,0,0,0,0]
[null,"в том числе I полугодие",{"$f":"SUM(C43:C48)","v":0},0,0,0,0,0,0,0,0,0,0,0,0]
[null,"в том числе II полугодие",{"$f":"SUM(C49:C54)","v":0},0,0,0,0,0,0,0,0,0,0,0,0]
[]
[]
[null,"Период","Объем реализации, куб.м."]
[null,null,{"$f":"'данные об организации'!$F$14","v":0}]
[null,null,"(наименование населенного пункта)"]
[null,null,"всего","в том числе:"]
[null,null,null,"собственное потребление",null,null,null,"отпущено воды другим водопроводам",null,null,null,"сторонние потребители"]
[null,null,null,"Итого","в том числе",null,null,"Итого","в том числе",null,null,"Итого","бюджет","население","прочие"]
[]
[null,null,null,null,"(наименование расходов)",null,null,null,"(наименование организаций)"]
[null,"Январь",{"$f":"D68+H68+L68","v":0},{"$f":"SUM(E68:G68)","v":0},null,null,null,{"$f":"SUM(I68:K68)","v":0},null,null,null,{"$f":"SUM(M68:O68)","v":0}]
[null,"Февраль",{"$f":"D69+H69+L69","v":0},{"$f":"SUM(E69:G69)","v":0},null,null,null,{"$f":"SUM(I69:K69)","v":0},null,null,null,{"$f":"SUM(M69:O69)","v":0}]
[null,"Март",0,0,null,null,null,0,null,null,null,0]
[null,"Апрель",0,0,null,null,null,0,null,null,null,0]
[null,"Май",0,0,null,null,null,0,null,null,null,0]
[null,"Июнь",0,0,null,null,null,0,null,null,null,0]
[null,"Июль",0,0,null,null,null,0,null,null,null,0]
[null,"Август",0,0,null,null,null,0,null,null,null,0]
[null,"Сентябрь",0,0,null,null,null,0,null,null,null,0]
[null,"Октябрь",0,0,null,null,null,0,null,null,null,0]
[null,"Ноябрь",0,0,null,null,null,0,null,null,null,0]
[null,"Декабрь",0,0,null,null,null,0,null,null,null,0]
[null,"Итого год",{"$f":"SUM(C68:C79)","v":0},{"$f":"SUM(D68:D79)","v":0},0,0,0,0,0,0,0,0,0,0,0]
[null,"в том числе I полугодие",{"$f":"SUM(C68:C73)","v":0},0,0,0,0,0,0,0,0,0,0,0,0]
[null,"в том числе II полугодие",{"$f":"SUM(C74:C79)","v":0},0,0,0,0,0,0,0,0,0,0,0,0]
[]
[]
[null,"Период","Объем реализации, куб.м."]
[null,null,{"$f":"'данные об организации'!$F$15","v":0}]
[null,null,"(наименование населенного пункта)"]
[null,null,"всего","в том числе:"]
[null,null,null,"собственное потребление",null,null,null,"отпущено воды другим водопроводам",null,null,null,"сторонние потребители"]
[null,null,null,"Итого","в том числе",null,null,"Итого","в том числе",null,null,"Итого","бюджет","население","прочие"]
[]
[null,null,null,null,"(наименование расходов)",null,null,null,"(наименование организаций)"]
[null,"Январь",{"$f":"D93+H93+L93","v":0},{"$f":"SUM(E93:G93)","v":0},null,null,null,{"$f":"SUM(I93:K93)","v":0},null,null,null,{"$f":"SUM(M93:O93)","v":0}]
[null,"Февраль",{"$f":"D94+H94+L94","v":0},{"$f":"SUM(E94:G94)","v":0},null,null,null,{"$f":"SUM(I94:K94)","v":0},null,null,null,{"$f":"SUM(M94:O94)","v":0}]
[null,"Март",0,0,null,null,null,0,null,null,null,0]
[null,"Апрель",0,0,null,null,null,0,null,null,null,0]
[null,"Май",0,0,null,null,null,0,null,null,null,0]
[null,"Июнь",0,0,null,null,null,0,null,null,null,0]
[null,"Июль",0,0,null,null,null,0,null,null,null,0]
[null,"Август",0,0,null,null,null,0,null,null,null,0]
[null,"Сентябрь",0,0,null,null,null,0,null,null,null,0]
[null,"Октябрь",0,0,null,null,null,0,null,null,null,0]
[null,"Ноябрь",0,0,null,null,null,0,null,null,null,0]
[null,"Декабрь",0,0,null,null,null,0,null,null,null,0]
[null,"Итого год",{"$f":"SUM(C93:C104)","v":0},{"$f":"SUM(D93:D104)","v":0},0,0,0,0,0,0,0,0,0,0,0]
[null,"в том числе I полугодие",{"$f":"SUM(C93:C98)","v":0},0,0,0,0,0,0,0,0,0,0,0,0]
[null,"в том числе II полугодие",{"$f":"SUM(C99:C104)","v":0},0,0,0,0,0,0,0,0,0,0,0,0]
[]
[]
[null,"Период","Объем реализации, куб.м."]
[null,null,{"$f":"'данные об организации'!$F$16","v":0}]
[null,null,"(наименование населенного пункта)"]
[null,null,"всего","в том числе:"]
[null,null,null,"собственное потребление",null,null,null,"отпущено воды другим водопроводам",null,null,null,"сторонние потребители"]
[null,null,null,"Итого","в том числе",null,null,"Итого","в том числе",null,null,"Итого","бюджет","население","прочие"]
[]
[null,null,null,null,"(наименование расходов)",null,null,null,"(наименование организаций)"]
[null,"Январь",{"$f":"D118+H118+L118","v":0},{"$f":"SUM(E118:G118)","v":0},null,null,null,{"$f":"SUM(I118:K118)","v":0},null,null,null,{"$f":"SUM(M118:O118)","v":0}]
[null,"Февраль",{"$f":"D119+H119+L119","v":0},{"$f":"SUM(E119:G119)","v":0},null,null,null,{"$f":"SUM(I119:K119)","v":0},null,null,null,{"$f":"SUM(M119:O119)","v":0}]
[null,"Март",0,0,null,null,null,0,null,null,null,0]
[null,"Апрель",0,0,null,null,null,0,null,null,null,0]
[null,"Май",0,0,null,null,null,0,null,null,null,0]
[null,"Июнь",0,0,null,null,null,0,null,null,null,0]
[null,"Июль",0,0,null,null,null,0,null,null,null,0]
[null,"Август",0,0,null,null,null,0,null,null,null,0]
[null,"Сентябрь",0,0,null,null,null,0,null,null,null,0]
[null,"Октябрь",0,0,null,null,null,0,null,null,null,0]
[null,"Ноябрь",0,0,null,null,null,0,null,null,null,0]
[null,"Декабрь",0,0,null,null,null,0,null,null,null,0]
[null,"Итого год",{"$f":"SUM(C118:C129)","v":0},{"$f":"SUM(D118:D129)","v":0},0,0,0,0,0,0,0,0,0,0,0]
[null,"в том числе I полугодие",{"$f":"SUM(C118:C123)","v":0},0,0,0,0,0,0,0,0,0,0,0,0]
[null,"в том числе II полугодие",{"$f":"SUM(C124:C129)","v":0},0,0,0,0,0,0,0,0,0,0,0,0]
[]
[]
[null,"Период","Объем реализации, куб.м."]
[null,null,{"$f":"'данные об организации'!$F$17","v":0}]
[null,null,"(наименование населенного пункта)"]
[null,null,"всего","в том числе:"]
[null,null,null,"собственное потребление",null,null,null,"отпущено воды другим водопроводам",null,null,null,"сторонние потребители"]
[null,null,null,"Итого","в том числе",null,null,"Итого","в том числе",null,null,"Итого","бюджет","население","прочие"]
[]
[null,null,null,null,"(наименование расходов)",null,null,null,"(наименование организаций)"]
[null,"Январь",{"$f":"D143+H143+L143","v":0},{"$f":"SUM(E143:G143)","v":0},null,null,null,{"$f":"SUM(I143:K143)","v":0},null,null,null,{"$f":"SUM(M143:O143)","v":0}]
[null,"Февраль",{"$f":"D144+H144+L144","v":0},{"$f":"SUM(E144:G144)","v":0},null,null,null,{"$f":"SUM(I144:K144)","v":0},null,null,null,{"$f":"SUM(M144:O144)","v":0}]
[null,"Март",0,0,null,null,null,0,null,null,null,0]
[null,"Апрель",0,0,null,null,null,0,null,null,null,0]
[null,"Май",0,0,null,null,null,0,null,null,null,0]
[null,"Июнь",0,0,null,null,null,0,null,null,null,0]
[null,"Июль",0,0,null,null,null,0,null,null,null,0]
[null,"Август",0,0,null,null,null,0,null,null,null,0]
[null,"Сентябрь",0,0,null,null,null,0,null,null,null,0]
[null,"Октябрь",0,0,null,null,null,0,null,null,null,0]
[null,"Ноябрь",0,0,null,null,null,0,null,null,null,0]
[null,"Декабрь",0,0,null,null,null,0,null,null,null,0]
[null,"Итого год",{"$f":"SUM(C143:C154)","v":0},{"$f":"SUM(D143:D154)","v":0},0,0,0,0,0,0,0,0,0,0,0]
[null,"в том числе I полугодие",{"$f":"SUM(C143:C148)","v":0},0,0,0,0,0,0,0,0,0,0,0,0]
[null,"в том числе II полугодие",{"$f":"SUM(C149:C154)","v":0},0,0,0,0,0,0,0,0,0,0,0,0]
[]
[]
[null,"Период","Объем реализации, куб.м."]
[null,null,{"$f":"'данные об организации'!$F$18","v":0}]
[null,null,"(наименование населенного пункта)"]
[null,null,"всего","в том числе:"]
[null,null,null,"собственное потребление",null,null,null,"отпущено воды другим водопроводам",null,null,null,"сторонние потребители"]
[null,null,null,"Итого","в том числе",null,null,"Итого","в том числе",null,null,"Итого","бюджет","население","прочие"]
[]
[null,null,null,null,"(наименование расходов)",null,null,null,"(наименование организаций)"]
[null,"Январь",{"$f":"D168+H168+L168","v":0},{"$f":"SUM(E168:G168)","v":0},null,null,null,{"$f":"SUM(I168:K168)","v":0},null,null,null,{"$f":"SUM(M168:O168)","v":0}]
[null,"Февраль",{"$f":"D169+H169+L169","v":0},{"$f":"SUM(E169:G169)","v":0},null,null,null,{"$f":"SUM(I169:K169)","v":0},null,null,null,{"$f":"SUM(M169:O169)","v":0}]
[null,"Март",0,0,null,null,null,0,null,null,null,0]
[null,"Апрель",0,0,null,null,null,0,null,null,null,0]
[null,"Май",0,0,null,null,null,0,null,null,null,0]
[null,"Июнь",0,0,null,null,null,0,null,null,null,0]
[null,"Июль",0,0,null,null,null,0,null,null,null,0]
[null,"Август",0,0,null,null,null,0,null,null,null,0]
[null,"Сентябрь",0,0,null,null,null,0,null,null,null,0]
[null,"Октябрь",0,0,null,null,null,0,null,null,null,0]
[null,"Ноябрь",0,0,null,null,null,0,null,null,null,0]
[null,"Декабрь",0,0,null,null,null,0,null,null,null,0]
[null,"Итого год",{"$f":"SUM(C168:C179)","v":0},{"$f":"SUM(D168:D179)","v":0},0,0,0,0,0,0,0,0,0,0,0]
[null,"в том числе I полугодие",{"$f":"SUM(C168:C173)","v":0},0,0,0,0,0,0,0,0,0,0,0,0]
[null,"в том числе II полугодие",{"$f":"SUM(C174:C179)","v":0},0,0,0,0,0,0,0,0,0,0,0,0]
[]
[]
[null,"Период","Объем реализации, куб.м."]
[null,null,{"$f":"'данные об организации'!$F$19","v":0}]
[null,null,"(наименование населенного пункта)"]
[null,null,"всего","в том числе:"]
[null,null,null,"собственное потребление",null,null,null,"отпущено воды другим водопроводам",null,null,null,"сторонние потребители"]
[null,null,null,"Итого","в том числе",null,null,"Итого","в том числе",null,null,"Итого","бюджет","население","прочие"]
[]
[null,null,null,null,"(наименование расходов)",null,null,null,"(наименование организаций)"]
[null,"Январь",{"$f":"D193+H193+L193","v":0},{"$f":"SUM(E193:G193)","v":0},null,null,null,{"$f":"SUM(I193:K193)","v":0},null,null,null,{"$f":"SUM(M193:O193)","v":0}]
[null,"Февраль",{"$f":"D194+H194+L194","v":0},{"$f":"SUM(E194:G194)","v":0},null,null,null,{"$f":"SUM(I194:K194)","v":0},null,null,null,{"$f":"SUM(M194:O194)","v":0}]
[null,"Март",0,0,null,null,null,0,null,null,null,0]
[null,"Апрель",0,0,null,null,null,0,null,null,null,0]
[null,"Май",0,0,null,null,null,0,null,null,null,0]
[null,"Июнь",0,0,null,null,null,0,null,null,null,0]
[null,"Июль",0,0,null,null,null,0,null,null,null,0]
[null,"Август",0,0,null,null,null,0,null,null,null,0]
[null,"Сентябрь",0,0,null,null,null,0,null,null,null,0]
[null,"Октябрь",0,0,null,null,null,0,null,null,null,0]
[null,"Ноябрь",0,0,null,null,null,0,null,null,null,0]
[null,"Декабрь",0,0,null,null,null,0,null,null,null,0]
[null,"Итого год",{"$f":"SUM(C193:C204)","v":0},{"$f":"SUM(D193:D204)","v":0},0,0,0,0,0,0,0,0,0,0,0]
[null,"в том числе I полугодие",{"$f":"SUM(C193:C198)","v":0},0,0,0,0,0,0,0,0,0,0,0,0]
[null,"в том числе II полугодие",{"$f":"SUM(C199:C204)","v":0},0,0,0,0,0,0,0,0,0,0,0,0]
[]
[]
[null,"Период","Объем реализации, куб.м."]
[null,null,{"$f":"'данные об организации'!$F$20","v":0}]
[null,null,"(наименование населенного пункта)"]
[null,null,"всего","в том числе:"]
[null,null,null,"собственное потребление",null,null,null,"отпущено воды другим водопроводам",null,null,null,"сторонние потребители"]
[null,null,null,"Итого","в том числе",null,null,"Итого","в том числе",null,null,"Итого","бюджет","население","прочие"]
[]
[null,null,null,null,"(наименование расходов)",null,null,null,"(наименование организаций)"]
[null,"Январь",{"$f":"D218+H218+L218","v":0},{"$f":"SUM(E218:G218)","v":0},null,null,null,{"$f":"SUM(I218:K218)","v":0},null,null,null,{"$f":"SUM(M218:O218)","v":0}]
[null,"Февраль",{"$f":"D219+H219+L219","v":0},{"$f":"SUM(E219:G219)","v":0},null,null,null,{"$f":"SUM(I219:K219)","v":0},null,null,null,{"$f":"SUM(M219:O219)","v":0}]
[null,"Март",0,0,null,null,null,0,null,null,null,0]
[null,"Апрель",0,0,null,null,null,0,null,null,null,0]
[null,"Май",0,0,null,null,null,0,null,null,null,0]
[null,"Июнь",0,0,null,null,null,0,null,null,null,0]
[null,"Июль",0,0,null,null,null,0,null,null,null,0]
[null,"Август",0,0,null,null,null,0,null,null,null,0]
[null,"Сентябрь",0,0,null,null,null,0,null,null,null,0]
[null,"Октябрь",0,0,null,null,null,0,null,null,null,0]
[null,"Ноябрь",0,0,null,null,null,0,null,null,null,0]
[null,"Декабрь",0,0,null,null,null,0,null,null,null,0]
[null,"Итого год",{"$f":"SUM(C218:C229)","v":0},{"$f":"SUM(D218:D229)","v":0},0,0,0,0,0,0,0,0,0,0,0]
[null,"в том числе I полугодие",{"$f":"SUM(C218:C223)","v":0},0,0,0,0,0,0,0,0,0,0,0,0]
[null,"в том числе II полугодие",{"$f":"SUM(C224:C229)","v":0},0,0,0,0,0,0,0,0,0,0,0,0]
[]
[]
[null,"Период","Объем реализации, куб.м."]
[null,null,{"$f":"'данные об организации'!$F$21","v":0}]
[null,null,"(наименование населенного пункта)"]
[null,null,"всего","в том числе:"]
[null,null,null,"собственное потребление",null,null,null,"отпущено воды другим водопроводам",null,null,null,"сторонние потребители"]
[null,null,null,"Итого","в том числе",null,null,"Итого","в том числе",null,null,"Итого","бюджет","население","прочие"]
[]
[null,null,null,null,"(наименование расходов)",null,null,null,"(наименование организаций)"]
[null,"Январь",{"$f":"D243+H243+L243","v":0},{"$f":"SUM(E243:G243)","v":0},null,null,null,{"$f":"SUM(I243:K243)","v":0},null,null,null,{"$f":"SUM(M243:O243)","v":0}]
[null,"Февраль",{"$f":"D244+H244+L244","v":0},{"$f":"SUM(E244:G244)","v":0},null,null,null,{"$f":"SUM(I244:K244)","v":0},null,null,null,{"$f":"SUM(M244:O244)","v":0}]
[null,"Март",0,0,null,null,null,0,null,null,null,0]
[null,"Апрель",0,0,null,null,null,0,null,null,null,0]
[null,"Май",0,0,null,null,null,0,null,null,null,0]
[null,"Июнь",0,0,null,null,null,0,null,null,null,0]
[null,"Июль",0,0,null,null,null,0,null,null,null,0]
[null,"Август",0,0,null,null,null,0,null,null,null,0]
[null,"Сентябрь",0,0,null,null,null,0,null,null,null,0]
[null,"Октябрь",0,0,null,null,null,0,null,null,null,0]
[null,"Ноябрь",0,0,null,null,null,0,null,null,null,0]
[null,"Декабрь",0,0,null,null,null,0,null,null,null,0]
[null,"Итого год",{"$f":"SUM(C243:C254)","v":0},{"$f":"SUM(D243:D254)","v":0},0,0,0,0,0,0,0,0,0,0,0]
[null,"в том числе I полугодие",{"$f":"SUM(C243:C248)","v":0},0,0,0,0,0,0,0,0,0,0,0,0]
[null,"в том числе II полугодие",{"$f":"SUM(C249:C254)","v":0},0,0,0,0,0,0,0,0,0,0,0,0]
[]
[]
[null,"Период","Объем реализации, куб.м."]
[null,null,{"$f":"'данные об организации'!$F$22","v":0}]
[null,null,"(наименование населенного пункта)"]
[null,null,"всего","в том числе:"]
[null,null,null,"собственное потребление",null,null,null,"отпущено воды другим водопроводам",null,null,null,"сторонние потребители"]
[null,null,null,"Итого","в том числе",null,null,"Итого","в том числе",null,null,"Итого","бюджет","население","прочие"]
[]
[null,null,null,null,"(наименование расходов)",null,null,null,"(наименование организаций)"]
[null,"Январь",{"$f":"D268+H268+L268","v":0},{"$f":"SUM(E268:G268)","v":0},null,null,null,{"$f":"SUM(I268:K268)","v":0},null,null,null,{"$f":"SUM(M268:O268)","v":0}]
[null,"Февраль",{"$f":"D269+H269+L269","v":0},{"$f":"SUM(E269:G269)","v":0},null,null,null,{"$f":"SUM(I269:K269)","v":0},null,null,null,{"$f":"SUM(M269:O269)","v":0}]
[null,"Март",0,0,null,null,null,0,null,null,null,0]
[null,"Апрель",0,0,null,null,null,0,null,null,null,0]
[null,"Май",0,0,null,null,null,0,null,null,null,0]
[null,"Июнь",0,0,null,null,null,0,null,null,null,0]
[null,"Июль",0,0,null,null,null,0,null,null,null,0]
[null,"Август",0,0,null,null,null,0,null,null,null,0]
[null,"Сентябрь",0,0,null,null,null,0,null,null,null,0]
[null,"Октябрь",0,0,null,null,null,0,null,null,null,0]
[null,"Ноябрь",0,0,null,null,null,0,null,null,null,0]
[null,"Декабрь",0,0,null,null,null,0,null,null,null,0]
[null,"Итого год",{"$f":"SUM(C268:C279)","v":0},{"$f":"SUM(D268:D279)","v":0},0,0,0,0,0,0,0,0,0,0,0]
[null,"в том числе I полугодие",{"$f":"SUM(C268:C273)","v":0},0,0,0,0,0,0,0,0,0,0,0,0]
[null,"в том числе II полугодие",{"$f":"SUM(C274:C279)","v":0},0,0,0,0,0,0,0,0,0,0,0,0]

{"sheet":"Показания ПУ","index":9,"n_rows":26,"n_cols":9,"rows_kept":26,"cut":false,"hidden":false,"merged":[[0,0,0,6],[25,0,25,1],[1,1,1,8]]}
["Информация  о поднятой воде в соответствии с данными проборов учета "]
[null,{"$f":"Титульный!C10","v":" "}]
[null,"Район",{"$f":"Титульный!C6","v":0},null,"МО",{"$f":"Титульный!C7","v":0}]
[]
["№ п/п","Наименование скважины","Место расположения скважин/реквизиты документа, удостоверяющего право собственности","Номер прибора учета воды","Место установки прибора учета","Дата опломбирования","Показание на 01.01.2017, м3","Показание на 31.12.2017, м3","поднято воды, м3 "]
[1,null,null,null,null,null,null,null,{"$f":"H6-G6","v":0}]
[2,null,null,null,null,null,null,null,{"$f":"H7-G7","v":0}]
[3,null,null,null,null,null,null,null,0]
[4,null,null,null,null,null,null,null,0]
[5,null,null,null,null,null,null,null,0]
[6,null,null,null,null,null,null,null,0]
[7,null,null,null,null,null,null,null,0]
[8,null,null,null,null,null,null,null,0]
[9,null,null,null,null,null,null,null,0]
[10,null,null,null,null,null,null,null,0]
[11,null,null,null,null,null,null,null,0]
[12,null,null,null,null,null,null,null,0]
[13,null,null,null,null,null,null,null,0]
[14,null,null,null,null,null,null,null,0]
[15,null,null,null,null,null,null,null,0]
[16,null,null,null,null,null,null,null,0]
[17,null,null,null,null,null,null,null,0]
[18,null,null,null,null,null,null,null,0]
[19,null,null,null,null,null,null,null,0]
[20,null,null,null,null,null,null,null,0]
["ИТОГО",null,"Х","Х","Х","Х","Х","Х",{"$f":"SUM(I6:I25)","v":0}]

{"sheet":"баланс ВСН","index":10,"n_rows":64,"n_cols":24,"rows_kept":64,"cut":false,"hidden":false,"merged":[[0,0,0,8],[2,0,2,8],[7,9,7,10],[6,8,6,10],[6,11,6,13],[5,7,5,13],[7,4,8,4],[7,5,8,5],[7,6,8,6],[7,8,8,8],[7,17,8,17],[7,14,8,14],[1,0,1,8],[5,0,8,0],[5,1,8,1],[5,2,8,2],[7,15,8,15],[7,16,8,16],[7,7,8,7],[7,12,7,13],[7,11,8,11],[7,3,8,3],[5,3,6,3],[5,4,6,4],[5,5,6,5],[5,6,6,6],[7,19,8,19],[7,20,8,20],[7,23,8,23],[7,18,8,18],[7,21,8,21],[7,22,8,22]]}
["БАЛАНС ВОДОСНАБЖЕНИЯ"]
[{"$f":"Титульный!C10","v":" "}]
[{"$f":"Титульный!C19","v":0}]
["Район",{"$f":"Титульный!C6","v":0},null,null,null,null,null,null,"МО",{"$f":"Титульный!C7","v":0},null,null,null,null,{"$f":"Титульный!C7","v":0}]
[]
["№ п/п","Наименование показателей","Единица измерения",{"$f":"'исходные данные'!D5","v":"2013 год"},{"$f":"'исходные данные'!E5","v":"2014 год"},{"$f":"'исходные данные'!F5","v":"2015 год"},{"$f":"'исходные данные'!G5","v":"2016 год"},"ВСЕГО по тарифу за 2017 год",null,null,null,null,null,null,{"$f":"'данные об организации'!$F$13","v":0},{"$f":"'данные об организации'!$F$14","v":0},{"$f":"'данные об организации'!$F$15","v":0},{"$f":"'данные об организации'!$F$16","v":0},{"$f":"'данные об организации'!$F$17","v":0},{"$f":"'данные об организации'!$F$18","v":0},{"$f":"'данные об организации'!$F$19","v":0},{"$f":"'данные об организации'!$F$20","v":0},{"$f":"'данные об организации'!$F$21","v":0},{"$f":"'данные об организации'!$F$22","v":0}]
[null,null,null,null,null,null,null,"утверждено","по данным организации",null,null,"по данным эксперта",null,null,"(наименование населенного пункта)","(наименование населенного пункта)","(наименование населенного пункта)","(наименование населенного пункта)","(наименование населенного пункта)","(наименование населенного пункта)","(наименование населенного пункта)","(наименование населенного пункта)","(наименование населенного пункта)","(наименование населенного пункта)"]
[null,null,null,"факт","факт","факт","факт","план","факт организации","отклонение",null,"факт эксперта","отклонение",null,"факт","факт","факт","факт","факт","факт","факт","факт","факт","факт"]
[null,null,null,null,null,null,null,null,null,"абс.","%",null,"абс.","%"]
["1.","Поднято воды насосными станциями 1 подъема, в том числе:","куб.м",{"$f":"D16+D24-D22","v":0},0,0,0,{"$f":"H16+H24-H22","v":0},{"$f":"O10+P10+Q10+R10+S10+T10+U10+V10+W10+X10","v":0},{"$f":"I10-H10","v":0},{"$f":"IF(H10=0,\"\",J10/H10*100)","v":""},0,{"$f":"L10-H10","v":0},{"$f":"IF(H10=0,\"\",M10/H10*100)","v":""},{"$f":"O30+O26-O22+O16-O14","v":0},{"$f":"P30+P26-P22+P16-P14","v":0},0,0,0,0,0,0,0,0]
[]
["1.1.","Из поверхностных водоисточников","куб.м",{"$f":"'исходные данные'!D12*1000","v":0},{"$f":"'исходные данные'!E12*1000","v":0},{"$f":"'исходные данные'!F12*1000","v":0},{"$f":"'исходные данные'!G12*1000","v":0},{"$f":"'исходные данные'!H12*1000","v":0},{"$f":"O12+P12+Q12+R12+S12+T12+U12+V12+W12+X12","v":0},{"$f":"I12-H12","v":0},{"$f":"IF(H12=0,\"\",J12/H12*100)","v":""},null,{"$f":"L12-H12","v":0},{"$f":"IF(H12=0,\"\",M12/H12*100)","v":""}]
["1.2.","Из подземных водоисточников","куб.м",{"$f":"'исходные данные'!D13*1000","v":0},{"$f":"'исходные данные'!E13*1000","v":0},{"$f":"'исходные данные'!F13*1000","v":0},{"$f":"'исходные данные'!G13*1000","v":0},{"$f":"'исходные данные'!H13*1000","v":0},{"$f":"O13+P13+Q13+R13+S13+T13+U13+V13+W13+X13","v":0},0,{"$f":"IF(H13=0,\"\",J13/H13*100)","v":""},{"$f":"L10-L12-L14","v":0},{"$f":"L13-H13","v":0},"",{"$f":"O10-O12","v":0},{"$f":"P10-P12","v":0},0,0,0,0,0,0,0,0]
["2.","Доочищенная промывная вода","куб.м",null,null,null,null,null,{"$f":"O14+P14+Q14+R14+S14+T14+U14+V14+W14+X14","v":0}]
["3.","Пропущено воды через водопроводные очистные сооружения","куб.м",{"$f":"'исходные данные'!D15*1000","v":0},{"$f":"'исходные данные'!E15*1000","v":0},{"$f":"'исходные данные'!F15*1000","v":0},{"$f":"'исходные данные'!G15*1000","v":0},{"$f":"'исходные данные'!H15*1000","v":0},0,{"$f":"I15-H15","v":0},{"$f":"IF(H15=0,\"\",J15/H15*100)","v":""},{"$f":"I15","v":0},{"$f":"L15-H15","v":0},{"$f":"IF(H15=0,\"\",M15/H15*100)","v":""}]
["4.","Расход воды на хозяйственные и технологические нужды, в т.ч.","куб.м",{"$f":"D17+D18+D19+D20","v":0},0,0,0,{"$f":"H17+H18+H19+H20","v":0},{"$f":"I17+I18+I19+I20","v":0},0,"",0,0,"",{"$f":"O17+O18+O19+O20","v":0},{"$f":"P17+P18+P19+P20","v":0},0,0,0,0,0,0,0,0]
["4.1.","на очистные сооружения","куб.м",{"$f":"'исходные данные'!D17*1000","v":0},{"$f":"'исходные данные'!E17*1000","v":0},{"$f":"'исходные данные'!F17*1000","v":0},{"$f":"'исходные данные'!G17*1000","v":0},{"$f":"'исходные данные'!H17*1000","v":0},{"$f":"O17+P17+Q17+R17+S17+T17+U17+V17+W17+X17","v":0},0,"",{"$f":"I17","v":0},0,""]
["4.2.","на промывку сетей","куб.м",{"$f":"'исходные данные'!D18*1000","v":0},{"$f":"'исходные данные'!E18*1000","v":0},{"$f":"'исходные данные'!F18*1000","v":0},{"$f":"'исходные данные'!G18*1000","v":0},{"$f":"'исходные данные'!H18*1000","v":0},0,0,"",{"$f":"I18","v":0},0,""]
["4.3.","на хозяйственно-бытовые нужды","куб.м",{"$f":"'исходные данные'!D19*1000","v":0},{"$f":"'исходные данные'!E19*1000","v":0},{"$f":"'исходные данные'!F19*1000","v":0},{"$f":"'исходные данные'!G19*1000","v":0},{"$f":"'исходные данные'!H19*1000","v":0},0,0,"",{"$f":"I19","v":0},0,""]
["4.4.","прочие","куб.м",{"$f":"'исходные данные'!D20*1000","v":0},{"$f":"'исходные данные'!E20*1000","v":0},{"$f":"'исходные данные'!F20*1000","v":0},{"$f":"'исходные данные'!G20*1000","v":0},{"$f":"'исходные данные'!H20*1000","v":0},0,0,"",{"$f":"I20","v":0},0,""]
[null,null,"куб.м"]
["5.","Получено воды  со стороны","куб.м",{"$f":"'исходные данные'!D22*1000","v":0},{"$f":"'исходные данные'!E22*1000","v":0},{"$f":"'исходные данные'!F22*1000","v":0},{"$f":"'исходные данные'!G22*1000","v":0},{"$f":"'исходные данные'!H22*1000","v":0},0,{"$f":"I22-H22","v":0},{"$f":"IF(H22=0,\"\",J22/H22*100)","v":""},{"$f":"I22","v":0},{"$f":"L22-H22","v":0},""]
[]
["6.","Подано воды в водопроводную сеть","куб.м",{"$f":"D26+D30","v":0},0,0,0,{"$f":"H26+H30","v":0},{"$f":"I26+I30","v":0},{"$f":"I24-H24","v":0},{"$f":"IF(H24=0,\"\",J24/H24*100)","v":""},{"$f":"L26+L30","v":0},{"$f":"L24-H24","v":0},{"$f":"IF(H24=0,\"\",M24/H24*100)","v":""},{"$f":"O26+O30","v":0},{"$f":"P26+P30","v":0},0,0,0,0,0,0,0,0]
[]
["7.","Потери воды в водопроводных сетях    ","куб.м",{"$f":"'исходные данные'!D26*1000","v":0},{"$f":"'исходные данные'!E26*1000","v":0},{"$f":"'исходные данные'!F26*1000","v":0},{"$f":"'исходные данные'!G26*1000","v":0},{"$f":"'исходные данные'!H26*1000","v":0},{"$f":"O26+P26+Q26+R26+S26+T26+U26+V26+W26+X26","v":0},{"$f":"I26-H26","v":0},{"$f":"IF(H26=0,\"\",J26/H26*100)","v":""},{"$f":"I26","v":0},{"$f":"L26-H26","v":0},{"$f":"IF(H26=0,\"\",M26/H26*100)","v":""}]
[]
["7.1."," то же в % к отпуску в сеть","%",{"$f":"IF(D24=0,0,D26/D24*100)","v":0},0,0,0,{"$f":"IF(H24=0,0,H26/H24*100)","v":0},{"$f":"IF(I24=0,0,I26/I24*100)","v":0},{"$f":"I28-H28","v":0},{"$f":"IF(H28=0,\"\",J28/H28*100)","v":""},{"$f":"I28","v":0},{"$f":"L28-H28","v":0},{"$f":"IF(H28=0,\"\",M28/H28*100)","v":""},{"$f":"IF(O24=0,0,O26/O24*100)","v":0},{"$f":"IF(P24=0,0,P26/P24*100)","v":0},0,0,0,0,0,0,0,0]
[]
["8.","Отпущено (реализовано) воды  всего, в том числе:","куб.м",{"$f":"D31+D32+D33","v":0},0,0,0,{"$f":"H31+H32+H33","v":0},{"$f":"I31+I32+I33","v":0},{"$f":"I30-H30","v":0},{"$f":"IF(H30=0,\"\",J30/H30*100)","v":""},0,{"$f":"L30-H30","v":0},{"$f":"IF(H30=0,\"\",M30/H30*100)","v":""},{"$f":"O31+O32+O33","v":0},0,0,0,0,0,0,0,0,0]
["8.1.","Расход воды на собственные нужды предприятия","куб.м",{"$f":"'исходные данные'!D31*1000","v":0},{"$f":"'исходные данные'!E31*1000","v":0},{"$f":"'исходные данные'!F31*1000","v":0},{"$f":"'исходные данные'!G31*1000","v":0},{"$f":"'исходные данные'!H31*1000","v":0},{"$f":"O31+P31+Q31+R31+S31+T31+U31+V31+W31+X31","v":0},0,"",{"$f":"I31","v":0},0,"",{"$f":"'полезный отпуск'!D55","v":0},{"$f":"'полезный отпуск'!D80","v":0},{"$f":"'полезный отпуск'!D105","v":0},{"$f":"'полезный отпуск'!D130","v":0},{"$f":"'полезный отпуск'!D155","v":0},{"$f":"'полезный отпуск'!D180","v":0},{"$f":"'полезный отпуск'!D205","v":0},{"$f":"'полезный отпуск'!D230","v":0},{"$f":"'полезный отпуск'!D255","v":0},{"$f":"'полезный отпуск'!D280","v":0}]
["8.2.","Отпущено воды другим водопроводам","куб.м",{"$f":"'исходные данные'!D32*1000","v":0},{"$f":"'исходные данные'!E32*1000","v":0},{"$f":"'исходные данные'!F32*1000","v":0},{"$f":"'исходные данные'!G32*1000","v":0},{"$f":"'исходные данные'!H32*1000","v":0},0,0,"",{"$f":"I32","v":0},0,"",{"$f":"'полезный отпуск'!H55","v":0},{"$f":"'полезный отпуск'!H80","v":0},{"$f":"'полезный отпуск'!H105","v":0},{"$f":"'полезный отпуск'!H130","v":0},{"$f":"'полезный отпуск'!H155","v":0},{"$f":"'полезный отпуск'!H180","v":0},{"$f":"'полезный отпуск'!H205","v":0},{"$f":"'полезный отпуск'!H230","v":0},{"$f":"'полезный отпуск'!H255","v":0},{"$f":"'полезный отпуск'!H280","v":0}]
["8.3.","Отпущено товарной воды сторонним  потребителям, в том числе:","куб.м",{"$f":"D34+D37+D40","v":0},0,0,0,{"$f":"H34+H37+H40","v":0},{"$f":"I34+I37+I40","v":0},0,"",0,0,"",{"$f":"O34+O37+O40","v":0},0,0,0,0,0,0,0,0,0]
["8.3.1.","бюджетные организации","куб.м",{"$f":"D35+D36","v":0},0,0,0,{"$f":"H35+H36","v":0},{"$f":"I35+I36","v":0},0,"",{"$f":"L35+L36","v":0},0,"",{"$f":"'полезный отпуск'!M55","v":0},{"$f":"'полезный отпуск'!M80","v":0},{"$f":"'полезный отпуск'!M105","v":0},{"$f":"'полезный отпуск'!M130","v":0},{"$f":"'полезный отпуск'!M155","v":0},{"$f":"'полезный отпуск'!M180","v":0},{"$f":"'полезный отпуск'!M205","v":0},{"$f":"'полезный отпуск'!M230","v":0},{"$f":"'полезный отпуск'!M255","v":0},{"$f":"'полезный отпуск'!M280","v":0}]
["8.3.1.1."," - по приборам учета","куб.м",{"$f":"'исходные данные'!D35*1000","v":0},{"$f":"'исходные данные'!E35*1000","v":0},{"$f":"'исходные данные'!F35*1000","v":0},{"$f":"'исходные данные'!G35*1000","v":0},{"$f":"'исходные данные'!H35*1000","v":0},{"$f":"O35+P35+Q35+R35+S35+T35+U35+V35+W35+X35","v":0},0,"",{"$f":"I35","v":0},0,"",{"$f":"'отчет по реализации'!G114+'отчет по реализации'!J114+'отчет по реализации'!G147+'отчет по реализации'!J147","v":0},{"$f":"'отчет по реализации'!G188+'отчет по реализации'!J188+'отчет по реализации'!G221+'отчет по реализации'!J221","v":0},{"$f":"'отчет по реализации'!G262+'отчет по реализации'!J262+'отчет по реализации'!G295+'отчет по реализации'!J295","v":0},{"$f":"'отчет по реализации'!G336+'отчет по реализации'!J336+'отчет по реализации'!G369+'отчет по реализации'!J369","v":0},{"$f":"'отчет по реализации'!G410+'отчет по реализации'!J410+'отчет по реализации'!G443+'отчет по реализации'!J443","v":0},{"$f":"'отчет по реализации'!G484+'отчет по реализации'!J484+'отчет по реализации'!G517+'отчет по реализации'!J517","v":0},{"$f":"'отчет по реализации'!G558+'отчет по реализации'!J558+'отчет по реализации'!G591+'отчет по реализации'!J591","v":0},{"$f":"'отчет по реализации'!G632+'отчет по реализации'!J632+'отчет по реализации'!G665+'отчет по реализации'!J665","v":0},{"$f":"'отчет по реализации'!G706+'отчет по реализации'!J706+'отчет по реализации'!G739+'отчет по реализации'!J739","v":0},{"$f":"'отчет по реализации'!G780+'отчет по реализации'!J780+'отчет по реализации'!G813+'отчет по реализации'!J813","v":0}]
["8.3.1.2."," - по нормативам","куб.м",{"$f":"'исходные данные'!D36*1000","v":0},{"$f":"'исходные данные'!E36*1000","v":0},{"$f":"'исходные данные'!F36*1000","v":0},{"$f":"'исходные данные'!G36*1000","v":0},{"$f":"'исходные данные'!H36*1000","v":0},0,{"$f":"I36-H36","v":0},"",{"$f":"I36","v":0},0,"",{"$f":"O34-O35","v":0},{"$f":"P34-P35","v":0},0,0,0,0,0,0,0,0]
["8.3.2.","население","куб.м",{"$f":"D38+D39","v":0},0,0,0,{"$f":"H38+H39","v":0},{"$f":"I38+I39","v":0},0,"",{"$f":"L38+L39","v":0},0,"",{"$f":"'полезный отпуск'!N55","v":0},{"$f":"'полезный отпуск'!N80","v":0},{"$f":"'полезный отпуск'!N105","v":0},{"$f":"'полезный отпуск'!N130","v":0},{"$f":"'полезный отпуск'!N155","v":0},{"$f":"'полезный отпуск'!N180","v":0},{"$f":"'полезный отпуск'!N205","v":0},{"$f":"'полезный отпуск'!N230","v":0},{"$f":"'полезный отпуск'!N255","v":0},{"$f":"'полезный отпуск'!N280","v":0}]
["8.3.2.1."," - по приборам учета","куб.м",{"$f":"'исходные данные'!D38*1000","v":0},{"$f":"'исходные данные'!E38*1000","v":0},{"$f":"'исходные данные'!F38*1000","v":0},{"$f":"'исходные данные'!G38*1000","v":0},{"$f":"'исходные данные'!H38*1000","v":0},{"$f":"O38+P38+Q38+R38+S38+T38+U38+V38+W38+X38","v":0},0,"",{"$f":"I38","v":0},0,"",{"$f":"'отчет по реализации'!G113+'отчет по реализации'!J113+'отчет по реализации'!G146+'отчет по реализации'!J146","v":0},{"$f":"'отчет по реализации'!G187+'отчет по реализации'!J187+'отчет по реализации'!G220+'отчет по реализации'!J220","v":0},{"$f":"'отчет по реализации'!G261+'отчет по реализации'!J261+'отчет по реализации'!G294+'отчет по реализации'!J294","v":0},{"$f":"'отчет по реализации'!G335+'отчет по реализации'!J335+'отчет по реализации'!G368+'отчет по реализации'!J368","v":0},{"$f":"'отчет по реализации'!G409+'отчет по реализации'!J409+'отчет по реализации'!G442+'отчет по реализации'!J442","v":0},{"$f":"'отчет по реализации'!G483+'отчет по реализации'!J483+'отчет по реализации'!G516+'отчет по реализации'!J516","v":0},{"$f":"'отчет по реализации'!G557+'отчет по реализации'!J557+'отчет по реализации'!G590+'отчет по реализации'!J590","v":0},{"$f":"'отчет по реализации'!G631+'отчет по реализации'!J631+'отчет по реализации'!G664+'отчет по реализации'!J664","v":0},{"$f":"'отчет по реализации'!G705+'отчет по реализации'!J705+'отчет по реализации'!G738+'отчет по реализации'!J738","v":0},{"$f":"'отчет по реализации'!G779+'отчет по реализации'!J779+'отчет по реализации'!G812+'отчет по реализации'!J812","v":0}]
["8.3.2.2."," - по нормативам","куб.м",{"$f":"'исходные данные'!D39*1000","v":0},{"$f":"'исходные данные'!E39*1000","v":0},{"$f":"'исходные данные'!F39*1000","v":0},{"$f":"'исходные данные'!G39*1000","v":0},{"$f":"'исходные данные'!H39*1000","v":0},0,0,"",{"$f":"I39","v":0},0,"",{"$f":"O37-O38","v":0},{"$f":"P37-P38","v":0},{"$f":"Q37-Q38","v":0},{"$f":"R37-R38","v":0},{"$f":"S37-S38","v":0},{"$f":"T37-T38","v":0},{"$f":"U37-U38","v":0},{"$f":"V37-V38","v":0},{"$f":"W37-W38","v":0},{"$f":"X37-X38","v":0}]
["8.3.3.","прочие","куб.м",{"$f":"D41+D42","v":0},0,0,0,{"$f":"H41+H42","v":0},{"$f":"I41+I42","v":0},{"$f":"I40-H40","v":0},"",{"$f":"L41+L42","v":0},0,"",{"$f":"'полезный отпуск'!O55","v":0},{"$f":"'полезный отпуск'!O80","v":0},{"$f":"'полезный отпуск'!O105","v":0},{"$f":"'полезный отпуск'!O130","v":0},{"$f":"'полезный отпуск'!O155","v":0},{"$f":"'полезный отпуск'!O180","v":0},{"$f":"'полезный отпуск'!O205","v":0},{"$f":"'полезный отпуск'!O230","v":0},{"$f":"'полезный отпуск'!O255","v":0},{"$f":"'полезный отпуск'!O280","v":0}]
["8.3.3.1."," - по приборам учета","куб.м",{"$f":"'исходные данные'!D41*1000","v":0},{"$f":"'исходные данные'!E41*1000","v":0},{"$f":"'исходные данные'!F41*1000","v":0},{"$f":"'исходные данные'!G41*1000","v":0},{"$f":"'исходные данные'!H41*1000","v":0},{"$f":"O41+P41+Q41+R41+S41+T41+U41+V41+W41+X41","v":0},0,"",{"$f":"I41","v":0},0,"",{"$f":"'отчет по реализации'!G115+'отчет по реализации'!J115+'отчет по реализации'!G148+'отчет по реализации'!J148","v":0},{"$f":"'отчет по реализации'!G189+'отчет по реализации'!J189+'отчет по реализации'!G222+'отчет по реализации'!J222","v":0},{"$f":"'отчет по реализации'!G263+'отчет по реализации'!J263+'отчет по реализации'!G296+'отчет по реализации'!J296","v":0},{"$f":"'отчет по реализации'!G337+'отчет по реализации'!J337+'отчет по реализации'!G370+'отчет по реализации'!J370","v":0},{"$f":"'отчет по реализации'!G411+'отчет по реализации'!J411+'отчет по реализации'!G444+'отчет по реализации'!J444","v":0},{"$f":"'отчет по реализации'!G485+'отчет по реализации'!J485+'отчет по реализации'!G518+'отчет по реализации'!J518","v":0},{"$f":"'отчет по реализации'!G559+'отчет по реализации'!J559+'отчет по реализации'!G592+'отчет по реализации'!J592","v":0},{"$f":"'отчет по реализации'!G633+'отчет по реализации'!J633+'отчет по реализации'!G666+'отчет по реализации'!J666","v":0},{"$f":"'отчет по реализации'!G707+'отчет по реализации'!J707+'отчет по реализации'!G740+'отчет по реализации'!J740","v":0},{"$f":"'отчет по реализации'!G781+'отчет по реализации'!J781+'отчет по реализации'!G814+'отчет по реализации'!J814","v":0}]
["8.3.3.2."," - по нормативам","куб.м",{"$f":"'исходные данные'!D42*1000","v":0},{"$f":"'исходные данные'!E42*1000","v":0},{"$f":"'исходные данные'!F42*1000","v":0},{"$f":"'исходные данные'!G42*1000","v":0},{"$f":"'исходные данные'!H42*1000","v":0},0,0,"",{"$f":"I42","v":0},0,"",{"$f":"O40-O41","v":0},{"$f":"P40-P41","v":0},{"$f":"Q40-Q41","v":0},{"$f":"R40-R41","v":0},{"$f":"S40-S41","v":0},{"$f":"T40-T41","v":0},{"$f":"U40-U41","v":0},{"$f":"V40-V41","v":0},{"$f":"W40-W41","v":0},{"$f":"X40-X41","v":0}]
[null,"Справочные показатели"]
[]
[]
[]
[]
[]
[]
[]
[]
[]
[]
[]
["9.1.","Доля полезного отпуска, реализуемого по приборам учета","%",{"$f":"IF(D33=0,,(D35+D38+D41)/D33*100)","v":0},0,0,0,{"$f":"IF(H33=0,,(H35+H38+H41)/H33*100)","v":0},{"$f":"IF(I33=0,,(I35+I38+I41)/I33*100)","v":0},{"$f":"I55-H55","v":0},{"$f":"IF(H55=0,\"\",J55/H55*100)","v":""},{"$f":"IF(L33=0,\"0\",(L35+L38+L41)/L33*100)","v":"0"},{"$f":"L55-H55","v":0},{"$f":"IF(H55=0,\"\",M55/H55*100)","v":""},{"$f":"IF(O33=0,\"\",(O35+O38+O41)/O33*100)","v":""},{"$f":"IF(P33=0,\"\",(P35+P38+P41)/P33*100)","v":""},"","","","","","","",""]
["9.2.","то же с учетом собственных нужд и перепродажи","%",{"$f":"IF(D30=0,,(D35+D38+D41+D32+D31)/D30*100)","v":0},0,0,0,{"$f":"IF(H30=0,,(H35+H38+H41+H32+H31)/H30*100)","v":0},{"$f":"IF(I30=0,,(I35+I38+I41+I32+I31)/I30*100)","v":0},0,"",{"$f":"IF(L30=0,\"0\",(L35+L38+L41+L32+L31)/L30*100)","v":"0"},{"$f":"L56-H56","v":0},"",{"$f":"IF(O30=0,\"\",(O35+O38+O41+O32+O31)/O30*100)","v":""},{"$f":"IF(P30=0,\"\",(P35+P38+P41+P32+P31)/P30*100)","v":""},"","","","","","","",""]
["10.","Объем потребленной электроэнергии ","кВт.ч.",{"$f":"'исходные данные'!D57","v":0},{"$f":"'исходные данные'!E57","v":0},{"$f":"'исходные данные'!F57","v":0},{"$f":"'исходные данные'!G57","v":0},{"$f":"'исходные данные'!H57","v":0},{"$f":"O57+P57+Q57+R57+S57+T57+U57+V57+W57+X57","v":0},0,"",{"$f":"'отчет по электроэнергии'!F47","v":0},0,{"$f":"IF(H57=0,\"\",M57/H57*100)","v":""}]
["11.","Удельный расход электроэнергии на реализованную воду","кВт*ч/куб.м",{"$f":"IF(D30=0,0,D57/D30)","v":0},0,0,0,{"$f":"IF(H30=0,0,H57/H30)","v":0},{"$f":"IF(I30=0,0,I57/I30)","v":0},0,"",{"$f":"IF(L30=0,0,L57/L30)","v":0},0,"",{"$f":"IF(O30=0,0,O57/O30)","v":0},0,0,0,0,0,0,0,0,0]
["12.","Удельное потребление воды населением","куб.м/час",{"$f":"D37/(24*365)","v":0},0,0,0,{"$f":"H37/(24*365)","v":0},{"$f":"I37/(24*365)","v":0},0,"",{"$f":"L37/(24*365)","v":0},0,"",{"$f":"O37/(24*365)","v":0},0,0,0,0,0,0,0,0,0]
["13.","Объем отпущенной воды на 1 человека","куб.м/чел в мес.",{"$f":"IF((12*D62)=0,0,D37/(12*D62))","v":0},0,0,0,{"$f":"IF((12*H62)=0,0,H37/(12*H62))","v":0},{"$f":"IF((12*I62)=0,0,I37/(12*I62))","v":0},0,"",{"$f":"IF((12*L62)=0,0,L37/(12*L62))","v":0},0,"",{"$f":"IF((12*O62)=0,0,O37/(12*O62))","v":0},0,0,0,0,0,0,0,0,0]
["14.","Присоединенная мощность потребителей товаров (услуг) по холодному водоснабжению","куб.м/час",{"$f":"'исходные данные'!D63","v":0},{"$f":"'исходные данные'!E63","v":0},{"$f":"'исходные данные'!F63","v":0},{"$f":"'исходные данные'!G63","v":0},{"$f":"'исходные данные'!H63","v":0},{"$f":"O61+P61+Q61+R61+S61+T61+U61+V61+W61+X61","v":0},0,"",{"$f":"I61","v":0},0,"",{"$f":"O30/(365*24)","v":0},0,0,0,0,0,0,0,0,0]
["15.","Численность населения, получающего услуги организации","чел",{"$f":"'исходные данные'!D65","v":0},{"$f":"'исходные данные'!E65","v":0},{"$f":"'исходные данные'!F65","v":0},{"$f":"'исходные данные'!G65","v":0},{"$f":"'исходные данные'!H65","v":0},{"$f":"O62+P62+Q62+R62+S62+T62+U62+V62+W62+X62","v":0},0,"",{"$f":"I62","v":0},0,{"$f":"IF(H62=0,\"\",M62/H62*100)","v":""}]
[null,"Количество лицевых счетов","шт",null,null,null,null,null,0]
[null,null,null,null,null,null,null,{"$f":"H30-'исходные данные'!H30*1000","v":0},null,null,null,null,null,null,{"$f":"O30-'полезный отпуск'!C55","v":0},{"$f":"P30-'полезный отпуск'!C80","v":0},{"$f":"Q30-'полезный отпуск'!C105","v":0},{"$f":"R30-'полезный отпуск'!C130","v":0},{"$f":"S30-'полезный отпуск'!C155","v":0},{"$f":"T30-'полезный отпуск'!C180","v":0},{"$f":"U30-'полезный отпуск'!C205","v":0},{"$f":"V30-'полезный отпуск'!C230","v":0},{"$f":"W30-'полезный отпуск'!C255","v":0},{"$f":"X30-'полезный отпуск'!C280","v":0}]

{"sheet":"отчет по реализации","index":11,"n_rows":817,"n_cols":21,"rows_kept":817,"cut":false,"hidden":false,"merged":[[677,19,707,19],[708,1,708,16],[677,12,702,12],[784,19,814,19],[749,1,749,16],[751,19,781,19],[784,12,809,12],[782,1,782,16],[751,12,776,12],[381,19,411,19],[412,1,412,16],[381,12,406,12],[455,19,485,19],[450,18,451,20],[529,19,559,19],[603,19,633,19],[603,12,628,12],[675,1,675,16],[486,1,486,16],[455,12,480,12],[453,1,453,16],[527,1,527,16],[560,1,560,16],[529,12,554,12],[601,1,601,16],[634,1,634,16],[379,1,379,16],[118,19,148,19],[233,19,263,19],[264,1,264,16],[307,19,337,19],[338,1,338,16],[307,12,332,12],[154,18,155,20],[228,18,229,20],[302,18,303,20],[233,12,258,12],[118,12,143,12],[159,12,184,12],[152,3,152,11],[153,3,153,11],[159,19,189,19],[190,1,190,16],[157,1,157,16],[6,18,7,20],[78,3,78,11],[85,19,115,19],[79,3,79,11],[80,12,82,12],[80,13,80,17],[81,5,81,7],[80,18,81,20],[11,19,41,19],[44,19,74,19],[85,12,110,12],[9,1,9,16],[42,1,42,16],[11,12,36,12],[44,12,69,12],[81,17,82,17],[0,0,0,17],[6,0,8,0],[6,1,8,1],[6,2,8,2],[6,5,6,11],[6,12,8,12],[6,13,6,17],[1,0,1,17],[2,0,2,17],[6,3,7,4],[3,6,3,10],[4,3,4,11],[7,5,7,7],[7,8,7,10],[7,11,8,11],[7,13,7,14],[7,15,7,16],[7,17,8,17],[154,0,156,0],[154,1,156,1],[154,2,156,2],[154,3,155,4],[154,5,154,11],[80,0,82,0],[80,1,82,1],[80,2,82,2],[80,3,81,4],[80,5,80,11],[83,1,83,16],[154,12,156,12],[154,13,154,17],[155,5,155,7],[155,8,155,10],[155,11,156,11],[155,13,155,14],[155,15,155,16],[155,17,156,17],[81,8,81,10],[81,11,82,11],[81,13,81,14],[81,15,81,16],[116,1,116,16],[228,0,230,0],[228,1,230,1],[228,2,230,2],[228,3,229,4],[228,5,228,11],[192,19,222,19],[226,3,226,11],[227,3,227,11],[231,1,231,16],[228,12,230,12],[228,13,228,17],[229,5,229,7],[229,8,229,10],[229,11,230,11],[229,13,229,14],[229,15,229,16],[229,17,230,17],[192,12,217,12],[302,0,304,0],[302,1,304,1],[302,2,304,2],[302,3,303,4],[302,5,302,11],[266,19,296,19],[300,3,300,11],[301,3,301,11],[305,1,305,16],[302,12,304,12],[302,13,302,17],[303,5,303,7],[303,8,303,10],[303,11,304,11],[303,13,303,14],[303,15,303,16],[303,17,304,17],[266,12,291,12],[376,0,378,0],[376,1,378,1],[376,2,378,2],[376,3,377,4],[376,5,376,11],[340,19,370,19],[374,3,374,11],[375,3,375,11],[340,12,365,12],[376,12,378,12],[376,13,376,17],[377,5,377,7],[377,8,377,10],[377,11,378,11],[377,13,377,14],[377,15,377,16],[377,17,378,17],[376,18,377,20],[450,0,452,0],[450,1,452,1],[450,2,452,2],[450,3,451,4],[450,5,450,11],[414,19,444,19],[448,3,448,11],[449,3,449,11],[414,12,439,12],[450,12,452,12],[450,13,450,17],[451,5,451,7],[451,8,451,10],[451,11,452,11],[451,13,451,14],[451,15,451,16],[451,17,452,17],[524,0,526,0],[524,1,526,1],[524,2,526,2],[524,3,525,4],[524,5,524,11],[488,19,518,19],[522,3,522,11],[523,3,523,11],[488,12,513,12],[524,18,525,20],[524,12,526,12],[524,13,524,17],[525,5,525,7],[525,8,525,10],[525,11,526,11],[525,13,525,14],[525,15,525,16],[525,17,526,17],[598,0,600,0],[598,1,600,1],[598,2,600,2],[598,3,599,4],[598,5,598,11],[562,19,592,19],[596,3,596,11],[597,3,597,11],[562,12,587,12],[598,18,599,20],[598,12,600,12],[598,13,598,17],[599,5,599,7],[599,8,599,10],[599,11,600,11],[599,13,599,14],[599,15,599,16],[599,17,600,17],[672,0,674,0],[672,1,674,1],[672,2,674,2],[672,3,673,4],[672,5,672,11],[636,19,666,19],[670,3,670,11],[671,3,671,11],[636,12,661,12],[672,18,673,20],[672,12,674,12],[672,13,672,17],[673,5,673,7],[673,8,673,10],[673,11,674,11],[673,13,673,14],[673,15,673,16],[673,17,674,17],[746,0,748,0],[746,1,748,1],[746,2,748,2],[746,3,747,4],[746,5,746,11],[710,19,740,19],[744,3,744,11],[745,3,745,11],[710,12,735,12],[746,18,747,20],[746,12,748,12],[746,13,746,17],[747,5,747,7],[747,8,747,10],[747,11,748,11],[747,13,747,14],[747,15,747,16],[747,17,748,17]]}
["Сводный отчет по выручке от реализации холодной воды"]
[{"$f":"Титульный!C10","v":" "}]
[{"$f":"Титульный!C19","v":0}]
[null,"Район",{"$f":"Титульный!C6","v":0},null,null,"МО",{"$f":"Титульный!C7","v":0}]
[null,null,null,"Всего по тарифу"]
[]
["№","Вид потребителя","Степень благоустройства, наименование скота","Нормы потребления холодного и горячего водоснабжения, куб.м. в месяц(на 1 чел, на 1 голову скота и тд)",null,"Фактический годовой объем реализации воды,  куб.м.",null,null,null,null,null,null,"тариф на холодную воду, руб/куб.м.","Сумма, руб",null,null,null,null,"компенсация до установленного тарифа"]
[null,null,null,null,null,"холодной воды",null,null,"для нужд ГВС",null,null,"ВСЕГО",null,"холодной воды",null,"для нужд ГВС",null,"ИТОГО"]
[null,null,null,"холодной воды","ГВС","норматив","прибор учета","Итого","норматив","прибор учета","Итого",null,null,"норматив","прибор учета","норматив","прибор учета",null,"объем, куб.м.","размер, руб/куб.м.","Сумма, руб"]
[null,"1-е полугодие 2017 года"]
["1.","Население "]
["1.1."," хозяйственно-питьевые нужды","Квартиры с ваннами длиной от 1500 до 1700 мм, оборудованными душами",{"$f":"IF(C12=\"\",\"\",\"х\")","v":"х"},{"$f":"IF(D12=\"\",\"\",\"х\")","v":"х"},{"$f":"F86+F160+F234+F308+F382+F456+F530+F604+F678+F752","v":0},0,{"$f":"F12+G12","v":0},{"$f":"I86+I160+I234+I308+I382+I456+I530+I604+I678+I752","v":0},0,{"$f":"I12+J12","v":0},{"$f":"H12+K12","v":0},{"$f":"'данные об организации'!$I$29","v":0},{"$f":"N86+N160+N234+N308+N382+N456+N530+N604+N678+N752","v":0},0,0,0,{"$f":"SUM(N12:Q12)","v":0},{"$f":"S86+S160+S234+S308+S382+S456+S530+S604+S678+S752","v":0},{"$f":"'данные об организации'!$H$39","v":0},{"$f":"U86+U160+U234+U308+U382+U456+U530+U604+U678+U752","v":0}]
["1.2."," хозяйственно-питьевые нужды","Квартиры  без ванн,  без ГВС и кан-ции",{"$f":"IF(C13=\"\",\"\",\"х\")","v":"х"},"х",0,0,{"$f":"F13+G13","v":0},0,0,{"$f":"I13+J13","v":0},{"$f":"H13+K13","v":0},null,0,0,0,0,{"$f":"SUM(N13:Q13)","v":0},0,null,0]
["1.3."," хозяйственно-питьевые нужды","Квартиры с ваннами длиной от 1500 до 1700 мм, оборудованными душами",{"$f":"IF(C14=\"\",\"\",\"х\")","v":"х"},"х",0,0,0,0,0,0,0,null,0,0,0,0,0,0,null,0]
["1.4."," хозяйственно-питьевые нужды","Квартиры с  общими душами на этаже",{"$f":"IF(C15=\"\",\"\",\"х\")","v":"х"},"х",0,0,0,0,0,0,0,null,0,0,0,0,0,0,null,0]
["1.5."," хозяйственно-питьевые нужды","Квартиры  с ваннами и местным  ГВС (индивид эл.бойлера)",{"$f":"IF(C16=\"\",\"\",\"х\")","v":"х"},"х",0,0,0,0,0,0,0,null,0,0,0,0,0,0,null,0]
["1.6."," хозяйственно-питьевые нужды","Квартиры  с ваннами и местным  ГВС (общий т/обменник от отопления 252 дня)",{"$f":"IF(C17=\"\",\"\",\"х\")","v":"х"},"х",0,0,0,0,0,0,0,null,0,0,0,0,0,0,null,0]
["1.7."," хозяйственно-питьевые нужды","Квартиры с ваннами длиной от 1500 до 1700 мм, оборудованными душами",{"$f":"IF(C18=\"\",\"\",\"х\")","v":"х"},"х",0,0,0,0,0,{"$f":"I18+J18","v":0},{"$f":"H18+K18","v":0},null,0,0,0,0,{"$f":"SUM(N18:Q18)","v":0},0,null,0]
["1.8."," хозяйственно-питьевые нужды","Квартиры  с ваннами и местным  ГВС (индивид эл.бойлера)",{"$f":"IF(C19=\"\",\"\",\"х\")","v":"х"},"х",0,0,0,0,0,0,0,null,0,0,0,0,0,0,null,0]
["1.9."," хозяйственно-питьевые нужды","Квартиры с ваннами длиной от 1500 до 1700 мм, оборудованными душами",{"$f":"IF(C20=\"\",\"\",\"х\")","v":"х"},"х",0,0,0,0,0,0,0,null,0,0,0,0,0,0,null,0]
["1.10."," хозяйственно-питьевые нужды","Квартиры с ваннами длиной от 1500 до 1700 мм, оборудованными душами",{"$f":"IF(C21=\"\",\"\",\"х\")","v":"х"},"х",0,0,0,0,0,0,0,null,0,0,0,0,0,0,null,0]
["1.11."," хозяйственно-питьевые нужды","Квартиры с ваннами сидячими, оборудованными душами",{"$f":"IF(C22=\"\",\"\",\"х\")","v":"х"},"х",0,0,0,0,0,0,0,null,0,0,0,0,0,0,null,0]
["1.12."," хозяйственно-питьевые нужды","Квартиры с общими душами на этаже",{"$f":"IF(C23=\"\",\"\",\"х\")","v":"х"},"х",0,0,0,0,0,0,0,null,0,0,0,0,0,0,null,0]
["1.13."," хозяйственно-питьевые нужды","Квартиры с ваннами длиной от 1500 до 1700 мм, оборудованными душами",{"$f":"IF(C24=\"\",\"\",\"х\")","v":"х"},"х",0,0,0,0,0,0,0,null,0,0,0,0,0,0,null,0]
["1.14."," хозяйственно-питьевые нужды","Квартиры с ваннами длиной от 1500 до 1700 мм, оборудованными душами",{"$f":"IF(C25=\"\",\"\",\"х\")","v":"х"},"х",0,0,0,0,0,0,0,null,0,0,0,0,0,0,null,0]
["1.15."," хозяйственно-питьевые нужды","Квартиры с общими душами в секции",{"$f":"IF(C26=\"\",\"\",\"х\")","v":"х"},"х",0,0,0,0,0,0,0,null,0,0,0,0,0,0,null,0]
["1.16."," хозяйственно-питьевые нужды","Квартиры с ваннами длиной от 1500 до 1700 мм, оборудованными душами",{"$f":"IF(C27=\"\",\"\",\"х\")","v":"х"},"х",0,0,0,0,0,0,0,null,0,0,0,0,0,0,null,0]
["1.17."," хозяйственно-питьевые нужды","с водопроводом без канализации",{"$f":"IF(C28=\"\",\"\",\"х\")","v":"х"},"х",0,0,0,0,0,0,0,null,0,0,0,0,0,0,null,0]
["1.18."," хозяйственно-питьевые нужды","водопровод, ванны без ГВС и кан-ции",{"$f":"IF(C29=\"\",\"\",\"х\")","v":"х"},"х",0,0,0,0,0,0,0,null,0,0,0,0,0,0,null,0]
["1.19."," хозяйственно-питьевые нужды","с ваннами, оборудованными душами и с канализацией",{"$f":"IF(C30=\"\",\"\",\"х\")","v":"х"},"х",0,0,0,0,0,0,0,null,0,0,0,0,0,0,null,0]
["1.20."," хозяйственно-питьевые нужды","с водопроводом без канализации",{"$f":"IF(C31=\"\",\"\",\"х\")","v":"х"},"х",0,0,0,0,0,0,0,null,0,0,0,0,0,0,null,0]
["1.21."," хозяйственно-питьевые нужды","водопровод, ванны без ГВС и кан-ции",{"$f":"IF(C32=\"\",\"\",\"х\")","v":"х"},"х",0,0,0,0,0,0,0,null,0,0,0,0,0,0,null,0]
["1.22."," хозяйственно-питьевые нужды","с ваннами, оборудованными душами и с канализацией",{"$f":"IF(C33=\"\",\"\",\"х\")","v":"х"},"х",0,0,0,0,0,0,0,null,0,0,0,0,0,0,null,0]
["1.23."," хозяйственно-питьевые нужды","с водопроводом без канализации",{"$f":"IF(C34=\"\",\"\",\"х\")","v":"х"},"х",0,0,0,0,0,0,0,null,0,0,0,0,0,0,null,0]
["1.24."," хозяйственно-питьевые нужды","водопровод, ванны без ГВС и кан-ции",{"$f":"IF(C35=\"\",\"\",\"х\")","v":"х"},"х",0,0,0,0,0,0,0,null,0,0,0,0,0,0,null,0]
["1.25."," хозяйственно-питьевые нужды","с ваннами, оборудованными душами и с канализацией",{"$f":"IF(C36=\"\",\"\",\"х\")","v":"х"},"х",0,0,0,0,0,0,0,null,0,0,0,0,0,0,null,0]
["1.26.","поливка  приусадебных участков","полив и бани",{"$f":"IF(C37=\"\",\"\",\"х\")","v":"х"},"х",0,0,0,0,0,0,0,null,0,0,0,0,0,0,null,0]
[null,"перерасчеты",null,"х","х","х","х","х","х","х","х","х","контроль","х","х","х","х",{"$f":"R112+R186+R260+R334+R408+R482+R556+R630+R704+R778","v":0},"х",null,0]
[null,"Итого население",null,null,null,{"$f":"SUM(F12:F37)","v":0},0,0,0,0,0,0,{"$f":"L39-'полезный отпуск'!N31","v":0},{"$f":"N113+N187+N261+N335+N409+N483+N557+N631+N705+N779","v":0},0,0,0,{"$f":"SUM(R12:R38)","v":0},{"$f":"S113+S187+S261+S335+S409+S483+S557+S631+S705+S779","v":0},null,{"$f":"SUM(U12:U38)","v":0}]
["2.","Итого бюджет",null,null,null,{"$f":"F114+F188+F262+F336+F410+F484+F558+F632+F706+F780","v":0},{"$f":"G114+G188+G262+G336+G410+G484+G558+G632+G706+G780","v":0},{"$f":"F40+G40","v":0},{"$f":"I114+I188+I262+I336+I410+I484+I558+I632+I706+I780","v":0},{"$f":"J114+J188+J262+J336+J410+J484+J558+J632+J706+J780","v":0},{"$f":"I40+J40","v":0},{"$f":"H40+K40","v":0},{"$f":"L40-'полезный отпуск'!M31","v":0},0,0,0,0,{"$f":"SUM(N40:Q40)","v":0},{"$f":"S114+S188+S262+S336+S410+S484+S558+S632+S706+S780","v":0}]
["3.","Итого прочие+другие водопроводы",null,null,null,{"$f":"F115+F189+F263+F337+F411+F485+F559+F633+F707+F781","v":0},{"$f":"G115+G189+G263+G337+G411+G485+G559+G633+G707+G781","v":0},0,{"$f":"I115+I189+I263+I337+I411+I485+I559+I633+I707+I781","v":0},{"$f":"J115+J189+J263+J337+J411+J485+J559+J633+J707+J781","v":0},{"$f":"I41+J41","v":0},{"$f":"H41+K41","v":0},{"$f":"L41-('полезный отпуск'!O31+'полезный отпуск'!H31)","v":0},0,0,0,0,{"$f":"SUM(N41:Q41)","v":0},{"$f":"S115+S189+S263+S337+S411+S485+S559+S633+S707+S781","v":0}]
["4.","ВСЕГО 1-е полугодие",null,null,null,{"$f":"SUM(F39:F41)","v":0},0,0,0,0,0,0,{"$f":"L42-('полезный отпуск'!L31+'полезный отпуск'!H31)","v":0},{"$f":"SUM(N39:N41)","v":0},0,0,0,0,0,null,{"$f":"SUM(U39:U41)","v":0}]
[null,"2-е полугодие 2017 года"]
["1.","Население "]
[{"$f":"IF(A12=\"\",\"\",A12)","v":"1.1."}," хозяйственно-питьевые нужды","Квартиры с ваннами длиной от 1500 до 1700 мм, оборудованными душами",{"$f":"IF(C45=\"\",\"\",\"х\")","v":"х"},{"$f":"IF(C45=\"\",\"\",\"х\")","v":"х"},{"$f":"F119+F193+F267+F341+F415+F489+F563+F637+F711+F785","v":0},0,{"$f":"F45+G45","v":0},{"$f":"I119+I193+I267+I341+I415+I489+I563+I637+I711+I785","v":0},0,{"$f":"I45+J45","v":0},{"$f":"H45+K45","v":0},{"$f":"'данные об организации'!$I$31","v":0},{"$f":"N119+N193+N267+N341+N415+N489+N563+N637+N711+N785","v":0},0,0,0,{"$f":"SUM(N45:Q45)","v":0},{"$f":"S119+S193+S267+S341+S415+S489+S563+S637+S711+S785","v":0},{"$f":"'данные об организации'!$H$41","v":0},{"$f":"U119+U193+U267+U341+U415+U489+U563+U637+U711+U785","v":0}]
["1.2."," хозяйственно-питьевые нужды","Квартиры  без ванн,  без ГВС и кан-ции",{"$f":"IF(C46=\"\",\"\",\"х\")","v":"х"},{"$f":"IF(C46=\"\",\"\",\"х\")","v":"х"},{"$f":"F120+F194+F268+F342+F416+F490+F564+F638+F712+F786","v":0},0,{"$f":"F46+G46","v":0},{"$f":"I120+I194+I268+I342+I416+I490+I564+I638+I712+I786","v":0},0,{"$f":"I46+J46","v":0},{"$f":"H46+K46","v":0},null,{"$f":"N120+N194+N268+N342+N416+N490+N564+N638+N712+N786","v":0},0,0,0,{"$f":"SUM(N46:Q46)","v":0},{"$f":"S120+S194+S268+S342+S416+S490+S564+S638+S712+S786","v":0},null,{"$f":"U120+U194+U268+U342+U416+U490+U564+U638+U712+U786","v":0}]
["1.3."," хозяйственно-питьевые нужды","Квартиры с ваннами длиной от 1500 до 1700 мм, оборудованными душами","х","х",{"$f":"F121+F195+F269+F343+F417+F491+F565+F639+F713+F787","v":0},0,0,{"$f":"I121+I195+I269+I343+I417+I491+I565+I639+I713+I787","v":0},0,0,0,null,{"$f":"N121+N195+N269+N343+N417+N491+N565+N639+N713+N787","v":0},0,0,0,0,{"$f":"S121+S195+S269+S343+S417+S491+S565+S639+S713+S787","v":0},null,{"$f":"U121+U195+U269+U343+U417+U491+U565+U639+U713+U787","v":0}]
["1.4."," хозяйственно-питьевые нужды","Квартиры с  общими душами на этаже","х","х",{"$f":"F122+F196+F270+F344+F418+F492+F566+F640+F714+F788","v":0},0,0,{"$f":"I122+I196+I270+I344+I418+I492+I566+I640+I714+I788","v":0},0,0,0,null,{"$f":"N122+N196+N270+N344+N418+N492+N566+N640+N714+N788","v":0},0,0,0,0,{"$f":"S122+S196+S270+S344+S418+S492+S566+S640+S714+S788","v":0},null,{"$f":"U122+U196+U270+U344+U418+U492+U566+U640+U714+U788","v":0}]
["1.5."," хозяйственно-питьевые нужды","Квартиры  с ваннами и местным  ГВС (индивид эл.бойлера)","х","х",{"$f":"F123+F197+F271+F345+F419+F493+F567+F641+F715+F789","v":0},0,0,{"$f":"I123+I197+I271+I345+I419+I493+I567+I641+I715+I789","v":0},0,0,0,null,{"$f":"N123+N197+N271+N345+N419+N493+N567+N641+N715+N789","v":0},0,0,0,0,{"$f":"S123+S197+S271+S345+S419+S493+S567+S641+S715+S789","v":0},null,{"$f":"U123+U197+U271+U345+U419+U493+U567+U641+U715+U789","v":0}]
["1.6."," хозяйственно-питьевые нужды","Квартиры  с ваннами и местным  ГВС (общий т/обменник от отопления 252 дня)","х","х",{"$f":"F124+F198+F272+F346+F420+F494+F568+F642+F716+F790","v":0},0,0,{"$f":"I124+I198+I272+I346+I420+I494+I568+I642+I716+I790","v":0},0,0,0,null,{"$f":"N124+N198+N272+N346+N420+N494+N568+N642+N716+N790","v":0},0,0,0,0,{"$f":"S124+S198+S272+S346+S420+S494+S568+S642+S716+S790","v":0},null,{"$f":"U124+U198+U272+U346+U420+U494+U568+U642+U716+U790","v":0}]
["1.7."," хозяйственно-питьевые нужды","Квартиры с ваннами длиной от 1500 до 1700 мм, оборудованными душами","х","х",{"$f":"F125+F199+F273+F347+F421+F495+F569+F643+F717+F791","v":0},0,0,{"$f":"I125+I199+I273+I347+I421+I495+I569+I643+I717+I791","v":0},0,{"$f":"I51+J51","v":0},{"$f":"H51+K51","v":0},null,{"$f":"N125+N199+N273+N347+N421+N495+N569+N643+N717+N791","v":0},0,0,0,0,{"$f":"S125+S199+S273+S347+S421+S495+S569+S643+S717+S791","v":0},null,{"$f":"U125+U199+U273+U347+U421+U495+U569+U643+U717+U791","v":0}]
["1.8."," хозяйственно-питьевые нужды","Квартиры  с ваннами и местным  ГВС (индивид эл.бойлера)","х","х",{"$f":"F126+F200+F274+F348+F422+F496+F570+F644+F718+F792","v":0},0,0,{"$f":"I126+I200+I274+I348+I422+I496+I570+I644+I718+I792","v":0},0,0,0,null,{"$f":"N126+N200+N274+N348+N422+N496+N570+N644+N718+N792","v":0},0,0,0,0,{"$f":"S126+S200+S274+S348+S422+S496+S570+S644+S718+S792","v":0},null,{"$f":"U126+U200+U274+U348+U422+U496+U570+U644+U718+U792","v":0}]
["1.9."," хозяйственно-питьевые нужды","Квартиры с ваннами длиной от 1500 до 1700 мм, оборудованными душами","х","х",{"$f":"F127+F201+F275+F349+F423+F497+F571+F645+F719+F793","v":0},0,0,{"$f":"I127+I201+I275+I349+I423+I497+I571+I645+I719+I793","v":0},0,0,0,null,{"$f":"N127+N201+N275+N349+N423+N497+N571+N645+N719+N793","v":0},0,0,0,0,{"$f":"S127+S201+S275+S349+S423+S497+S571+S645+S719+S793","v":0},null,{"$f":"U127+U201+U275+U349+U423+U497+U571+U645+U719+U793","v":0}]
["1.10."," хозяйственно-питьевые нужды","Квартиры с ваннами длиной от 1500 до 1700 мм, оборудованными душами","х","х",{"$f":"F128+F202+F276+F350+F424+F498+F572+F646+F720+F794","v":0},0,0,{"$f":"I128+I202+I276+I350+I424+I498+I572+I646+I720+I794","v":0},0,0,0,null,{"$f":"N128+N202+N276+N350+N424+N498+N572+N646+N720+N794","v":0},0,0,0,0,{"$f":"S128+S202+S276+S350+S424+S498+S572+S646+S720+S794","v":0},null,{"$f":"U128+U202+U276+U350+U424+U498+U572+U646+U720+U794","v":0}]
["1.11."," хозяйственно-питьевые нужды","Квартиры с ваннами сидячими, оборудованными душами","х","х",{"$f":"F129+F203+F277+F351+F425+F499+F573+F647+F721+F795","v":0},0,0,{"$f":"I129+I203+I277+I351+I425+I499+I573+I647+I721+I795","v":0},0,0,0,null,{"$f":"N129+N203+N277+N351+N425+N499+N573+N647+N721+N795","v":0},0,0,0,0,{"$f":"S129+S203+S277+S351+S425+S499+S573+S647+S721+S795","v":0},null,{"$f":"U129+U203+U277+U351+U425+U499+U573+U647+U721+U795","v":0}]
["1.12."," хозяйственно-питьевые нужды","Квартиры с общими душами на этаже","х","х",{"$f":"F130+F204+F278+F352+F426+F500+F574+F648+F722+F796","v":0},0,0,{"$f":"I130+I204+I278+I352+I426+I500+I574+I648+I722+I796","v":0},0,0,0,null,{"$f":"N130+N204+N278+N352+N426+N500+N574+N648+N722+N796","v":0},0,0,0,0,{"$f":"S130+S204+S278+S352+S426+S500+S574+S648+S722+S796","v":0},null,{"$f":"U130+U204+U278+U352+U426+U500+U574+U648+U722+U796","v":0}]
["1.13."," хозяйственно-питьевые нужды","Квартиры с ваннами длиной от 1500 до 1700 мм, оборудованными душами","х","х",{"$f":"F131+F205+F279+F353+F427+F501+F575+F649+F723+F797","v":0},0,0,{"$f":"I131+I205+I279+I353+I427+I501+I575+I649+I723+I797","v":0},0,0,0,null,{"$f":"N131+N205+N279+N353+N427+N501+N575+N649+N723+N797","v":0},0,0,0,0,{"$f":"S131+S205+S279+S353+S427+S501+S575+S649+S723+S797","v":0},null,{"$f":"U131+U205+U279+U353+U427+U501+U575+U649+U723+U797","v":0}]
["1.14."," хозяйственно-питьевые нужды","Квартиры с ваннами длиной от 1500 до 1700 мм, оборудованными душами","х","х",{"$f":"F132+F206+F280+F354+F428+F502+F576+F650+F724+F798","v":0},0,0,{"$f":"I132+I206+I280+I354+I428+I502+I576+I650+I724+I798","v":0},0,0,0,null,{"$f":"N132+N206+N280+N354+N428+N502+N576+N650+N724+N798","v":0},0,0,0,0,{"$f":"S132+S206+S280+S354+S428+S502+S576+S650+S724+S798","v":0},null,{"$f":"U132+U206+U280+U354+U428+U502+U576+U650+U724+U798","v":0}]
["1.15."," хозяйственно-питьевые нужды","Квартиры с общими душами в секции","х","х",{"$f":"F133+F207+F281+F355+F429+F503+F577+F651+F725+F799","v":0},0,0,{"$f":"I133+I207+I281+I355+I429+I503+I577+I651+I725+I799","v":0},0,0,0,null,{"$f":"N133+N207+N281+N355+N429+N503+N577+N651+N725+N799","v":0},0,0,0,0,{"$f":"S133+S207+S281+S355+S429+S503+S577+S651+S725+S799","v":0},null,{"$f":"U133+U207+U281+U355+U429+U503+U577+U651+U725+U799","v":0}]
["1.16."," хозяйственно-питьевые нужды","Квартиры с ваннами длиной от 1500 до 1700 мм, оборудованными душами","х","х",{"$f":"F134+F208+F282+F356+F430+F504+F578+F652+F726+F800","v":0},0,0,{"$f":"I134+I208+I282+I356+I430+I504+I578+I652+I726+I800","v":0},0,0,0,null,{"$f":"N134+N208+N282+N356+N430+N504+N578+N652+N726+N800","v":0},0,0,0,0,{"$f":"S134+S208+S282+S356+S430+S504+S578+S652+S726+S800","v":0},null,{"$f":"U134+U208+U282+U356+U430+U504+U578+U652+U726+U800","v":0}]
["1.17."," хозяйственно-питьевые нужды","с водопроводом без канализации","х","х",{"$f":"F135+F209+F283+F357+F431+F505+F579+F653+F727+F801","v":0},0,0,{"$f":"I135+I209+I283+I357+I431+I505+I579+I653+I727+I801","v":0},0,0,0,null,{"$f":"N135+N209+N283+N357+N431+N505+N579+N653+N727+N801","v":0},0,0,0,0,{"$f":"S135+S209+S283+S357+S431+S505+S579+S653+S727+S801","v":0},null,{"$f":"U135+U209+U283+U357+U431+U505+U579+U653+U727+U801","v":0}]
["1.18."," хозяйственно-питьевые нужды","водопровод, ванны без ГВС и кан-ции","х","х",{"$f":"F136+F210+F284+F358+F432+F506+F580+F654+F728+F802","v":0},0,0,{"$f":"I136+I210+I284+I358+I432+I506+I580+I654+I728+I802","v":0},0,0,0,null,{"$f":"N136+N210+N284+N358+N432+N506+N580+N654+N728+N802","v":0},0,0,0,0,{"$f":"S136+S210+S284+S358+S432+S506+S580+S654+S728+S802","v":0},null,{"$f":"U136+U210+U284+U358+U432+U506+U580+U654+U728+U802","v":0}]
["1.19."," хозяйственно-питьевые нужды","с ваннами, оборудованными душами и с канализацией","х","х",{"$f":"F137+F211+F285+F359+F433+F507+F581+F655+F729+F803","v":0},0,0,{"$f":"I137+I211+I285+I359+I433+I507+I581+I655+I729+I803","v":0},0,0,0,null,{"$f":"N137+N211+N285+N359+N433+N507+N581+N655+N729+N803","v":0},0,0,0,0,{"$f":"S137+S211+S285+S359+S433+S507+S581+S655+S729+S803","v":0},null,{"$f":"U137+U211+U285+U359+U433+U507+U581+U655+U729+U803","v":0}]
["1.20."," хозяйственно-питьевые нужды","с водопроводом без канализации","х","х",{"$f":"F138+F212+F286+F360+F434+F508+F582+F656+F730+F804","v":0},0,0,{"$f":"I138+I212+I286+I360+I434+I508+I582+I656+I730+I804","v":0},0,0,0,null,{"$f":"N138+N212+N286+N360+N434+N508+N582+N656+N730+N804","v":0},0,0,0,0,{"$f":"S138+S212+S286+S360+S434+S508+S582+S656+S730+S804","v":0},null,{"$f":"U138+U212+U286+U360+U434+U508+U582+U656+U730+U804","v":0}]
["1.21."," хозяйственно-питьевые нужды","водопровод, ванны без ГВС и кан-ции","х","х",{"$f":"F139+F213+F287+F361+F435+F509+F583+F657+F731+F805","v":0},0,0,{"$f":"I139+I213+I287+I361+I435+I509+I583+I657+I731+I805","v":0},0,0,0,null,{"$f":"N139+N213+N287+N361+N435+N509+N583+N657+N731+N805","v":0},0,0,0,0,{"$f":"S139+S213+S287+S361+S435+S509+S583+S657+S731+S805","v":0},null,{"$f":"U139+U213+U287+U361+U435+U509+U583+U657+U731+U805","v":0}]
["1.22."," хозяйственно-питьевые нужды","с ваннами, оборудованными душами и с канализацией","х","х",{"$f":"F140+F214+F288+F362+F436+F510+F584+F658+F732+F806","v":0},0,0,{"$f":"I140+I214+I288+I362+I436+I510+I584+I658+I732+I806","v":0},0,0,0,null,{"$f":"N140+N214+N288+N362+N436+N510+N584+N658+N732+N806","v":0},0,0,0,0,{"$f":"S140+S214+S288+S362+S436+S510+S584+S658+S732+S806","v":0},null,{"$f":"U140+U214+U288+U362+U436+U510+U584+U658+U732+U806","v":0}]
["1.23."," хозяйственно-питьевые нужды","с водопроводом без канализации","х","х",{"$f":"F141+F215+F289+F363+F437+F511+F585+F659+F733+F807","v":0},0,0,{"$f":"I141+I215+I289+I363+I437+I511+I585+I659+I733+I807","v":0},0,0,0,null,{"$f":"N141+N215+N289+N363+N437+N511+N585+N659+N733+N807","v":0},0,0,0,0,{"$f":"S141+S215+S289+S363+S437+S511+S585+S659+S733+S807","v":0},null,{"$f":"U141+U215+U289+U363+U437+U511+U585+U659+U733+U807","v":0}]
["1.24."," хозяйственно-питьевые нужды","водопровод, ванны без ГВС и кан-ции","х","х",{"$f":"F142+F216+F290+F364+F438+F512+F586+F660+F734+F808","v":0},0,0,{"$f":"I142+I216+I290+I364+I438+I512+I586+I660+I734+I808","v":0},0,0,0,null,{"$f":"N142+N216+N290+N364+N438+N512+N586+N660+N734+N808","v":0},0,0,0,0,{"$f":"S142+S216+S290+S364+S438+S512+S586+S660+S734+S808","v":0},null,{"$f":"U142+U216+U290+U364+U438+U512+U586+U660+U734+U808","v":0}]
["1.25."," хозяйственно-питьевые нужды","с ваннами, оборудованными душами и с канализацией","х","х",{"$f":"F143+F217+F291+F365+F439+F513+F587+F661+F735+F809","v":0},0,0,{"$f":"I143+I217+I291+I365+I439+I513+I587+I661+I735+I809","v":0},0,0,0,null,{"$f":"N143+N217+N291+N365+N439+N513+N587+N661+N735+N809","v":0},0,0,0,0,{"$f":"S143+S217+S291+S365+S439+S513+S587+S661+S735+S809","v":0},null,{"$f":"U143+U217+U291+U365+U439+U513+U587+U661+U735+U809","v":0}]
["1.26.","поливка  приусадебных участков","полив и бани","х","х",{"$f":"F144+F218+F292+F366+F440+F514+F588+F662+F736+F810","v":0},0,0,{"$f":"I144+I218+I292+I366+I440+I514+I588+I662+I736+I810","v":0},0,0,0,null,{"$f":"N144+N218+N292+N366+N440+N514+N588+N662+N736+N810","v":0},0,0,0,0,{"$f":"S144+S218+S292+S366+S440+S514+S588+S662+S736+S810","v":0},null,{"$f":"U144+U218+U292+U366+U440+U514+U588+U662+U736+U810","v":0}]
[null,"перерасчеты",null,"х","х","х","х","х","х","х","х","х","контроль","х","х","х","х",0,"х",null,{"$f":"U145+U219+U293+U367+U441+U515+U589+U663+U737+U811","v":0}]
[null,"Итого население",null,null,null,{"$f":"SUM(F45:F70)","v":0},0,0,0,0,0,0,{"$f":"L72-'полезный отпуск'!N32","v":0},{"$f":"SUM(N45:N70)","v":0},0,0,{"$f":"SUM(Q45:Q70)","v":0},{"$f":"SUM(R45:R71)","v":0},{"$f":"SUM(S45:S70)","v":0},null,{"$f":"SUM(U45:U71)","v":0}]
["2.","Итого бюджет",null,null,null,{"$f":"F147+F221+F295+F369+F443+F517+F591+F665+F739+F813","v":0},0,{"$f":"F73+G73","v":0},{"$f":"I147+I221+I295+I369+I443+I517+I591+I665+I739+I813","v":0},0,{"$f":"I73+J73","v":0},{"$f":"H73+K73","v":0},{"$f":"L73-'полезный отпуск'!M32","v":0},{"$f":"N147+N221+N295+N369+N443+N517+N591+N665+N739+N813","v":0},0,0,0,{"$f":"SUM(N73:Q73)","v":0},{"$f":"S147+S221+S295+S369+S443+S517+S591+S665+S739+S813","v":0},null,{"$f":"U147+U221+U295+U369+U443+U517+U591+U665+U739+U813","v":0}]
["3.","Итого прочие+другие водопроводы",null,null,null,{"$f":"F148+F222+F296+F370+F444+F518+F592+F666+F740+F814","v":0},0,0,{"$f":"I148+I222+I296+I370+I444+I518+I592+I666+I740+I814","v":0},0,{"$f":"I74+J74","v":0},{"$f":"H74+K74","v":0},{"$f":"L74-('полезный отпуск'!O32+'полезный отпуск'!H32)","v":0},{"$f":"N148+N222+N296+N370+N444+N518+N592+N666+N740+N814","v":0},0,0,0,{"$f":"SUM(N74:Q74)","v":0},{"$f":"S148+S222+S296+S370+S444+S518+S592+S666+S740+S814","v":0},null,{"$f":"U148+U222+U296+U370+U444+U518+U592+U666+U740+U814","v":0}]
["4.","ВСЕГО 2-е полугодие",null,null,null,{"$f":"SUM(F72:F74)","v":0},0,0,0,0,0,0,{"$f":"L75-('полезный отпуск'!L32+'полезный отпуск'!H32)","v":0},{"$f":"SUM(N72:N74)","v":0},0,0,0,0,0,null,{"$f":"SUM(U72:U74)","v":0}]
[]
["5.","ГОД ВСЕГО",null,null,null,{"$f":"F42+F75","v":0},{"$f":"G42+G75","v":0},0,0,0,0,0,null,0,0,0,0,{"$f":"R42+R75","v":0},null,null,{"$f":"U42+U75","v":0}]
[]
[null,"МО",{"$f":"'данные об организации'!A13","v":0},{"$f":"'данные об организации'!$F$13","v":0}]
[null,null,null,"(наименование населенного пункта)"]
["№","Вид потребителя","Степень благоустройства, наименование скота","Нормы потребления холодного и горячего водоснабжения, куб.м. в месяц(на 1 чел, на 1 голову скота и тд)",null,"Фактический годовой объем реализации воды,  куб.м.",null,null,null,null,null,null,"тариф на холодную воду, руб/куб.м.","Сумма, руб",null,null,null,null,"компенсация до установленного тарифа"]
[null,null,null,null,null,"холодной воды",null,null,"для нужд ГВС",null,null,"ВСЕГО",null,"холодной воды",null,"для нужд ГВС",null,"ИТОГО"]
[null,null,null,"холодной воды","ГВС","норматив","прибор учета","Итого","норматив","прибор учета","Итого",null,null,"норматив","прибор учета","норматив","прибор учета",null,"объем, куб.м.","размер, руб/куб.м.","Сумма, руб"]
[null,"1-е полугодие 2017года"]
["1.","Население "]
[{"$f":"IF(A45=\"\",\"\",A45)","v":"1.1."},{"$f":"IF(B45=\"\",\"\",B45)","v":" хозяйственно-питьевые нужды"},{"$f":"IF(C45=\"\",\"\",C45)","v":"Квартиры с ваннами длиной от 1500 до 1700 мм, оборудованными душами"},null,null,null,null,{"$f":"F86+G86","v":0},null,null,{"$f":"I86+J86","v":0},{"$f":"H86+K86","v":0},{"$f":"M12","v":0},{"$f":"F86*$M$86","v":0},{"$f":"G86*$M$86","v":0},{"$f":"I86*$M$86","v":0},{"$f":"J86*$M$86","v":0},{"$f":"SUM(N86:Q86)","v":0},null,{"$f":"T12","v":0},{"$f":"S86*T86","v":0}]
[{"$f":"IF(A46=\"\",\"\",A46)","v":"1.2."}," хозяйственно-питьевые нужды","Квартиры  без ванн,  без ГВС и кан-ции",null,null,null,null,{"$f":"F87+G87","v":0},null,null,{"$f":"I87+J87","v":0},{"$f":"H87+K87","v":0},null,{"$f":"F87*$M$86","v":0},{"$f":"G87*$M$86","v":0},{"$f":"I87*$M$86","v":0},{"$f":"J87*$M$86","v":0},{"$f":"SUM(N87:Q87)","v":0},null,null,{"$f":"S87*T86","v":0}]
[{"$f":"IF(A47=\"\",\"\",A47)","v":"1.3."}," хозяйственно-питьевые нужды","Квартиры с ваннами длиной от 1500 до 1700 мм, оборудованными душами",null,null,null,null,0,null,null,0,0,null,0,0,0,0,0,null,null,{"$f":"S88*T86","v":0}]
[{"$f":"IF(A48=\"\",\"\",A48)","v":"1.4."}," хозяйственно-питьевые нужды","Квартиры с  общими душами на этаже",null,null,null,null,0,null,null,0,0,null,0,0,0,0,0,null,null,{"$f":"S89*T86","v":0}]
[{"$f":"IF(A49=\"\",\"\",A49)","v":"1.5."}," хозяйственно-питьевые нужды","Квартиры  с ваннами и местным  ГВС (индивид эл.бойлера)",null,null,null,null,0,null,null,0,0,null,0,0,0,0,0,null,null,{"$f":"S90*T86","v":0}]
[{"$f":"IF(A50=\"\",\"\",A50)","v":"1.6."}," хозяйственно-питьевые нужды","Квартиры  с ваннами и местным  ГВС (общий т/обменник от отопления 252 дня)",null,null,null,null,0,null,null,0,0,null,0,0,0,0,0,null,null,{"$f":"S91*T86","v":0}]
[{"$f":"IF(A51=\"\",\"\",A51)","v":"1.7."}," хозяйственно-питьевые нужды","Квартиры с ваннами длиной от 1500 до 1700 мм, оборудованными душами",null,null,null,null,0,null,null,0,0,null,0,0,0,0,0,null,null,{"$f":"S92*T86","v":0}]
[{"$f":"IF(A52=\"\",\"\",A52)","v":"1.8."}," хозяйственно-питьевые нужды","Квартиры  с ваннами и местным  ГВС (индивид эл.бойлера)",null,null,null,null,0,null,null,0,0,null,0,0,0,0,0,null,null,{"$f":"S93*T86","v":0}]
[{"$f":"IF(A53=\"\",\"\",A53)","v":"1.9."}," хозяйственно-питьевые нужды","Квартиры с ваннами длиной от 1500 до 1700 мм, оборудованными душами",null,null,null,null,0,null,null,0,0,null,0,0,0,0,0,null,null,{"$f":"S94*T86","v":0}]
[{"$f":"IF(A54=\"\",\"\",A54)","v":"1.10."}," хозяйственно-питьевые нужды","Квартиры с ваннами длиной от 1500 до 1700 мм, оборудованными душами",null,null,null,null,0,null,null,0,0,null,0,0,0,0,0,null,null,{"$f":"S95*T86","v":0}]
[{"$f":"IF(A55=\"\",\"\",A55)","v":"1.11."}," хозяйственно-питьевые нужды","Квартиры с ваннами сидячими, оборудованными душами",null,null,null,null,0,null,null,0,0,null,0,0,0,0,0,null,null,{"$f":"S96*T86","v":0}]
[{"$f":"IF(A56=\"\",\"\",A56)","v":"1.12."}," хозяйственно-питьевые нужды","Квартиры с общими душами на этаже",null,null,null,null,0,null,null,0,0,null,0,0,0,0,0,null,null,{"$f":"S97*T86","v":0}]
[{"$f":"IF(A57=\"\",\"\",A57)","v":"1.13."}," хозяйственно-питьевые нужды","Квартиры с ваннами длиной от 1500 до 1700 мм, оборудованными душами",null,null,null,null,0,null,null,0,0,null,0,0,0,0,0,null,null,{"$f":"S98*T86","v":0}]
[{"$f":"IF(A58=\"\",\"\",A58)","v":"1.14."}," хозяйственно-питьевые нужды","Квартиры с ваннами длиной от 1500 до 1700 мм, оборудованными душами",null,null,null,null,0,null,null,0,0,null,0,0,0,0,0,null,null,{"$f":"S99*T86","v":0}]
[{"$f":"IF(A59=\"\",\"\",A59)","v":"1.15."}," хозяйственно-питьевые нужды","Квартиры с общими душами в секции",null,null,null,null,0,null,null,0,0,null,0,0,0,0,0,null,null,{"$f":"S100*T86","v":0}]
[{"$f":"IF(A60=\"\",\"\",A60)","v":"1.16."}," хозяйственно-питьевые нужды","Квартиры с ваннами длиной от 1500 до 1700 мм, оборудованными душами",null,null,null,null,0,null,null,0,0,null,0,0,0,0,0,null,null,{"$f":"S101*T86","v":0}]
[{"$f":"IF(A61=\"\",\"\",A61)","v":"1.17."}," хозяйственно-питьевые нужды","с водопроводом без канализации",null,null,null,null,0,null,null,0,0,null,0,0,0,0,0,null,null,{"$f":"S102*T86","v":0}]
[{"$f":"IF(A62=\"\",\"\",A62)","v":"1.18."}," хозяйственно-питьевые нужды","водопровод, ванны без ГВС и кан-ции",null,null,null,null,0,null,null,0,0,null,0,0,0,0,0,null,null,{"$f":"S103*T86","v":0}]
[{"$f":"IF(A63=\"\",\"\",A63)","v":"1.19."}," хозяйственно-питьевые нужды","с ваннами, оборудованными душами и с канализацией",null,null,null,null,0,null,null,0,0,null,0,0,0,0,0,null,null,{"$f":"S104*T86","v":0}]
[{"$f":"IF(A64=\"\",\"\",A64)","v":"1.20."}," хозяйственно-питьевые нужды","с водопроводом без канализации",null,null,null,null,0,null,null,0,0,null,0,0,0,0,0,null,null,{"$f":"S105*T86","v":0}]
[{"$f":"IF(A65=\"\",\"\",A65)","v":"1.21."}," хозяйственно-питьевые нужды","водопровод, ванны без ГВС и кан-ции",null,null,null,null,0,null,null,0,0,null,0,0,0,0,0,null,null,{"$f":"S106*T86","v":0}]
[{"$f":"IF(A66=\"\",\"\",A66)","v":"1.22."}," хозяйственно-питьевые нужды","с ваннами, оборудованными душами и с канализацией",null,null,null,null,0,null,null,0,0,null,0,0,0,0,0,null,null,{"$f":"S107*T86","v":0}]
[{"$f":"IF(A67=\"\",\"\",A67)","v":"1.23."}," хозяйственно-питьевые нужды","с водопроводом без канализации",null,null,null,null,0,null,null,0,0,null,0,0,0,0,0,null,null,{"$f":"S108*T86","v":0}]
[{"$f":"IF(A68=\"\",\"\",A68)","v":"1.24."}," хозяйственно-питьевые нужды","водопровод, ванны без ГВС и кан-ции",null,null,null,null,0,null,null,0,0,null,0,0,0,0,0,null,null,{"$f":"S109*T86","v":0}]
[{"$f":"IF(A69=\"\",\"\",A69)","v":"1.25."}," хозяйственно-питьевые нужды","с ваннами, оборудованными душами и с канализацией",null,null,null,null,0,null,null,0,0,null,0,0,0,0,0,null,null,{"$f":"S110*T86","v":0}]
[{"$f":"IF(A70=\"\",\"\",A70)","v":"1.26."},"поливка  приусадебных участков","полив и бани",null,null,null,null,0,null,null,0,0,null,0,0,0,0,0,null,null,{"$f":"S111*T86","v":0}]
[null,"перерасчеты",null,"х","х","х","х","х","х","х","х","х","контроль","х","х","х","х"]
[null,"Итого население",null,null,null,{"$f":"SUM(F86:F111)","v":0},{"$f":"SUM(G86:G111)","v":0},0,0,0,0,0,{"$f":"L113-'полезный отпуск'!N56","v":0},{"$f":"SUM(N86:N111)","v":0},0,0,{"$f":"SUM(Q86:Q111)","v":0},{"$f":"SUM(R86:R112)","v":0},{"$f":"SUM(S86:S112)","v":0},null,{"$f":"SUM(U86:U112)","v":0}]
["2.","Итого бюджет",null,null,null,null,null,{"$f":"F114+G114","v":0},null,null,{"$f":"I114+J114","v":0},{"$f":"H114+K114","v":0},{"$f":"L114-'полезный отпуск'!M56","v":0},{"$f":"F114*$M$12","v":0},{"$f":"G114*$M$12","v":0},{"$f":"I114*$M$12","v":0},{"$f":"J114*$M$12","v":0},{"$f":"SUM(N114:Q114)","v":0},null,null,{"$f":"S114*T86","v":0}]
["3.","Итого прочие+другие водопроводы",null,null,null,null,null,0,null,null,{"$f":"I115+J115","v":0},{"$f":"H115+K115","v":0},{"$f":"L115-('полезный отпуск'!O56+'полезный отпуск'!H56)","v":0},{"$f":"F115*$M$12","v":0},{"$f":"G115*$M$12","v":0},{"$f":"I115*$M$12","v":0},{"$f":"J115*$M$12","v":0},{"$f":"SUM(N115:Q115)","v":0},null,null,{"$f":"S115*T86","v":0}]
["4.","ВСЕГО 1-е полугодие",null,null,null,{"$f":"SUM(F113:F115)","v":0},{"$f":"SUM(G113:G115)","v":0},{"$f":"SUM(H113:H115)","v":0},{"$f":"SUM(I113:I115)","v":0},0,0,0,{"$f":"L116-('полезный отпуск'!L56+'полезный отпуск'!H56)","v":0},{"$f":"SUM(N113:N115)","v":0},{"$f":"SUM(O113:O115)","v":0},0,0,{"$f":"SUM(R113:R115)","v":0},{"$f":"SUM(S113:S115)","v":0},null,{"$f":"SUM(U113:U115)","v":0}]
[null,"2-е полугодие 2017 года"]
["1.","Население "]
[{"$f":"IF(A86=\"\",\"\",A86)","v":"1.1."},{"$f":"IF(B86=\"\",\"\",B86)","v":" хозяйственно-питьевые нужды"},{"$f":"IF(C86=\"\",\"\",C86)","v":"Квартиры с ваннами длиной от 1500 до 1700 мм, оборудованными душами"},null,null,null,null,{"$f":"F119+G119","v":0},null,null,{"$f":"I119+J119","v":0},{"$f":"H119+K119","v":0},{"$f":"M45","v":0},{"$f":"F119*$M$119","v":0},{"$f":"G119*$M$119","v":0},{"$f":"I119*$M$45","v":0},{"$f":"J119*$M$45","v":0},{"$f":"SUM(N119:Q119)","v":0},null,{"$f":"T45","v":0},{"$f":"S119*T119","v":0}]
[{"$f":"A87","v":"1.2."},{"$f":"B46","v":" хозяйственно-питьевые нужды"},"Квартиры  без ванн,  без ГВС и кан-ции",null,null,null,null,{"$f":"F120+G120","v":0},null,null,{"$f":"I120+J120","v":0},{"$f":"H120+K120","v":0},null,{"$f":"F120*$M$119","v":0},{"$f":"G120*$M$119","v":0},{"$f":"I120*$M$45","v":0},{"$f":"J120*$M$45","v":0},{"$f":"SUM(N120:Q120)","v":0},null,null,{"$f":"S120*T119","v":0}]
["1.3."," хозяйственно-питьевые нужды","Квартиры с ваннами длиной от 1500 до 1700 мм, оборудованными душами",null,null,null,null,0,null,null,0,0,null,0,0,0,0,0,null,null,{"$f":"S121*T119","v":0}]
["1.4."," хозяйственно-питьевые нужды","Квартиры с  общими душами на этаже",null,null,null,null,0,null,null,0,0,null,0,0,0,0,0,null,null,{"$f":"S122*T119","v":0}]
["1.5."," хозяйственно-питьевые нужды","Квартиры  с ваннами и местным  ГВС (индивид эл.бойлера)",null,null,null,null,0,null,null,0,0,null,0,0,0,0,0,null,null,{"$f":"S123*T119","v":0}]
["1.6."," хозяйственно-питьевые нужды","Квартиры  с ваннами и местным  ГВС (общий т/обменник от отопления 252 дня)",null,null,null,null,0,null,null,0,0,null,0,0,0,0,0,null,null,{"$f":"S124*T119","v":0}]
["1.7."," хозяйственно-питьевые нужды","Квартиры с ваннами длиной от 1500 до 1700 мм, оборудованными душами",null,null,null,null,0,null,null,0,0,null,0,0,0,0,0,null,null,{"$f":"S125*T119","v":0}]
["1.8."," хозяйственно-питьевые нужды","Квартиры  с ваннами и местным  ГВС (индивид эл.бойлера)",null,null,null,null,0,null,null,0,0,null,0,0,0,0,0,null,null,{"$f":"S126*T119","v":0}]
["1.9."," хозяйственно-питьевые нужды","Квартиры с ваннами длиной от 1500 до 1700 мм, оборудованными душами",null,null,null,null,0,null,null,0,0,null,0,0,0,0,0,null,null,{"$f":"S127*T119","v":0}]
["1.10."," хозяйственно-питьевые нужды","Квартиры с ваннами длиной от 1500 до 1700 мм, оборудованными душами",null,null,null,null,0,null,null,0,0,null,0,0,0,0,0,null,null,{"$f":"S128*T119","v":0}]
["1.11."," хозяйственно-питьевые нужды","Квартиры с ваннами сидячими, оборудованными душами",null,null,null,null,0,null,null,0,0,null,0,0,0,0,0,null,null,{"$f":"S129*T119","v":0}]
["1.12."," хозяйственно-питьевые нужды","Квартиры с общими душами на этаже",null,null,null,null,0,null,null,0,0,null,0,0,0,0,0,null,null,{"$f":"S130*T119","v":0}]
["1.13."," хозяйственно-питьевые нужды","Квартиры с ваннами длиной от 1500 до 1700 мм, оборудованными душами",null,null,null,null,0,null,null,0,0,null,0,0,0,0,0,null,null,{"$f":"S131*T119","v":0}]
["1.14."," хозяйственно-питьевые нужды","Квартиры с ваннами длиной от 1500 до 1700 мм, оборудованными душами",null,null,null,null,0,null,null,0,0,null,0,0,0,0,0,null,null,{"$f":"S132*T119","v":0}]
["1.15."," хозяйственно-питьевые нужды","Квартиры с общими душами в секции",null,null,null,null,0,null,null,0,0,null,0,0,0,0,0,null,null,{"$f":"S133*T119","v":0}]
["1.16."," хозяйственно-питьевые нужды","Квартиры с ваннами длиной от 1500 до 1700 мм, оборудованными душами",null,null,null,null,0,null,null,0,0,null,0,0,0,0,0,null,null,{"$f":"S134*T119","v":0}]
["1.17."," хозяйственно-питьевые нужды","с водопроводом без канализации",null,null,null,null,0,null,null,0,0,null,0,0,0,0,0,null,null,{"$f":"S135*T119","v":0}]
["1.18."," хозяйственно-питьевые нужды","водопровод, ванны без ГВС и кан-ции",null,null,null,null,0,null,null,0,0,null,0,0,0,0,0,null,null,{"$f":"S136*T119","v":0}]
["1.19."," хозяйственно-питьевые нужды","с ваннами, оборудованными душами и с канализацией",null,null,null,null,0,null,null,0,0,null,0,0,0,0,0,null,null,{"$f":"S137*T119","v":0}]
["1.20."," хозяйственно-питьевые нужды","с водопроводом без канализации",null,null,null,null,0,null,null,0,0,null,0,0,0,0,0,null,null,{"$f":"S138*T119","v":0}]
["1.21."," хозяйственно-питьевые нужды","водопровод, ванны без ГВС и кан-ции",null,null,null,null,{"$f":"F139+G139","v":0},null,null,0,0,null,0,0,0,0,0,null,null,{"$f":"S139*T119","v":0}]
["1.22."," хозяйственно-питьевые нужды","с ваннами, оборудованными душами и с канализацией",null,null,null,null,0,null,null,0,0,null,0,0,0,0,0,null,null,{"$f":"S140*T119","v":0}]
["1.23."," хозяйственно-питьевые нужды","с водопроводом без канализации",null,null,null,null,0,null,null,0,0,null,0,0,0,0,0,null,null,{"$f":"S141*T119","v":0}]
["1.24."," хозяйственно-питьевые нужды","водопровод, ванны без ГВС и кан-ции",null,null,null,null,0,null,null,0,0,null,0,0,0,0,0,null,null,{"$f":"S142*T119","v":0}]
["1.25."," хозяйственно-питьевые нужды","с ваннами, оборудованными душами и с канализацией",null,null,null,null,0,null,null,0,0,null,0,0,0,0,0,null,null,{"$f":"S143*T119","v":0}]
["1.26.","поливка  приусадебных участков","полив и бани",null,null,null,null,0,null,null,0,0,null,0,0,0,0,0,null,null,{"$f":"S144*T119","v":0}]
[null,"перерасчеты",null,"х","х","х","х","х","х","х","х","х","контроль","х","х","х","х"]
[null,"Итого население",null,null,null,{"$f":"SUM(F119:F144)","v":0},0,0,0,0,0,0,{"$f":"L146-'полезный отпуск'!N57","v":0},{"$f":"SUM(N119:N144)","v":0},0,0,{"$f":"SUM(Q119:Q144)","v":0},{"$f":"SUM(R119:R145)","v":0},{"$f":"SUM(S119:S145)","v":0},null,{"$f":"SUM(U119:U145)","v":0}]
["2.","Итого бюджет",null,null,null,null,null,{"$f":"F147+G147","v":0},null,null,{"$f":"I147+J147","v":0},{"$f":"H147+K147","v":0},{"$f":"L147-'полезный отпуск'!M57","v":0},{"$f":"F147*$M$45","v":0},{"$f":"G147*$M$45","v":0},{"$f":"I147*$M$45","v":0},{"$f":"J147*$M$45","v":0},{"$f":"SUM(N147:Q147)","v":0},null,null,{"$f":"S147*T119","v":0}]
["3.","Итого прочие+другие водопроводы",null,null,null,null,null,0,null,null,{"$f":"I148+J148","v":0},{"$f":"H148+K148","v":0},{"$f":"L148-('полезный отпуск'!O57+'полезный отпуск'!H57)","v":0},{"$f":"F148*$M$45","v":0},{"$f":"G148*$M$45","v":0},{"$f":"I148*$M$45","v":0},{"$f":"J148*$M$45","v":0},{"$f":"SUM(N148:Q148)","v":0},null,null,{"$f":"S148*T119","v":0}]
["4.","ВСЕГО 2-е полугодие",null,null,null,{"$f":"SUM(F146:F148)","v":0},{"$f":"SUM(G146:G148)","v":0},{"$f":"SUM(H146:H148)","v":0},{"$f":"SUM(I146:I148)","v":0},0,0,0,{"$f":"L149-('полезный отпуск'!L57+'полезный отпуск'!H57)","v":0},{"$f":"SUM(N146:N148)","v":0},0,0,0,{"$f":"SUM(R146:R148)","v":0},{"$f":"SUM(S146:S148)","v":0},null,{"$f":"SUM(U146:U148)","v":0}]
[]
["5.","ГОД ВСЕГО",null,null,null,{"$f":"F116+F149","v":0},0,0,0,0,0,0,null,{"$f":"N116+N149","v":0},0,0,0,0,0,null,{"$f":"U116+U149","v":0}]
[]
[null,"МО",{"$f":"'данные об организации'!A14","v":0},{"$f":"'данные об организации'!$F$14","v":0}]
[null,null,null,"(наименование населенного пункта)"]
["№","Вид потребителя","Степень благоустройства, наименование скота","Нормы потребления холодного и горячего водоснабжения, куб.м. в месяц(на 1 чел, на 1 голову скота и тд)",null,"Фактический годовой объем реализации воды,  куб.м.",null,null,null,null,null,null,"тариф на холодную воду, руб/куб.м.","Сумма, руб",null,null,null,null,"компенсация до установленного тарифа"]
[null,null,null,null,null,"холодной воды",null,null,"для нужд ГВС",null,null,"ВСЕГО",null,"холодной воды",null,"для нужд ГВС",null,"ИТОГО"]
[null,null,null,"холодной воды","ГВС","норматив","прибор учета","Итого","норматив","прибор учета","Итого",null,null,"норматив","прибор учета","норматив","прибор учета",null,"объем, куб.м.","размер, руб/куб.м.","Сумма, руб"]
[null,"1-е полугодие 2017года"]
["1.","Население "]
[{"$f":"IF(A119=\"\",\"\",A119)","v":"1.1."},{"$f":"IF(B119=\"\",\"\",B119)","v":" хозяйственно-питьевые нужды"},"Квартиры с ваннами длиной от 1500 до 1700 мм, оборудованными душами",null,null,null,null,{"$f":"F160+G160","v":0},null,null,{"$f":"I160+J160","v":0},{"$f":"H160+K160","v":0},{"$f":"M86","v":0},{"$f":"F160*$M$160","v":0},{"$f":"G160*$M$160","v":0},{"$f":"I160*$M$160","v":0},{"$f":"J160*$M$160","v":0},{"$f":"SUM(N160:Q160)","v":0},null,{"$f":"T86","v":0},{"$f":"S160*T160","v":0}]
[{"$f":"IF(A120=\"\",\"\",A120)","v":"1.2."}," хозяйственно-питьевые нужды","Квартиры  без ванн,  без ГВС и кан-ции",null,null,null,null,{"$f":"F161+G161","v":0},null,null,{"$f":"I161+J161","v":0},{"$f":"H161+K161","v":0},null,{"$f":"F161*$M$160","v":0},{"$f":"G161*$M$160","v":0},{"$f":"I161*$M$160","v":0},{"$f":"J161*$M$160","v":0},{"$f":"SUM(N161:Q161)","v":0},null,null,{"$f":"S161*T160","v":0}]
[{"$f":"IF(A121=\"\",\"\",A121)","v":"1.3."}," хозяйственно-питьевые нужды","Квартиры с ваннами длиной от 1500 до 1700 мм, оборудованными душами",null,null,null,null,0,null,null,0,0,null,0,0,0,0,0,null,null,{"$f":"S162*T160","v":0}]
[{"$f":"IF(A122=\"\",\"\",A122)","v":"1.4."}," хозяйственно-питьевые нужды","Квартиры с  общими душами на этаже",null,null,null,null,0,null,null,0,0,null,0,0,0,0,0,null,null,{"$f":"S163*T160","v":0}]
[{"$f":"IF(A123=\"\",\"\",A123)","v":"1.5."}," хозяйственно-питьевые нужды","Квартиры  с ваннами и местным  ГВС (индивид эл.бойлера)",null,null,null,null,0,null,null,0,0,null,0,0,0,0,0,null,null,{"$f":"S164*T160","v":0}]
[{"$f":"IF(A124=\"\",\"\",A124)","v":"1.6."}," хозяйственно-питьевые нужды","Квартиры  с ваннами и местным  ГВС (общий т/обменник от отопления 252 дня)",null,null,null,null,0,null,null,0,0,null,0,0,0,0,0,null,null,{"$f":"S165*T160","v":0}]
[{"$f":"IF(A125=\"\",\"\",A125)","v":"1.7."}," хозяйственно-питьевые нужды","Квартиры с ваннами длиной от 1500 до 1700 мм, оборудованными душами",null,null,null,null,0,null,null,0,0,null,0,0,0,0,0,null,null,{"$f":"S166*T160","v":0}]
[{"$f":"IF(A126=\"\",\"\",A126)","v":"1.8."}," хозяйственно-питьевые нужды","Квартиры  с ваннами и местным  ГВС (индивид эл.бойлера)",null,null,null,null,0,null,null,0,0,null,0,0,0,0,0,null,null,{"$f":"S167*T160","v":0}]
[{"$f":"IF(A127=\"\",\"\",A127)","v":"1.9."}," хозяйственно-питьевые нужды","Квартиры с ваннами длиной от 1500 до 1700 мм, оборудованными душами",null,null,null,null,0,null,null,0,0,null,0,0,0,0,0,null,null,{"$f":"S168*T160","v":0}]
[{"$f":"IF(A128=\"\",\"\",A128)","v":"1.10."}," хозяйственно-питьевые нужды","Квартиры с ваннами длиной от 1500 до 1700 мм, оборудованными душами",null,null,null,null,0,null,null,0,0,null,0,0,0,0,0,null,null,{"$f":"S169*T160","v":0}]
[{"$f":"IF(A129=\"\",\"\",A129)","v":"1.11."}," хозяйственно-питьевые нужды","Квартиры с ваннами сидячими, оборудованными душами",null,null,null,null,0,null,null,0,0,null,0,0,0,0,0,null,null,{"$f":"S170*T160","v":0}]
[{"$f":"IF(A130=\"\",\"\",A130)","v":"1.12."}," хозяйственно-питьевые нужды","Квартиры с общими душами на этаже",null,null,null,null,0,null,null,0,0,null,0,0,0,0,0,null,null,{"$f":"S171*T160","v":0}]
[{"$f":"IF(A131=\"\",\"\",A131)","v":"1.13."}," хозяйственно-питьевые нужды","Квартиры с ваннами длиной от 1500 до 1700 мм, оборудованными душами",null,null,null,null,0,null,null,0,0,null,0,0,0,0,0,null,null,{"$f":"S172*T160","v":0}]
[{"$f":"IF(A132=\"\",\"\",A132)","v":"1.14."}," хозяйственно-питьевые нужды","Квартиры с ваннами длиной от 1500 до 1700 мм, оборудованными душами",null,null,null,null,0,null,null,0,0,null,0,0,0,0,0,null,null,{"$f":"S173*T160","v":0}]
[{"$f":"IF(A133=\"\",\"\",A133)","v":"1.15."}," хозяйственно-питьевые нужды","Квартиры с общими душами в секции",null,null,null,null,0,null,null,0,0,null,0,0,0,0,0,null,null,{"$f":"S174*T160","v":0}]
[{"$f":"IF(A134=\"\",\"\",A134)","v":"1.16."}," хозяйственно-питьевые нужды","Квартиры с ваннами длиной от 1500 до 1700 мм, оборудованными душами",null,null,null,null,0,null,null,0,0,null,0,0,0,0,0,null,null,{"$f":"S175*T160","v":0}]
[{"$f":"IF(A135=\"\",\"\",A135)","v":"1.17."}," хозяйственно-питьевые нужды","с водопроводом без канализации",null,null,null,null,0,null,null,0,0,null,0,0,0,0,0,null,null,{"$f":"S176*T160","v":0}]
[{"$f":"IF(A136=\"\",\"\",A136)","v":"1.18."}," хозяйственно-питьевые нужды","водопровод, ванны без ГВС и кан-ции",null,null,null,null,0,null,null,0,0,null,0,0,0,0,0,null,null,{"$f":"S177*T160","v":0}]
[{"$f":"IF(A137=\"\",\"\",A137)","v":"1.19."}," хозяйственно-питьевые нужды","с ваннами, оборудованными душами и с канализацией",null,null,null,null,0,null,null,0,0,null,0,0,0,0,0,null,null,{"$f":"S178*T160","v":0}]
[{"$f":"IF(A138=\"\",\"\",A138)","v":"1.20."}," хозяйственно-питьевые нужды","с водопроводом без канализации",null,null,null,null,0,null,null,0,0,null,0,0,0,0,0,null,null,{"$f":"S179*T160","v":0}]
[{"$f":"IF(A139=\"\",\"\",A139)","v":"1.21."}," хозяйственно-питьевые нужды","водопровод, ванны без ГВС и кан-ции",null,null,null,null,0,null,null,0,0,null,0,0,0,0,0,null,null,{"$f":"S180*T160","v":0}]
[{"$f":"IF(A140=\"\",\"\",A140)","v":"1.22."}," хозяйственно-питьевые нужды","с ваннами, оборудованными душами и с канализацией",null,null,null,null,0,null,null,0,0,null,0,0,0,0,0,null,null,{"$f":"S181*T160","v":0}]
[{"$f":"IF(A141=\"\",\"\",A141)","v":"1.23."}," хозяйственно-питьевые нужды","с водопроводом без канализации",null,null,null,null,0,null,null,0,0,null,0,0,0,0,0,null,null,{"$f":"S182*T160","v":0}]
[{"$f":"IF(A142=\"\",\"\",A142)","v":"1.24."}," хозяйственно-питьевые нужды","водопровод, ванны без ГВС и кан-ции",null,null,null,null,0,null,null,0,0,null,0,0,0,0,0,null,null,{"$f":"S183*T160","v":0}]
[{"$f":"IF(A143=\"\",\"\",A143)","v":"1.25."}," хозяйственно-питьевые нужды","с ваннами, оборудованными душами и с канализацией",null,null,null,null,0,null,null,0,0,null,0,0,0,0,0,null,null,{"$f":"S184*T160","v":0}]
[{"$f":"IF(A144=\"\",\"\",A144)","v":"1.26."},"поливка  приусадебных участков","полив и бани",null,null,null,null,0,null,null,0,0,null,0,0,0,0,0,null,null,{"$f":"S185*T160","v":0}]
[null,"перерасчеты",null,"х","х","х","х","х","х","х","х","х","контроль","х","х","х","х"]
[null,"Итого население",null,null,null,{"$f":"SUM(F160:F185)","v":0},0,0,0,0,0,0,{"$f":"L187-'полезный отпуск'!N81","v":0},{"$f":"SUM(N160:N185)","v":0},{"$f":"SUM(O160:O185)","v":0},0,0,{"$f":"SUM(R160:R186)","v":0},{"$f":"SUM(S160:S186)","v":0},null,{"$f":"SUM(U160:U186)","v":0}]
["2.","Итого бюджет",null,null,null,null,null,{"$f":"F188+G188","v":0},null,null,{"$f":"I188+J188","v":0},{"$f":"H188+K188","v":0},{"$f":"L188-'полезный отпуск'!M81","v":0},{"$f":"F188*$M$160","v":0},{"$f":"G188*$M$160","v":0},{"$f":"I188*$M$160","v":0},{"$f":"J188*$M$160","v":0},{"$f":"SUM(N188:Q188)","v":0},null,null,{"$f":"S188*T160","v":0}]
["3.","Итого прочие+другие водопроводы",null,null,null,null,null,0,null,null,{"$f":"I189+J189","v":0},{"$f":"H189+K189","v":0},{"$f":"L189-('полезный отпуск'!O81+'полезный отпуск'!H81)","v":0},{"$f":"F189*$M$160","v":0},{"$f":"G189*$M$160","v":0},{"$f":"I189*$M$160","v":0},{"$f":"J189*$M$160","v":0},{"$f":"SUM(N189:Q189)","v":0},null,null,{"$f":"S189*T160","v":0}]
["4.","ВСЕГО 1-е полугодие",null,null,null,{"$f":"SUM(F187:F189)","v":0},{"$f":"SUM(G187:G189)","v":0},{"$f":"SUM(H187:H189)","v":0},{"$f":"SUM(I187:I189)","v":0},0,0,0,{"$f":"L190-('полезный отпуск'!L81+'полезный отпуск'!H81)","v":0},{"$f":"SUM(N187:N189)","v":0},0,0,0,0,{"$f":"SUM(S187:S189)","v":0},null,{"$f":"SUM(U187:U189)","v":0}]
[null,"2-е полугодие 2017 года"]
["1.","Население "]
[{"$f":"IF(A160=\"\",\"\",A160)","v":"1.1."},{"$f":"IF(B160=\"\",\"\",B160)","v":" хозяйственно-питьевые нужды"},"Квартиры с ваннами длиной от 1500 до 1700 мм, оборудованными душами",null,null,null,null,{"$f":"F193+G193","v":0},null,null,{"$f":"I193+J193","v":0},{"$f":"H193+K193","v":0},{"$f":"M119","v":0},{"$f":"F193*$M$193","v":0},{"$f":"G193*$M$193","v":0},{"$f":"I193*$M$193","v":0},{"$f":"J193*$M$193","v":0},{"$f":"SUM(N193:Q193)","v":0},null,{"$f":"T119","v":0},{"$f":"S193*T193","v":0}]
[{"$f":"IF(A161=\"\",\"\",A161)","v":"1.2."}," хозяйственно-питьевые нужды","Квартиры  без ванн,  без ГВС и кан-ции",null,null,null,null,{"$f":"F194+G194","v":0},null,null,{"$f":"I194+J194","v":0},{"$f":"H194+K194","v":0},null,{"$f":"F194*$M$193","v":0},{"$f":"G194*$M$193","v":0},{"$f":"I194*$M$193","v":0},{"$f":"J194*$M$193","v":0},{"$f":"SUM(N194:Q194)","v":0},null,null,{"$f":"S194*T193","v":0}]
[{"$f":"IF(A162=\"\",\"\",A162)","v":"1.3."}," хозяйственно-питьевые нужды","Квартиры с ваннами длиной от 1500 до 1700 мм, оборудованными душами",null,null,null,null,0,null,null,0,0,null,0,0,0,0,0,null,null,{"$f":"S195*T193","v":0}]
[{"$f":"IF(A163=\"\",\"\",A163)","v":"1.4."}," хозяйственно-питьевые нужды","Квартиры с  общими душами на этаже",null,null,null,null,0,null,null,0,0,null,0,0,0,0,0,null,null,{"$f":"S196*T193","v":0}]
[{"$f":"IF(A164=\"\",\"\",A164)","v":"1.5."}," хозяйственно-питьевые нужды","Квартиры  с ваннами и местным  ГВС (индивид эл.бойлера)",null,null,null,null,0,null,null,0,0,null,0,0,0,0,0,null,null,{"$f":"S197*T193","v":0}]
[{"$f":"IF(A165=\"\",\"\",A165)","v":"1.6."}," хозяйственно-питьевые нужды","Квартиры  с ваннами и местным  ГВС (общий т/обменник от отопления 252 дня)",null,null,null,null,0,null,null,0,0,null,0,0,0,0,0,null,null,{"$f":"S198*T193","v":0}]
[{"$f":"IF(A166=\"\",\"\",A166)","v":"1.7."}," хозяйственно-питьевые нужды","Квартиры с ваннами длиной от 1500 до 1700 мм, оборудованными душами",null,null,null,null,0,null,null,{"$f":"I199+J199","v":0},{"$f":"H199+K199","v":0},null,0,0,0,0,0,null,null,{"$f":"S199*T193","v":0}]
[{"$f":"IF(A167=\"\",\"\",A167)","v":"1.8."}," хозяйственно-питьевые нужды","Квартиры  с ваннами и местным  ГВС (индивид эл.бойлера)",null,null,null,null,0,null,null,0,0,null,0,0,0,0,0,null,null,{"$f":"S200*T193","v":0}]
[{"$f":"IF(A168=\"\",\"\",A168)","v":"1.9."}," хозяйственно-питьевые нужды","Квартиры с ваннами длиной от 1500 до 1700 мм, оборудованными душами",null,null,null,null,0,null,null,0,0,null,0,0,0,0,0,null,null,{"$f":"S201*T193","v":0}]
[{"$f":"IF(A169=\"\",\"\",A169)","v":"1.10."}," хозяйственно-питьевые нужды","Квартиры с ваннами длиной от 1500 до 1700 мм, оборудованными душами",null,null,null,null,0,null,null,0,0,null,0,0,0,0,0,null,null,{"$f":"S202*T193","v":0}]
[{"$f":"IF(A170=\"\",\"\",A170)","v":"1.11."}," хозяйственно-питьевые нужды","Квартиры с ваннами сидячими, оборудованными душами",null,null,null,null,0,null,null,0,0,null,0,0,0,0,0,null,null,{"$f":"S203*T193","v":0}]
[{"$f":"IF(A171=\"\",\"\",A171)","v":"1.12."}," хозяйственно-питьевые нужды","Квартиры с общими душами на этаже",null,null,null,null,0,null,null,0,0,null,0,0,0,0,0,null,null,{"$f":"S204*T193","v":0}]
[{"$f":"IF(A172=\"\",\"\",A172)","v":"1.13."}," хозяйственно-питьевые нужды","Квартиры с ваннами длиной от 1500 до 1700 мм, оборудованными душами",null,null,null,null,0,null,null,0,0,null,0,0,0,0,0,null,null,{"$f":"S205*T193","v":0}]
[{"$f":"IF(A173=\"\",\"\",A173)","v":"1.14."}," хозяйственно-питьевые нужды","Квартиры с ваннами длиной от 1500 до 1700 мм, оборудованными душами",null,null,null,null,0,null,null,0,0,null,0,0,0,0,0,null,null,{"$f":"S206*T193","v":0}]
[{"$f":"IF(A174=\"\",\"\",A174)","v":"1.15."}," хозяйственно-питьевые нужды","Квартиры с общими душами в секции",null,null,null,null,0,null,null,0,0,null,0,0,0,0,0,null,null,{"$f":"S207*T193","v":0}]
[{"$f":"IF(A175=\"\",\"\",A175)","v":"1.16."}," хозяйственно-питьевые нужды","Квартиры с ваннами длиной от 1500 до 1700 мм, оборудованными душами",null,null,null,null,0,null,null,0,0,null,0,0,0,0,0,null,null,{"$f":"S208*T193","v":0}]
[{"$f":"IF(A176=\"\",\"\",A176)","v":"1.17."}," хозяйственно-питьевые нужды","с водопроводом без канализации",null,null,null,null,0,null,null,0,0,null,0,0,0,0,0,null,null,{"$f":"S209*T193","v":0}]
[{"$f":"IF(A177=\"\",\"\",A177)","v":"1.18."}," хозяйственно-питьевые нужды","водопровод, ванны без ГВС и кан-ции",null,null,null,null,0,null,null,0,0,null,0,0,0,0,0,null,null,{"$f":"S210*T193","v":0}]
[{"$f":"IF(A178=\"\",\"\",A178)","v":"1.19."}," хозяйственно-питьевые нужды","с ваннами, оборудованными душами и с канализацией",null,null,null,null,0,null,null,0,0,null,0,0,0,0,0,null,null,{"$f":"S211*T193","v":0}]
[{"$f":"IF(A179=\"\",\"\",A179)","v":"1.20."}," хозяйственно-питьевые нужды","с водопроводом без канализации",null,null,null,null,0,null,null,0,0,null,0,0,0,0,0,null,null,{"$f":"S212*T193","v":0}]
[{"$f":"IF(A180=\"\",\"\",A180)","v":"1.21."}," хозяйственно-питьевые нужды","водопровод, ванны без ГВС и кан-ции",null,null,null,null,{"$f":"F213+G213","v":0},null,null,{"$f":"I213+J213","v":0},{"$f":"H213+K213","v":0},null,0,0,0,0,0,null,null,{"$f":"S213*T193","v":0}]
[{"$f":"IF(A181=\"\",\"\",A181)","v":"1.22."}," хозяйственно-питьевые нужды","с ваннами, оборудованными душами и с канализацией",null,null,null,null,0,null,null,0,0,null,0,0,0,0,0,null,null,{"$f":"S214*T193","v":0}]
[{"$f":"IF(A182=\"\",\"\",A182)","v":"1.23."}," хозяйственно-питьевые нужды","с водопроводом без канализации",null,null,null,null,0,null,null,0,0,null,0,0,0,0,0,null,null,{"$f":"S215*T193","v":0}]
[{"$f":"IF(A183=\"\",\"\",A183)","v":"1.24."}," хозяйственно-питьевые нужды","водопровод, ванны без ГВС и кан-ции",null,null,null,null,0,null,null,0,0,null,0,0,0,0,0,null,null,{"$f":"S216*T193","v":0}]
[{"$f":"IF(A184=\"\",\"\",A184)","v":"1.25."}," хозяйственно-питьевые нужды","с ваннами, оборудованными душами и с канализацией",null,null,null,null,0,null,null,0,0,null,0,0,0,0,0,null,null,{"$f":"S217*T193","v":0}]
[{"$f":"IF(A185=\"\",\"\",A185)","v":"1.26."},"поливка  приусадебных участков","полив и бани",null,null,null,null,0,null,null,0,0,null,0,0,0,0,0,null,null,{"$f":"S218*T193","v":0}]
[null,"перерасчеты",null,"х","х","х","х","х","х","х","х","х","контроль","х","х","х","х"]
[null,"Итого население",null,null,null,{"$f":"SUM(F193:F218)","v":0},0,0,0,0,0,0,{"$f":"L220-'полезный отпуск'!N82","v":0},{"$f":"SUM(N193:N218)","v":0},0,0,{"$f":"SUM(Q193:Q218)","v":0},{"$f":"SUM(R193:R219)","v":0},{"$f":"SUM(S193:S219)","v":0},null,{"$f":"SUM(U193:U219)","v":0}]
["2.","Итого бюджет",null,null,null,null,null,{"$f":"F221+G221","v":0},null,null,{"$f":"I221+J221","v":0},{"$f":"H221+K221","v":0},{"$f":"L221-'полезный отпуск'!M82","v":0},{"$f":"F221*$M$193","v":0},{"$f":"G221*$M$193","v":0},{"$f":"I221*$M$193","v":0},{"$f":"J221*$M$193","v":0},{"$f":"SUM(N221:Q221)","v":0},null,null,{"$f":"S221*T193","v":0}]
["3.","Итого прочие+другие водопроводы",null,null,null,null,null,0,null,null,{"$f":"I222+J222","v":0},{"$f":"H222+K222","v":0},{"$f":"L222-('полезный отпуск'!O82+'полезный отпуск'!H82)","v":0},0,0,0,0,0,null,null,{"$f":"S222*T193","v":0}]
["4.","ВСЕГО 2-е полугодие",null,null,null,{"$f":"SUM(F220:F222)","v":0},{"$f":"SUM(G220:G222)","v":0},{"$f":"SUM(H220:H222)","v":0},{"$f":"SUM(I220:I222)","v":0},0,0,0,{"$f":"L223-('полезный отпуск'!L82+'полезный отпуск'!H82)","v":0},{"$f":"SUM(N220:N222)","v":0},0,0,0,0,{"$f":"SUM(S220:S222)","v":0},null,{"$f":"SUM(U220:U222)","v":0}]
[]
["5.","ГОД ВСЕГО",null,null,null,{"$f":"F190+F223","v":0},{"$f":"G190+G223","v":0},0,0,0,0,0,null,{"$f":"N190+N223","v":0},0,0,0,0,{"$f":"S190+S223","v":0},null,{"$f":"U190+U223","v":0}]
[]
[null,"МО",{"$f":"'данные об организации'!A15","v":0},{"$f":"'данные об организации'!$F$15","v":0}]
[null,null,null,"(наименование населенного пункта)"]
["№","Вид потребителя","Степень благоустройства, наименование скота","Нормы потребления холодного и горячего водоснабжения, куб.м. в месяц(на 1 чел, на 1 голову скота и тд)",null,"Фактический годовой объем реализации воды,  куб.м.",null,null,null,null,null,null,"тариф на холодную воду, руб/куб.м.","Сумма, руб",null,null,null,null,"компенсация до установленного тарифа"]
[null,null,null,null,null,"холодной воды",null,null,"для нужд ГВС",null,null,"ВСЕГО",null,"холодной воды",null,"для нужд ГВС",null,"ИТОГО"]
[null,null,null,"холодной воды","ГВС","норматив","прибор учета","Итого","норматив","прибор учета","Итого",null,null,"норматив","прибор учета","норматив","прибор учета",null,"объем, куб.м.","размер, руб/куб.м.","Сумма, руб"]
[null,"1-е полугодие 2017 года"]
["1.","Население "]
[{"$f":"IF(A193=\"\",\"\",A193)","v":"1.1."},{"$f":"IF(B193=\"\",\"\",B193)","v":" хозяйственно-питьевые нужды"},"Квартиры с ваннами длиной от 1500 до 1700 мм, оборудованными душами",null,null,null,null,{"$f":"F234+G234","v":0},null,null,{"$f":"I234+J234","v":0},{"$f":"H234+K234","v":0},{"$f":"M160","v":0},{"$f":"F234*$M$234","v":0},{"$f":"G234*$M$234","v":0},{"$f":"I234*$M$234","v":0},{"$f":"J234*$M$234","v":0},{"$f":"SUM(N234:Q234)","v":0},null,{"$f":"T160","v":0},{"$f":"S234*T234","v":0}]
[{"$f":"IF(A194=\"\",\"\",A194)","v":"1.2."}," хозяйственно-питьевые нужды","Квартиры  без ванн,  без ГВС и кан-ции",null,null,null,null,{"$f":"F235+G235","v":0},null,null,{"$f":"I235+J235","v":0},{"$f":"H235+K235","v":0},null,{"$f":"F235*$M$234","v":0},{"$f":"G235*$M$234","v":0},{"$f":"I235*$M$234","v":0},{"$f":"J235*$M$234","v":0},{"$f":"SUM(N235:Q235)","v":0},null,null,{"$f":"S235*T234","v":0}]
[{"$f":"IF(A195=\"\",\"\",A195)","v":"1.3."}," хозяйственно-питьевые нужды","Квартиры с ваннами длиной от 1500 до 1700 мм, оборудованными душами",null,null,null,null,0,null,null,0,0,null,0,0,0,0,0,null,null,{"$f":"S236*T234","v":0}]
[{"$f":"IF(A196=\"\",\"\",A196)","v":"1.4."}," хозяйственно-питьевые нужды","Квартиры с  общими душами на этаже",null,null,null,null,0,null,null,0,0,null,0,0,0,0,0,null,null,{"$f":"S237*T234","v":0}]
[{"$f":"IF(A197=\"\",\"\",A197)","v":"1.5."}," хозяйственно-питьевые нужды","Квартиры  с ваннами и местным  ГВС (индивид эл.бойлера)",null,null,null,null,0,null,null,0,0,null,0,0,0,0,0,null,null,{"$f":"S238*T234","v":0}]
[{"$f":"IF(A198=\"\",\"\",A198)","v":"1.6."}," хозяйственно-питьевые нужды","Квартиры  с ваннами и местным  ГВС (общий т/обменник от отопления 252 дня)",null,null,null,null,0,null,null,0,0,null,0,0,0,0,0,null,null,{"$f":"S239*T234","v":0}]
[{"$f":"IF(A199=\"\",\"\",A199)","v":"1.7."}," хозяйственно-питьевые нужды","Квартиры с ваннами длиной от 1500 до 1700 мм, оборудованными душами",null,null,null,null,0,null,null,0,0,null,0,0,0,0,0,null,null,{"$f":"S240*T234","v":0}]
[{"$f":"IF(A200=\"\",\"\",A200)","v":"1.8."}," хозяйственно-питьевые нужды","Квартиры  с ваннами и местным  ГВС (индивид эл.бойлера)",null,null,null,null,0,null,null,0,0,null,0,0,0,0,0,null,null,{"$f":"S241*T234","v":0}]
[{"$f":"IF(A201=\"\",\"\",A201)","v":"1.9."}," хозяйственно-питьевые нужды","Квартиры с ваннами длиной от 1500 до 1700 мм, оборудованными душами",null,null,null,null,0,null,null,0,0,null,0,0,0,0,0,null,null,{"$f":"S242*T234","v":0}]
[{"$f":"IF(A202=\"\",\"\",A202)","v":"1.10."}," хозяйственно-питьевые нужды","Квартиры с ваннами длиной от 1500 до 1700 мм, оборудованными душами",null,null,null,null,0,null,null,0,0,null,0,0,0,0,0,null,null,{"$f":"S243*T234","v":0}]
[{"$f":"IF(A203=\"\",\"\",A203)","v":"1.11."}," хозяйственно-питьевые нужды","Квартиры с ваннами сидячими, оборудованными душами",null,null,null,null,0,null,null,0,0,null,0,0,0,0,0,null,null,{"$f":"S244*T234","v":0}]
[{"$f":"IF(A204=\"\",\"\",A204)","v":"1.12."}," хозяйственно-питьевые нужды","Квартиры с общими душами на этаже",null,null,null,null,0,null,null,0,0,null,0,0,0,0,0,null,null,{"$f":"S245*T234","v":0}]
[{"$f":"IF(A205=\"\",\"\",A205)","v":"1.13."}," хозяйственно-питьевые нужды","Квартиры с ваннами длиной от 1500 до 1700 мм, оборудованными душами",null,null,null,null,0,null,null,0,0,null,0,0,0,0,0,null,null,{"$f":"S246*T234","v":0}]
[{"$f":"IF(A206=\"\",\"\",A206)","v":"1.14."}," хозяйственно-питьевые нужды","Квартиры с ваннами длиной от 1500 до 1700 мм, оборудованными душами",null,null,null,null,0,null,null,0,0,null,0,0,0,0,0,null,null,{"$f":"S247*T234","v":0}]
[{"$f":"IF(A207=\"\",\"\",A207)","v":"1.15."}," хозяйственно-питьевые нужды","Квартиры с общими душами в секции",null,null,null,null,0,null,null,0,0,null,0,0,0,0,0,null,null,{"$f":"S248*T234","v":0}]
[{"$f":"IF(A208=\"\",\"\",A208)","v":"1.16."}," хозяйственно-питьевые нужды","Квартиры с ваннами длиной от 1500 до 1700 мм, оборудованными душами",null,null,null,null,0,null,null,0,0,null,0,0,0,0,0,null,null,{"$f":"S249*T234","v":0}]
[{"$f":"IF(A209=\"\",\"\",A209)","v":"1.17."}," хозяйственно-питьевые нужды","с водопроводом без канализации",null,null,null,null,0,null,null,0,0,null,0,0,0,0,0,null,null,{"$f":"S250*T234","v":0}]
[{"$f":"IF(A210=\"\",\"\",A210)","v":"1.18."}," хозяйственно-питьевые нужды","водопровод, ванны без ГВС и кан-ции",null,null,null,null,0,null,null,0,0,null,0,0,0,0,0,null,null,{"$f":"S251*T234","v":0}]
[{"$f":"IF(A211=\"\",\"\",A211)","v":"1.19."}," хозяйственно-питьевые нужды","с ваннами, оборудованными душами и с канализацией",null,null,null,null,0,null,null,0,0,null,0,0,0,0,0,null,null,{"$f":"S252*T234","v":0}]
[{"$f":"IF(A212=\"\",\"\",A212)","v":"1.20."}," хозяйственно-питьевые нужды","с водопроводом без канализации",null,null,null,null,0,null,null,0,0,null,0,0,0,0,0,null,null,{"$f":"S253*T234","v":0}]
[{"$f":"IF(A213=\"\",\"\",A213)","v":"1.21."}," хозяйственно-питьевые нужды","водопровод, ванны без ГВС и кан-ции",null,null,null,null,0,null,null,0,0,null,0,0,0,0,0,null,null,{"$f":"S254*T234","v":0}]
[{"$f":"IF(A214=\"\",\"\",A214)","v":"1.22."}," хозяйственно-питьевые нужды","с ваннами, оборудованными душами и с канализацией",null,null,null,null,0,null,null,0,0,null,0,0,0,0,0,null,null,{"$f":"S255*T234","v":0}]
[{"$f":"IF(A215=\"\",\"\",A215)","v":"1.23."}," хозяйственно-питьевые нужды","с водопроводом без канализации",null,null,null,null,0,null,null,0,0,null,0,0,0,0,0,null,null,{"$f":"S256*T234","v":0}]
[{"$f":"IF(A216=\"\",\"\",A216)","v":"1.24."}," хозяйственно-питьевые нужды","водопровод, ванны без ГВС и кан-ции",null,null,null,null,0,null,null,0,0,null,0,0,0,0,0,null,null,{"$f":"S257*T234","v":0}]
[{"$f":"IF(A217=\"\",\"\",A217)","v":"1.25."}," хозяйственно-питьевые нужды","с ваннами, оборудованными душами и с канализацией",null,null,null,null,0,null,null,0,0,null,0,0,0,0,0,null,null,{"$f":"S258*T234","v":0}]
[{"$f":"IF(A218=\"\",\"\",A218)","v":"1.26."},"поливка  приусадебных участков","полив и бани",null,null,null,null,0,null,null,0,0,null,0,0,0,0,0,null,null,{"$f":"S259*T234","v":0}]
[null,"перерасчеты",null,"х","х","х","х","х","х","х","х","х","контроль","х","х","х","х"]
[null,"Итого население",null,null,null,{"$f":"SUM(F234:F259)","v":0},0,0,0,0,0,0,{"$f":"L261-'полезный отпуск'!N106","v":0},{"$f":"SUM(N234:N259)","v":0},0,0,{"$f":"SUM(Q234:Q259)","v":0},{"$f":"SUM(R234:R260)","v":0},{"$f":"SUM(S234:S260)","v":0},null,{"$f":"SUM(U234:U260)","v":0}]
["2.","Итого бюджет",null,null,null,null,null,{"$f":"F262+G262","v":0},null,null,{"$f":"I262+J262","v":0},{"$f":"H262+K262","v":0},{"$f":"L262-'полезный отпуск'!M106","v":0},{"$f":"F262*$M$234","v":0},{"$f":"G262*$M$234","v":0},{"$f":"I262*$M$234","v":0},{"$f":"J262*$M$234","v":0},{"$f":"SUM(N262:Q262)","v":0},null,null,{"$f":"S262*T234","v":0}]
["3.","Итого прочие+другие водопроводы",null,null,null,null,null,0,null,null,{"$f":"I263+J263","v":0},{"$f":"H263+K263","v":0},{"$f":"L263-('полезный отпуск'!O106+'полезный отпуск'!H106)","v":0},0,0,0,0,0,null,null,{"$f":"S263*T234","v":0}]
["4.","ВСЕГО 1-е полугодие",null,null,null,{"$f":"SUM(F261:F263)","v":0},{"$f":"SUM(G261:G263)","v":0},{"$f":"SUM(H261:H263)","v":0},{"$f":"SUM(I261:I263)","v":0},0,0,0,{"$f":"L264-('полезный отпуск'!L106+'полезный отпуск'!H106)","v":0},{"$f":"SUM(N261:N263)","v":0},0,0,0,0,{"$f":"SUM(S261:S263)","v":0},null,{"$f":"SUM(U261:U263)","v":0}]
[null,"2-е полугодие 2017 года"]
["1.","Население "]
[{"$f":"IF(A234=\"\",\"\",A234)","v":"1.1."},{"$f":"IF(B234=\"\",\"\",B234)","v":" хозяйственно-питьевые нужды"},"Квартиры с ваннами длиной от 1500 до 1700 мм, оборудованными душами",null,null,null,null,{"$f":"F267+G267","v":0},null,null,{"$f":"I267+J267","v":0},{"$f":"H267+K267","v":0},{"$f":"M193","v":0},{"$f":"F267*$M$267","v":0},{"$f":"G267*$M$267","v":0},{"$f":"I267*$M$267","v":0},{"$f":"J267*$M$267","v":0},{"$f":"SUM(N267:Q267)","v":0},null,{"$f":"T193","v":0},{"$f":"S267*T267","v":0}]
[{"$f":"IF(A235=\"\",\"\",A235)","v":"1.2."}," хозяйственно-питьевые нужды","Квартиры  без ванн,  без ГВС и кан-ции",null,null,null,null,{"$f":"F268+G268","v":0},null,null,{"$f":"I268+J268","v":0},{"$f":"H268+K268","v":0},null,{"$f":"F268*$M$267","v":0},{"$f":"G268*$M$267","v":0},{"$f":"I268*$M$267","v":0},{"$f":"J268*$M$267","v":0},{"$f":"SUM(N268:Q268)","v":0},null,null,{"$f":"S268*T267","v":0}]
[{"$f":"IF(A236=\"\",\"\",A236)","v":"1.3."}," хозяйственно-питьевые нужды","Квартиры с ваннами длиной от 1500 до 1700 мм, оборудованными душами",null,null,null,null,0,null,null,0,0,null,0,0,0,0,0,null,null,{"$f":"S269*T267","v":0}]
[{"$f":"IF(A237=\"\",\"\",A237)","v":"1.4."}," хозяйственно-питьевые нужды","Квартиры с  общими душами на этаже",null,null,null,null,0,null,null,0,0,null,0,0,0,0,0,null,null,{"$f":"S270*T267","v":0}]
[{"$f":"IF(A238=\"\",\"\",A238)","v":"1.5."}," хозяйственно-питьевые нужды","Квартиры  с ваннами и местным  ГВС (индивид эл.бойлера)",null,null,null,null,0,null,null,0,0,null,0,0,0,0,0,null,null,{"$f":"S271*T267","v":0}]
[{"$f":"IF(A239=\"\",\"\",A239)","v":"1.6."}," хозяйственно-питьевые нужды","Квартиры  с ваннами и местным  ГВС (общий т/обменник от отопления 252 дня)",null,null,null,null,0,null,null,0,0,null,0,0,0,0,0,null,null,{"$f":"S272*T267","v":0}]
[{"$f":"IF(A240=\"\",\"\",A240)","v":"1.7."}," хозяйственно-питьевые нужды","Квартиры с ваннами длиной от 1500 до 1700 мм, оборудованными душами",null,null,null,null,0,null,null,0,0,null,0,0,0,0,0,null,null,{"$f":"S273*T267","v":0}]
[{"$f":"IF(A241=\"\",\"\",A241)","v":"1.8."}," хозяйственно-питьевые нужды","Квартиры  с ваннами и местным  ГВС (индивид эл.бойлера)",null,null,null,null,0,null,null,0,0,null,0,0,0,0,0,null,null,{"$f":"S274*T267","v":0}]
[{"$f":"IF(A242=\"\",\"\",A242)","v":"1.9."}," хозяйственно-питьевые нужды","Квартиры с ваннами длиной от 1500 до 1700 мм, оборудованными душами",null,null,null,null,0,null,null,0,0,null,0,0,0,0,0,null,null,{"$f":"S275*T267","v":0}]
[{"$f":"IF(A243=\"\",\"\",A243)","v":"1.10."}," хозяйственно-питьевые нужды","Квартиры с ваннами длиной от 1500 до 1700 мм, оборудованными душами",null,null,null,null,0,null,null,0,0,null,0,0,0,0,0,null,null,{"$f":"S276*T267","v":0}]
[{"$f":"IF(A244=\"\",\"\",A244)","v":"1.11."}," хозяйственно-питьевые нужды","Квартиры с ваннами сидячими, оборудованными душами",null,null,null,null,0,null,null,0,0,null,0,0,0,0,0,null,null,{"$f":"S277*T267","v":0}]
[{"$f":"IF(A245=\"\",\"\",A245)","v":"1.12."}," хозяйственно-питьевые нужды","Квартиры с общими душами на этаже",null,null,null,null,0,null,null,0,0,null,0,0,0,0,0,null,null,{"$f":"S278*T267","v":0}]
[{"$f":"IF(A246=\"\",\"\",A246)","v":"1.13."}," хозяйственно-питьевые нужды","Квартиры с ваннами длиной от 1500 до 1700 мм, оборудованными душами",null,null,null,null,0,null,null,0,0,null,0,0,0,0,0,null,null,{"$f":"S279*T267","v":0}]
[{"$f":"IF(A247=\"\",\"\",A247)","v":"1.14."}," хозяйственно-питьевые нужды","Квартиры с ваннами длиной от 1500 до 1700 мм, оборудованными душами",null,null,null,null,0,null,null,0,0,null,0,0,0,0,0,null,null,{"$f":"S280*T267","v":0}]
[{"$f":"IF(A248=\"\",\"\",A248)","v":"1.15."}," хозяйственно-питьевые нужды","Квартиры с общими душами в секции",null,null,null,null,0,null,null,0,0,null,0,0,0,0,0,null,null,{"$f":"S281*T267","v":0}]
[{"$f":"IF(A249=\"\",\"\",A249)","v":"1.16."}," хозяйственно-питьевые нужды","Квартиры с ваннами длиной от 1500 до 1700 мм, оборудованными душами",null,null,null,null,0,null,null,0,0,null,0,0,0,0,0,null,null,{"$f":"S282*T267","v":0}]
[{"$f":"IF(A250=\"\",\"\",A250)","v":"1.17."}," хозяйственно-питьевые нужды","с водопроводом без канализации",null,null,null,null,0,null,null,0,0,null,0,0,0,0,0,null,null,{"$f":"S283*T267","v":0}]
[{"$f":"IF(A251=\"\",\"\",A251)","v":"1.18."}," хозяйственно-питьевые нужды","водопровод, ванны без ГВС и кан-ции",null,null,null,null,0,null,null,0,0,null,0,0,0,0,0,null,null,{"$f":"S284*T267","v":0}]
[{"$f":"IF(A252=\"\",\"\",A252)","v":"1.19."}," хозяйственно-питьевые нужды","с ваннами, оборудованными душами и с канализацией",null,null,null,null,0,null,null,0,0,null,0,0,0,0,0,null,null,{"$f":"S285*T267","v":0}]
[{"$f":"IF(A253=\"\",\"\",A253)","v":"1.20."}," хозяйственно-питьевые нужды","с водопроводом без канализации",null,null,null,null,0,null,null,0,0,null,0,0,0,0,0,null,null,{"$f":"S286*T267","v":0}]
[{"$f":"IF(A254=\"\",\"\",A254)","v":"1.21."}," хозяйственно-питьевые нужды","водопровод, ванны без ГВС и кан-ции",null,null,null,null,0,null,null,0,0,null,0,0,0,0,0,null,null,{"$f":"S287*T267","v":0}]
[{"$f":"IF(A255=\"\",\"\",A255)","v":"1.22."}," хозяйственно-питьевые нужды","с ваннами, оборудованными душами и с канализацией",null,null,null,null,0,null,null,0,0,null,0,0,0,0,0,null,null,{"$f":"S288*T267","v":0}]
[{"$f":"IF(A256=\"\",\"\",A256)","v":"1.23."}," хозяйственно-питьевые нужды","с водопроводом без канализации",null,null,null,null,0,null,null,0,0,null,0,0,0,0,0,null,null,{"$f":"S289*T267","v":0}]
[{"$f":"IF(A257=\"\",\"\",A257)","v":"1.24."}," хозяйственно-питьевые нужды","водопровод, ванны без ГВС и кан-ции",null,null,null,null,0,null,null,0,0,null,0,0,0,0,0,null,null,{"$f":"S290*T267","v":0}]
[{"$f":"IF(A258=\"\",\"\",A258)","v":"1.25."}," хозяйственно-питьевые нужды","с ваннами, оборудованными душами и с канализацией",null,null,null,null,0,null,null,0,0,null,0,0,0,0,0,null,null,{"$f":"S291*T267","v":0}]
[{"$f":"IF(A259=\"\",\"\",A259)","v":"1.26."},"поливка  приусадебных участков","полив и бани",null,null,null,null,0,null,null,0,0,null,0,0,0,0,0,null,null,{"$f":"S292*T267","v":0}]
[null,"перерасчеты",null,"х","х","х","х","х","х","х","х","х","контроль","х","х","х","х"]
[null,"Итого население",null,null,null,{"$f":"SUM(F267:F292)","v":0},0,0,0,0,0,0,{"$f":"L294-'полезный отпуск'!N107","v":0},{"$f":"SUM(N267:N292)","v":0},0,0,{"$f":"SUM(Q267:Q292)","v":0},{"$f":"SUM(R267:R293)","v":0},{"$f":"SUM(S267:S293)","v":0},null,{"$f":"SUM(U267:U293)","v":0}]
["2.","Итого бюджет",null,null,null,null,null,{"$f":"F295+G295","v":0},null,null,{"$f":"I295+J295","v":0},{"$f":"H295+K295","v":0},{"$f":"L295-'полезный отпуск'!M107","v":0},{"$f":"F295*$M$267","v":0},{"$f":"G295*$M$267","v":0},{"$f":"I295*$M$267","v":0},{"$f":"J295*$M$267","v":0},{"$f":"SUM(N295:Q295)","v":0},null,null,{"$f":"S295*T267","v":0}]
["3.","Итого прочие+другие водопроводы",null,null,null,null,null,0,null,null,{"$f":"I296+J296","v":0},{"$f":"H296+K296","v":0},{"$f":"L296-('полезный отпуск'!O107+'полезный отпуск'!H107)","v":0},0,0,0,0,0,null,null,{"$f":"S296*T267","v":0}]
["4.","ВСЕГО 2-е полугодие",null,null,null,{"$f":"SUM(F294:F296)","v":0},{"$f":"SUM(G294:G296)","v":0},{"$f":"SUM(H294:H296)","v":0},{"$f":"SUM(I294:I296)","v":0},0,0,0,{"$f":"L297-('полезный отпуск'!L107+'полезный отпуск'!H107)","v":0},{"$f":"SUM(N294:N296)","v":0},0,0,0,0,{"$f":"SUM(S294:S296)","v":0},null,{"$f":"SUM(U294:U296)","v":0}]
[]
["5.","ГОД ВСЕГО",null,null,null,{"$f":"F264+F297","v":0},{"$f":"G264+G297","v":0},0,0,0,0,0,null,{"$f":"N264+N297","v":0},0,0,0,0,{"$f":"S264+S297","v":0},null,{"$f":"U264+U297","v":0}]
[]
[null,"МО",{"$f":"'данные об организации'!A16","v":0},{"$f":"'данные об организации'!$F$16","v":0}]
[null,null,null,"(наименование населенного пункта)"]
["№","Вид потребителя","Степень благоустройства, наименование скота","Нормы потребления холодного и горячего водоснабжения, куб.м. в месяц(на 1 чел, на 1 голову скота и тд)",null,"Фактический годовой объем реализации воды,  куб.м.",null,null,null,null,null,null,"тариф на холодную воду, руб/куб.м.","Сумма, руб",null,null,null,null,"компенсация до установленного тарифа"]
[null,null,null,null,null,"холодной воды",null,null,"для нужд ГВС",null,null,"ВСЕГО",null,"холодной воды",null,"для нужд ГВС",null,"ИТОГО"]
[null,null,null,"холодной воды","ГВС","норматив","прибор учета","Итого","норматив","прибор учета","Итого",null,null,"норматив","прибор учета","норматив","прибор учета",null,"объем, куб.м.","размер, руб/куб.м.","Сумма, руб"]
[null,"1-е полугодие 2017 года"]
["1.","Население "]
[{"$f":"IF(A267=\"\",\"\",A267)","v":"1.1."},{"$f":"IF(B267=\"\",\"\",B267)","v":" хозяйственно-питьевые нужды"},"Квартиры с ваннами длиной от 1500 до 1700 мм, оборудованными душами",null,null,null,null,{"$f":"F308+G308","v":0},null,null,{"$f":"I308+J308","v":0},{"$f":"H308+K308","v":0},{"$f":"M234","v":0},{"$f":"F308*$M$308","v":0},{"$f":"G308*$M$308","v":0},{"$f":"I308*$M$308","v":0},{"$f":"J308*$M$308","v":0},{"$f":"SUM(N308:Q308)","v":0},null,{"$f":"T234","v":0},{"$f":"S308*T308","v":0}]
[{"$f":"IF(A268=\"\",\"\",A268)","v":"1.2."}," хозяйственно-питьевые нужды","Квартиры  без ванн,  без ГВС и кан-ции",null,null,null,null,{"$f":"F309+G309","v":0},null,null,{"$f":"I309+J309","v":0},{"$f":"H309+K309","v":0},null,{"$f":"F309*$M$308","v":0},{"$f":"G309*$M$308","v":0},{"$f":"I309*$M$308","v":0},{"$f":"J309*$M$308","v":0},{"$f":"SUM(N309:Q309)","v":0},null,null,{"$f":"S309*T308","v":0}]
[{"$f":"IF(A269=\"\",\"\",A269)","v":"1.3."}," хозяйственно-питьевые нужды","Квартиры с ваннами длиной от 1500 до 1700 мм, оборудованными душами",null,null,null,null,0,null,null,0,0,null,0,0,0,0,0,null,null,{"$f":"S310*T308","v":0}]
[{"$f":"IF(A270=\"\",\"\",A270)","v":"1.4."}," хозяйственно-питьевые нужды","Квартиры с  общими душами на этаже",null,null,null,null,0,null,null,0,0,null,0,0,0,0,0,null,null,{"$f":"S311*T308","v":0}]
[{"$f":"IF(A271=\"\",\"\",A271)","v":"1.5."}," хозяйственно-питьевые нужды","Квартиры  с ваннами и местным  ГВС (индивид эл.бойлера)",null,null,null,null,0,null,null,0,0,null,0,0,0,0,0,null,null,{"$f":"S312*T308","v":0}]
[{"$f":"IF(A272=\"\",\"\",A272)","v":"1.6."}," хозяйственно-питьевые нужды","Квартиры  с ваннами и местным  ГВС (общий т/обменник от отопления 252 дня)",null,null,null,null,0,null,null,0,0,null,0,0,0,0,0,null,null,{"$f":"S313*T308","v":0}]
[{"$f":"IF(A273=\"\",\"\",A273)","v":"1.7."}," хозяйственно-питьевые нужды","Квартиры с ваннами длиной от 1500 до 1700 мм, оборудованными душами",null,null,null,null,0,null,null,0,0,null,0,0,0,0,0,null,null,{"$f":"S314*T308","v":0}]
[{"$f":"IF(A274=\"\",\"\",A274)","v":"1.8."}," хозяйственно-питьевые нужды","Квартиры  с ваннами и местным  ГВС (индивид эл.бойлера)",null,null,null,null,0,null,null,0,0,null,0,0,0,0,0,null,null,{"$f":"S315*T308","v":0}]
[{"$f":"IF(A275=\"\",\"\",A275)","v":"1.9."}," хозяйственно-питьевые нужды","Квартиры с ваннами длиной от 1500 до 1700 мм, оборудованными душами",null,null,null,null,0,null,null,0,0,null,0,0,0,0,0,null,null,{"$f":"S316*T308","v":0}]
[{"$f":"IF(A276=\"\",\"\",A276)","v":"1.10."}," хозяйственно-питьевые нужды","Квартиры с ваннами длиной от 1500 до 1700 мм, оборудованными душами",null,null,null,null,0,null,null,0,0,null,0,0,0,0,0,null,null,{"$f":"S317*T308","v":0}]
[{"$f":"IF(A277=\"\",\"\",A277)","v":"1.11."}," хозяйственно-питьевые нужды","Квартиры с ваннами сидячими, оборудованными душами",null,null,null,null,0,null,null,0,0,null,0,0,0,0,0,null,null,{"$f":"S318*T308","v":0}]
[{"$f":"IF(A278=\"\",\"\",A278)","v":"1.12."}," хозяйственно-питьевые нужды","Квартиры с общими душами на этаже",null,null,null,null,0,null,null,0,0,null,0,0,0,0,0,null,null,{"$f":"S319*T308","v":0}]
[{"$f":"IF(A279=\"\",\"\",A279)","v":"1.13."}," хозяйственно-питьевые нужды","Квартиры с ваннами длиной от 1500 до 1700 мм, оборудованными душами",null,null,null,null,0,null,null,0,0,null,0,0,0,0,0,null,null,{"$f":"S320*T308","v":0}]
[{"$f":"IF(A280=\"\",\"\",A280)","v":"1.14."}," хозяйственно-питьевые нужды","Квартиры с ваннами длиной от 1500 до 1700 мм, оборудованными душами",null,null,null,null,0,null,null,0,0,null,0,0,0,0,0,null,null,{"$f":"S321*T308","v":0}]
[{"$f":"IF(A281=\"\",\"\",A281)","v":"1.15."}," хозяйственно-питьевые нужды","Квартиры с общими душами в секции",null,null,null,null,0,null,null,0,0,null,0,0,0,0,0,null,null,{"$f":"S322*T308","v":0}]
[{"$f":"IF(A282=\"\",\"\",A282)","v":"1.16."}," хозяйственно-питьевые нужды","Квартиры с ваннами длиной от 1500 до 1700 мм, оборудованными душами",null,null,null,null,0,null,null,0,0,null,0,0,0,0,0,null,null,{"$f":"S323*T308","v":0}]
[{"$f":"IF(A283=\"\",\"\",A283)","v":"1.17."}," хозяйственно-питьевые нужды","с водопроводом без канализации",null,null,null,null,0,null,null,0,0,null,0,0,0,0,0,null,null,{"$f":"S324*T308","v":0}]
[{"$f":"IF(A284=\"\",\"\",A284)","v":"1.18."}," хозяйственно-питьевые нужды","водопровод, ванны без ГВС и кан-ции",null,null,null,null,0,null,null,0,0,null,0,0,0,0,0,null,null,{"$f":"S325*T308","v":0}]
[{"$f":"IF(A285=\"\",\"\",A285)","v":"1.19."}," хозяйственно-питьевые нужды","с ваннами, оборудованными душами и с канализацией",null,null,null,null,0,null,null,0,0,null,0,0,0,0,0,null,null,{"$f":"S326*T308","v":0}]
[{"$f":"IF(A286=\"\",\"\",A286)","v":"1.20."}," хозяйственно-питьевые нужды","с водопроводом без канализации",null,null,null,null,0,null,null,0,0,null,0,0,0,0,0,null,null,{"$f":"S327*T308","v":0}]
[{"$f":"IF(A287=\"\",\"\",A287)","v":"1.21."}," хозяйственно-питьевые нужды","водопровод, ванны без ГВС и кан-ции",null,null,null,null,0,null,null,0,0,null,0,0,0,0,0,null,null,{"$f":"S328*T308","v":0}]
[{"$f":"IF(A288=\"\",\"\",A288)","v":"1.22."}," хозяйственно-питьевые нужды","с ваннами, оборудованными душами и с канализацией",null,null,null,null,0,null,null,0,0,null,0,0,0,0,0,null,null,{"$f":"S329*T308","v":0}]
[{"$f":"IF(A289=\"\",\"\",A289)","v":"1.23."}," хозяйственно-питьевые нужды","с водопроводом без канализации",null,null,null,null,0,null,null,0,0,null,0,0,0,0,0,null,null,{"$f":"S330*T308","v":0}]
[{"$f":"IF(A290=\"\",\"\",A290)","v":"1.24."}," хозяйственно-питьевые нужды","водопровод, ванны без ГВС и кан-ции",null,null,null,null,0,null,null,0,0,null,0,0,0,0,0,null,null,{"$f":"S331*T308","v":0}]
[{"$f":"IF(A291=\"\",\"\",A291)","v":"1.25."}," хозяйственно-питьевые нужды","с ваннами, оборудованными душами и с канализацией",null,null,null,null,0,null,null,0,0,null,0,0,0,0,0,null,null,{"$f":"S332*T308","v":0}]
[{"$f":"IF(A292=\"\",\"\",A292)","v":"1.26."},"поливка  приусадебных участков","полив и бани",null,null,null,null,0,null,null,0,0,null,0,0,0,0,0,null,null,{"$f":"S333*T308","v":0}]
[null,"перерасчеты",null,"х","х","х","х","х","х","х","х","х","контроль","х","х","х","х"]
[null,"Итого население",null,null,null,{"$f":"SUM(F308:F333)","v":0},0,0,0,0,0,0,{"$f":"L335-'полезный отпуск'!N131","v":0},{"$f":"SUM(N308:N333)","v":0},0,0,{"$f":"SUM(Q308:Q333)","v":0},{"$f":"SUM(R308:R334)","v":0},{"$f":"SUM(S308:S334)","v":0},null,{"$f":"SUM(U308:U334)","v":0}]
["2.","Итого бюджет",null,null,null,null,null,{"$f":"F336+G336","v":0},null,null,{"$f":"I336+J336","v":0},{"$f":"H336+K336","v":0},{"$f":"L336-'полезный отпуск'!M131","v":0},{"$f":"F336*$M$308","v":0},{"$f":"G336*$M$308","v":0},{"$f":"I336*$M$308","v":0},{"$f":"J336*$M$308","v":0},{"$f":"SUM(N336:Q336)","v":0},null,null,{"$f":"S336*T308","v":0}]
["3.","Итого прочие+другие водопроводы",null,null,null,null,null,0,null,null,{"$f":"I337+J337","v":0},{"$f":"H337+K337","v":0},{"$f":"L337-('полезный отпуск'!O131+'полезный отпуск'!H131)","v":0},0,0,0,0,0,null,null,{"$f":"S337*T308","v":0}]
["4.","ВСЕГО 1-е полугодие",null,null,null,{"$f":"SUM(F335:F337)","v":0},{"$f":"SUM(G335:G337)","v":0},{"$f":"SUM(H335:H337)","v":0},{"$f":"SUM(I335:I337)","v":0},0,0,0,{"$f":"L338-('полезный отпуск'!L131+'полезный отпуск'!H131)","v":0},{"$f":"SUM(N335:N337)","v":0},0,0,0,0,{"$f":"SUM(S335:S337)","v":0},null,{"$f":"SUM(U335:U337)","v":0}]
[null,"2-е полугодие 2017 года"]
["1.","Население "]
[{"$f":"IF(A308=\"\",\"\",A308)","v":"1.1."},{"$f":"IF(B308=\"\",\"\",B308)","v":" хозяйственно-питьевые нужды"},"Квартиры с ваннами длиной от 1500 до 1700 мм, оборудованными душами",null,null,null,null,{"$f":"F341+G341","v":0},null,null,{"$f":"I341+J341","v":0},{"$f":"H341+K341","v":0},{"$f":"M267","v":0},{"$f":"F341*$M$341","v":0},{"$f":"G341*$M$341","v":0},{"$f":"I341*$M$341","v":0},{"$f":"J341*$M$341","v":0},{"$f":"SUM(N341:Q341)","v":0},null,{"$f":"T267","v":0},{"$f":"S341*T341","v":0}]
[{"$f":"IF(A309=\"\",\"\",A309)","v":"1.2."}," хозяйственно-питьевые нужды","Квартиры  без ванн,  без ГВС и кан-ции",null,null,null,null,{"$f":"F342+G342","v":0},null,null,{"$f":"I342+J342","v":0},{"$f":"H342+K342","v":0},null,{"$f":"F342*$M$341","v":0},{"$f":"G342*$M$341","v":0},{"$f":"I342*$M$341","v":0},{"$f":"J342*$M$341","v":0},{"$f":"SUM(N342:Q342)","v":0},null,null,{"$f":"S342*T341","v":0}]
[{"$f":"IF(A310=\"\",\"\",A310)","v":"1.3."}," хозяйственно-питьевые нужды","Квартиры с ваннами длиной от 1500 до 1700 мм, оборудованными душами",null,null,null,null,0,null,null,0,0,null,0,0,0,0,0,null,null,{"$f":"S343*T341","v":0}]
[{"$f":"IF(A311=\"\",\"\",A311)","v":"1.4."}," хозяйственно-питьевые нужды","Квартиры с  общими душами на этаже",null,null,null,null,0,null,null,0,0,null,0,0,0,0,0,null,null,{"$f":"S344*T341","v":0}]
[{"$f":"IF(A312=\"\",\"\",A312)","v":"1.5."}," хозяйственно-питьевые нужды","Квартиры  с ваннами и местным  ГВС (индивид эл.бойлера)",null,null,null,null,0,null,null,0,0,null,0,0,0,0,0,null,null,{"$f":"S345*T341","v":0}]
[{"$f":"IF(A313=\"\",\"\",A313)","v":"1.6."}," хозяйственно-питьевые нужды","Квартиры  с ваннами и местным  ГВС (общий т/обменник от отопления 252 дня)",null,null,null,null,0,null,null,0,0,null,0,0,0,0,0,null,null,{"$f":"S346*T341","v":0}]
[{"$f":"IF(A314=\"\",\"\",A314)","v":"1.7."}," хозяйственно-питьевые нужды","Квартиры с ваннами длиной от 1500 до 1700 мм, оборудованными душами",null,null,null,null,0,null,null,0,0,null,0,0,0,0,0,null,null,{"$f":"S347*T341","v":0}]
[{"$f":"IF(A315=\"\",\"\",A315)","v":"1.8."}," хозяйственно-питьевые нужды","Квартиры  с ваннами и местным  ГВС (индивид эл.бойлера)",null,null,null,null,0,null,null,0,0,null,0,0,0,0,0,null,null,{"$f":"S348*T341","v":0}]
[{"$f":"IF(A316=\"\",\"\",A316)","v":"1.9."}," хозяйственно-питьевые нужды","Квартиры с ваннами длиной от 1500 до 1700 мм, оборудованными душами",null,null,null,null,0,null,null,0,0,null,0,0,0,0,0,null,null,{"$f":"S349*T341","v":0}]
[{"$f":"IF(A317=\"\",\"\",A317)","v":"1.10."}," хозяйственно-питьевые нужды","Квартиры с ваннами длиной от 1500 до 1700 мм, оборудованными душами",null,null,null,null,0,null,null,0,0,null,0,0,0,0,0,null,null,{"$f":"S350*T341","v":0}]
[{"$f":"IF(A318=\"\",\"\",A318)","v":"1.11."}," хозяйственно-питьевые нужды","Квартиры с ваннами сидячими, оборудованными душами",null,null,null,null,0,null,null,0,0,null,0,0,0,0,0,null,null,{"$f":"S351*T341","v":0}]
[{"$f":"IF(A319=\"\",\"\",A319)","v":"1.12."}," хозяйственно-питьевые нужды","Квартиры с общими душами на этаже",null,null,null,null,0,null,null,0,0,null,0,0,0,0,0,null,null,{"$f":"S352*T341","v":0}]
[{"$f":"IF(A320=\"\",\"\",A320)","v":"1.13."}," хозяйственно-питьевые нужды","Квартиры с ваннами длиной от 1500 до 1700 мм, оборудованными душами",null,null,null,null,0,null,null,0,0,null,0,0,0,0,0,null,null,{"$f":"S353*T341","v":0}]
[{"$f":"IF(A321=\"\",\"\",A321)","v":"1.14."}," хозяйственно-питьевые нужды","Квартиры с ваннами длиной от 1500 до 1700 мм, оборудованными душами",null,null,null,null,0,null,null,0,0,null,0,0,0,0,0,null,null,{"$f":"S354*T341","v":0}]
[{"$f":"IF(A322=\"\",\"\",A322)","v":"1.15."}," хозяйственно-питьевые нужды","Квартиры с общими душами в секции",null,null,null,null,0,null,null,0,0,null,0,0,0,0,0,null,null,{"$f":"S355*T341","v":0}]
[{"$f":"IF(A323=\"\",\"\",A323)","v":"1.16."}," хозяйственно-питьевые нужды","Квартиры с ваннами длиной от 1500 до 1700 мм, оборудованными душами",null,null,null,null,0,null,null,0,0,null,0,0,0,0,0,null,null,{"$f":"S356*T341","v":0}]
[{"$f":"IF(A324=\"\",\"\",A324)","v":"1.17."}," хозяйственно-питьевые нужды","с водопроводом без канализации",null,null,null,null,0,null,null,0,0,null,0,0,0,0,0,null,null,{"$f":"S357*T341","v":0}]
[{"$f":"IF(A325=\"\",\"\",A325)","v":"1.18."}," хозяйственно-питьевые нужды","водопровод, ванны без ГВС и кан-ции",null,null,null,null,0,null,null,0,0,null,0,0,0,0,0,null,null,{"$f":"S358*T341","v":0}]
[{"$f":"IF(A326=\"\",\"\",A326)","v":"1.19."}," хозяйственно-питьевые нужды","с ваннами, оборудованными душами и с канализацией",null,null,null,null,0,null,null,0,0,null,0,0,0,0,0,null,null,{"$f":"S359*T341","v":0}]
[{"$f":"IF(A327=\"\",\"\",A327)","v":"1.20."}," хозяйственно-питьевые нужды","с водопроводом без канализации",null,null,null,null,0,null,null,0,0,null,0,0,0,0,0,null,null,{"$f":"S360*T341","v":0}]
[{"$f":"IF(A328=\"\",\"\",A328)","v":"1.21."}," хозяйственно-питьевые нужды","водопровод, ванны без ГВС и кан-ции",null,null,null,null,0,null,null,0,0,null,0,0,0,0,0,null,null,{"$f":"S361*T341","v":0}]
[{"$f":"IF(A329=\"\",\"\",A329)","v":"1.22."}," хозяйственно-питьевые нужды","с ваннами, оборудованными душами и с канализацией",null,null,null,null,0,null,null,0,0,null,0,0,0,0,0,null,null,{"$f":"S362*T341","v":0}]
[{"$f":"IF(A330=\"\",\"\",A330)","v":"1.23."}," хозяйственно-питьевые нужды","с водопроводом без канализации",null,null,null,null,0,null,null,0,0,null,0,0,0,0,0,null,null,{"$f":"S363*T341","v":0}]
[{"$f":"IF(A331=\"\",\"\",A331)","v":"1.24."}," хозяйственно-питьевые нужды","водопровод, ванны без ГВС и кан-ции",null,null,null,null,0,null,null,0,0,null,0,0,0,0,0,null,null,{"$f":"S364*T341","v":0}]
[{"$f":"IF(A332=\"\",\"\",A332)","v":"1.25."}," хозяйственно-питьевые нужды","с ваннами, оборудованными душами и с канализацией",null,null,null,null,0,null,null,0,0,null,0,0,0,0,0,null,null,{"$f":"S365*T341","v":0}]
[{"$f":"IF(A333=\"\",\"\",A333)","v":"1.26."},"поливка  приусадебных участков","полив и бани",null,null,null,null,0,null,null,0,0,null,0,0,0,0,0,null,null,{"$f":"S366*T341","v":0}]
[null,"перерасчеты",null,"х","х","х","х","х","х","х","х","х","контроль","х","х","х","х"]
[null,"Итого население",null,null,null,{"$f":"SUM(F341:F366)","v":0},0,0,0,0,0,0,{"$f":"L368-'полезный отпуск'!N132","v":0},{"$f":"SUM(N341:N366)","v":0},0,0,{"$f":"SUM(Q341:Q366)","v":0},{"$f":"SUM(R341:R367)","v":0},{"$f":"SUM(S341:S367)","v":0},null,{"$f":"SUM(U341:U367)","v":0}]
["2.","Итого бюджет",null,null,null,null,null,{"$f":"F369+G369","v":0},null,null,{"$f":"I369+J369","v":0},{"$f":"H369+K369","v":0},{"$f":"L369-'полезный отпуск'!M132","v":0},{"$f":"F369*$M$341","v":0},{"$f":"G369*$M$341","v":0},{"$f":"I369*$M$341","v":0},{"$f":"J369*$M$341","v":0},{"$f":"SUM(N369:Q369)","v":0},null,null,{"$f":"S369*T341","v":0}]
["3.","Итого прочие+другие водопроводы",null,null,null,null,null,0,null,null,{"$f":"I370+J370","v":0},{"$f":"H370+K370","v":0},{"$f":"L370-('полезный отпуск'!O132+'полезный отпуск'!H132)","v":0},0,0,0,0,0,null,null,{"$f":"S370*T341","v":0}]
["4.","ВСЕГО 2-е полугодие",null,null,null,{"$f":"SUM(F368:F370)","v":0},{"$f":"SUM(G368:G370)","v":0},{"$f":"SUM(H368:H370)","v":0},{"$f":"SUM(I368:I370)","v":0},0,0,0,{"$f":"L371-('полезный отпуск'!L132+'полезный отпуск'!H132)","v":0},{"$f":"SUM(N368:N370)","v":0},0,0,0,0,{"$f":"SUM(S368:S370)","v":0},null,{"$f":"SUM(U368:U370)","v":0}]
[]
["5.","ГОД ВСЕГО",null,null,null,{"$f":"F338+F371","v":0},{"$f":"G338+G371","v":0},0,0,0,0,0,null,{"$f":"N338+N371","v":0},0,0,0,0,{"$f":"S338+S371","v":0},null,{"$f":"U338+U371","v":0}]
[]
[null,"МО",{"$f":"'данные об организации'!A17","v":0},{"$f":"'данные об организации'!$F$17","v":0}]
[null,null,null,"(наименование населенного пункта)"]
["№","Вид потребителя","Степень благоустройства, наименование скота","Нормы потребления холодного и горячего водоснабжения, куб.м. в месяц(на 1 чел, на 1 голову скота и тд)",null,"Фактический годовой объем реализации воды,  куб.м.",null,null,null,null,null,null,"тариф на холодную воду, руб/куб.м.","Сумма, руб",null,null,null,null,"компенсация до установленного тарифа"]
[null,null,null,null,null,"холодной воды",null,null,"для нужд ГВС",null,null,"ВСЕГО",null,"холодной воды",null,"для нужд ГВС",null,"ИТОГО"]
[null,null,null,"холодной воды","ГВС","норматив","прибор учета","Итого","норматив","прибор учета","Итого",null,null,"норматив","прибор учета","норматив","прибор учета",null,"объем, куб.м.","размер, руб/куб.м.","Сумма, руб"]
[null,"1-е полугодие 2017 года"]
["1.","Население "]
[{"$f":"IF(A341=\"\",\"\",A341)","v":"1.1."},{"$f":"IF(B341=\"\",\"\",B341)","v":" хозяйственно-питьевые нужды"},"Квартиры с ваннами длиной от 1500 до 1700 мм, оборудованными душами",null,null,null,null,{"$f":"F382+G382","v":0},null,null,{"$f":"I382+J382","v":0},{"$f":"H382+K382","v":0},{"$f":"M308","v":0},{"$f":"F382*$M$382","v":0},{"$f":"G382*$M$382","v":0},{"$f":"I382*$M$382","v":0},{"$f":"J382*$M$382","v":0},{"$f":"SUM(N382:Q382)","v":0},null,{"$f":"T308","v":0},{"$f":"S382*T382","v":0}]
[{"$f":"IF(A342=\"\",\"\",A342)","v":"1.2."}," хозяйственно-питьевые нужды","Квартиры  без ванн,  без ГВС и кан-ции",null,null,null,null,{"$f":"F383+G383","v":0},null,null,{"$f":"I383+J383","v":0},{"$f":"H383+K383","v":0},null,{"$f":"F383*$M$382","v":0},{"$f":"G383*$M$382","v":0},{"$f":"I383*$M$382","v":0},{"$f":"J383*$M$382","v":0},{"$f":"SUM(N383:Q383)","v":0},null,null,{"$f":"S383*T382","v":0}]
[{"$f":"IF(A343=\"\",\"\",A343)","v":"1.3."}," хозяйственно-питьевые нужды","Квартиры с ваннами длиной от 1500 до 1700 мм, оборудованными душами",null,null,null,null,0,null,null,0,0,null,0,0,0,0,0,null,null,{"$f":"S384*T382","v":0}]
[{"$f":"IF(A344=\"\",\"\",A344)","v":"1.4."}," хозяйственно-питьевые нужды","Квартиры с  общими душами на этаже",null,null,null,null,0,null,null,0,0,null,0,0,0,0,0,null,null,{"$f":"S385*T382","v":0}]
[{"$f":"IF(A345=\"\",\"\",A345)","v":"1.5."}," хозяйственно-питьевые нужды","Квартиры  с ваннами и местным  ГВС (индивид эл.бойлера)",null,null,null,null,0,null,null,0,0,null,0,0,0,0,0,null,null,{"$f":"S386*T382","v":0}]
[{"$f":"IF(A346=\"\",\"\",A346)","v":"1.6."}," хозяйственно-питьевые нужды","Квартиры  с ваннами и местным  ГВС (общий т/обменник от отопления 252 дня)",null,null,null,null,0,null,null,0,0,null,0,0,0,0,0,null,null,{"$f":"S387*T382","v":0}]
[{"$f":"IF(A347=\"\",\"\",A347)","v":"1.7."}," хозяйственно-питьевые нужды","Квартиры с ваннами длиной от 1500 до 1700 мм, оборудованными душами",null,null,null,null,0,null,null,0,0,null,0,0,0,0,0,null,null,{"$f":"S388*T382","v":0}]
[{"$f":"IF(A348=\"\",\"\",A348)","v":"1.8."}," хозяйственно-питьевые нужды","Квартиры  с ваннами и местным  ГВС (индивид эл.бойлера)",null,null,null,null,0,null,null,0,0,null,0,0,0,0,0,null,null,{"$f":"S389*T382","v":0}]
[{"$f":"IF(A349=\"\",\"\",A349)","v":"1.9."}," хозяйственно-питьевые нужды","Квартиры с ваннами длиной от 1500 до 1700 мм, оборудованными душами",null,null,null,null,0,null,null,0,0,null,0,0,0,0,0,null,null,{"$f":"S390*T382","v":0}]
[{"$f":"IF(A350=\"\",\"\",A350)","v":"1.10."}," хозяйственно-питьевые нужды","Квартиры с ваннами длиной от 1500 до 1700 мм, оборудованными душами",null,null,null,null,0,null,null,0,0,null,0,0,0,0,0,null,null,{"$f":"S391*T382","v":0}]
[{"$f":"IF(A351=\"\",\"\",A351)","v":"1.11."}," хозяйственно-питьевые нужды","Квартиры с ваннами сидячими, оборудованными душами",null,null,null,null,0,null,null,0,0,null,0,0,0,0,0,null,null,{"$f":"S392*T382","v":0}]
[{"$f":"IF(A352=\"\",\"\",A352)","v":"1.12."}," хозяйственно-питьевые нужды","Квартиры с общими душами на этаже",null,null,null,null,0,null,null,0,0,null,0,0,0,0,0,null,null,{"$f":"S393*T382","v":0}]
[{"$f":"IF(A353=\"\",\"\",A353)","v":"1.13."}," хозяйственно-питьевые нужды","Квартиры с ваннами длиной от 1500 до 1700 мм, оборудованными душами",null,null,null,null,0,null,null,0,0,null,0,0,0,0,0,null,null,{"$f":"S394*T382","v":0}]
[{"$f":"IF(A354=\"\",\"\",A354)","v":"1.14."}," хозяйственно-питьевые нужды","Квартиры с ваннами длиной от 1500 до 1700 мм, оборудованными душами",null,null,null,null,0,null,null,0,0,null,0,0,0,0,0,null,null,{"$f":"S395*T382","v":0}]
[{"$f":"IF(A355=\"\",\"\",A355)","v":"1.15."}," хозяйственно-питьевые нужды","Квартиры с общими душами в секции",null,null,null,null,0,null,null,0,0,null,0,0,0,0,0,null,null,{"$f":"S396*T382","v":0}]
[{"$f":"IF(A356=\"\",\"\",A356)","v":"1.16."}," хозяйственно-питьевые нужды","Квартиры с ваннами длиной от 1500 до 1700 мм, оборудованными душами",null,null,null,null,0,null,null,0,0,null,0,0,0,0,0,null,null,{"$f":"S397*T382","v":0}]
[{"$f":"IF(A357=\"\",\"\",A357)","v":"1.17."}," хозяйственно-питьевые нужды","с водопроводом без канализации",null,null,null,null,0,null,null,0,0,null,0,0,0,0,0,null,null,{"$f":"S398*T382","v":0}]
[{"$f":"IF(A358=\"\",\"\",A358)","v":"1.18."}," хозяйственно-питьевые нужды","водопровод, ванны без ГВС и кан-ции",null,null,null,null,0,null,null,0,0,null,0,0,0,0,0,null,null,{"$f":"S399*T382","v":0}]
[{"$f":"IF(A359=\"\",\"\",A359)","v":"1.19."}," хозяйственно-питьевые нужды","с ваннами, оборудованными душами и с канализацией",null,null,null,null,0,null,null,0,0,null,0,0,0,0,0,null,null,{"$f":"S400*T382","v":0}]
[{"$f":"IF(A360=\"\",\"\",A360)","v":"1.20."}," хозяйственно-питьевые нужды","с водопроводом без канализации",null,null,null,null,0,null,null,0,0,null,0,0,0,0,0,null,null,{"$f":"S401*T382","v":0}]
[{"$f":"IF(A361=\"\",\"\",A361)","v":"1.21."}," хозяйственно-питьевые нужды","водопровод, ванны без ГВС и кан-ции",null,null,null,null,0,null,null,0,0,null,0,0,0,0,0,null,null,{"$f":"S402*T382","v":0}]
[{"$f":"IF(A362=\"\",\"\",A362)","v":"1.22."}," хозяйственно-питьевые нужды","с ваннами, оборудованными душами и с канализацией",null,null,null,null,0,null,null,0,0,null,0,0,0,0,0,null,null,{"$f":"S403*T382","v":0}]
[{"$f":"IF(A363=\"\",\"\",A363)","v":"1.23."}," хозяйственно-питьевые нужды","с водопроводом без канализации",null,null,null,null,0,null,null,0,0,null,0,0,0,0,0,null,null,{"$f":"S404*T382","v":0}]
[{"$f":"IF(A364=\"\",\"\",A364)","v":"1.24."}," хозяйственно-питьевые нужды","водопровод, ванны без ГВС и кан-ции",null,null,null,null,0,null,null,0,0,null,0,0,0,0,0,null,null,{"$f":"S405*T382","v":0}]
[{"$f":"IF(A365=\"\",\"\",A365)","v":"1.25."}," хозяйственно-питьевые нужды","с ваннами, оборудованными душами и с канализацией",null,null,null,null,0,null,null,0,0,null,0,0,0,0,0,null,null,{"$f":"S406*T382","v":0}]
[{"$f":"IF(A366=\"\",\"\",A366)","v":"1.26."},"поливка  приусадебных участков","полив и бани",null,null,null,null,0,null,null,0,0,null,0,0,0,0,0,null,null,{"$f":"S407*T382","v":0}]
[null,"перерасчеты",null,"х","х","х","х","х","х","х","х","х","контроль","х","х","х","х"]
[null,"Итого население",null,null,null,{"$f":"SUM(F382:F407)","v":0},0,0,0,0,0,0,{"$f":"L409-'полезный отпуск'!N156","v":0},{"$f":"SUM(N382:N407)","v":0},0,0,{"$f":"SUM(Q382:Q407)","v":0},{"$f":"SUM(R382:R408)","v":0},{"$f":"SUM(S382:S408)","v":0},null,{"$f":"SUM(U382:U408)","v":0}]
["2.","Итого бюджет",null,null,null,null,null,{"$f":"F410+G410","v":0},null,null,{"$f":"I410+J410","v":0},{"$f":"H410+K410","v":0},{"$f":"L410-'полезный отпуск'!M156","v":0},{"$f":"F410*$M$382","v":0},{"$f":"G410*$M$382","v":0},{"$f":"I410*$M$382","v":0},{"$f":"J410*$M$382","v":0},{"$f":"SUM(N410:Q410)","v":0},null,null,{"$f":"S410*T382","v":0}]
["3.","Итого прочие+другие водопроводы",null,null,null,null,null,0,null,null,{"$f":"I411+J411","v":0},{"$f":"H411+K411","v":0},{"$f":"L411-('полезный отпуск'!O156+'полезный отпуск'!H156)","v":0},0,0,0,0,0,null,null,{"$f":"S411*T382","v":0}]
["4.","ВСЕГО 1-е полугодие",null,null,null,{"$f":"SUM(F409:F411)","v":0},{"$f":"SUM(G409:G411)","v":0},{"$f":"SUM(H409:H411)","v":0},{"$f":"SUM(I409:I411)","v":0},0,0,0,{"$f":"L412-('полезный отпуск'!L156+'полезный отпуск'!H156)","v":0},{"$f":"SUM(N409:N411)","v":0},0,0,0,0,{"$f":"SUM(S409:S411)","v":0},null,{"$f":"SUM(U409:U411)","v":0}]
[null,"2-е полугодие 2017 года"]
["1.","Население "]
[{"$f":"IF(A382=\"\",\"\",A382)","v":"1.1."},{"$f":"IF(B382=\"\",\"\",B382)","v":" хозяйственно-питьевые нужды"},"Квартиры с ваннами длиной от 1500 до 1700 мм, оборудованными душами",null,null,null,null,{"$f":"F415+G415","v":0},null,null,{"$f":"I415+J415","v":0},{"$f":"H415+K415","v":0},{"$f":"M341","v":0},{"$f":"F415*$M$415","v":0},{"$f":"G415*$M$415","v":0},{"$f":"I415*$M$415","v":0},{"$f":"J415*$M$415","v":0},{"$f":"SUM(N415:Q415)","v":0},null,{"$f":"T341","v":0},{"$f":"S415*T415","v":0}]
[{"$f":"IF(A383=\"\",\"\",A383)","v":"1.2."}," хозяйственно-питьевые нужды","Квартиры  без ванн,  без ГВС и кан-ции",null,null,null,null,{"$f":"F416+G416","v":0},null,null,{"$f":"I416+J416","v":0},{"$f":"H416+K416","v":0},null,{"$f":"F416*$M$415","v":0},{"$f":"G416*$M$415","v":0},{"$f":"I416*$M$415","v":0},{"$f":"J416*$M$415","v":0},{"$f":"SUM(N416:Q416)","v":0},null,null,{"$f":"S416*T415","v":0}]
[{"$f":"IF(A384=\"\",\"\",A384)","v":"1.3."}," хозяйственно-питьевые нужды","Квартиры с ваннами длиной от 1500 до 1700 мм, оборудованными душами",null,null,null,null,0,null,null,0,0,null,0,0,0,0,0,null,null,{"$f":"S417*T415","v":0}]
[{"$f":"IF(A385=\"\",\"\",A385)","v":"1.4."}," хозяйственно-питьевые нужды","Квартиры с  общими душами на этаже",null,null,null,null,0,null,null,0,0,null,0,0,0,0,0,null,null,{"$f":"S418*T415","v":0}]
[{"$f":"IF(A386=\"\",\"\",A386)","v":"1.5."}," хозяйственно-питьевые нужды","Квартиры  с ваннами и местным  ГВС (индивид эл.бойлера)",null,null,null,null,0,null,null,0,0,null,0,0,0,0,0,null,null,{"$f":"S419*T415","v":0}]
[{"$f":"IF(A387=\"\",\"\",A387)","v":"1.6."}," хозяйственно-питьевые нужды","Квартиры  с ваннами и местным  ГВС (общий т/обменник от отопления 252 дня)",null,null,null,null,0,null,null,0,0,null,0,0,0,0,0,null,null,{"$f":"S420*T415","v":0}]
[{"$f":"IF(A388=\"\",\"\",A388)","v":"1.7."}," хозяйственно-питьевые нужды","Квартиры с ваннами длиной от 1500 до 1700 мм, оборудованными душами",null,null,null,null,0,null,null,0,0,null,0,0,0,0,0,null,null,{"$f":"S421*T415","v":0}]
[{"$f":"IF(A389=\"\",\"\",A389)","v":"1.8."}," хозяйственно-питьевые нужды","Квартиры  с ваннами и местным  ГВС (индивид эл.бойлера)",null,null,null,null,0,null,null,0,0,null,0,0,0,0,0,null,null,{"$f":"S422*T415","v":0}]
[{"$f":"IF(A390=\"\",\"\",A390)","v":"1.9."}," хозяйственно-питьевые нужды","Квартиры с ваннами длиной от 1500 до 1700 мм, оборудованными душами",null,null,null,null,0,null,null,0,0,null,0,0,0,0,0,null,null,{"$f":"S423*T415","v":0}]
[{"$f":"IF(A391=\"\",\"\",A391)","v":"1.10."}," хозяйственно-питьевые нужды","Квартиры с ваннами длиной от 1500 до 1700 мм, оборудованными душами",null,null,null,null,0,null,null,0,0,null,0,0,0,0,0,null,null,{"$f":"S424*T415","v":0}]
[{"$f":"IF(A392=\"\",\"\",A392)","v":"1.11."}," хозяйственно-питьевые нужды","Квартиры с ваннами сидячими, оборудованными душами",null,null,null,null,0,null,null,0,0,null,0,0,0,0,0,null,null,{"$f":"S425*T415","v":0}]
[{"$f":"IF(A393=\"\",\"\",A393)","v":"1.12."}," хозяйственно-питьевые нужды","Квартиры с общими душами на этаже",null,null,null,null,0,null,null,0,0,null,0,0,0,0,0,null,null,{"$f":"S426*T415","v":0}]
[{"$f":"IF(A394=\"\",\"\",A394)","v":"1.13."}," хозяйственно-питьевые нужды","Квартиры с ваннами длиной от 1500 до 1700 мм, оборудованными душами",null,null,null,null,0,null,null,0,0,null,0,0,0,0,0,null,null,{"$f":"S427*T415","v":0}]
[{"$f":"IF(A395=\"\",\"\",A395)","v":"1.14."}," хозяйственно-питьевые нужды","Квартиры с ваннами длиной от 1500 до 1700 мм, оборудованными душами",null,null,null,null,0,null,null,0,0,null,0,0,0,0,0,null,null,{"$f":"S428*T415","v":0}]
[{"$f":"IF(A396=\"\",\"\",A396)","v":"1.15."}," хозяйственно-питьевые нужды","Квартиры с общими душами в секции",null,null,null,null,0,null,null,0,0,null,0,0,0,0,0,null,null,{"$f":"S429*T415","v":0}]
[{"$f":"IF(A397=\"\",\"\",A397)","v":"1.16."}," хозяйственно-питьевые нужды","Квартиры с ваннами длиной от 1500 до 1700 мм, оборудованными душами",null,null,null,null,0,null,null,0,0,null,0,0,0,0,0,null,null,{"$f":"S430*T415","v":0}]
[{"$f":"IF(A398=\"\",\"\",A398)","v":"1.17."}," хозяйственно-питьевые нужды","с водопроводом без канализации",null,null,null,null,0,null,null,0,0,null,0,0,0,0,0,null,null,{"$f":"S431*T415","v":0}]
[{"$f":"IF(A399=\"\",\"\",A399)","v":"1.18."}," хозяйственно-питьевые нужды","водопровод, ванны без ГВС и кан-ции",null,null,null,null,0,null,null,0,0,null,0,0,0,0,0,null,null,{"$f":"S432*T415","v":0}]
[{"$f":"IF(A400=\"\",\"\",A400)","v":"1.19."}," хозяйственно-питьевые нужды","с ваннами, оборудованными душами и с канализацией",null,null,null,null,0,null,null,0,0,null,0,0,0,0,0,null,null,{"$f":"S433*T415","v":0}]
[{"$f":"IF(A401=\"\",\"\",A401)","v":"1.20."}," хозяйственно-питьевые нужды","с водопроводом без канализации",null,null,null,null,0,null,null,0,0,null,0,0,0,0,0,null,null,{"$f":"S434*T415","v":0}]
[{"$f":"IF(A402=\"\",\"\",A402)","v":"1.21."}," хозяйственно-питьевые нужды","водопровод, ванны без ГВС и кан-ции",null,null,null,null,0,null,null,0,0,null,0,0,0,0,0,null,null,{"$f":"S435*T415","v":0}]
[{"$f":"IF(A403=\"\",\"\",A403)","v":"1.22."}," хозяйственно-питьевые нужды","с ваннами, оборудованными душами и с канализацией",null,null,null,null,0,null,null,0,0,null,0,0,0,0,0,null,null,{"$f":"S436*T415","v":0}]
[{"$f":"IF(A404=\"\",\"\",A404)","v":"1.23."}," хозяйственно-питьевые нужды","с водопроводом без канализации",null,null,null,null,0,null,null,0,0,null,0,0,0,0,0,null,null,{"$f":"S437*T415","v":0}]
[{"$f":"IF(A405=\"\",\"\",A405)","v":"1.24."}," хозяйственно-питьевые нужды","водопровод, ванны без ГВС и кан-ции",null,null,null,null,0,null,null,0,0,null,0,0,0,0,0,null,null,{"$f":"S438*T415","v":0}]
[{"$f":"IF(A406=\"\",\"\",A406)","v":"1.25."}," хозяйственно-питьевые нужды","с ваннами, оборудованными душами и с канализацией",null,null,null,null,0,null,null,0,0,null,0,0,0,0,0,null,null,{"$f":"S439*T415","v":0}]
[{"$f":"IF(A407=\"\",\"\",A407)","v":"1.26."},"поливка  приусадебных участков","полив и бани",null,null,null,null,0,null,null,0,0,null,0,0,0,0,0,null,null,{"$f":"S440*T415","v":0}]
[null,"перерасчеты",null,"х","х","х","х","х","х","х","х","х","контроль","х","х","х","х"]
[null,"Итого население",null,null,null,{"$f":"SUM(F415:F440)","v":0},0,0,0,0,0,0,{"$f":"L442-'полезный отпуск'!N157","v":0},{"$f":"SUM(N415:N440)","v":0},0,0,{"$f":"SUM(Q415:Q440)","v":0},{"$f":"SUM(R415:R441)","v":0},{"$f":"SUM(S415:S441)","v":0},null,{"$f":"SUM(U415:U441)","v":0}]
["2.","Итого бюджет",null,null,null,null,null,{"$f":"F443+G443","v":0},null,null,{"$f":"I443+J443","v":0},{"$f":"H443+K443","v":0},{"$f":"L443-'полезный отпуск'!M157","v":0},{"$f":"F443*$M$415","v":0},{"$f":"G443*$M$415","v":0},{"$f":"I443*$M$415","v":0},{"$f":"J443*$M$415","v":0},{"$f":"SUM(N443:Q443)","v":0},null,null,{"$f":"S443*T415","v":0}]
["3.","Итого прочие+другие водопроводы",null,null,null,null,null,0,null,null,{"$f":"I444+J444","v":0},{"$f":"H444+K444","v":0},{"$f":"L444-('полезный отпуск'!O157+'полезный отпуск'!H157)","v":0},0,0,0,0,0,null,null,{"$f":"S444*T415","v":0}]
["4.","ВСЕГО 2-е полугодие",null,null,null,{"$f":"SUM(F442:F444)","v":0},{"$f":"SUM(G442:G444)","v":0},{"$f":"SUM(H442:H444)","v":0},{"$f":"SUM(I442:I444)","v":0},0,0,0,{"$f":"L445-('полезный отпуск'!L157+'полезный отпуск'!H157)","v":0},{"$f":"SUM(N442:N444)","v":0},0,0,0,0,{"$f":"SUM(S442:S444)","v":0},null,{"$f":"SUM(U442:U444)","v":0}]
[]
["5.","ГОД ВСЕГО",null,null,null,{"$f":"F412+F445","v":0},{"$f":"G412+G445","v":0},0,0,0,0,0,null,{"$f":"N412+N445","v":0},0,0,0,0,{"$f":"S412+S445","v":0},null,{"$f":"U412+U445","v":0}]
[]
[null,"МО",{"$f":"'данные об организации'!A18","v":0},{"$f":"'данные об организации'!$F$18","v":0}]
[null,null,null,"(наименование населенного пункта)"]
["№","Вид потребителя","Степень благоустройства, наименование скота","Нормы потребления холодного и горячего водоснабжения, куб.м. в месяц(на 1 чел, на 1 голову скота и тд)",null,"Фактический годовой объем реализации воды,  куб.м.",null,null,null,null,null,null,"тариф на холодную воду, руб/куб.м.","Сумма, руб",null,null,null,null,"компенсация до установленного тарифа"]
[null,null,null,null,null,"холодной воды",null,null,"для нужд ГВС",null,null,"ВСЕГО",null,"холодной воды",null,"для нужд ГВС",null,"ИТОГО"]
[null,null,null,"холодной воды","ГВС","норматив","прибор учета","Итого","норматив","прибор учета","Итого",null,null,"норматив","прибор учета","норматив","прибор учета",null,"объем, куб.м.","размер, руб/куб.м.","Сумма, руб"]
[null,"1-е полугодие 2017 года"]
["1.","Население "]
[{"$f":"IF(A415=\"\",\"\",A415)","v":"1.1."},{"$f":"IF(B415=\"\",\"\",B415)","v":" хозяйственно-питьевые нужды"},"Квартиры с ваннами длиной от 1500 до 1700 мм, оборудованными душами",null,null,null,null,{"$f":"F456+G456","v":0},null,null,{"$f":"I456+J456","v":0},{"$f":"H456+K456","v":0},{"$f":"M382","v":0},{"$f":"F456*$M$456","v":0},{"$f":"G456*$M$456","v":0},{"$f":"I456*$M$456","v":0},{"$f":"J456*$M$456","v":0},{"$f":"SUM(N456:Q456)","v":0},null,{"$f":"T382","v":0},{"$f":"S456*T456","v":0}]
[{"$f":"IF(A416=\"\",\"\",A416)","v":"1.2."}," хозяйственно-питьевые нужды","Квартиры  без ванн,  без ГВС и кан-ции",null,null,null,null,{"$f":"F457+G457","v":0},null,null,{"$f":"I457+J457","v":0},{"$f":"H457+K457","v":0},null,{"$f":"F457*$M$456","v":0},{"$f":"G457*$M$456","v":0},{"$f":"I457*$M$456","v":0},{"$f":"J457*$M$456","v":0},{"$f":"SUM(N457:Q457)","v":0},null,null,{"$f":"S457*T456","v":0}]
[{"$f":"IF(A417=\"\",\"\",A417)","v":"1.3."}," хозяйственно-питьевые нужды","Квартиры с ваннами длиной от 1500 до 1700 мм, оборудованными душами",null,null,null,null,0,null,null,0,0,null,0,0,0,0,0,null,null,{"$f":"S458*T456","v":0}]
[{"$f":"IF(A418=\"\",\"\",A418)","v":"1.4."}," хозяйственно-питьевые нужды","Квартиры с  общими душами на этаже",null,null,null,null,0,null,null,0,0,null,0,0,0,0,0,null,null,{"$f":"S459*T456","v":0}]
[{"$f":"IF(A419=\"\",\"\",A419)","v":"1.5."}," хозяйственно-питьевые нужды","Квартиры  с ваннами и местным  ГВС (индивид эл.бойлера)",null,null,null,null,0,null,null,0,0,null,0,0,0,0,0,null,null,{"$f":"S460*T456","v":0}]
[{"$f":"IF(A420=\"\",\"\",A420)","v":"1.6."}," хозяйственно-питьевые нужды","Квартиры  с ваннами и местным  ГВС (общий т/обменник от отопления 252 дня)",null,null,null,null,0,null,null,0,0,null,0,0,0,0,0,null,null,{"$f":"S461*T456","v":0}]
[{"$f":"IF(A421=\"\",\"\",A421)","v":"1.7."}," хозяйственно-питьевые нужды","Квартиры с ваннами длиной от 1500 до 1700 мм, оборудованными душами",null,null,null,null,0,null,null,0,0,null,0,0,0,0,0,null,null,{"$f":"S462*T456","v":0}]
[{"$f":"IF(A422=\"\",\"\",A422)","v":"1.8."}," хозяйственно-питьевые нужды","Квартиры  с ваннами и местным  ГВС (индивид эл.бойлера)",null,null,null,null,0,null,null,0,0,null,0,0,0,0,0,null,null,{"$f":"S463*T456","v":0}]
[{"$f":"IF(A423=\"\",\"\",A423)","v":"1.9."}," хозяйственно-питьевые нужды","Квартиры с ваннами длиной от 1500 до 1700 мм, оборудованными душами",null,null,null,null,0,null,null,0,0,null,0,0,0,0,0,null,null,{"$f":"S464*T456","v":0}]
[{"$f":"IF(A424=\"\",\"\",A424)","v":"1.10."}," хозяйственно-питьевые нужды","Квартиры с ваннами длиной от 1500 до 1700 мм, оборудованными душами",null,null,null,null,0,null,null,0,0,null,0,0,0,0,0,null,null,{"$f":"S465*T456","v":0}]
[{"$f":"IF(A425=\"\",\"\",A425)","v":"1.11."}," хозяйственно-питьевые нужды","Квартиры с ваннами сидячими, оборудованными душами",null,null,null,null,0,null,null,0,0,null,0,0,0,0,0,null,null,{"$f":"S466*T456","v":0}]
[{"$f":"IF(A426=\"\",\"\",A426)","v":"1.12."}," хозяйственно-питьевые нужды","Квартиры с общими душами на этаже",null,null,null,null,0,null,null,0,0,null,0,0,0,0,0,null,null,{"$f":"S467*T456","v":0}]
[{"$f":"IF(A427=\"\",\"\",A427)","v":"1.13."}," хозяйственно-питьевые нужды","Квартиры с ваннами длиной от 1500 до 1700 мм, оборудованными душами",null,null,null,null,0,null,null,0,0,null,0,0,0,0,0,null,null,{"$f":"S468*T456","v":0}]
[{"$f":"IF(A428=\"\",\"\",A428)","v":"1.14."}," хозяйственно-питьевые нужды","Квартиры с ваннами длиной от 1500 до 1700 мм, оборудованными душами",null,null,null,null,0,null,null,0,0,null,0,0,0,0,0,null,null,{"$f":"S469*T456","v":0}]
[{"$f":"IF(A429=\"\",\"\",A429)","v":"1.15."}," хозяйственно-питьевые нужды","Квартиры с общими душами в секции",null,null,null,null,0,null,null,0,0,null,0,0,0,0,0,null,null,{"$f":"S470*T456","v":0}]
[{"$f":"IF(A430=\"\",\"\",A430)","v":"1.16."}," хозяйственно-питьевые нужды","Квартиры с ваннами длиной от 1500 до 1700 мм, оборудованными душами",null,null,null,null,0,null,null,0,0,null,0,0,0,0,0,null,null,{"$f":"S471*T456","v":0}]
[{"$f":"IF(A431=\"\",\"\",A431)","v":"1.17."}," хозяйственно-питьевые нужды","с водопроводом без канализации",null,null,null,null,0,null,null,0,0,null,0,0,0,0,0,null,null,{"$f":"S472*T456","v":0}]
[{"$f":"IF(A432=\"\",\"\",A432)","v":"1.18."}," хозяйственно-питьевые нужды","водопровод, ванны без ГВС и кан-ции",null,null,null,null,0,null,null,0,0,null,0,0,0,0,0,null,null,{"$f":"S473*T456","v":0}]
[{"$f":"IF(A433=\"\",\"\",A433)","v":"1.19."}," хозяйственно-питьевые нужды","с ваннами, оборудованными душами и с канализацией",null,null,null,null,0,null,null,0,0,null,0,0,0,0,0,null,null,{"$f":"S474*T456","v":0}]
[{"$f":"IF(A434=\"\",\"\",A434)","v":"1.20."}," хозяйственно-питьевые нужды","с водопроводом без канализации",null,null,null,null,0,null,null,0,0,null,0,0,0,0,0,null,null,{"$f":"S475*T456","v":0}]
[{"$f":"IF(A435=\"\",\"\",A435)","v":"1.21."}," хозяйственно-питьевые нужды","водопровод, ванны без ГВС и кан-ции",null,null,null,null,0,null,null,0,0,null,0,0,0,0,0,null,null,{"$f":"S476*T456","v":0}]
[{"$f":"IF(A436=\"\",\"\",A436)","v":"1.22."}," хозяйственно-питьевые нужды","с ваннами, оборудованными душами и с канализацией",null,null,null,null,0,null,null,0,0,null,0,0,0,0,0,null,null,{"$f":"S477*T456","v":0}]
[{"$f":"IF(A437=\"\",\"\",A437)","v":"1.23."}," хозяйственно-питьевые нужды","с водопроводом без канализации",null,null,null,null,0,null,null,0,0,null,0,0,0,0,0,null,null,{"$f":"S478*T456","v":0}]
[{"$f":"IF(A438=\"\",\"\",A438)","v":"1.24."}," хозяйственно-питьевые нужды","водопровод, ванны без ГВС и кан-ции",null,null,null,null,0,null,null,0,0,null,0,0,0,0,0,null,null,{"$f":"S479*T456","v":0}]
[{"$f":"IF(A439=\"\",\"\",A439)","v":"1.25."}," хозяйственно-питьевые нужды","с ваннами, оборудованными душами и с канализацией",null,null,null,null,0,null,null,0,0,null,0,0,0,0,0,null,null,{"$f":"S480*T456","v":0}]
[{"$f":"IF(A440=\"\",\"\",A440)","v":"1.26."},"поливка  приусадебных участков","полив и бани",null,null,null,null,0,null,null,0,0,null,0,0,0,0,0,null,null,{"$f":"S481*T456","v":0}]
[null,"перерасчеты",null,"х","х","х","х","х","х","х","х","х","контроль","х","х","х","х"]
[null,"Итого население",null,null,null,{"$f":"SUM(F456:F481)","v":0},0,0,0,0,0,0,{"$f":"L483-'полезный отпуск'!N181","v":0},{"$f":"SUM(N456:N481)","v":0},0,0,{"$f":"SUM(Q456:Q481)","v":0},{"$f":"SUM(R456:R482)","v":0},{"$f":"SUM(S456:S482)","v":0},null,{"$f":"SUM(U456:U482)","v":0}]
["2.","Итого бюджет",null,null,null,null,null,{"$f":"F484+G484","v":0},null,null,{"$f":"I484+J484","v":0},{"$f":"H484+K484","v":0},{"$f":"L484-'полезный отпуск'!M181","v":0},{"$f":"F484*$M$456","v":0},{"$f":"G484*$M$456","v":0},{"$f":"I484*$M$456","v":0},{"$f":"J484*$M$456","v":0},{"$f":"SUM(N484:Q484)","v":0},null,null,{"$f":"S484*T456","v":0}]
["3.","Итого прочие+другие водопроводы",null,null,null,null,null,0,null,null,{"$f":"I485+J485","v":0},{"$f":"H485+K485","v":0},{"$f":"L485-('полезный отпуск'!O181+'полезный отпуск'!H181)","v":0},0,0,0,0,0,null,null,{"$f":"S485*T456","v":0}]
["4.","ВСЕГО 1-е полугодие",null,null,null,{"$f":"SUM(F483:F485)","v":0},{"$f":"SUM(G483:G485)","v":0},{"$f":"SUM(H483:H485)","v":0},{"$f":"SUM(I483:I485)","v":0},0,0,0,{"$f":"L486-('полезный отпуск'!L181+'полезный отпуск'!H181)","v":0},{"$f":"SUM(N483:N485)","v":0},0,0,0,0,{"$f":"SUM(S483:S485)","v":0},null,{"$f":"SUM(U483:U485)","v":0}]
[null,"2-е полугодие 2017 года"]
["1.","Население "]
[{"$f":"IF(A456=\"\",\"\",A456)","v":"1.1."},{"$f":"IF(B456=\"\",\"\",B456)","v":" хозяйственно-питьевые нужды"},"Квартиры с ваннами длиной от 1500 до 1700 мм, оборудованными душами",null,null,null,null,{"$f":"F489+G489","v":0},null,null,{"$f":"I489+J489","v":0},{"$f":"H489+K489","v":0},{"$f":"M415","v":0},{"$f":"F489*$M$489","v":0},{"$f":"G489*$M$489","v":0},{"$f":"I489*$M$489","v":0},{"$f":"J489*$M$489","v":0},{"$f":"SUM(N489:Q489)","v":0},null,{"$f":"T415","v":0},{"$f":"S489*T489","v":0}]
[{"$f":"IF(A457=\"\",\"\",A457)","v":"1.2."}," хозяйственно-питьевые нужды","Квартиры  без ванн,  без ГВС и кан-ции",null,null,null,null,{"$f":"F490+G490","v":0},null,null,{"$f":"I490+J490","v":0},{"$f":"H490+K490","v":0},null,{"$f":"F490*$M$489","v":0},{"$f":"G490*$M$489","v":0},{"$f":"I490*$M$489","v":0},{"$f":"J490*$M$489","v":0},{"$f":"SUM(N490:Q490)","v":0},null,null,{"$f":"S490*T489","v":0}]
[{"$f":"IF(A458=\"\",\"\",A458)","v":"1.3."}," хозяйственно-питьевые нужды","Квартиры с ваннами длиной от 1500 до 1700 мм, оборудованными душами",null,null,null,null,0,null,null,0,0,null,0,0,0,0,0,null,null,{"$f":"S491*T489","v":0}]
[{"$f":"IF(A459=\"\",\"\",A459)","v":"1.4."}," хозяйственно-питьевые нужды","Квартиры с  общими душами на этаже",null,null,null,null,0,null,null,0,0,null,0,0,0,0,0,null,null,{"$f":"S492*T489","v":0}]
[{"$f":"IF(A460=\"\",\"\",A460)","v":"1.5."}," хозяйственно-питьевые нужды","Квартиры  с ваннами и местным  ГВС (индивид эл.бойлера)",null,null,null,null,0,null,null,0,0,null,0,0,0,0,0,null,null,{"$f":"S493*T489","v":0}]
[{"$f":"IF(A461=\"\",\"\",A461)","v":"1.6."}," хозяйственно-питьевые нужды","Квартиры  с ваннами и местным  ГВС (общий т/обменник от отопления 252 дня)",null,null,null,null,0,null,null,0,0,null,0,0,0,0,0,null,null,{"$f":"S494*T489","v":0}]
[{"$f":"IF(A462=\"\",\"\",A462)","v":"1.7."}," хозяйственно-питьевые нужды","Квартиры с ваннами длиной от 1500 до 1700 мм, оборудованными душами",null,null,null,null,0,null,null,0,0,null,0,0,0,0,0,null,null,{"$f":"S495*T489","v":0}]
[{"$f":"IF(A463=\"\",\"\",A463)","v":"1.8."}," хозяйственно-питьевые нужды","Квартиры  с ваннами и местным  ГВС (индивид эл.бойлера)",null,null,null,null,0,null,null,0,0,null,0,0,0,0,0,null,null,{"$f":"S496*T489","v":0}]
[{"$f":"IF(A464=\"\",\"\",A464)","v":"1.9."}," хозяйственно-питьевые нужды","Квартиры с ваннами длиной от 1500 до 1700 мм, оборудованными душами",null,null,null,null,0,null,null,0,0,null,0,0,0,0,0,null,null,{"$f":"S497*T489","v":0}]
[{"$f":"IF(A465=\"\",\"\",A465)","v":"1.10."}," хозяйственно-питьевые нужды","Квартиры с ваннами длиной от 1500 до 1700 мм, оборудованными душами",null,null,null,null,0,null,null,0,0,null,0,0,0,0,0,null,null,{"$f":"S498*T489","v":0}]
[{"$f":"IF(A466=\"\",\"\",A466)","v":"1.11."}," хозяйственно-питьевые нужды","Квартиры с ваннами сидячими, оборудованными душами",null,null,null,null,0,null,null,0,0,null,0,0,0,0,0,null,null,{"$f":"S499*T489","v":0}]
[{"$f":"IF(A467=\"\",\"\",A467)","v":"1.12."}," хозяйственно-питьевые нужды","Квартиры с общими душами на этаже",null,null,null,null,0,null,null,0,0,null,0,0,0,0,0,null,null,{"$f":"S500*T489","v":0}]
[{"$f":"IF(A468=\"\",\"\",A468)","v":"1.13."}," хозяйственно-питьевые нужды","Квартиры с ваннами длиной от 1500 до 1700 мм, оборудованными душами",null,null,null,null,0,null,null,0,0,null,0,0,0,0,0,null,null,{"$f":"S501*T489","v":0}]
[{"$f":"IF(A469=\"\",\"\",A469)","v":"1.14."}," хозяйственно-питьевые нужды","Квартиры с ваннами длиной от 1500 до 1700 мм, оборудованными душами",null,null,null,null,0,null,null,0,0,null,0,0,0,0,0,null,null,{"$f":"S502*T489","v":0}]
[{"$f":"IF(A470=\"\",\"\",A470)","v":"1.15."}," хозяйственно-питьевые нужды","Квартиры с общими душами в секции",null,null,null,null,0,null,null,0,0,null,0,0,0,0,0,null,null,{"$f":"S503*T489","v":0}]
[{"$f":"IF(A471=\"\",\"\",A471)","v":"1.16."}," хозяйственно-питьевые нужды","Квартиры с ваннами длиной от 1500 до 1700 мм, оборудованными душами",null,null,null,null,0,null,null,0,0,null,0,0,0,0,0,null,null,{"$f":"S504*T489","v":0}]
[{"$f":"IF(A472=\"\",\"\",A472)","v":"1.17."}," хозяйственно-питьевые нужды","с водопроводом без канализации",null,null,null,null,0,null,null,0,0,null,0,0,0,0,0,null,null,{"$f":"S505*T489","v":0}]
[{"$f":"IF(A473=\"\",\"\",A473)","v":"1.18."}," хозяйственно-питьевые нужды","водопровод, ванны без ГВС и кан-ции",null,null,null,null,0,null,null,0,0,null,0,0,0,0,0,null,null,{"$f":"S506*T489","v":0}]
[{"$f":"IF(A474=\"\",\"\",A474)","v":"1.19."}," хозяйственно-питьевые нужды","с ваннами, оборудованными душами и с канализацией",null,null,null,null,0,null,null,0,0,null,0,0,0,0,0,null,null,{"$f":"S507*T489","v":0}]
[{"$f":"IF(A475=\"\",\"\",A475)","v":"1.20."}," хозяйственно-питьевые нужды","с водопроводом без канализации",null,null,null,null,0,null,null,0,0,null,0,0,0,0,0,null,null,{"$f":"S508*T489","v":0}]
[{"$f":"IF(A476=\"\",\"\",A476)","v":"1.21."}," хозяйственно-питьевые нужды","водопровод, ванны без ГВС и кан-ции",null,null,null,null,0,null,null,0,0,null,0,0,0,0,0,null,null,{"$f":"S509*T489","v":0}]
[{"$f":"IF(A477=\"\",\"\",A477)","v":"1.22."}," хозяйственно-питьевые нужды","с ваннами, оборудованными душами и с канализацией",null,null,null,null,0,null,null,0,0,null,0,0,0,0,0,null,null,{"$f":"S510*T489","v":0}]
[{"$f":"IF(A478=\"\",\"\",A478)","v":"1.23."}," хозяйственно-питьевые нужды","с водопроводом без канализации",null,null,null,null,0,null,null,0,0,null,0,0,0,0,0,null,null,{"$f":"S511*T489","v":0}]
[{"$f":"IF(A479=\"\",\"\",A479)","v":"1.24."}," хозяйственно-питьевые нужды","водопровод, ванны без ГВС и кан-ции",null,null,null,null,0,null,null,0,0,null,0,0,0,0,0,null,null,{"$f":"S512*T489","v":0}]
[{"$f":"IF(A480=\"\",\"\",A480)","v":"1.25."}," хозяйственно-питьевые нужды","с ваннами, оборудованными душами и с канализацией",null,null,null,null,0,null,null,0,0,null,0,0,0,0,0,null,null,{"$f":"S513*T489","v":0}]
[{"$f":"IF(A481=\"\",\"\",A481)","v":"1.26."},"поливка  приусадебных участков","полив и бани",null,null,null,null,0,null,null,0,0,null,0,0,0,0,0,null,null,{"$f":"S514*T489","v":0}]
[null,"перерасчеты",null,"х","х","х","х","х","х","х","х","х","контроль","х","х","х","х"]
[null,"Итого население",null,null,null,{"$f":"SUM(F489:F514)","v":0},0,0,0,0,0,0,{"$f":"L516-'полезный отпуск'!N182","v":0},{"$f":"SUM(N489:N514)","v":0},0,0,{"$f":"SUM(Q489:Q514)","v":0},{"$f":"SUM(R489:R515)","v":0},{"$f":"SUM(S489:S515)","v":0},null,{"$f":"SUM(U489:U515)","v":0}]
["2.","Итого бюджет",null,null,null,null,null,{"$f":"F517+G517","v":0},null,null,{"$f":"I517+J517","v":0},{"$f":"H517+K517","v":0},{"$f":"L517-'полезный отпуск'!M182","v":0},{"$f":"F517*$M$489","v":0},{"$f":"G517*$M$489","v":0},{"$f":"I517*$M$489","v":0},{"$f":"J517*$M$489","v":0},{"$f":"SUM(N517:Q517)","v":0},null,null,{"$f":"S517*T489","v":0}]
["3.","Итого прочие+другие водопроводы",null,null,null,null,null,0,null,null,{"$f":"I518+J518","v":0},{"$f":"H518+K518","v":0},{"$f":"L518-('полезный отпуск'!O182+'полезный отпуск'!H182)","v":0},0,0,0,0,{"$f":"SUM(N518:Q518)","v":0},null,null,{"$f":"S518*T489","v":0}]
["4.","ВСЕГО 2-е полугодие",null,null,null,{"$f":"SUM(F516:F518)","v":0},{"$f":"SUM(G516:G518)","v":0},{"$f":"SUM(H516:H518)","v":0},{"$f":"SUM(I516:I518)","v":0},0,0,0,{"$f":"L519-('полезный отпуск'!L182+'полезный отпуск'!H182)","v":0},{"$f":"SUM(N516:N518)","v":0},0,0,0,0,{"$f":"SUM(S516:S518)","v":0},null,{"$f":"SUM(U516:U518)","v":0}]
[]
["5.","ГОД ВСЕГО",null,null,null,{"$f":"F486+F519","v":0},{"$f":"G486+G519","v":0},0,0,0,0,0,null,{"$f":"N486+N519","v":0},0,0,0,0,{"$f":"S486+S519","v":0},null,{"$f":"U486+U519","v":0}]
[]
[null,"МО",{"$f":"'данные об организации'!A19","v":0},{"$f":"'данные об организации'!$F$19","v":0}]
[null,null,null,"(наименование населенного пункта)"]
["№","Вид потребителя","Степень благоустройства, наименование скота","Нормы потребления холодного и горячего водоснабжения, куб.м. в месяц(на 1 чел, на 1 голову скота и тд)",null,"Фактический годовой объем реализации воды,  куб.м.",null,null,null,null,null,null,"тариф на холодную воду, руб/куб.м.","Сумма, руб",null,null,null,null,"компенсация до установленного тарифа"]
[null,null,null,null,null,"холодной воды",null,null,"для нужд ГВС",null,null,"ВСЕГО",null,"холодной воды",null,"для нужд ГВС",null,"ИТОГО"]
[null,null,null,"холодной воды","ГВС","норматив","прибор учета","Итого","норматив","прибор учета","Итого",null,null,"норматив","прибор учета","норматив","прибор учета",null,"объем, куб.м.","размер, руб/куб.м.","Сумма, руб"]
[null,"1-е полугодие 2017 года"]
["1.","Население "]
[{"$f":"IF(A489=\"\",\"\",A489)","v":"1.1."},{"$f":"IF(B489=\"\",\"\",B489)","v":" хозяйственно-питьевые нужды"},"Квартиры с ваннами длиной от 1500 до 1700 мм, оборудованными душами",null,null,null,null,{"$f":"F530+G530","v":0},null,null,{"$f":"I530+J530","v":0},{"$f":"H530+K530","v":0},{"$f":"M456","v":0},{"$f":"F530*$M$530","v":0},{"$f":"G530*$M$530","v":0},{"$f":"I530*$M$530","v":0},{"$f":"J530*$M$530","v":0},{"$f":"SUM(N530:Q530)","v":0},null,{"$f":"T456","v":0},{"$f":"S530*T530","v":0}]
[{"$f":"IF(A490=\"\",\"\",A490)","v":"1.2."}," хозяйственно-питьевые нужды","Квартиры  без ванн,  без ГВС и кан-ции",null,null,null,null,{"$f":"F531+G531","v":0},null,null,{"$f":"I531+J531","v":0},{"$f":"H531+K531","v":0},null,{"$f":"F531*$M$530","v":0},{"$f":"G531*$M$530","v":0},{"$f":"I531*$M$530","v":0},{"$f":"J531*$M$530","v":0},0,null,null,{"$f":"S531*T530","v":0}]
[{"$f":"IF(A491=\"\",\"\",A491)","v":"1.3."}," хозяйственно-питьевые нужды","Квартиры с ваннами длиной от 1500 до 1700 мм, оборудованными душами",null,null,null,null,0,null,null,0,0,null,0,0,0,0,0,null,null,{"$f":"S532*T530","v":0}]
[{"$f":"IF(A492=\"\",\"\",A492)","v":"1.4."}," хозяйственно-питьевые нужды","Квартиры с  общими душами на этаже",null,null,null,null,0,null,null,0,0,null,0,0,0,0,0,null,null,{"$f":"S533*T530","v":0}]
[{"$f":"IF(A493=\"\",\"\",A493)","v":"1.5."}," хозяйственно-питьевые нужды","Квартиры  с ваннами и местным  ГВС (индивид эл.бойлера)",null,null,null,null,0,null,null,0,0,null,0,0,0,0,0,null,null,{"$f":"S534*T530","v":0}]
[{"$f":"IF(A494=\"\",\"\",A494)","v":"1.6."}," хозяйственно-питьевые нужды","Квартиры  с ваннами и местным  ГВС (общий т/обменник от отопления 252 дня)",null,null,null,null,0,null,null,0,0,null,0,0,0,0,0,null,null,{"$f":"S535*T530","v":0}]
[{"$f":"IF(A495=\"\",\"\",A495)","v":"1.7."}," хозяйственно-питьевые нужды","Квартиры с ваннами длиной от 1500 до 1700 мм, оборудованными душами",null,null,null,null,0,null,null,0,0,null,0,0,0,0,0,null,null,{"$f":"S536*T530","v":0}]
[{"$f":"IF(A496=\"\",\"\",A496)","v":"1.8."}," хозяйственно-питьевые нужды","Квартиры  с ваннами и местным  ГВС (индивид эл.бойлера)",null,null,null,null,0,null,null,0,0,null,0,0,0,0,0,null,null,{"$f":"S537*T530","v":0}]
[{"$f":"IF(A497=\"\",\"\",A497)","v":"1.9."}," хозяйственно-питьевые нужды","Квартиры с ваннами длиной от 1500 до 1700 мм, оборудованными душами",null,null,null,null,0,null,null,0,0,null,0,0,0,0,0,null,null,{"$f":"S538*T530","v":0}]
[{"$f":"IF(A498=\"\",\"\",A498)","v":"1.10."}," хозяйственно-питьевые нужды","Квартиры с ваннами длиной от 1500 до 1700 мм, оборудованными душами",null,null,null,null,0,null,null,0,0,null,0,0,0,0,0,null,null,{"$f":"S539*T530","v":0}]
[{"$f":"IF(A499=\"\",\"\",A499)","v":"1.11."}," хозяйственно-питьевые нужды","Квартиры с ваннами сидячими, оборудованными душами",null,null,null,null,0,null,null,0,0,null,0,0,0,0,0,null,null,{"$f":"S540*T530","v":0}]
[{"$f":"IF(A500=\"\",\"\",A500)","v":"1.12."}," хозяйственно-питьевые нужды","Квартиры с общими душами на этаже",null,null,null,null,0,null,null,0,0,null,0,0,0,0,0,null,null,{"$f":"S541*T530","v":0}]
[{"$f":"IF(A501=\"\",\"\",A501)","v":"1.13."}," хозяйственно-питьевые нужды","Квартиры с ваннами длиной от 1500 до 1700 мм, оборудованными душами",null,null,null,null,0,null,null,0,0,null,0,0,0,0,0,null,null,{"$f":"S542*T530","v":0}]
[{"$f":"IF(A502=\"\",\"\",A502)","v":"1.14."}," хозяйственно-питьевые нужды","Квартиры с ваннами длиной от 1500 до 1700 мм, оборудованными душами",null,null,null,null,0,null,null,0,0,null,0,0,0,0,0,null,null,{"$f":"S543*T530","v":0}]
[{"$f":"IF(A503=\"\",\"\",A503)","v":"1.15."}," хозяйственно-питьевые нужды","Квартиры с общими душами в секции",null,null,null,null,0,null,null,0,0,null,0,0,0,0,0,null,null,{"$f":"S544*T530","v":0}]
[{"$f":"IF(A504=\"\",\"\",A504)","v":"1.16."}," хозяйственно-питьевые нужды","Квартиры с ваннами длиной от 1500 до 1700 мм, оборудованными душами",null,null,null,null,0,null,null,0,0,null,0,0,0,0,0,null,null,{"$f":"S545*T530","v":0}]
[{"$f":"IF(A505=\"\",\"\",A505)","v":"1.17."}," хозяйственно-питьевые нужды","с водопроводом без канализации",null,null,null,null,0,null,null,0,0,null,0,0,0,0,0,null,null,{"$f":"S546*T530","v":0}]
[{"$f":"IF(A506=\"\",\"\",A506)","v":"1.18."}," хозяйственно-питьевые нужды","водопровод, ванны без ГВС и кан-ции",null,null,null,null,0,null,null,0,0,null,0,0,0,0,0,null,null,{"$f":"S547*T530","v":0}]
[{"$f":"IF(A507=\"\",\"\",A507)","v":"1.19."}," хозяйственно-питьевые нужды","с ваннами, оборудованными душами и с канализацией",null,null,null,null,0,null,null,0,0,null,0,0,0,0,0,null,null,{"$f":"S548*T530","v":0}]
[{"$f":"IF(A508=\"\",\"\",A508)","v":"1.20."}," хозяйственно-питьевые нужды","с водопроводом без канализации",null,null,null,null,0,null,null,0,0,null,0,0,0,0,0,null,null,{"$f":"S549*T530","v":0}]
[{"$f":"IF(A509=\"\",\"\",A509)","v":"1.21."}," хозяйственно-питьевые нужды","водопровод, ванны без ГВС и кан-ции",null,null,null,null,0,null,null,0,0,null,0,0,0,0,0,null,null,{"$f":"S550*T530","v":0}]
[{"$f":"IF(A510=\"\",\"\",A510)","v":"1.22."}," хозяйственно-питьевые нужды","с ваннами, оборудованными душами и с канализацией",null,null,null,null,0,null,null,0,0,null,0,0,0,0,0,null,null,{"$f":"S551*T530","v":0}]
[{"$f":"IF(A511=\"\",\"\",A511)","v":"1.23."}," хозяйственно-питьевые нужды","с водопроводом без канализации",null,null,null,null,0,null,null,0,0,null,0,0,0,0,0,null,null,{"$f":"S552*T530","v":0}]
[{"$f":"IF(A512=\"\",\"\",A512)","v":"1.24."}," хозяйственно-питьевые нужды","водопровод, ванны без ГВС и кан-ции",null,null,null,null,0,null,null,0,0,null,0,0,0,0,0,null,null,{"$f":"S553*T530","v":0}]
[{"$f":"IF(A513=\"\",\"\",A513)","v":"1.25."}," хозяйственно-питьевые нужды","с ваннами, оборудованными душами и с канализацией",null,null,null,null,0,null,null,0,0,null,0,0,0,0,0,null,null,{"$f":"S554*T530","v":0}]
[{"$f":"IF(A514=\"\",\"\",A514)","v":"1.26."},"поливка  приусадебных участков","полив и бани",null,null,null,null,0,null,null,0,0,null,0,0,0,0,0,null,null,{"$f":"S555*T530","v":0}]
[null,"перерасчеты",null,"х","х","х","х","х","х","х","х","х","контроль","х","х","х","х"]
[null,"Итого население",null,null,null,{"$f":"SUM(F530:F555)","v":0},0,0,0,0,0,0,{"$f":"L557-'полезный отпуск'!N206","v":0},{"$f":"SUM(N530:N555)","v":0},0,0,{"$f":"SUM(Q530:Q555)","v":0},{"$f":"SUM(R530:R556)","v":0},{"$f":"SUM(S530:S556)","v":0},null,{"$f":"SUM(U530:U556)","v":0}]
["2.","Итого бюджет",null,null,null,null,null,{"$f":"F558+G558","v":0},null,null,{"$f":"I558+J558","v":0},{"$f":"H558+K558","v":0},{"$f":"L558-'полезный отпуск'!M206","v":0},{"$f":"F558*$M$530","v":0},{"$f":"G558*$M$530","v":0},{"$f":"I558*$M$530","v":0},{"$f":"J558*$M$530","v":0},{"$f":"SUM(N558:Q558)","v":0},null,null,{"$f":"S558*T530","v":0}]
["3.","Итого прочие+другие водопроводы",null,null,null,null,null,0,null,null,{"$f":"I559+J559","v":0},{"$f":"H559+K559","v":0},{"$f":"L559-('полезный отпуск'!O206+'полезный отпуск'!H206)","v":0},0,0,0,0,0,null,null,{"$f":"S559*T530","v":0}]
["4.","ВСЕГО 1-е полугодие",null,null,null,{"$f":"SUM(F557:F559)","v":0},{"$f":"SUM(G557:G559)","v":0},{"$f":"SUM(H557:H559)","v":0},{"$f":"SUM(I557:I559)","v":0},0,0,0,{"$f":"L560-('полезный отпуск'!L206+'полезный отпуск'!H206)","v":0},{"$f":"SUM(N557:N559)","v":0},0,0,0,0,{"$f":"SUM(S557:S559)","v":0},null,{"$f":"SUM(U557:U559)","v":0}]
[null,"2-е полугодие 2017  года"]
["1.","Население "]
[{"$f":"IF(A530=\"\",\"\",A530)","v":"1.1."},{"$f":"IF(B530=\"\",\"\",B530)","v":" хозяйственно-питьевые нужды"},"Квартиры с ваннами длиной от 1500 до 1700 мм, оборудованными душами",null,null,null,null,{"$f":"F563+G563","v":0},null,null,{"$f":"I563+J563","v":0},{"$f":"H563+K563","v":0},{"$f":"M489","v":0},{"$f":"F563*$M$563","v":0},{"$f":"G563*$M$563","v":0},{"$f":"I563*$M$563","v":0},{"$f":"J563*$M$563","v":0},{"$f":"SUM(N563:Q563)","v":0},null,{"$f":"T489","v":0},{"$f":"S563*T563","v":0}]
[{"$f":"IF(A531=\"\",\"\",A531)","v":"1.2."}," хозяйственно-питьевые нужды","Квартиры  без ванн,  без ГВС и кан-ции",null,null,null,null,{"$f":"F564+G564","v":0},null,null,{"$f":"I564+J564","v":0},{"$f":"H564+K564","v":0},null,{"$f":"F564*$M$563","v":0},{"$f":"G564*$M$563","v":0},{"$f":"I564*$M$563","v":0},{"$f":"J564*$M$563","v":0},{"$f":"SUM(N564:Q564)","v":0},null,null,{"$f":"S564*T563","v":0}]
[{"$f":"IF(A532=\"\",\"\",A532)","v":"1.3."}," хозяйственно-питьевые нужды","Квартиры с ваннами длиной от 1500 до 1700 мм, оборудованными душами",null,null,null,null,0,null,null,0,0,null,0,0,0,0,0,null,null,{"$f":"S565*T563","v":0}]
[{"$f":"IF(A533=\"\",\"\",A533)","v":"1.4."}," хозяйственно-питьевые нужды","Квартиры с  общими душами на этаже",null,null,null,null,0,null,null,0,0,null,0,0,0,0,0,null,null,{"$f":"S566*T563","v":0}]
[{"$f":"IF(A534=\"\",\"\",A534)","v":"1.5."}," хозяйственно-питьевые нужды","Квартиры  с ваннами и местным  ГВС (индивид эл.бойлера)",null,null,null,null,0,null,null,0,0,null,0,0,0,0,0,null,null,{"$f":"S567*T563","v":0}]
[{"$f":"IF(A535=\"\",\"\",A535)","v":"1.6."}," хозяйственно-питьевые нужды","Квартиры  с ваннами и местным  ГВС (общий т/обменник от отопления 252 дня)",null,null,null,null,0,null,null,0,0,null,0,0,0,0,0,null,null,{"$f":"S568*T563","v":0}]
[{"$f":"IF(A536=\"\",\"\",A536)","v":"1.7."}," хозяйственно-питьевые нужды","Квартиры с ваннами длиной от 1500 до 1700 мм, оборудованными душами",null,null,null,null,0,null,null,0,0,null,0,0,0,0,0,null,null,{"$f":"S569*T563","v":0}]
[{"$f":"IF(A537=\"\",\"\",A537)","v":"1.8."}," хозяйственно-питьевые нужды","Квартиры  с ваннами и местным  ГВС (индивид эл.бойлера)",null,null,null,null,0,null,null,0,0,null,0,0,0,0,0,null,null,{"$f":"S570*T563","v":0}]
[{"$f":"IF(A538=\"\",\"\",A538)","v":"1.9."}," хозяйственно-питьевые нужды","Квартиры с ваннами длиной от 1500 до 1700 мм, оборудованными душами",null,null,null,null,0,null,null,0,0,null,0,0,0,0,0,null,null,{"$f":"S571*T563","v":0}]
[{"$f":"IF(A539=\"\",\"\",A539)","v":"1.10."}," хозяйственно-питьевые нужды","Квартиры с ваннами длиной от 1500 до 1700 мм, оборудованными душами",null,null,null,null,0,null,null,0,0,null,0,0,0,0,0,null,null,{"$f":"S572*T563","v":0}]
[{"$f":"IF(A540=\"\",\"\",A540)","v":"1.11."}," хозяйственно-питьевые нужды","Квартиры с ваннами сидячими, оборудованными душами",null,null,null,null,0,null,null,0,0,null,0,0,0,0,0,null,null,{"$f":"S573*T563","v":0}]
[{"$f":"IF(A541=\"\",\"\",A541)","v":"1.12."}," хозяйственно-питьевые нужды","Квартиры с общими душами на этаже",null,null,null,null,0,null,null,0,0,null,0,0,0,0,0,null,null,{"$f":"S574*T563","v":0}]
[{"$f":"IF(A542=\"\",\"\",A542)","v":"1.13."}," хозяйственно-питьевые нужды","Квартиры с ваннами длиной от 1500 до 1700 мм, оборудованными душами",null,null,null,null,0,null,null,0,0,null,0,0,0,0,0,null,null,{"$f":"S575*T563","v":0}]
[{"$f":"IF(A543=\"\",\"\",A543)","v":"1.14."}," хозяйственно-питьевые нужды","Квартиры с ваннами длиной от 1500 до 1700 мм, оборудованными душами",null,null,null,null,0,null,null,0,0,null,0,0,0,0,0,null,null,{"$f":"S576*T563","v":0}]
[{"$f":"IF(A544=\"\",\"\",A544)","v":"1.15."}," хозяйственно-питьевые нужды","Квартиры с общими душами в секции",null,null,null,null,0,null,null,0,0,null,0,0,0,0,0,null,null,{"$f":"S577*T563","v":0}]
[{"$f":"IF(A545=\"\",\"\",A545)","v":"1.16."}," хозяйственно-питьевые нужды","Квартиры с ваннами длиной от 1500 до 1700 мм, оборудованными душами",null,null,null,null,0,null,null,0,0,null,0,0,0,0,0,null,null,{"$f":"S578*T563","v":0}]
[{"$f":"IF(A546=\"\",\"\",A546)","v":"1.17."}," хозяйственно-питьевые нужды","с водопроводом без канализации",null,null,null,null,0,null,null,0,0,null,0,0,0,0,0,null,null,{"$f":"S579*T563","v":0}]
[{"$f":"IF(A547=\"\",\"\",A547)","v":"1.18."}," хозяйственно-питьевые нужды","водопровод, ванны без ГВС и кан-ции",null,null,null,null,0,null,null,0,0,null,0,0,0,0,0,null,null,{"$f":"S580*T563","v":0}]
[{"$f":"IF(A548=\"\",\"\",A548)","v":"1.19."}," хозяйственно-питьевые нужды","с ваннами, оборудованными душами и с канализацией",null,null,null,null,0,null,null,0,0,null,0,0,0,0,0,null,null,{"$f":"S581*T563","v":0}]
[{"$f":"IF(A549=\"\",\"\",A549)","v":"1.20."}," хозяйственно-питьевые нужды","с водопроводом без канализации",null,null,null,null,0,null,null,0,0,null,0,0,0,0,0,null,null,{"$f":"S582*T563","v":0}]
[{"$f":"IF(A550=\"\",\"\",A550)","v":"1.21."}," хозяйственно-питьевые нужды","водопровод, ванны без ГВС и кан-ции",null,null,null,null,0,null,null,0,0,null,0,0,0,0,0,null,null,{"$f":"S583*T563","v":0}]
[{"$f":"IF(A551=\"\",\"\",A551)","v":"1.22."}," хозяйственно-питьевые нужды","с ваннами, оборудованными душами и с канализацией",null,null,null,null,0,null,null,0,0,null,0,0,0,0,0,null,null,{"$f":"S584*T563","v":0}]
[{"$f":"IF(A552=\"\",\"\",A552)","v":"1.23."}," хозяйственно-питьевые нужды","с водопроводом без канализации",null,null,null,null,0,null,null,0,0,null,0,0,0,0,0,null,null,{"$f":"S585*T563","v":0}]
[{"$f":"IF(A553=\"\",\"\",A553)","v":"1.24."}," хозяйственно-питьевые нужды","водопровод, ванны без ГВС и кан-ции",null,null,null,null,0,null,null,0,0,null,0,0,0,0,0,null,null,{"$f":"S586*T563","v":0}]
[{"$f":"IF(A554=\"\",\"\",A554)","v":"1.25."}," хозяйственно-питьевые нужды","с ваннами, оборудованными душами и с канализацией",null,null,null,null,0,null,null,0,0,null,0,0,0,0,0,null,null,{"$f":"S587*T563","v":0}]
[{"$f":"IF(A555=\"\",\"\",A555)","v":"1.26."},"поливка  приусадебных участков","полив и бани",null,null,null,null,0,null,null,0,0,null,0,0,0,0,0,null,null,{"$f":"S588*T563","v":0}]
[null,"перерасчеты",null,"х","х","х","х","х","х","х","х","х","контроль","х","х","х","х"]
[null,"Итого население",null,null,null,{"$f":"SUM(F563:F588)","v":0},0,0,0,0,0,0,{"$f":"L590-'полезный отпуск'!N207","v":0},{"$f":"SUM(N563:N588)","v":0},0,0,{"$f":"SUM(Q563:Q588)","v":0},{"$f":"SUM(R563:R589)","v":0},{"$f":"SUM(S563:S589)","v":0},null,{"$f":"SUM(U563:U589)","v":0}]
["2.","Итого бюджет",null,null,null,null,null,{"$f":"F591+G591","v":0},null,null,{"$f":"I591+J591","v":0},{"$f":"H591+K591","v":0},{"$f":"L591-'полезный отпуск'!M207","v":0},{"$f":"F591*$M$563","v":0},{"$f":"G591*$M$563","v":0},{"$f":"I591*$M$563","v":0},{"$f":"J591*$M$563","v":0},{"$f":"SUM(N591:Q591)","v":0},null,null,{"$f":"S591*T563","v":0}]
["3.","Итого прочие+другие водопроводы",null,null,null,null,null,0,null,null,{"$f":"I592+J592","v":0},{"$f":"H592+K592","v":0},{"$f":"L592-('полезный отпуск'!O207+'полезный отпуск'!H207)","v":0},0,0,0,0,0,null,null,{"$f":"S592*T563","v":0}]
["4.","ВСЕГО 2-е полугодие",null,null,null,{"$f":"SUM(F590:F592)","v":0},{"$f":"SUM(G590:G592)","v":0},{"$f":"SUM(H590:H592)","v":0},{"$f":"SUM(I590:I592)","v":0},0,0,0,{"$f":"L593-('полезный отпуск'!L207+'полезный отпуск'!H207)","v":0},{"$f":"SUM(N590:N592)","v":0},0,0,0,0,{"$f":"SUM(S590:S592)","v":0},null,{"$f":"SUM(U590:U592)","v":0}]
[]
["5.","ГОД ВСЕГО",null,null,null,{"$f":"F560+F593","v":0},{"$f":"G560+G593","v":0},0,0,0,0,0,null,{"$f":"N560+N593","v":0},0,0,0,{"$f":"R560+R593","v":0},{"$f":"S560+S593","v":0},null,{"$f":"U560+U593","v":0}]
[]
[null,"МО",{"$f":"'данные об организации'!A20","v":0},{"$f":"'данные об организации'!$F$20","v":0}]
[null,null,null,"(наименование населенного пункта)"]
["№","Вид потребителя","Степень благоустройства, наименование скота","Нормы потребления холодного и горячего водоснабжения, куб.м. в месяц(на 1 чел, на 1 голову скота и тд)",null,"Фактический годовой объем реализации воды,  куб.м.",null,null,null,null,null,null,"тариф на холодную воду, руб/куб.м.","Сумма, руб",null,null,null,null,"компенсация до установленного тарифа"]
[null,null,null,null,null,"холодной воды",null,null,"для нужд ГВС",null,null,"ВСЕГО",null,"холодной воды",null,"для нужд ГВС",null,"ИТОГО"]
[null,null,null,"холодной воды","ГВС","норматив","прибор учета","Итого","норматив","прибор учета","Итого",null,null,"норматив","прибор учета","норматив","прибор учета",null,"объем, куб.м.","размер, руб/куб.м.","Сумма, руб"]
[null,"1-е полугодие 2017 года"]
["1.","Население "]
[{"$f":"IF(A563=\"\",\"\",A563)","v":"1.1."},{"$f":"IF(B563=\"\",\"\",B563)","v":" хозяйственно-питьевые нужды"},"Квартиры с ваннами длиной от 1500 до 1700 мм, оборудованными душами",null,null,null,null,{"$f":"F604+G604","v":0},null,null,{"$f":"I604+J604","v":0},{"$f":"H604+K604","v":0},{"$f":"M530","v":0},{"$f":"F604*$M$604","v":0},{"$f":"G604*$M$604","v":0},{"$f":"I604*$M$604","v":0},{"$f":"J604*$M$604","v":0},{"$f":"SUM(N604:Q604)","v":0},null,{"$f":"T530","v":0},{"$f":"S604*T604","v":0}]
[{"$f":"IF(A564=\"\",\"\",A564)","v":"1.2."}," хозяйственно-питьевые нужды","Квартиры  без ванн,  без ГВС и кан-ции",null,null,null,null,{"$f":"F605+G605","v":0},null,null,{"$f":"I605+J605","v":0},{"$f":"H605+K605","v":0},null,{"$f":"F605*$M$604","v":0},{"$f":"G605*$M$604","v":0},{"$f":"I605*$M$604","v":0},{"$f":"J605*$M$604","v":0},{"$f":"SUM(N605:Q605)","v":0},null,null,{"$f":"S605*T604","v":0}]
[{"$f":"IF(A565=\"\",\"\",A565)","v":"1.3."}," хозяйственно-питьевые нужды","Квартиры с ваннами длиной от 1500 до 1700 мм, оборудованными душами",null,null,null,null,0,null,null,0,0,null,0,0,0,0,0,null,null,{"$f":"S606*T604","v":0}]
[{"$f":"IF(A566=\"\",\"\",A566)","v":"1.4."}," хозяйственно-питьевые нужды","Квартиры с  общими душами на этаже",null,null,null,null,0,null,null,0,0,null,0,0,0,0,0,null,null,{"$f":"S607*T604","v":0}]
[{"$f":"IF(A567=\"\",\"\",A567)","v":"1.5."}," хозяйственно-питьевые нужды","Квартиры  с ваннами и местным  ГВС (индивид эл.бойлера)",null,null,null,null,0,null,null,0,0,null,0,0,0,0,0,null,null,{"$f":"S608*T604","v":0}]
[{"$f":"IF(A568=\"\",\"\",A568)","v":"1.6."}," хозяйственно-питьевые нужды","Квартиры  с ваннами и местным  ГВС (общий т/обменник от отопления 252 дня)",null,null,null,null,0,null,null,0,0,null,0,0,0,0,0,null,null,{"$f":"S609*T604","v":0}]
[{"$f":"IF(A569=\"\",\"\",A569)","v":"1.7."}," хозяйственно-питьевые нужды","Квартиры с ваннами длиной от 1500 до 1700 мм, оборудованными душами",null,null,null,null,0,null,null,0,0,null,0,0,0,0,0,null,null,{"$f":"S610*T604","v":0}]
[{"$f":"IF(A570=\"\",\"\",A570)","v":"1.8."}," хозяйственно-питьевые нужды","Квартиры  с ваннами и местным  ГВС (индивид эл.бойлера)",null,null,null,null,0,null,null,0,0,null,0,0,0,0,0,null,null,{"$f":"S611*T604","v":0}]
[{"$f":"IF(A571=\"\",\"\",A571)","v":"1.9."}," хозяйственно-питьевые нужды","Квартиры с ваннами длиной от 1500 до 1700 мм, оборудованными душами",null,null,null,null,0,null,null,0,0,null,0,0,0,0,0,null,null,{"$f":"S612*T604","v":0}]
[{"$f":"IF(A572=\"\",\"\",A572)","v":"1.10."}," хозяйственно-питьевые нужды","Квартиры с ваннами длиной от 1500 до 1700 мм, оборудованными душами",null,null,null,null,0,null,null,0,0,null,0,0,0,0,0,null,null,{"$f":"S613*T604","v":0}]
[{"$f":"IF(A573=\"\",\"\",A573)","v":"1.11."}," хозяйственно-питьевые нужды","Квартиры с ваннами сидячими, оборудованными душами",null,null,null,null,0,null,null,0,0,null,0,0,0,0,0,null,null,{"$f":"S614*T604","v":0}]
[{"$f":"IF(A574=\"\",\"\",A574)","v":"1.12."}," хозяйственно-питьевые нужды","Квартиры с общими душами на этаже",null,null,null,null,0,null,null,0,0,null,0,0,0,0,0,null,null,{"$f":"S615*T604","v":0}]
[{"$f":"IF(A575=\"\",\"\",A575)","v":"1.13."}," хозяйственно-питьевые нужды","Квартиры с ваннами длиной от 1500 до 1700 мм, оборудованными душами",null,null,null,null,0,null,null,0,0,null,0,0,0,0,0,null,null,{"$f":"S616*T604","v":0}]
[{"$f":"IF(A576=\"\",\"\",A576)","v":"1.14."}," хозяйственно-питьевые нужды","Квартиры с ваннами длиной от 1500 до 1700 мм, оборудованными душами",null,null,null,null,0,null,null,0,0,null,0,0,0,0,0,null,null,{"$f":"S617*T604","v":0}]
[{"$f":"IF(A577=\"\",\"\",A577)","v":"1.15."}," хозяйственно-питьевые нужды","Квартиры с общими душами в секции",null,null,null,null,0,null,null,0,0,null,0,0,0,0,0,null,null,{"$f":"S618*T604","v":0}]
[{"$f":"IF(A578=\"\",\"\",A578)","v":"1.16."}," хозяйственно-питьевые нужды","Квартиры с ваннами длиной от 1500 до 1700 мм, оборудованными душами",null,null,null,null,0,null,null,0,0,null,0,0,0,0,0,null,null,{"$f":"S619*T604","v":0}]
[{"$f":"IF(A579=\"\",\"\",A579)","v":"1.17."}," хозяйственно-питьевые нужды","с водопроводом без канализации",null,null,null,null,0,null,null,0,0,null,0,0,0,0,0,null,null,{"$f":"S620*T604","v":0}]
[{"$f":"IF(A580=\"\",\"\",A580)","v":"1.18."}," хозяйственно-питьевые нужды","водопровод, ванны без ГВС и кан-ции",null,null,null,null,0,null,null,0,0,null,0,0,0,0,0,null,null,{"$f":"S621*T604","v":0}]
[{"$f":"IF(A581=\"\",\"\",A581)","v":"1.19."}," хозяйственно-питьевые нужды","с ваннами, оборудованными душами и с канализацией",null,null,null,null,0,null,null,0,0,null,0,0,0,0,0,null,null,{"$f":"S622*T604","v":0}]
[{"$f":"IF(A582=\"\",\"\",A582)","v":"1.20."}," хозяйственно-питьевые нужды","с водопроводом без канализации",null,null,null,null,0,null,null,0,0,null,0,0,0,0,0,null,null,{"$f":"S623*T604","v":0}]
[{"$f":"IF(A583=\"\",\"\",A583)","v":"1.21."}," хозяйственно-питьевые нужды","водопровод, ванны без ГВС и кан-ции",null,null,null,null,0,null,null,0,0,null,0,0,0,0,0,null,null,{"$f":"S624*T604","v":0}]
[{"$f":"IF(A584=\"\",\"\",A584)","v":"1.22."}," хозяйственно-питьевые нужды","с ваннами, оборудованными душами и с канализацией",null,null,null,null,0,null,null,0,0,null,0,0,0,0,0,null,null,{"$f":"S625*T604","v":0}]
[{"$f":"IF(A585=\"\",\"\",A585)","v":"1.23."}," хозяйственно-питьевые нужды","с водопроводом без канализации",null,null,null,null,0,null,null,0,0,null,0,0,0,0,0,null,null,{"$f":"S626*T604","v":0}]
[{"$f":"IF(A586=\"\",\"\",A586)","v":"1.24."}," хозяйственно-питьевые нужды","водопровод, ванны без ГВС и кан-ции",null,null,null,null,0,null,null,0,0,null,0,0,0,0,0,null,null,{"$f":"S627*T604","v":0}]
[{"$f":"IF(A587=\"\",\"\",A587)","v":"1.25."}," хозяйственно-питьевые нужды","с ваннами, оборудованными душами и с канализацией",null,null,null,null,0,null,null,0,0,null,0,0,0,0,0,null,null,{"$f":"S628*T604","v":0}]
[{"$f":"IF(A588=\"\",\"\",A588)","v":"1.26."},"поливка  приусадебных участков","полив и бани",null,null,null,null,0,null,null,0,0,null,0,0,0,0,0,null,null,{"$f":"S629*T604","v":0}]
[null,"перерасчеты",null,"х","х","х","х","х","х","х","х","х","контроль","х","х","х","х"]
[null,"Итого население",null,null,null,{"$f":"SUM(F604:F629)","v":0},0,0,0,0,0,0,{"$f":"L631-'полезный отпуск'!N231","v":0},{"$f":"SUM(N604:N629)","v":0},0,0,{"$f":"SUM(Q604:Q629)","v":0},{"$f":"SUM(R604:R630)","v":0},{"$f":"SUM(S604:S630)","v":0},null,{"$f":"SUM(U604:U630)","v":0}]
["2.","Итого бюджет",null,null,null,null,null,{"$f":"F632+G632","v":0},null,null,{"$f":"I632+J632","v":0},{"$f":"H632+K632","v":0},{"$f":"L632-'полезный отпуск'!M231","v":0},{"$f":"F632*$M$604","v":0},{"$f":"G632*$M$604","v":0},{"$f":"I632*$M$604","v":0},{"$f":"J632*$M$604","v":0},{"$f":"SUM(N632:Q632)","v":0},null,null,{"$f":"S632*T604","v":0}]
["3.","Итого прочие+другие водопроводы",null,null,null,null,null,0,null,null,{"$f":"I633+J633","v":0},{"$f":"H633+K633","v":0},{"$f":"L633-('полезный отпуск'!O231+'полезный отпуск'!H231)","v":0},0,0,0,0,0,null,null,{"$f":"S633*T604","v":0}]
["4.","ВСЕГО 1-е полугодие",null,null,null,{"$f":"SUM(F631:F633)","v":0},{"$f":"SUM(G631:G633)","v":0},{"$f":"SUM(H631:H633)","v":0},{"$f":"SUM(I631:I633)","v":0},0,0,0,{"$f":"L634-('полезный отпуск'!L231+'полезный отпуск'!H231)","v":0},{"$f":"SUM(N631:N633)","v":0},0,0,0,0,{"$f":"SUM(S631:S633)","v":0},null,{"$f":"SUM(U631:U633)","v":0}]
[null,"2-е полугодие 2017 года"]
["1.","Население "]
[{"$f":"IF(A604=\"\",\"\",A604)","v":"1.1."},{"$f":"IF(B604=\"\",\"\",B604)","v":" хозяйственно-питьевые нужды"},"Квартиры с ваннами длиной от 1500 до 1700 мм, оборудованными душами",null,null,null,null,{"$f":"F637+G637","v":0},null,null,{"$f":"I637+J637","v":0},{"$f":"H637+K637","v":0},{"$f":"M563","v":0},{"$f":"F637*$M$637","v":0},{"$f":"G637*$M$637","v":0},{"$f":"I637*$M$637","v":0},{"$f":"J637*$M$637","v":0},{"$f":"SUM(N637:Q637)","v":0},null,{"$f":"T563","v":0},{"$f":"S637*T637","v":0}]
[{"$f":"IF(A605=\"\",\"\",A605)","v":"1.2."}," хозяйственно-питьевые нужды","Квартиры  без ванн,  без ГВС и кан-ции",null,null,null,null,{"$f":"F638+G638","v":0},null,null,{"$f":"I638+J638","v":0},{"$f":"H638+K638","v":0},null,{"$f":"F638*$M$637","v":0},{"$f":"G638*$M$637","v":0},{"$f":"I638*$M$45","v":0},{"$f":"J638*$M$637","v":0},0,null,null,{"$f":"S638*T637","v":0}]
[{"$f":"IF(A606=\"\",\"\",A606)","v":"1.3."}," хозяйственно-питьевые нужды","Квартиры с ваннами длиной от 1500 до 1700 мм, оборудованными душами",null,null,null,null,0,null,null,0,0,null,0,0,0,0,0,null,null,{"$f":"S639*T637","v":0}]
[{"$f":"IF(A607=\"\",\"\",A607)","v":"1.4."}," хозяйственно-питьевые нужды","Квартиры с  общими душами на этаже",null,null,null,null,0,null,null,0,0,null,0,0,0,0,0,null,null,{"$f":"S640*T637","v":0}]
[{"$f":"IF(A608=\"\",\"\",A608)","v":"1.5."}," хозяйственно-питьевые нужды","Квартиры  с ваннами и местным  ГВС (индивид эл.бойлера)",null,null,null,null,0,null,null,0,0,null,0,0,0,0,0,null,null,{"$f":"S641*T637","v":0}]
[{"$f":"IF(A609=\"\",\"\",A609)","v":"1.6."}," хозяйственно-питьевые нужды","Квартиры  с ваннами и местным  ГВС (общий т/обменник от отопления 252 дня)",null,null,null,null,0,null,null,0,0,null,0,0,0,0,0,null,null,{"$f":"S642*T637","v":0}]
[{"$f":"IF(A610=\"\",\"\",A610)","v":"1.7."}," хозяйственно-питьевые нужды","Квартиры с ваннами длиной от 1500 до 1700 мм, оборудованными душами",null,null,null,null,0,null,null,0,0,null,0,0,0,0,0,null,null,{"$f":"S643*T637","v":0}]
[{"$f":"IF(A611=\"\",\"\",A611)","v":"1.8."}," хозяйственно-питьевые нужды","Квартиры  с ваннами и местным  ГВС (индивид эл.бойлера)",null,null,null,null,0,null,null,0,0,null,0,0,0,0,0,null,null,{"$f":"S644*T637","v":0}]
[{"$f":"IF(A612=\"\",\"\",A612)","v":"1.9."}," хозяйственно-питьевые нужды","Квартиры с ваннами длиной от 1500 до 1700 мм, оборудованными душами",null,null,null,null,0,null,null,0,0,null,0,0,0,0,0,null,null,{"$f":"S645*T637","v":0}]
[{"$f":"IF(A613=\"\",\"\",A613)","v":"1.10."}," хозяйственно-питьевые нужды","Квартиры с ваннами длиной от 1500 до 1700 мм, оборудованными душами",null,null,null,null,0,null,null,0,0,null,0,0,0,0,0,null,null,{"$f":"S646*T637","v":0}]
[{"$f":"IF(A614=\"\",\"\",A614)","v":"1.11."}," хозяйственно-питьевые нужды","Квартиры с ваннами сидячими, оборудованными душами",null,null,null,null,0,null,null,0,0,null,0,0,0,0,0,null,null,{"$f":"S647*T637","v":0}]
[{"$f":"IF(A615=\"\",\"\",A615)","v":"1.12."}," хозяйственно-питьевые нужды","Квартиры с общими душами на этаже",null,null,null,null,0,null,null,0,0,null,0,0,0,0,0,null,null,{"$f":"S648*T637","v":0}]
[{"$f":"IF(A616=\"\",\"\",A616)","v":"1.13."}," хозяйственно-питьевые нужды","Квартиры с ваннами длиной от 1500 до 1700 мм, оборудованными душами",null,null,null,null,0,null,null,0,0,null,0,0,0,0,0,null,null,{"$f":"S649*T637","v":0}]
[{"$f":"IF(A617=\"\",\"\",A617)","v":"1.14."}," хозяйственно-питьевые нужды","Квартиры с ваннами длиной от 1500 до 1700 мм, оборудованными душами",null,null,null,null,0,null,null,0,0,null,0,0,0,0,0,null,null,{"$f":"S650*T637","v":0}]
[{"$f":"IF(A618=\"\",\"\",A618)","v":"1.15."}," хозяйственно-питьевые нужды","Квартиры с общими душами в секции",null,null,null,null,0,null,null,0,0,null,0,0,0,0,0,null,null,{"$f":"S651*T637","v":0}]
[{"$f":"IF(A619=\"\",\"\",A619)","v":"1.16."}," хозяйственно-питьевые нужды","Квартиры с ваннами длиной от 1500 до 1700 мм, оборудованными душами",null,null,null,null,0,null,null,0,0,null,0,0,0,0,0,null,null,{"$f":"S652*T637","v":0}]
[{"$f":"IF(A620=\"\",\"\",A620)","v":"1.17."}," хозяйственно-питьевые нужды","с водопроводом без канализации",null,null,null,null,0,null,null,0,0,null,0,0,0,0,0,null,null,{"$f":"S653*T637","v":0}]
[{"$f":"IF(A621=\"\",\"\",A621)","v":"1.18."}," хозяйственно-питьевые нужды","водопровод, ванны без ГВС и кан-ции",null,null,null,null,0,null,null,0,0,null,0,0,0,0,0,null,null,{"$f":"S654*T637","v":0}]
[{"$f":"IF(A622=\"\",\"\",A622)","v":"1.19."}," хозяйственно-питьевые нужды","с ваннами, оборудованными душами и с канализацией",null,null,null,null,0,null,null,0,0,null,0,0,0,0,0,null,null,{"$f":"S655*T637","v":0}]
[{"$f":"IF(A623=\"\",\"\",A623)","v":"1.20."}," хозяйственно-питьевые нужды","с водопроводом без канализации",null,null,null,null,0,null,null,0,0,null,0,0,0,0,0,null,null,{"$f":"S656*T637","v":0}]
[{"$f":"IF(A624=\"\",\"\",A624)","v":"1.21."}," хозяйственно-питьевые нужды","водопровод, ванны без ГВС и кан-ции",null,null,null,null,0,null,null,0,0,null,0,0,0,0,0,null,null,{"$f":"S657*T637","v":0}]
[{"$f":"IF(A625=\"\",\"\",A625)","v":"1.22."}," хозяйственно-питьевые нужды","с ваннами, оборудованными душами и с канализацией",null,null,null,null,0,null,null,0,0,null,0,0,0,0,0,null,null,{"$f":"S658*T637","v":0}]
[{"$f":"IF(A626=\"\",\"\",A626)","v":"1.23."}," хозяйственно-питьевые нужды","с водопроводом без канализации",null,null,null,null,0,null,null,0,0,null,0,0,0,0,0,null,null,{"$f":"S659*T637","v":0}]
[{"$f":"IF(A627=\"\",\"\",A627)","v":"1.24."}," хозяйственно-питьевые нужды","водопровод, ванны без ГВС и кан-ции",null,null,null,null,0,null,null,0,0,null,0,0,0,0,0,null,null,{"$f":"S660*T637","v":0}]
[{"$f":"IF(A628=\"\",\"\",A628)","v":"1.25."}," хозяйственно-питьевые нужды","с ваннами, оборудованными душами и с канализацией",null,null,null,null,0,null,null,0,0,null,0,0,0,0,0,null,null,{"$f":"S661*T637","v":0}]
[{"$f":"IF(A629=\"\",\"\",A629)","v":"1.26."},"поливка  приусадебных участков","полив и бани",null,null,null,null,0,null,null,0,0,null,0,0,0,0,0,null,null,{"$f":"S662*T637","v":0}]
[null,"перерасчеты",null,"х","х","х","х","х","х","х","х","х","контроль","х","х","х","х"]
[null,"Итого население",null,null,null,{"$f":"SUM(F637:F662)","v":0},0,0,0,0,0,0,{"$f":"L664-'полезный отпуск'!N232","v":0},{"$f":"SUM(N637:N662)","v":0},0,0,{"$f":"SUM(Q637:Q662)","v":0},{"$f":"SUM(R637:R663)","v":0},{"$f":"SUM(S637:S663)","v":0},null,{"$f":"SUM(U637:U663)","v":0}]
["2.","Итого бюджет",null,null,null,null,null,{"$f":"F665+G665","v":0},null,null,{"$f":"I665+J665","v":0},{"$f":"H665+K665","v":0},{"$f":"L665-'полезный отпуск'!M232","v":0},{"$f":"F665*$M$637","v":0},{"$f":"G665*$M$637","v":0},{"$f":"I665*$M$637","v":0},{"$f":"J665*$M$637","v":0},{"$f":"SUM(N665:Q665)","v":0},null,null,{"$f":"S665*T637","v":0}]
["3.","Итого прочие+другие водопроводы",null,null,null,null,null,0,null,null,{"$f":"I666+J666","v":0},{"$f":"H666+K666","v":0},{"$f":"L666-('полезный отпуск'!O232+'полезный отпуск'!H232)","v":0},0,0,0,0,0,null,null,{"$f":"S666*T637","v":0}]
["4.","ВСЕГО 2-е полугодие",null,null,null,{"$f":"SUM(F664:F666)","v":0},{"$f":"SUM(G664:G666)","v":0},{"$f":"SUM(H664:H666)","v":0},{"$f":"SUM(I664:I666)","v":0},0,0,0,{"$f":"L667-('полезный отпуск'!L232+'полезный отпуск'!H232)","v":0},{"$f":"SUM(N664:N666)","v":0},0,0,0,0,{"$f":"SUM(S664:S666)","v":0},null,{"$f":"SUM(U664:U666)","v":0}]
[]
["5.","ГОД ВСЕГО",null,null,null,{"$f":"F634+F667","v":0},{"$f":"G634+G667","v":0},0,0,0,0,0,null,{"$f":"N634+N667","v":0},0,0,0,0,{"$f":"S634+S667","v":0},null,{"$f":"U634+U667","v":0}]
[]
[null,"МО",{"$f":"'данные об организации'!A21","v":0},{"$f":"'данные об организации'!$F$21","v":0}]
[null,null,null,"(наименование населенного пункта)"]
["№","Вид потребителя","Степень благоустройства, наименование скота","Нормы потребления холодного и горячего водоснабжения, куб.м. в месяц(на 1 чел, на 1 голову скота и тд)",null,"Фактический годовой объем реализации воды,  куб.м.",null,null,null,null,null,null,"тариф на холодную воду, руб/куб.м.","Сумма, руб",null,null,null,null,"компенсация до установленного тарифа"]
[null,null,null,null,null,"холодной воды",null,null,"для нужд ГВС",null,null,"ВСЕГО",null,"холодной воды",null,"для нужд ГВС",null,"ИТОГО"]
[null,null,null,"холодной воды","ГВС","норматив","прибор учета","Итого","норматив","прибор учета","Итого",null,null,"норматив","прибор учета","норматив","прибор учета",null,"объем, куб.м.","размер, руб/куб.м.","Сумма, руб"]
[null,"1-е полугодие 2017 года"]
["1.","Население "]
[{"$f":"IF(A637=\"\",\"\",A637)","v":"1.1."},{"$f":"IF(B637=\"\",\"\",B637)","v":" хозяйственно-питьевые нужды"},"Квартиры с ваннами длиной от 1500 до 1700 мм, оборудованными душами",null,null,null,null,{"$f":"F678+G678","v":0},null,null,{"$f":"I678+J678","v":0},{"$f":"H678+K678","v":0},{"$f":"M604","v":0},{"$f":"F678*$M$678","v":0},{"$f":"G678*$M$678","v":0},{"$f":"I678*$M$678","v":0},{"$f":"J678*$M$678","v":0},{"$f":"SUM(N678:Q678)","v":0},null,{"$f":"T604","v":0},{"$f":"S678*T678","v":0}]
[{"$f":"IF(A638=\"\",\"\",A638)","v":"1.2."}," хозяйственно-питьевые нужды","Квартиры  без ванн,  без ГВС и кан-ции",null,null,null,null,{"$f":"F679+G679","v":0},null,null,{"$f":"I679+J679","v":0},{"$f":"H679+K679","v":0},null,{"$f":"F679*$M$678","v":0},{"$f":"G679*$M$678","v":0},{"$f":"I679*$M$678","v":0},{"$f":"J679*$M$678","v":0},{"$f":"SUM(N679:Q679)","v":0},null,null,{"$f":"S679*T678","v":0}]
[{"$f":"IF(A639=\"\",\"\",A639)","v":"1.3."}," хозяйственно-питьевые нужды","Квартиры с ваннами длиной от 1500 до 1700 мм, оборудованными душами",null,null,null,null,0,null,null,0,0,null,0,0,0,0,0,null,null,{"$f":"S680*T678","v":0}]
[{"$f":"IF(A640=\"\",\"\",A640)","v":"1.4."}," хозяйственно-питьевые нужды","Квартиры с  общими душами на этаже",null,null,null,null,0,null,null,0,0,null,0,0,0,0,0,null,null,{"$f":"S681*T678","v":0}]
[{"$f":"IF(A641=\"\",\"\",A641)","v":"1.5."}," хозяйственно-питьевые нужды","Квартиры  с ваннами и местным  ГВС (индивид эл.бойлера)",null,null,null,null,0,null,null,0,0,null,0,0,0,0,0,null,null,{"$f":"S682*T678","v":0}]
[{"$f":"IF(A642=\"\",\"\",A642)","v":"1.6."}," хозяйственно-питьевые нужды","Квартиры  с ваннами и местным  ГВС (общий т/обменник от отопления 252 дня)",null,null,null,null,0,null,null,0,0,null,0,0,0,0,0,null,null,{"$f":"S683*T678","v":0}]
[{"$f":"IF(A643=\"\",\"\",A643)","v":"1.7."}," хозяйственно-питьевые нужды","Квартиры с ваннами длиной от 1500 до 1700 мм, оборудованными душами",null,null,null,null,0,null,null,0,0,null,0,0,0,0,0,null,null,{"$f":"S684*T678","v":0}]
[{"$f":"IF(A644=\"\",\"\",A644)","v":"1.8."}," хозяйственно-питьевые нужды","Квартиры  с ваннами и местным  ГВС (индивид эл.бойлера)",null,null,null,null,0,null,null,0,0,null,0,0,0,0,0,null,null,{"$f":"S685*T678","v":0}]
[{"$f":"IF(A645=\"\",\"\",A645)","v":"1.9."}," хозяйственно-питьевые нужды","Квартиры с ваннами длиной от 1500 до 1700 мм, оборудованными душами",null,null,null,null,0,null,null,0,0,null,0,0,0,0,0,null,null,{"$f":"S686*T678","v":0}]
[{"$f":"IF(A646=\"\",\"\",A646)","v":"1.10."}," хозяйственно-питьевые нужды","Квартиры с ваннами длиной от 1500 до 1700 мм, оборудованными душами",null,null,null,null,0,null,null,0,0,null,0,0,0,0,0,null,null,{"$f":"S687*T678","v":0}]
[{"$f":"IF(A647=\"\",\"\",A647)","v":"1.11."}," хозяйственно-питьевые нужды","Квартиры с ваннами сидячими, оборудованными душами",null,null,null,null,0,null,null,0,0,null,0,0,0,0,0,null,null,{"$f":"S688*T678","v":0}]
[{"$f":"IF(A648=\"\",\"\",A648)","v":"1.12."}," хозяйственно-питьевые нужды","Квартиры с общими душами на этаже",null,null,null,null,0,null,null,0,0,null,0,0,0,0,0,null,null,{"$f":"S689*T678","v":0}]
[{"$f":"IF(A649=\"\",\"\",A649)","v":"1.13."}," хозяйственно-питьевые нужды","Квартиры с ваннами длиной от 1500 до 1700 мм, оборудованными душами",null,null,null,null,0,null,null,0,0,null,0,0,0,0,0,null,null,{"$f":"S690*T678","v":0}]
[{"$f":"IF(A650=\"\",\"\",A650)","v":"1.14."}," хозяйственно-питьевые нужды","Квартиры с ваннами длиной от 1500 до 1700 мм, оборудованными душами",null,null,null,null,0,null,null,0,0,null,0,0,0,0,0,null,null,{"$f":"S691*T678","v":0}]
[{"$f":"IF(A651=\"\",\"\",A651)","v":"1.15."}," хозяйственно-питьевые нужды","Квартиры с общими душами в секции",null,null,null,null,0,null,null,0,0,null,0,0,0,0,0,null,null,{"$f":"S692*T678","v":0}]
[{"$f":"IF(A652=\"\",\"\",A652)","v":"1.16."}," хозяйственно-питьевые нужды","Квартиры с ваннами длиной от 1500 до 1700 мм, оборудованными душами",null,null,null,null,0,null,null,0,0,null,0,0,0,0,0,null,null,{"$f":"S693*T678","v":0}]
[{"$f":"IF(A653=\"\",\"\",A653)","v":"1.17."}," хозяйственно-питьевые нужды","с водопроводом без канализации",null,null,null,null,0,null,null,0,0,null,0,0,0,0,0,null,null,{"$f":"S694*T678","v":0}]
[{"$f":"IF(A654=\"\",\"\",A654)","v":"1.18."}," хозяйственно-питьевые нужды","водопровод, ванны без ГВС и кан-ции",null,null,null,null,0,null,null,0,0,null,0,0,0,0,0,null,null,{"$f":"S695*T678","v":0}]
[{"$f":"IF(A655=\"\",\"\",A655)","v":"1.19."}," хозяйственно-питьевые нужды","с ваннами, оборудованными душами и с канализацией",null,null,null,null,0,null,null,0,0,null,0,0,0,0,0,null,null,{"$f":"S696*T678","v":0}]
[{"$f":"IF(A656=\"\",\"\",A656)","v":"1.20."}," хозяйственно-питьевые нужды","с водопроводом без канализации",null,null,null,null,0,null,null,0,0,null,0,0,0,0,0,null,null,{"$f":"S697*T678","v":0}]
[{"$f":"IF(A657=\"\",\"\",A657)","v":"1.21."}," хозяйственно-питьевые нужды","водопровод, ванны без ГВС и кан-ции",null,null,null,null,0,null,null,0,0,null,0,0,0,0,0,null,null,{"$f":"S698*T678","v":0}]
[{"$f":"IF(A658=\"\",\"\",A658)","v":"1.22."}," хозяйственно-питьевые нужды","с ваннами, оборудованными душами и с канализацией",null,null,null,null,0,null,null,0,0,null,0,0,0,0,0,null,null,{"$f":"S699*T678","v":0}]
[{"$f":"IF(A659=\"\",\"\",A659)","v":"1.23."}," хозяйственно-питьевые нужды","с водопроводом без канализации",null,null,null,null,0,null,null,0,0,null,0,0,0,0,0,null,null,{"$f":"S700*T678","v":0}]
[{"$f":"IF(A660=\"\",\"\",A660)","v":"1.24."}," хозяйственно-питьевые нужды","водопровод, ванны без ГВС и кан-ции",null,null,null,null,0,null,null,0,0,null,0,0,0,0,0,null,null,{"$f":"S701*T678","v":0}]
[{"$f":"IF(A661=\"\",\"\",A661)","v":"1.25."}," хозяйственно-питьевые нужды","с ваннами, оборудованными душами и с канализацией",null,null,null,null,0,null,null,0,0,null,0,0,0,0,0,null,null,{"$f":"S702*T678","v":0}]
[{"$f":"IF(A662=\"\",\"\",A662)","v":"1.26."},"поливка  приусадебных участков","полив и бани",null,null,null,null,0,null,null,0,0,null,0,0,0,0,0,null,null,{"$f":"S703*T678","v":0}]
[null,"перерасчеты",null,"х","х","х","х","х","х","х","х","х","контроль","х","х","х","х"]
[null,"Итого население",null,null,null,{"$f":"SUM(F678:F703)","v":0},0,0,0,0,0,0,{"$f":"L705-'полезный отпуск'!N256","v":0},{"$f":"SUM(N678:N703)","v":0},0,0,{"$f":"SUM(Q678:Q703)","v":0},{"$f":"SUM(R678:R704)","v":0},{"$f":"SUM(S678:S704)","v":0},null,{"$f":"SUM(U678:U704)","v":0}]
["2.","Итого бюджет",null,null,null,null,null,{"$f":"F706+G706","v":0},null,null,{"$f":"I706+J706","v":0},{"$f":"H706+K706","v":0},{"$f":"L706-'полезный отпуск'!M256","v":0},{"$f":"F706*$M$678","v":0},{"$f":"G706*$M$678","v":0},{"$f":"I706*$M$678","v":0},{"$f":"J706*$M$678","v":0},{"$f":"SUM(N706:Q706)","v":0},null,null,{"$f":"S706*T678","v":0}]
["3.","Итого прочие+другие водопроводы",null,null,null,null,null,0,null,null,{"$f":"I707+J707","v":0},{"$f":"H707+K707","v":0},{"$f":"L707-('полезный отпуск'!O256+'полезный отпуск'!H256)","v":0},0,0,0,0,0,null,null,{"$f":"S707*T678","v":0}]
["4.","ВСЕГО 1-е полугодие",null,null,null,{"$f":"SUM(F705:F707)","v":0},{"$f":"SUM(G705:G707)","v":0},{"$f":"SUM(H705:H707)","v":0},{"$f":"SUM(I705:I707)","v":0},0,0,0,{"$f":"L708-('полезный отпуск'!L256+'полезный отпуск'!H256)","v":0},{"$f":"SUM(N705:N707)","v":0},0,0,0,0,{"$f":"SUM(S705:S707)","v":0},null,{"$f":"SUM(U705:U707)","v":0}]
[null,"2-е полугодие 2017 года"]
["1.","Население "]
[{"$f":"IF(A678=\"\",\"\",A678)","v":"1.1."},{"$f":"IF(B678=\"\",\"\",B678)","v":" хозяйственно-питьевые нужды"},"Квартиры с ваннами длиной от 1500 до 1700 мм, оборудованными душами",null,null,null,null,{"$f":"F711+G711","v":0},null,null,{"$f":"I711+J711","v":0},{"$f":"H711+K711","v":0},{"$f":"'данные об организации'!$I$31","v":0},{"$f":"F711*$M$711","v":0},{"$f":"G711*$M$711","v":0},{"$f":"I711*$M$711","v":0},{"$f":"J711*$M$711","v":0},{"$f":"SUM(N711:Q711)","v":0},null,{"$f":"T637","v":0},{"$f":"S711*T711","v":0}]
[{"$f":"IF(A679=\"\",\"\",A679)","v":"1.2."}," хозяйственно-питьевые нужды","Квартиры  без ванн,  без ГВС и кан-ции",null,null,null,null,{"$f":"F712+G712","v":0},null,null,{"$f":"I712+J712","v":0},{"$f":"H712+K712","v":0},null,{"$f":"F712*$M$711","v":0},{"$f":"G712*$M$711","v":0},{"$f":"I712*$M$711","v":0},{"$f":"J712*$M$711","v":0},{"$f":"SUM(N712:Q712)","v":0},null,null,{"$f":"S712*T711","v":0}]
[{"$f":"IF(A680=\"\",\"\",A680)","v":"1.3."}," хозяйственно-питьевые нужды","Квартиры с ваннами длиной от 1500 до 1700 мм, оборудованными душами",null,null,null,null,0,null,null,0,0,null,0,0,0,0,0,null,null,{"$f":"S713*T711","v":0}]
[{"$f":"IF(A681=\"\",\"\",A681)","v":"1.4."}," хозяйственно-питьевые нужды","Квартиры с  общими душами на этаже",null,null,null,null,0,null,null,0,0,null,0,0,0,0,0,null,null,{"$f":"S714*T711","v":0}]
[{"$f":"IF(A682=\"\",\"\",A682)","v":"1.5."}," хозяйственно-питьевые нужды","Квартиры  с ваннами и местным  ГВС (индивид эл.бойлера)",null,null,null,null,0,null,null,0,0,null,0,0,0,0,0,null,null,{"$f":"S715*T711","v":0}]
[{"$f":"IF(A683=\"\",\"\",A683)","v":"1.6."}," хозяйственно-питьевые нужды","Квартиры  с ваннами и местным  ГВС (общий т/обменник от отопления 252 дня)",null,null,null,null,0,null,null,0,0,null,0,0,0,0,0,null,null,{"$f":"S716*T711","v":0}]
[{"$f":"IF(A684=\"\",\"\",A684)","v":"1.7."}," хозяйственно-питьевые нужды","Квартиры с ваннами длиной от 1500 до 1700 мм, оборудованными душами",null,null,null,null,0,null,null,0,0,null,0,0,0,0,0,null,null,{"$f":"S717*T711","v":0}]
[{"$f":"IF(A685=\"\",\"\",A685)","v":"1.8."}," хозяйственно-питьевые нужды","Квартиры  с ваннами и местным  ГВС (индивид эл.бойлера)",null,null,null,null,0,null,null,0,0,null,0,0,0,0,0,null,null,{"$f":"S718*T711","v":0}]
[{"$f":"IF(A686=\"\",\"\",A686)","v":"1.9."}," хозяйственно-питьевые нужды","Квартиры с ваннами длиной от 1500 до 1700 мм, оборудованными душами",null,null,null,null,0,null,null,0,0,null,0,0,0,0,0,null,null,{"$f":"S719*T711","v":0}]
[{"$f":"IF(A687=\"\",\"\",A687)","v":"1.10."}," хозяйственно-питьевые нужды","Квартиры с ваннами длиной от 1500 до 1700 мм, оборудованными душами",null,null,null,null,0,null,null,0,0,null,0,0,0,0,0,null,null,{"$f":"S720*T711","v":0}]
[{"$f":"IF(A688=\"\",\"\",A688)","v":"1.11."}," хозяйственно-питьевые нужды","Квартиры с ваннами сидячими, оборудованными душами",null,null,null,null,0,null,null,0,0,null,0,0,0,0,0,null,null,{"$f":"S721*T711","v":0}]
[{"$f":"IF(A689=\"\",\"\",A689)","v":"1.12."}," хозяйственно-питьевые нужды","Квартиры с общими душами на этаже",null,null,null,null,0,null,null,0,0,null,0,0,0,0,0,null,null,{"$f":"S722*T711","v":0}]
[{"$f":"IF(A690=\"\",\"\",A690)","v":"1.13."}," хозяйственно-питьевые нужды","Квартиры с ваннами длиной от 1500 до 1700 мм, оборудованными душами",null,null,null,null,0,null,null,0,0,null,0,0,0,0,0,null,null,{"$f":"S723*T711","v":0}]
[{"$f":"IF(A691=\"\",\"\",A691)","v":"1.14."}," хозяйственно-питьевые нужды","Квартиры с ваннами длиной от 1500 до 1700 мм, оборудованными душами",null,null,null,null,0,null,null,0,0,null,0,0,0,0,0,null,null,{"$f":"S724*T711","v":0}]
[{"$f":"IF(A692=\"\",\"\",A692)","v":"1.15."}," хозяйственно-питьевые нужды","Квартиры с общими душами в секции",null,null,null,null,0,null,null,0,0,null,0,0,0,0,0,null,null,{"$f":"S725*T711","v":0}]
[{"$f":"IF(A693=\"\",\"\",A693)","v":"1.16."}," хозяйственно-питьевые нужды","Квартиры с ваннами длиной от 1500 до 1700 мм, оборудованными душами",null,null,null,null,0,null,null,0,0,null,0,0,0,0,0,null,null,{"$f":"S726*T711","v":0}]
[{"$f":"IF(A694=\"\",\"\",A694)","v":"1.17."}," хозяйственно-питьевые нужды","с водопроводом без канализации",null,null,null,null,0,null,null,0,0,null,0,0,0,0,0,null,null,{"$f":"S727*T711","v":0}]
[{"$f":"IF(A695=\"\",\"\",A695)","v":"1.18."}," хозяйственно-питьевые нужды","водопровод, ванны без ГВС и кан-ции",null,null,null,null,0,null,null,0,0,null,0,0,0,0,0,null,null,{"$f":"S728*T711","v":0}]
[{"$f":"IF(A696=\"\",\"\",A696)","v":"1.19."}," хозяйственно-питьевые нужды","с ваннами, оборудованными душами и с канализацией",null,null,null,null,0,null,null,0,0,null,0,0,0,0,0,null,null,{"$f":"S729*T711","v":0}]
[{"$f":"IF(A697=\"\",\"\",A697)","v":"1.20."}," хозяйственно-питьевые нужды","с водопроводом без канализации",null,null,null,null,0,null,null,0,0,null,0,0,0,0,0,null,null,{"$f":"S730*T711","v":0}]
[{"$f":"IF(A698=\"\",\"\",A698)","v":"1.21."}," хозяйственно-питьевые нужды","водопровод, ванны без ГВС и кан-ции",null,null,null,null,0,null,null,0,0,null,0,0,0,0,0,null,null,{"$f":"S731*T711","v":0}]
[{"$f":"IF(A699=\"\",\"\",A699)","v":"1.22."}," хозяйственно-питьевые нужды","с ваннами, оборудованными душами и с канализацией",null,null,null,null,0,null,null,0,0,null,0,0,0,0,0,null,null,{"$f":"S732*T711","v":0}]
[{"$f":"IF(A700=\"\",\"\",A700)","v":"1.23."}," хозяйственно-питьевые нужды","с водопроводом без канализации",null,null,null,null,0,null,null,0,0,null,0,0,0,0,0,null,null,{"$f":"S733*T711","v":0}]
[{"$f":"IF(A701=\"\",\"\",A701)","v":"1.24."}," хозяйственно-питьевые нужды","водопровод, ванны без ГВС и кан-ции",null,null,null,null,0,null,null,0,0,null,0,0,0,0,0,null,null,{"$f":"S734*T711","v":0}]
[{"$f":"IF(A702=\"\",\"\",A702)","v":"1.25."}," хозяйственно-питьевые нужды","с ваннами, оборудованными душами и с канализацией",null,null,null,null,0,null,null,0,0,null,0,0,0,0,0,null,null,{"$f":"S735*T711","v":0}]
[{"$f":"IF(A703=\"\",\"\",A703)","v":"1.26."},"поливка  приусадебных участков","полив и бани",null,null,null,null,0,null,null,0,0,null,0,0,0,0,0,null,null,{"$f":"S736*T711","v":0}]
[null,"перерасчеты",null,"х","х","х","х","х","х","х","х","х","контроль","х","х","х","х"]
[null,"Итого население",null,null,null,{"$f":"SUM(F711:F736)","v":0},0,0,0,0,0,0,{"$f":"L738-'полезный отпуск'!N257","v":0},{"$f":"SUM(N711:N736)","v":0},0,0,{"$f":"SUM(Q711:Q736)","v":0},{"$f":"SUM(R711:R737)","v":0},{"$f":"SUM(S711:S737)","v":0},null,{"$f":"SUM(U711:U737)","v":0}]
["2.","Итого бюджет",null,null,null,null,null,{"$f":"F739+G739","v":0},null,null,{"$f":"I739+J739","v":0},{"$f":"H739+K739","v":0},{"$f":"L739-'полезный отпуск'!M257","v":0},{"$f":"F739*$M$711","v":0},{"$f":"G739*$M$711","v":0},{"$f":"I739*$M$711","v":0},{"$f":"J739*$M$711","v":0},{"$f":"SUM(N739:Q739)","v":0},null,null,{"$f":"S739*T711","v":0}]
["3.","Итого прочие+другие водопроводы",null,null,null,null,null,0,null,null,{"$f":"I740+J740","v":0},{"$f":"H740+K740","v":0},{"$f":"L740-('полезный отпуск'!O257+'полезный отпуск'!H257)","v":0},0,0,0,0,0,null,null,{"$f":"S740*T711","v":0}]
["4.","ВСЕГО 2-е полугодие",null,null,null,{"$f":"SUM(F738:F740)","v":0},{"$f":"SUM(G738:G740)","v":0},{"$f":"SUM(H738:H740)","v":0},{"$f":"SUM(I738:I740)","v":0},0,0,0,{"$f":"L741-('полезный отпуск'!L257+'полезный отпуск'!H257)","v":0},{"$f":"SUM(N738:N740)","v":0},0,0,0,0,{"$f":"SUM(S738:S740)","v":0},null,{"$f":"SUM(U738:U740)","v":0}]
[]
["5.","ГОД ВСЕГО",null,null,null,{"$f":"F708+F741","v":0},{"$f":"G708+G741","v":0},0,0,0,0,0,null,{"$f":"N708+N741","v":0},0,0,0,0,{"$f":"S708+S741","v":0},null,{"$f":"U708+U741","v":0}]
[]
[null,"МО",{"$f":"'данные об организации'!A22","v":0},{"$f":"'данные об организации'!$F$22","v":0}]
[null,null,null,"(наименование населенного пункта)"]
["№","Вид потребителя","Степень благоустройства, наименование скота","Нормы потребления холодного и горячего водоснабжения, куб.м. в месяц(на 1 чел, на 1 голову скота и тд)",null,"Фактический годовой объем реализации воды,  куб.м.",null,null,null,null,null,null,"тариф на холодную воду, руб/куб.м.","Сумма, руб",null,null,null,null,"компенсация до установленного тарифа"]
[null,null,null,null,null,"холодной воды",null,null,"для нужд ГВС",null,null,"ВСЕГО",null,"холодной воды",null,"для нужд ГВС",null,"ИТОГО"]
[null,null,null,"холодной воды","ГВС","норматив","прибор учета","Итого","норматив","прибор учета","Итого",null,null,"норматив","прибор учета","норматив","прибор учета",null,"объем, куб.м.","размер, руб/куб.м.","Сумма, руб"]
[null,"1-е полугодие 2017 года"]
["1.","Население "]
[{"$f":"IF(A711=\"\",\"\",A711)","v":"1.1."},{"$f":"IF(B711=\"\",\"\",B711)","v":" хозяйственно-питьевые нужды"},"Квартиры с ваннами длиной от 1500 до 1700 мм, оборудованными душами",null,null,null,null,{"$f":"F752+G752","v":0},null,null,{"$f":"I752+J752","v":0},{"$f":"H752+K752","v":0},{"$f":"M678","v":0},{"$f":"F752*$M$752","v":0},{"$f":"G752*$M$752","v":0},{"$f":"I752*$M$752","v":0},{"$f":"J752*$M$752","v":0},{"$f":"SUM(N752:Q752)","v":0},null,{"$f":"T678","v":0},{"$f":"S752*T752","v":0}]
[{"$f":"IF(A712=\"\",\"\",A712)","v":"1.2."}," хозяйственно-питьевые нужды","Квартиры  без ванн,  без ГВС и кан-ции",null,null,null,null,{"$f":"F753+G753","v":0},null,null,{"$f":"I753+J753","v":0},{"$f":"H753+K753","v":0},null,{"$f":"F753*$M$752","v":0},{"$f":"G753*$M$752","v":0},{"$f":"I753*$M$752","v":0},{"$f":"J753*$M$752","v":0},{"$f":"SUM(N753:Q753)","v":0},null,null,{"$f":"S753*T752","v":0}]
[{"$f":"IF(A713=\"\",\"\",A713)","v":"1.3."}," хозяйственно-питьевые нужды","Квартиры с ваннами длиной от 1500 до 1700 мм, оборудованными душами",null,null,null,null,0,null,null,0,0,null,0,0,0,0,0,null,null,{"$f":"S754*T752","v":0}]
[{"$f":"IF(A714=\"\",\"\",A714)","v":"1.4."}," хозяйственно-питьевые нужды","Квартиры с  общими душами на этаже",null,null,null,null,0,null,null,0,0,null,0,0,0,0,0,null,null,{"$f":"S755*T752","v":0}]
[{"$f":"IF(A715=\"\",\"\",A715)","v":"1.5."}," хозяйственно-питьевые нужды","Квартиры  с ваннами и местным  ГВС (индивид эл.бойлера)",null,null,null,null,0,null,null,0,0,null,0,0,0,0,0,null,null,{"$f":"S756*T752","v":0}]
[{"$f":"IF(A716=\"\",\"\",A716)","v":"1.6."}," хозяйственно-питьевые нужды","Квартиры  с ваннами и местным  ГВС (общий т/обменник от отопления 252 дня)",null,null,null,null,0,null,null,0,0,null,0,0,0,0,0,null,null,{"$f":"S757*T752","v":0}]
[{"$f":"IF(A717=\"\",\"\",A717)","v":"1.7."}," хозяйственно-питьевые нужды","Квартиры с ваннами длиной от 1500 до 1700 мм, оборудованными душами",null,null,null,null,0,null,null,0,0,null,0,0,0,0,0,null,null,{"$f":"S758*T752","v":0}]
[{"$f":"IF(A718=\"\",\"\",A718)","v":"1.8."}," хозяйственно-питьевые нужды","Квартиры  с ваннами и местным  ГВС (индивид эл.бойлера)",null,null,null,null,0,null,null,0,0,null,0,0,0,0,0,null,null,{"$f":"S759*T752","v":0}]
[{"$f":"IF(A719=\"\",\"\",A719)","v":"1.9."}," хозяйственно-питьевые нужды","Квартиры с ваннами длиной от 1500 до 1700 мм, оборудованными душами",null,null,null,null,0,null,null,0,0,null,0,0,0,0,0,null,null,{"$f":"S760*T752","v":0}]
[{"$f":"IF(A720=\"\",\"\",A720)","v":"1.10."}," хозяйственно-питьевые нужды","Квартиры с ваннами длиной от 1500 до 1700 мм, оборудованными душами",null,null,null,null,0,null,null,0,0,null,0,0,0,0,0,null,null,{"$f":"S761*T752","v":0}]
[{"$f":"IF(A721=\"\",\"\",A721)","v":"1.11."}," хозяйственно-питьевые нужды","Квартиры с ваннами сидячими, оборудованными душами",null,null,null,null,0,null,null,0,0,null,0,0,0,0,0,null,null,{"$f":"S762*T752","v":0}]
[{"$f":"IF(A722=\"\",\"\",A722)","v":"1.12."}," хозяйственно-питьевые нужды","Квартиры с общими душами на этаже",null,null,null,null,0,null,null,0,0,null,0,0,0,0,0,null,null,{"$f":"S763*T752","v":0}]
[{"$f":"IF(A723=\"\",\"\",A723)","v":"1.13."}," хозяйственно-питьевые нужды","Квартиры с ваннами длиной от 1500 до 1700 мм, оборудованными душами",null,null,null,null,0,null,null,0,0,null,0,0,0,0,0,null,null,{"$f":"S764*T752","v":0}]
[{"$f":"IF(A724=\"\",\"\",A724)","v":"1.14."}," хозяйственно-питьевые нужды","Квартиры с ваннами длиной от 1500 до 1700 мм, оборудованными душами",null,null,null,null,0,null,null,0,0,null,0,0,0,0,0,null,null,{"$f":"S765*T752","v":0}]
[{"$f":"IF(A725=\"\",\"\",A725)","v":"1.15."}," хозяйственно-питьевые нужды","Квартиры с общими душами в секции",null,null,null,null,0,null,null,0,0,null,0,0,0,0,0,null,null,{"$f":"S766*T752","v":0}]
[{"$f":"IF(A726=\"\",\"\",A726)","v":"1.16."}," хозяйственно-питьевые нужды","Квартиры с ваннами длиной от 1500 до 1700 мм, оборудованными душами",null,null,null,null,0,null,null,0,0,null,0,0,0,0,0,null,null,{"$f":"S767*T752","v":0}]
[{"$f":"IF(A727=\"\",\"\",A727)","v":"1.17."}," хозяйственно-питьевые нужды","с водопроводом без канализации",null,null,null,null,0,null,null,0,0,null,0,0,0,0,0,null,null,{"$f":"S768*T752","v":0}]
[{"$f":"IF(A728=\"\",\"\",A728)","v":"1.18."}," хозяйственно-питьевые нужды","водопровод, ванны без ГВС и кан-ции",null,null,null,null,0,null,null,0,0,null,0,0,0,0,0,null,null,{"$f":"S769*T752","v":0}]
[{"$f":"IF(A729=\"\",\"\",A729)","v":"1.19."}," хозяйственно-питьевые нужды","с ваннами, оборудованными душами и с канализацией",null,null,null,null,0,null,null,0,0,null,0,0,0,0,0,null,null,{"$f":"S770*T752","v":0}]
[{"$f":"IF(A730=\"\",\"\",A730)","v":"1.20."}," хозяйственно-питьевые нужды","с водопроводом без канализации",null,null,null,null,0,null,null,0,0,null,0,0,0,0,0,null,null,{"$f":"S771*T752","v":0}]
[{"$f":"IF(A731=\"\",\"\",A731)","v":"1.21."}," хозяйственно-питьевые нужды","водопровод, ванны без ГВС и кан-ции",null,null,null,null,0,null,null,0,0,null,0,0,0,0,0,null,null,{"$f":"S772*T752","v":0}]
[{"$f":"IF(A732=\"\",\"\",A732)","v":"1.22."}," хозяйственно-питьевые нужды","с ваннами, оборудованными душами и с канализацией",null,null,null,null,0,null,null,0,0,null,0,0,0,0,0,null,null,{"$f":"S773*T752","v":0}]
[{"$f":"IF(A733=\"\",\"\",A733)","v":"1.23."}," хозяйственно-питьевые нужды","с водопроводом без канализации",null,null,null,null,0,null,null,0,0,null,0,0,0,0,0,null,null,{"$f":"S774*T752","v":0}]
[{"$f":"IF(A734=\"\",\"\",A734)","v":"1.24."}," хозяйственно-питьевые нужды","водопровод, ванны без ГВС и кан-ции",null,null,null,null,0,null,null,0,0,null,0,0,0,0,0,null,null,{"$f":"S775*T752","v":0}]
[{"$f":"IF(A735=\"\",\"\",A735)","v":"1.25."}," хозяйственно-питьевые нужды","с ваннами, оборудованными душами и с канализацией",null,null,null,null,0,null,null,0,0,null,0,0,0,0,0,null,null,{"$f":"S776*T752","v":0}]
[{"$f":"IF(A736=\"\",\"\",A736)","v":"1.26."},"поливка  приусадебных участков","полив и бани",null,null,null,null,0,null,null,0,0,null,0,0,0,0,0,null,null,{"$f":"S777*T752","v":0}]
[null,"перерасчеты",null,"х","х","х","х","х","х","х","х","х","контроль","х","х","х","х"]
[null,"Итого население",null,null,null,{"$f":"SUM(F752:F777)","v":0},0,0,0,0,0,0,{"$f":"L779-'полезный отпуск'!N281","v":0},{"$f":"SUM(N752:N777)","v":0},0,0,{"$f":"SUM(Q752:Q777)","v":0},{"$f":"SUM(R752:R778)","v":0},{"$f":"SUM(S752:S778)","v":0},null,{"$f":"SUM(U752:U778)","v":0}]
["2.","Итого бюджет",null,null,null,null,null,{"$f":"F780+G780","v":0},null,null,{"$f":"I780+J780","v":0},{"$f":"H780+K780","v":0},{"$f":"L780-'полезный отпуск'!M281","v":0},{"$f":"F780*$M$752","v":0},{"$f":"G780*$M$752","v":0},{"$f":"I780*$M$752","v":0},{"$f":"J780*$M$752","v":0},{"$f":"SUM(N780:Q780)","v":0},null,null,{"$f":"S780*T752","v":0}]
["3.","Итого прочие+другие водопроводы",null,null,null,null,null,0,null,null,{"$f":"I781+J781","v":0},{"$f":"H781+K781","v":0},{"$f":"L781-('полезный отпуск'!O281+'полезный отпуск'!H281)","v":0},0,0,0,0,0,null,null,{"$f":"S781*T752","v":0}]
["4.","ВСЕГО 1-е полугодие",null,null,null,{"$f":"SUM(F779:F781)","v":0},{"$f":"SUM(G779:G781)","v":0},{"$f":"SUM(H779:H781)","v":0},{"$f":"SUM(I779:I781)","v":0},0,0,0,{"$f":"L782-('полезный отпуск'!L281+'полезный отпуск'!H281)","v":0},{"$f":"SUM(N779:N781)","v":0},0,0,0,0,{"$f":"SUM(S779:S781)","v":0},null,{"$f":"SUM(U779:U781)","v":0}]
[null,"2-е полугодие 2017 года"]
["1.","Население "]
[{"$f":"IF(A752=\"\",\"\",A752)","v":"1.1."},{"$f":"IF(B752=\"\",\"\",B752)","v":" хозяйственно-питьевые нужды"},"Квартиры с ваннами длиной от 1500 до 1700 мм, оборудованными душами",null,null,null,null,{"$f":"F785+G785","v":0},null,null,{"$f":"I785+J785","v":0},{"$f":"H785+K785","v":0},{"$f":"M711","v":0},{"$f":"F785*$M$785","v":0},{"$f":"G785*$M$785","v":0},{"$f":"I785*$M$785","v":0},{"$f":"J785*$M$785","v":0},{"$f":"SUM(N785:Q785)","v":0},null,{"$f":"T711","v":0},{"$f":"S785*T785","v":0}]
[{"$f":"IF(A753=\"\",\"\",A753)","v":"1.2."}," хозяйственно-питьевые нужды","Квартиры  без ванн,  без ГВС и кан-ции",null,null,null,null,{"$f":"F786+G786","v":0},null,null,{"$f":"I786+J786","v":0},{"$f":"H786+K786","v":0},null,{"$f":"F786*$M$785","v":0},{"$f":"G786*$M$785","v":0},{"$f":"I786*$M$785","v":0},{"$f":"J786*$M$785","v":0},{"$f":"SUM(N786:Q786)","v":0},null,null,{"$f":"S786*T785","v":0}]
[{"$f":"IF(A754=\"\",\"\",A754)","v":"1.3."}," хозяйственно-питьевые нужды","Квартиры с ваннами длиной от 1500 до 1700 мм, оборудованными душами",null,null,null,null,0,null,null,0,0,null,0,0,0,0,0,null,null,{"$f":"S787*T785","v":0}]
[{"$f":"IF(A755=\"\",\"\",A755)","v":"1.4."}," хозяйственно-питьевые нужды","Квартиры с  общими душами на этаже",null,null,null,null,0,null,null,0,0,null,0,0,0,0,0,null,null,{"$f":"S788*T785","v":0}]
[{"$f":"IF(A756=\"\",\"\",A756)","v":"1.5."}," хозяйственно-питьевые нужды","Квартиры  с ваннами и местным  ГВС (индивид эл.бойлера)",null,null,null,null,0,null,null,0,0,null,0,0,0,0,0,null,null,{"$f":"S789*T785","v":0}]
[{"$f":"IF(A757=\"\",\"\",A757)","v":"1.6."}," хозяйственно-питьевые нужды","Квартиры  с ваннами и местным  ГВС (общий т/обменник от отопления 252 дня)",null,null,null,null,0,null,null,0,0,null,0,0,0,0,0,null,null,{"$f":"S790*T785","v":0}]
[{"$f":"IF(A758=\"\",\"\",A758)","v":"1.7."}," хозяйственно-питьевые нужды","Квартиры с ваннами длиной от 1500 до 1700 мм, оборудованными душами",null,null,null,null,0,null,null,0,0,null,0,0,0,0,0,null,null,{"$f":"S791*T785","v":0}]
[{"$f":"IF(A759=\"\",\"\",A759)","v":"1.8."}," хозяйственно-питьевые нужды","Квартиры  с ваннами и местным  ГВС (индивид эл.бойлера)",null,null,null,null,0,null,null,0,0,null,0,0,0,0,0,null,null,{"$f":"S792*T785","v":0}]
[{"$f":"IF(A760=\"\",\"\",A760)","v":"1.9."}," хозяйственно-питьевые нужды","Квартиры с ваннами длиной от 1500 до 1700 мм, оборудованными душами",null,null,null,null,0,null,null,0,0,null,0,0,0,0,0,null,null,{"$f":"S793*T785","v":0}]
[{"$f":"IF(A761=\"\",\"\",A761)","v":"1.10."}," хозяйственно-питьевые нужды","Квартиры с ваннами длиной от 1500 до 1700 мм, оборудованными душами",null,null,null,null,0,null,null,0,0,null,0,0,0,0,0,null,null,{"$f":"S794*T785","v":0}]
[{"$f":"IF(A762=\"\",\"\",A762)","v":"1.11."}," хозяйственно-питьевые нужды","Квартиры с ваннами сидячими, оборудованными душами",null,null,null,null,0,null,null,0,0,null,0,0,0,0,0,null,null,{"$f":"S795*T785","v":0}]
[{"$f":"IF(A763=\"\",\"\",A763)","v":"1.12."}," хозяйственно-питьевые нужды","Квартиры с общими душами на этаже",null,null,null,null,0,null,null,0,0,null,0,0,0,0,0,null,null,{"$f":"S796*T785","v":0}]
[{"$f":"IF(A764=\"\",\"\",A764)","v":"1.13."}," хозяйственно-питьевые нужды","Квартиры с ваннами длиной от 1500 до 1700 мм, оборудованными душами",null,null,null,null,0,null,null,0,0,null,0,0,0,0,0,null,null,{"$f":"S797*T785","v":0}]
[{"$f":"IF(A765=\"\",\"\",A765)","v":"1.14."}," хозяйственно-питьевые нужды","Квартиры с ваннами длиной от 1500 до 1700 мм, оборудованными душами",null,null,null,null,0,null,null,0,0,null,0,0,0,0,0,null,null,{"$f":"S798*T785","v":0}]
[{"$f":"IF(A766=\"\",\"\",A766)","v":"1.15."}," хозяйственно-питьевые нужды","Квартиры с общими душами в секции",null,null,null,null,0,null,null,0,0,null,0,0,0,0,0,null,null,{"$f":"S799*T785","v":0}]
[{"$f":"IF(A767=\"\",\"\",A767)","v":"1.16."}," хозяйственно-питьевые нужды","Квартиры с ваннами длиной от 1500 до 1700 мм, оборудованными душами",null,null,null,null,0,null,null,0,0,null,0,0,0,0,0,null,null,{"$f":"S800*T785","v":0}]
[{"$f":"IF(A768=\"\",\"\",A768)","v":"1.17."}," хозяйственно-питьевые нужды","с водопроводом без канализации",null,null,null,null,0,null,null,0,0,null,0,0,0,0,0,null,null,{"$f":"S801*T785","v":0}]
[{"$f":"IF(A769=\"\",\"\",A769)","v":"1.18."}," хозяйственно-питьевые нужды","водопровод, ванны без ГВС и кан-ции",null,null,null,null,0,null,null,0,0,null,0,0,0,0,0,null,null,{"$f":"S802*T785","v":0}]
[{"$f":"IF(A770=\"\",\"\",A770)","v":"1.19."}," хозяйственно-питьевые нужды","с ваннами, оборудованными душами и с канализацией",null,null,null,null,0,null,null,0,0,null,0,0,0,0,0,null,null,{"$f":"S803*T785","v":0}]
[{"$f":"IF(A771=\"\",\"\",A771)","v":"1.20."}," хозяйственно-питьевые нужды","с водопроводом без канализации",null,null,null,null,0,null,null,0,0,null,0,0,0,0,0,null,null,{"$f":"S804*T785","v":0}]
[{"$f":"IF(A772=\"\",\"\",A772)","v":"1.21."}," хозяйственно-питьевые нужды","водопровод, ванны без ГВС и кан-ции",null,null,null,null,0,null,null,0,0,null,0,0,0,0,0,null,null,{"$f":"S805*T785","v":0}]
[{"$f":"IF(A773=\"\",\"\",A773)","v":"1.22."}," хозяйственно-питьевые нужды","с ваннами, оборудованными душами и с канализацией",null,null,null,null,0,null,null,0,0,null,0,0,0,0,0,null,null,{"$f":"S806*T785","v":0}]
[{"$f":"IF(A774=\"\",\"\",A774)","v":"1.23."}," хозяйственно-питьевые нужды","с водопроводом без канализации",null,null,null,null,0,null,null,0,0,null,0,0,0,0,0,null,null,{"$f":"S807*T785","v":0}]
[{"$f":"IF(A775=\"\",\"\",A775)","v":"1.24."}," хозяйственно-питьевые нужды","водопровод, ванны без ГВС и кан-ции",null,null,null,null,0,null,null,0,0,null,0,0,0,0,0,null,null,{"$f":"S808*T785","v":0}]
[{"$f":"IF(A776=\"\",\"\",A776)","v":"1.25."}," хозяйственно-питьевые нужды","с ваннами, оборудованными душами и с канализацией",null,null,null,null,0,null,null,0,0,null,0,0,0,0,0,null,null,{"$f":"S809*T785","v":0}]
[{"$f":"IF(A777=\"\",\"\",A777)","v":"1.26."},"поливка  приусадебных участков","полив и бани",null,null,null,null,0,null,null,0,0,null,0,0,0,0,0,null,null,{"$f":"S810*T785","v":0}]
[null,"перерасчеты",null,"х","х","х","х","х","х","х","х","х","контроль","х","х","х","х"]
[null,"Итого население",null,null,null,{"$f":"SUM(F785:F810)","v":0},0,0,0,0,0,0,{"$f":"L812-'полезный отпуск'!N282","v":0},{"$f":"SUM(N785:N810)","v":0},0,0,{"$f":"SUM(Q785:Q810)","v":0},{"$f":"SUM(R785:R811)","v":0},{"$f":"SUM(S785:S811)","v":0},null,{"$f":"SUM(U785:U811)","v":0}]
["2.","Итого бюджет",null,null,null,null,null,{"$f":"F813+G813","v":0},null,null,{"$f":"I813+J813","v":0},{"$f":"H813+K813","v":0},{"$f":"L813-'полезный отпуск'!M282","v":0},{"$f":"F813*$M$785","v":0},{"$f":"G813*$M$785","v":0},{"$f":"I813*$M$785","v":0},{"$f":"J813*$M$785","v":0},{"$f":"SUM(N813:Q813)","v":0},null,null,{"$f":"S813*T785","v":0}]
["3.","Итого прочие+другие водопроводы",null,null,null,null,null,0,null,null,{"$f":"I814+J814","v":0},{"$f":"H814+K814","v":0},{"$f":"L814-('полезный отпуск'!O282+'полезный отпуск'!H282)","v":0},0,0,0,0,0,null,null,{"$f":"S814*T785","v":0}]
["4.","ВСЕГО 2-е полугодие",null,null,null,{"$f":"SUM(F812:F814)","v":0},{"$f":"SUM(G812:G814)","v":0},{"$f":"SUM(H812:H814)","v":0},{"$f":"SUM(I812:I814)","v":0},0,0,0,{"$f":"L815-('полезный отпуск'!L282+'полезный отпуск'!H282)","v":0},{"$f":"SUM(N812:N814)","v":0},0,0,0,0,{"$f":"SUM(S812:S814)","v":0},null,{"$f":"SUM(U812:U814)","v":0}]
[]
["5.","ГОД ВСЕГО",null,null,null,{"$f":"F782+F815","v":0},{"$f":"G782+G815","v":0},0,0,0,0,0,null,{"$f":"N782+N815","v":0},0,0,0,0,{"$f":"S782+S815","v":0},null,{"$f":"U782+U815","v":0}]

{"sheet":"проверка баланса всн и реализац","index":12,"n_rows":25,"n_cols":9,"rows_kept":25,"cut":false,"hidden":false,"merged":[[18,0,18,7],[0,0,0,7],[12,0,12,7],[13,7,13,8],[14,7,14,8],[15,7,15,8],[1,0,1,7]]}
["Полезный отпуск"]
[{"$f":"Титульный!C10","v":" "}]
["Район",{"$f":"Титульный!C6","v":0},null,"МО",{"$f":"Титульный!C7","v":0}]
[]
["Наименование показателя","ед.изм","баланс ВСН","отчет по реализации","22 ЖКХ (сводная)","отклонение баланса ВСН от отчета по реализации","отклонение баланса ВСН от 22 ЖКХ","Комментарии"]
[1,2,3,4,5,"6=3-4","7=3-5",8]
["Полезный отпуск сторонним потребителям всего","куб.м.",{"$f":"SUM(C8:C10)","v":0},{"$f":"SUM(D8:D10)","v":0},null,{"$f":"C7-D7","v":0},{"$f":"C7-E7","v":0}]
["бюджет","куб.м.",{"$f":"'баланс ВСН'!I34","v":0},{"$f":"'отчет по реализации'!L40+'отчет по реализации'!L73","v":0},null,{"$f":"C8-D8","v":0},{"$f":"C8-E8","v":0}]
["население","куб.м.",{"$f":"'баланс ВСН'!I37","v":0},{"$f":"'отчет по реализации'!L39+'отчет по реализации'!L72","v":0},null,{"$f":"C9-D9","v":0},{"$f":"C9-E9","v":0}]
["прочие","куб.м.",{"$f":"'баланс ВСН'!I32+'баланс ВСН'!I40","v":0},{"$f":"'отчет по реализации'!L74+'отчет по реализации'!L41","v":0},{"$f":"E7-E8-E9","v":0},0,0]
[]
[]
["Подъем воды"]
[null,"ед.изм","баланс ВСН","сведения о подъеме воды в соответвствии с данными о приборах учета на подъеме","Налоговая декларация по водному налогу (сумма за 1-4 кв)","отклонение баланса ВСН от налоговой декларации","отклонение баланса ВСН сведений о подъеме","Комментарии"]
[1,2,3,4,5,"6=3-5","7=3-4",8]
["Поднято воды насосными станциями 1 подъема ","куб.м.",{"$f":"'баланс ВСН'!I10","v":0},{"$f":"'Показания ПУ'!I26","v":0},null,{"$f":"C16-E16","v":0},{"$f":"C16-D16","v":0}]
[]
[]
["Товарная продукция"]
[]
["Наименование показателя","ед.изм","баланс ВСН (расчет)","отчет по реализации","22 ЖКХ (сводная)","90.01 счет (без НДС)","отклонение отчета по реализации от 90.01","отклонение отчета по реализации от баланса ВСН","Комментарии"]
[1,2,3,4,5,6,"7=4-6","8=4-3",9]
["Реализация воды с учетом пересчетов всего","руб",{"$f":"C25+C24","v":0},{"$f":"'отчет по реализации'!R77","v":0},null,null,{"$f":"D23-F23","v":0},{"$f":"D23-C23","v":0}]
["в том числе перерасчеты","руб",{"$f":"'отчет по реализации'!R38+'отчет по реализации'!R71","v":0},{"$f":"'отчет по реализации'!R38+'отчет по реализации'!R71","v":0},"х","х","х","х"]
["реализация воды","руб",{"$f":"SUM('полезный отпуск'!H18:L23)*'данные об организации'!I29+SUM('полезный отпуск'!H24:L29)*'данные об организации'!I31","v":0},"х","х","х","х","х"]

{"sheet":"отчет по электроэнергии","index":13,"n_rows":97,"n_cols":71,"rows_kept":97,"cut":false,"hidden":false,"merged":[[84,3,84,6],[84,7,84,10],[84,0,85,0],[84,1,85,1],[84,2,85,2],[60,1,61,1],[60,0,61,0],[58,0,58,2],[71,3,71,6],[72,3,75,6],[60,2,61,2],[76,3,79,6],[6,3,6,10],[6,11,6,70],[8,3,9,3],[8,5,8,6],[60,7,60,10],[8,26,9,26],[8,27,8,30],[7,41,7,45],[7,46,7,50],[8,31,9,31],[8,32,8,35],[7,16,7,20],[8,16,9,16],[8,17,8,20],[8,42,8,45],[8,47,8,50],[7,21,7,25],[7,26,7,30],[7,31,7,35],[7,36,7,40],[8,21,9,21],[8,22,8,25],[8,36,9,36],[8,37,8,40],[0,0,0,15],[1,0,1,15],[2,0,2,15],[5,0,5,12],[6,2,9,2],[4,2,4,7],[3,2,3,10],[8,4,9,4],[8,7,8,10],[7,11,7,15],[8,11,9,11],[8,12,8,15],[6,1,9,1],[6,0,9,0],[7,3,7,10],[7,66,7,70],[8,56,9,56],[8,57,8,60],[39,0,39,1],[38,0,38,1],[7,51,7,55],[8,51,9,51],[8,52,8,55],[7,56,7,60],[7,61,7,65],[8,41,9,41],[8,61,9,61],[8,62,8,65],[8,66,9,66],[8,67,8,70],[8,46,9,46]]}
["Отчет по стоимости и объему потребленной электроэнергии и мощности"]
[{"$f":"Титульный!C10","v":" "}]
[{"$f":"Титульный!C19","v":0}]
[null,null,"имущество, переданное по договору аренды или принадлежащее на праве собственности"]
[null,"Район",{"$f":"Титульный!C6","v":0},null,null,null,null,null,null,"МО",{"$f":"Титульный!C7","v":0}]
[]
["№ п/п","Наименование направления расхода электрической энергии","Ед.изм","ВСЕГО по тарифу",null,null,null,null,null,null,null,"период"]
[null,null,null,"2017 год всего",null,null,null,null,null,null,null,"январь",null,null,null,null,"февраль",null,null,null,null,"март",null,null,null,null,"апрель",null,null,null,null,"май",null,null,null,null,"июнь",null,null,null,null,"июль",null,null,null,null,"август",null,null,null,null,"сентябрь",null,null,null,null,"октябрь",null,null,null,null,"ноябрь",null,null,null,null,"декабрь"]
[null,null,null,"план ДТР ТО","всего факт по данным организации","отклонение",null,"в том числе по уровням напряжения",null,null,null,"всего","в том числе по уровням напряжения",null,null,null,"всего","в том числе по уровням напряжения",null,null,null,"всего","в том числе по уровням напряжения",null,null,null,"всего","в том числе по уровням напряжения",null,null,null,"всего","в том числе по уровням напряжения",null,null,null,"всего","в том числе по уровням напряжения",null,null,null,"всего","в том числе по уровням напряжения",null,null,null,"всего","в том числе по уровням напряжения",null,null,null,"всего","в том числе по уровням напряжения",null,null,null,"всего","в том числе по уровням напряжения",null,null,null,"всего","в том числе по уровням напряжения",null,null,null,"всего","в том числе по уровням напряжения"]
[null,null,null,null,null,"абс.","%","ВН","СН1","СН2","НН",null,"ВН","СН1","СН2","НН",null,"ВН","СН1","СН2","НН",null,"ВН","СН1","СН2","НН",null,"ВН","СН1","СН2","НН",null,"ВН","СН1","СН2","НН",null,"ВН","СН1","СН2","НН",null,"ВН","СН1","СН2","НН",null,"ВН","СН1","СН2","НН",null,"ВН","СН1","СН2","НН",null,"ВН","СН1","СН2","НН",null,"ВН","СН1","СН2","НН",null,"ВН","СН1","СН2","НН"]
["I.","ВСЕГО стоимость покупной электроэнергии и мощности","руб",{"$f":"'исходные данные'!D75","v":0},{"$f":"SUM(H11:K11)","v":0},{"$f":"E11-D11","v":0},{"$f":"IF(D11=0,\"\",F11/D11*100)","v":""},{"$f":"H15+H23","v":0},{"$f":"I15+I23","v":0},{"$f":"J15+J23","v":0},{"$f":"K15+K23","v":0},{"$f":"SUM(M11:P11)","v":0},{"$f":"M15+M23","v":0},{"$f":"N15+N23","v":0},{"$f":"O15+O23","v":0},{"$f":"P15+P23","v":0},{"$f":"SUM(R11:U11)","v":0},{"$f":"R15+R23","v":0},{"$f":"S15+S23","v":0},{"$f":"T15+T23","v":0},{"$f":"U15+U23","v":0},{"$f":"SUM(W11:Z11)","v":0},{"$f":"W15+W23","v":0},{"$f":"X15+X23","v":0},{"$f":"Y15+Y23","v":0},{"$f":"Z15+Z23","v":0},{"$f":"SUM(AB11:AE11)","v":0},{"$f":"AB15+AB23","v":0},{"$f":"AC15+AC23","v":0},{"$f":"AD15+AD23","v":0},{"$f":"AE15+AE23","v":0},{"$f":"SUM(AG11:AJ11)","v":0},{"$f":"AG15+AG23","v":0},{"$f":"AH15+AH23","v":0},{"$f":"AI15+AI23","v":0},{"$f":"AJ15+AJ23","v":0},{"$f":"SUM(AL11:AO11)","v":0},{"$f":"AL15+AL23","v":0},{"$f":"AM15+AM23","v":0},{"$f":"AN15+AN23","v":0},{"$f":"AO15+AO23","v":0},{"$f":"SUM(AQ11:AT11)","v":0},{"$f":"AQ15+AQ23","v":0},{"$f":"AR15+AR23","v":0},{"$f":"AS15+AS23","v":0},{"$f":"AT15+AT23","v":0},{"$f":"SUM(AV11:AY11)","v":0},{"$f":"AV15+AV23","v":0},{"$f":"AW15+AW23","v":0},{"$f":"AX15+AX23","v":0},{"$f":"AY15+AY23","v":0},{"$f":"SUM(BA11:BD11)","v":0},{"$f":"BA15+BA23","v":0},{"$f":"BB15+BB23","v":0},{"$f":"BC15+BC23","v":0},{"$f":"BD15+BD23","v":0},{"$f":"SUM(BF11:BI11)","v":0},{"$f":"BF15+BF23","v":0},{"$f":"BG15+BG23","v":0},{"$f":"BH15+BH23","v":0},{"$f":"BI15+BI23","v":0},{"$f":"SUM(BK11:BN11)","v":0},{"$f":"BK15+BK23","v":0},{"$f":"BL15+BL23","v":0},{"$f":"BM15+BM23","v":0},{"$f":"BN15+BN23","v":0},{"$f":"SUM(BP11:BS11)","v":0},{"$f":"BP15+BP23","v":0},{"$f":"BQ15+BQ23","v":0},{"$f":"BR15+BR23","v":0},{"$f":"BS15+BS23","v":0}]
[null,"всего  объем  электроэнергии","кВт.ч",{"$f":"D17+D33","v":0},{"$f":"E17+E33","v":0},{"$f":"E12-D12","v":0},{"$f":"IF(D12=0,\"\",F12/D12*100)","v":""},{"$f":"H17+H33","v":0},0,0,0,0,0,0,0,0,0,0,0,0,0,0,0,0,0,0,0,0,0,0,0,0,0,0,0,0,0,0,0,0,0,0,0,0,0,0,0,0,0,0,0,0,0,0,0,0,0,0,0,0,0,0,0,0,0,0,0,0,0,0,0]
[null,"одноставочный тариф с учетом платы за мощность","руб./кВт.ч",{"$f":"IF(D12=0,0,D11/D12)","v":0},{"$f":"IF(E12=0,0,E11/E12)","v":0},0,"",{"$f":"IF(H12=0,0,H11/H12)","v":0},0,0,0,0,0,0,0,0,0,0,0,0,0,0,0,0,0,0,0,0,0,0,0,0,0,0,0,0,0,0,0,0,0,0,0,0,0,0,0,0,0,0,0,0,0,0,0,0,0,0,0,0,0,0,0,0,0,0,0,0,0,0,0]
[]
["II.","Покупная электроэнергия по одноставочному тарифу","руб",{"$f":"'исходные данные'!D77","v":0},{"$f":"SUM(H15:K15)","v":0},{"$f":"E15-D15","v":0},{"$f":"IF(D15=0,\"\",F15/D15*100)","v":""},{"$f":"M15+R15+W15+AB15+AG15+AL15+AQ15+AV15+BA15+BF15+BK15+BP15","v":0},{"$f":"N15+S15+X15+AC15+AH15+AM15+AR15+AW15+BB15+BG15+BL15+BQ15","v":0},0,0,{"$f":"SUM(M15:P15)","v":0},{"$f":"M16*M17","v":0},{"$f":"N16*N17","v":0},0,0,{"$f":"SUM(R15:U15)","v":0},{"$f":"R16*R17","v":0},{"$f":"S16*S17","v":0},{"$f":"T16*T17","v":0},{"$f":"U16*U17","v":0},{"$f":"SUM(W15:Z15)","v":0},{"$f":"W16*W17","v":0},{"$f":"X16*X17","v":0},{"$f":"Y16*Y17","v":0},{"$f":"Z16*Z17","v":0},{"$f":"SUM(AB15:AE15)","v":0},{"$f":"AB16*AB17","v":0},{"$f":"AC16*AC17","v":0},{"$f":"AD16*AD17","v":0},{"$f":"AE16*AE17","v":0},{"$f":"SUM(AG15:AJ15)","v":0},{"$f":"AG16*AG17","v":0},{"$f":"AH16*AH17","v":0},{"$f":"AI16*AI17","v":0},{"$f":"AJ16*AJ17","v":0},{"$f":"SUM(AL15:AO15)","v":0},{"$f":"AL16*AL17","v":0},{"$f":"AM16*AM17","v":0},{"$f":"AN16*AN17","v":0},{"$f":"AO16*AO17","v":0},{"$f":"SUM(AQ15:AT15)","v":0},{"$f":"AQ16*AQ17","v":0},{"$f":"AR16*AR17","v":0},{"$f":"AS16*AS17","v":0},{"$f":"AT16*AT17","v":0},{"$f":"SUM(AV15:AY15)","v":0},{"$f":"AV16*AV17","v":0},{"$f":"AW16*AW17","v":0},{"$f":"AX16*AX17","v":0},{"$f":"AY16*AY17","v":0},{"$f":"SUM(BA15:BD15)","v":0},{"$f":"BA16*BA17","v":0},{"$f":"BB16*BB17","v":0},{"$f":"BC16*BC17","v":0},{"$f":"BD16*BD17","v":0},{"$f":"SUM(BF15:BI15)","v":0},{"$f":"BF16*BF17","v":0},{"$f":"BG16*BG17","v":0},{"$f":"BH16*BH17","v":0},{"$f":"BI16*BI17","v":0},{"$f":"SUM(BK15:BN15)","v":0},{"$f":"BK16*BK17","v":0},{"$f":"BL16*BL17","v":0},{"$f":"BM16*BM17","v":0},{"$f":"BN16*BN17","v":0},{"$f":"SUM(BP15:BS15)","v":0},{"$f":"BP16*BP17","v":0},{"$f":"BQ16*BQ17","v":0},{"$f":"BR16*BR17","v":0},{"$f":"BS16*BS17","v":0}]
["1.","Тариф на электроэнергию","руб./кВт.ч",{"$f":"'исходные данные'!D78","v":0},{"$f":"IF(E17=0,0,E15/E17)","v":0},0,"",0,0,0,0,{"$f":"IF(L17=0,0,L15/L17)","v":0},null,null,null,null,{"$f":"IF(Q17=0,0,Q15/Q17)","v":0},null,null,null,null,{"$f":"IF(V17=0,0,V15/V17)","v":0},null,null,null,null,{"$f":"IF(AA17=0,0,AA15/AA17)","v":0},null,null,null,null,{"$f":"IF(AF17=0,0,AF15/AF17)","v":0},null,null,null,null,{"$f":"IF(AK17=0,0,AK15/AK17)","v":0},null,null,null,null,{"$f":"IF(AP17=0,0,AP15/AP17)","v":0},null,null,null,null,{"$f":"IF(AU17=0,0,AU15/AU17)","v":0},null,null,null,null,{"$f":"IF(AZ17=0,0,AZ15/AZ17)","v":0},null,null,null,null,{"$f":"IF(BE17=0,0,BE15/BE17)","v":0},null,null,null,null,{"$f":"IF(BJ17=0,0,BJ15/BJ17)","v":0},null,null,null,null,{"$f":"IF(BO17=0,0,BO15/BO17)","v":0}]
["2.","Объем электроэнергии всего","кВт.ч",{"$f":"'исходные данные'!D79","v":0},{"$f":"SUM(E19:E21)","v":0},0,"",{"$f":"SUM(H19:H21)","v":0},0,0,0,0,0,0,0,0,0,0,0,0,0,0,0,0,0,0,0,0,0,0,0,0,0,0,0,0,0,0,0,0,0,0,0,0,0,0,0,0,0,0,0,0,0,0,0,0,0,0,0,0,0,0,0,0,0,0,0,0,0,0,0]
[null,"в том числе:","кВт.ч"]
["2.1.","Подъем воды"," кВт.ч",null,{"$f":"H19+I19+J19+K19","v":0},{"$f":"E19-D19","v":0},{"$f":"IF(D19=0,\"\",F19/D19*100)","v":""},{"$f":"M19+R19+W19+AB19+AG19+AL19+AQ19+AV19+BA19+BF19+BK19+BP19","v":0},{"$f":"N19+S19+X19+AC19+AH19+AM19+AR19+AW19+BB19+BG19+BL19+BQ19","v":0},{"$f":"O19+T19+Y19+AD19+AI19+AN19+AS19+AX19+BC19+BH19+BM19+BR19","v":0},{"$f":"P19+U19+Z19+AE19+AJ19+AO19+AT19+AY19+BD19+BI19+BN19+BS19","v":0},{"$f":"M19+N19+O19+P19","v":0},null,null,null,null,{"$f":"R19+S19+T19+U19","v":0},null,null,null,null,{"$f":"W19+X19+Y19+Z19","v":0},null,null,null,null,{"$f":"AB19+AC19+AD19+AE19","v":0},null,null,null,null,{"$f":"AG19+AH19+AI19+AJ19","v":0},null,null,null,null,{"$f":"AL19+AM19+AN19+AO19","v":0},null,null,null,null,{"$f":"AQ19+AR19+AS19+AT19","v":0},null,null,null,null,{"$f":"AV19+AW19+AX19+AY19","v":0},null,null,null,null,{"$f":"BA19+BB19+BC19+BD19","v":0},null,null,null,null,{"$f":"BF19+BG19+BH19+BI19","v":0},null,null,null,null,{"$f":"BK19+BL19+BM19+BN19","v":0},null,null,null,null,{"$f":"BP19+BQ19+BR19+BS19","v":0}]
["2.2.","Очистка воды"," кВт.ч",null,{"$f":"H20+I20+J20+K20","v":0},0,"",0,0,0,0,{"$f":"M20+N20+O20+P20","v":0},null,null,null,null,{"$f":"R20+S20+T20+U20","v":0},null,null,null,null,{"$f":"W20+X20+Y20+Z20","v":0},null,null,null,null,{"$f":"AB20+AC20+AD20+AE20","v":0},null,null,null,null,{"$f":"AG20+AH20+AI20+AJ20","v":0},null,null,null,null,{"$f":"AL20+AM20+AN20+AO20","v":0},null,null,null,null,{"$f":"AQ20+AR20+AS20+AT20","v":0},null,null,null,null,{"$f":"AV20+AW20+AX20+AY20","v":0},null,null,null,null,{"$f":"BA20+BB20+BC20+BD20","v":0},null,null,null,null,0,null,null,null,null,0,null,null,null,null,0]
["2.3.","Транспортировка воды"," кВт.ч",null,0,0,"",0,0,0,0,0,null,null,null,null,0,null,null,null,null,0,null,null,null,null,0,null,null,null,null,0,null,null,null,null,0,null,null,null,null,0,null,null,null,null,0,null,null,null,null,0,null,null,null,null,0,null,null,null,null,0,null,null,null,null,0]
[]
["III.","Покупная электроэнергия по двухставочному тарифу","руб",{"$f":"'исходные данные'!D94","v":0},{"$f":"SUM(H23:K23)","v":0},{"$f":"E23-D23","v":0},{"$f":"IF(D23=0,\"\",F23/D23*100)","v":""},{"$f":"H24+H31","v":0},{"$f":"I24+I31","v":0},{"$f":"J24+J31","v":0},{"$f":"K24+K31","v":0},{"$f":"SUM(M23:P23)","v":0},{"$f":"M24+M31","v":0},{"$f":"N24+N31","v":0},{"$f":"O24+O31","v":0},{"$f":"P24+P31","v":0},{"$f":"SUM(R23:U23)","v":0},{"$f":"R24+R31","v":0},{"$f":"S24+S31","v":0},{"$f":"T24+T31","v":0},{"$f":"U24+U31","v":0},{"$f":"SUM(W23:Z23)","v":0},{"$f":"W24+W31","v":0},{"$f":"X24+X31","v":0},{"$f":"Y24+Y31","v":0},{"$f":"Z24+Z31","v":0},{"$f":"SUM(AB23:AE23)","v":0},{"$f":"AB24+AB31","v":0},{"$f":"AC24+AC31","v":0},{"$f":"AD24+AD31","v":0},{"$f":"AE24+AE31","v":0},{"$f":"SUM(AG23:AJ23)","v":0},{"$f":"AG24+AG31","v":0},{"$f":"AH24+AH31","v":0},{"$f":"AI24+AI31","v":0},{"$f":"AJ24+AJ31","v":0},{"$f":"SUM(AL23:AO23)","v":0},{"$f":"AL24+AL31","v":0},{"$f":"AM24+AM31","v":0},{"$f":"AN24+AN31","v":0},{"$f":"AO24+AO31","v":0},{"$f":"SUM(AQ23:AT23)","v":0},{"$f":"AQ24+AQ31","v":0},{"$f":"AR24+AR31","v":0},{"$f":"AS24+AS31","v":0},{"$f":"AT24+AT31","v":0},{"$f":"SUM(AV23:AY23)","v":0},{"$f":"AV24+AV31","v":0},{"$f":"AW24+AW31","v":0},{"$f":"AX24+AX31","v":0},{"$f":"AY24+AY31","v":0},{"$f":"SUM(BA23:BD23)","v":0},{"$f":"BA24+BA31","v":0},{"$f":"BB24+BB31","v":0},{"$f":"BC24+BC31","v":0},{"$f":"BD24+BD31","v":0},{"$f":"SUM(BF23:BI23)","v":0},{"$f":"BF24+BF31","v":0},{"$f":"BG24+BG31","v":0},{"$f":"BH24+BH31","v":0},{"$f":"BI24+BI31","v":0},{"$f":"SUM(BK23:BN23)","v":0},{"$f":"BK24+BK31","v":0},{"$f":"BL24+BL31","v":0},{"$f":"BM24+BM31","v":0},{"$f":"BN24+BN31","v":0},{"$f":"SUM(BP23:BS23)","v":0},{"$f":"BP24+BP31","v":0},{"$f":"BQ24+BQ31","v":0},{"$f":"BR24+BR31","v":0},{"$f":"BS24+BS31","v":0}]
["1.","Мощность","руб",{"$f":"'исходные данные'!D95","v":0},{"$f":"H24+I24+J24+K24","v":0},0,"",{"$f":"M24+R24+W24+AB24+AG24+AL24+AQ24+AV24+BA24+BF24+BK24+BP24","v":0},{"$f":"N24+S24+X24+AC24+AH24+AM24+AR24+AW24+BB24+BG24+BL24+BQ24","v":0},{"$f":"O24+T24+Y24+AD24+AI24+AN24+AS24+AX24+BC24+BH24+BM24+BR24","v":0},{"$f":"P24+U24+Z24+AE24+AJ24+AO24+AT24+AY24+BD24+BI24+BN24+BS24","v":0},{"$f":"SUM(M24:P24)","v":0},{"$f":"M25*M26","v":0},{"$f":"N25*N26","v":0},0,0,{"$f":"SUM(R24:U24)","v":0},{"$f":"R25*R26","v":0},{"$f":"S25*S26","v":0},{"$f":"T25*T26","v":0},{"$f":"U25*U26","v":0},{"$f":"SUM(W24:Z24)","v":0},{"$f":"W25*W26","v":0},{"$f":"X25*X26","v":0},{"$f":"Y25*Y26","v":0},{"$f":"Z25*Z26","v":0},{"$f":"SUM(AB24:AE24)","v":0},{"$f":"AB25*AB26","v":0},{"$f":"AC25*AC26","v":0},{"$f":"AD25*AD26","v":0},{"$f":"AE25*AE26","v":0},{"$f":"SUM(AG24:AJ24)","v":0},{"$f":"AG25*AG26","v":0},{"$f":"AH25*AH26","v":0},{"$f":"AI25*AI26","v":0},{"$f":"AJ25*AJ26","v":0},{"$f":"SUM(AL24:AO24)","v":0},{"$f":"AL25*AL26","v":0},{"$f":"AM25*AM26","v":0},{"$f":"AN25*AN26","v":0},{"$f":"AO25*AO26","v":0},{"$f":"SUM(AQ24:AT24)","v":0},{"$f":"AQ25*AQ26","v":0},{"$f":"AR25*AR26","v":0},{"$f":"AS25*AS26","v":0},{"$f":"AT25*AT26","v":0},{"$f":"SUM(AV24:AY24)","v":0},{"$f":"AV25*AV26","v":0},{"$f":"AW25*AW26","v":0},{"$f":"AX25*AX26","v":0},{"$f":"AY25*AY26","v":0},{"$f":"SUM(BA24:BD24)","v":0},{"$f":"BA25*BA26","v":0},{"$f":"BB25*BB26","v":0},{"$f":"BC25*BC26","v":0},{"$f":"BD25*BD26","v":0},{"$f":"SUM(BF24:BI24)","v":0},{"$f":"BF25*BF26","v":0},{"$f":"BG25*BG26","v":0},{"$f":"BH25*BH26","v":0},{"$f":"BI25*BI26","v":0},{"$f":"SUM(BK24:BN24)","v":0},{"$f":"BK25*BK26","v":0},{"$f":"BL25*BL26","v":0},{"$f":"BM25*BM26","v":0},{"$f":"BN25*BN26","v":0},{"$f":"SUM(BP24:BS24)","v":0},{"$f":"BP25*BP26","v":0},{"$f":"BQ25*BQ26","v":0},{"$f":"BR25*BR26","v":0},{"$f":"BS25*BS26","v":0}]
["1.1.","Тариф на мощность","руб/кВт",{"$f":"IF(D26=0,0,D24/D26)","v":0},0,0,"",{"$f":"IF(H26=0,0,H24/H26)","v":0},{"$f":"IF(I26=0,0,I24/I26)","v":0},{"$f":"IF(J26=0,0,J24/J26)","v":0},{"$f":"IF(K26=0,0,K24/K26)","v":0},{"$f":"IF(L26=0,0,L24/L26)","v":0},null,null,null,null,{"$f":"IF(Q26=0,0,Q24/Q26)","v":0},null,null,null,null,{"$f":"IF(V26=0,0,V24/V26)","v":0},null,null,null,null,{"$f":"IF(AA26=0,0,AA24/AA26)","v":0},null,null,null,null,{"$f":"IF(AF26=0,0,AF24/AF26)","v":0},null,null,null,null,{"$f":"IF(AK26=0,0,AK24/AK26)","v":0},null,null,null,null,{"$f":"IF(AP26=0,0,AP24/AP26)","v":0},null,null,null,null,{"$f":"IF(AU26=0,0,AU24/AU26)","v":0},null,null,null,null,{"$f":"IF(AZ26=0,0,AZ24/AZ26)","v":0},null,null,null,null,{"$f":"IF(BE26=0,0,BE24/BE26)","v":0},null,null,null,null,{"$f":"IF(BJ26=0,0,BJ24/BJ26)","v":0},null,null,null,null,{"$f":"IF(BO26=0,0,BO24/BO26)","v":0}]
["1.2.","Объем мощности всего","кВт",{"$f":"('исходные данные'!D98+'исходные данные'!D101+'исходные данные'!D104+'исходные данные'!D107)*12","v":0},{"$f":"SUM(E28:E30)","v":0},0,"",{"$f":"SUM(H28:H30)","v":0},0,0,0,0,0,0,0,0,0,0,0,0,0,0,0,0,0,0,0,0,0,0,0,0,0,0,0,0,0,0,0,0,0,0,0,0,0,0,0,0,0,0,0,0,0,0,0,0,0,0,0,0,0,0,0,0,0,0,0,0,0,0,0]
[null,"в том числе:","кВт "]
["1.2.1","Подъем воды","кВт ",null,{"$f":"H28+I28+J28+K28","v":0},{"$f":"E28-D28","v":0},{"$f":"IF(D28=0,\"\",F28/D28*100)","v":""},{"$f":"M28+R28+W28+AB28+AG28+AL28+AQ28+AV28+BA28+BF28+BK28+BP28","v":0},{"$f":"N28+S28+X28+AC28+AH28+AM28+AR28+AW28+BB28+BG28+BL28+BQ28","v":0},{"$f":"O28+T28+Y28+AD28+AI28+AN28+AS28+AX28+BC28+BH28+BM28+BR28","v":0},{"$f":"P28+U28+Z28+AE28+AJ28+AO28+AT28+AY28+BD28+BI28+BN28+BS28","v":0},{"$f":"M28+N28+O28+P28","v":0},null,null,null,null,{"$f":"R28+S28+T28+U28","v":0},null,null,null,null,{"$f":"W28+X28+Y28+Z28","v":0},null,null,null,null,{"$f":"AB28+AC28+AD28+AE28","v":0},null,null,null,null,{"$f":"AG28+AH28+AI28+AJ28","v":0},null,null,null,null,{"$f":"AL28+AM28+AN28+AO28","v":0},null,null,null,null,{"$f":"AQ28+AR28+AS28+AT28","v":0},null,null,null,null,{"$f":"AV28+AW28+AX28+AY28","v":0},null,null,null,null,{"$f":"BA28+BB28+BC28+BD28","v":0},null,null,null,null,{"$f":"BF28+BG28+BH28+BI28","v":0},null,null,null,null,{"$f":"BK28+BL28+BM28+BN28","v":0},null,null,null,null,{"$f":"BP28+BQ28+BR28+BS28","v":0}]
["1.2.2","Очистка воды","кВт ",null,{"$f":"H29+I29+J29+K29","v":0},0,"",0,0,0,0,{"$f":"M29+N29+O29+P29","v":0},null,null,null,null,{"$f":"R29+S29+T29+U29","v":0},null,null,null,null,{"$f":"W29+X29+Y29+Z29","v":0},null,null,null,null,{"$f":"AB29+AC29+AD29+AE29","v":0},null,null,null,null,{"$f":"AG29+AH29+AI29+AJ29","v":0},null,null,null,null,{"$f":"AL29+AM29+AN29+AO29","v":0},null,null,null,null,{"$f":"AQ29+AR29+AS29+AT29","v":0},null,null,null,null,{"$f":"AV29+AW29+AX29+AY29","v":0},null,null,null,null,{"$f":"BA29+BB29+BC29+BD29","v":0},null,null,null,null,0,null,null,null,null,0,null,null,null,null,0]
["1.2.3","Транспортировка воды","кВт ",null,0,0,"",0,0,0,0,0,null,null,null,null,0,null,null,null,null,0,null,null,null,null,0,null,null,null,null,0,null,null,null,null,0,null,null,null,null,0,null,null,null,null,0,null,null,null,null,0,null,null,null,null,0,null,null,null,null,0,null,null,null,null,0]
["2.","Активная электроэнергия","руб",{"$f":"'исходные данные'!D109","v":0},{"$f":"H31+I31+J31+K31","v":0},0,"",{"$f":"M31+R31+W31+AB31+AG31+AL31+AQ31+AV31+BA31+BF31+BK31+BP31","v":0},{"$f":"N31+S31+X31+AC31+AH31+AM31+AR31+AW31+BB31+BG31+BL31+BQ31","v":0},{"$f":"O31+T31+Y31+AD31+AI31+AN31+AS31+AX31+BC31+BH31+BM31+BR31","v":0},{"$f":"P31+U31+Z31+AE31+AJ31+AO31+AT31+AY31+BD31+BI31+BN31+BS31","v":0},{"$f":"SUM(M31:P31)","v":0},{"$f":"M32*M33","v":0},{"$f":"N32*N33","v":0},0,0,{"$f":"SUM(R31:U31)","v":0},{"$f":"R32*R33","v":0},{"$f":"S32*S33","v":0},{"$f":"T32*T33","v":0},{"$f":"U32*U33","v":0},{"$f":"SUM(W31:Z31)","v":0},{"$f":"W32*W33","v":0},{"$f":"X32*X33","v":0},{"$f":"Y32*Y33","v":0},{"$f":"Z32*Z33","v":0},{"$f":"SUM(AB31:AE31)","v":0},{"$f":"AB32*AB33","v":0},{"$f":"AC32*AC33","v":0},{"$f":"AD32*AD33","v":0},{"$f":"AE32*AE33","v":0},{"$f":"SUM(AG31:AJ31)","v":0},{"$f":"AG32*AG33","v":0},{"$f":"AH32*AH33","v":0},{"$f":"AI32*AI33","v":0},{"$f":"AJ32*AJ33","v":0},{"$f":"SUM(AL31:AO31)","v":0},{"$f":"AL32*AL33","v":0},{"$f":"AM32*AM33","v":0},{"$f":"AN32*AN33","v":0},{"$f":"AO32*AO33","v":0},{"$f":"SUM(AQ31:AT31)","v":0},{"$f":"AQ32*AQ33","v":0},{"$f":"AR32*AR33","v":0},{"$f":"AS32*AS33","v":0},{"$f":"AT32*AT33","v":0},{"$f":"SUM(AV31:AY31)","v":0},{"$f":"AV32*AV33","v":0},{"$f":"AW32*AW33","v":0},{"$f":"AX32*AX33","v":0},{"$f":"AY32*AY33","v":0},{"$f":"SUM(BA31:BD31)","v":0},{"$f":"BA32*BA33","v":0},{"$f":"BB32*BB33","v":0},{"$f":"BC32*BC33","v":0},{"$f":"BD32*BD33","v":0},{"$f":"SUM(BF31:BI31)","v":0},{"$f":"BF32*BF33","v":0},{"$f":"BG32*BG33","v":0},{"$f":"BH32*BH33","v":0},{"$f":"BI32*BI33","v":0},{"$f":"SUM(BK31:BN31)","v":0},{"$f":"BK32*BK33","v":0},{"$f":"BL32*BL33","v":0},{"$f":"BM32*BM33","v":0},{"$f":"BN32*BN33","v":0},{"$f":"SUM(BP31:BS31)","v":0},{"$f":"BP32*BP33","v":0},{"$f":"BQ32*BQ33","v":0},{"$f":"BR32*BR33","v":0},{"$f":"BS32*BS33","v":0}]
["2.1.","Тариф на электроэнергию","руб/кВт.ч",{"$f":"IF(D33=0,0,D31/D33)","v":0},0,0,"",{"$f":"IF(H33=0,0,H31/H33)","v":0},{"$f":"IF(I33=0,0,I31/I33)","v":0},{"$f":"IF(J33=0,0,J31/J33)","v":0},{"$f":"IF(K33=0,0,K31/K33)","v":0},{"$f":"IF(L33=0,0,L31/L33)","v":0},null,null,null,null,{"$f":"IF(Q33=0,0,Q31/Q33)","v":0},null,null,null,null,{"$f":"IF(V33=0,0,V31/V33)","v":0},null,null,null,null,{"$f":"IF(AA33=0,0,AA31/AA33)","v":0},null,null,null,null,{"$f":"IF(AF33=0,0,AF31/AF33)","v":0},null,null,null,null,{"$f":"IF(AK33=0,0,AK31/AK33)","v":0},null,null,null,null,{"$f":"IF(AP33=0,0,AP31/AP33)","v":0},null,null,null,null,{"$f":"IF(AU33=0,0,AU31/AU33)","v":0},null,null,null,null,{"$f":"IF(AZ33=0,0,AZ31/AZ33)","v":0},null,null,null,null,{"$f":"IF(BE33=0,0,BE31/BE33)","v":0},null,null,null,null,{"$f":"IF(BJ33=0,0,BJ31/BJ33)","v":0},null,null,null,null,{"$f":"IF(BO33=0,0,BO31/BO33)","v":0}]
["2.2.","Объем электроэнергии всего","кВт.ч",{"$f":"'исходные данные'!D112+'исходные данные'!D115+'исходные данные'!D118+'исходные данные'!D121","v":0},{"$f":"SUM(E35:E37)","v":0},0,"",{"$f":"SUM(H35:H37)","v":0},0,0,0,0,0,0,0,0,0,0,0,0,0,0,0,0,0,0,0,0,0,0,0,0,0,0,0,0,0,0,0,0,0,0,0,0,0,0,0,0,0,0,0,0,0,0,0,0,0,0,0,0,0,0,0,0,0,0,0,0,0,0,0]
[null,"в том числе:","кВт.ч"]
["2.2.1","Подъем воды"," кВт.ч",null,{"$f":"H35+I35+J35+K35","v":0},{"$f":"E35-D35","v":0},{"$f":"IF(D35=0,\"\",F35/D35*100)","v":""},{"$f":"M35+R35+W35+AB35+AG35+AL35+AQ35+AV35+BA35+BF35+BK35+BP35","v":0},{"$f":"N35+S35+X35+AC35+AH35+AM35+AR35+AW35+BB35+BG35+BL35+BQ35","v":0},{"$f":"O35+T35+Y35+AD35+AI35+AN35+AS35+AX35+BC35+BH35+BM35+BR35","v":0},{"$f":"P35+U35+Z35+AE35+AJ35+AO35+AT35+AY35+BD35+BI35+BN35+BS35","v":0},{"$f":"M35+N35+O35+P35","v":0},null,null,null,null,{"$f":"R35+S35+T35+U35","v":0},null,null,null,null,{"$f":"W35+X35+Y35+Z35","v":0},null,null,null,null,{"$f":"AB35+AC35+AD35+AE35","v":0},null,null,null,null,{"$f":"AG35+AH35+AI35+AJ35","v":0},null,null,null,null,{"$f":"AL35+AM35+AN35+AO35","v":0},null,null,null,null,{"$f":"AQ35+AR35+AS35+AT35","v":0},null,null,null,null,{"$f":"AV35+AW35+AX35+AY35","v":0},null,null,null,null,{"$f":"BA35+BB35+BC35+BD35","v":0},null,null,null,null,{"$f":"BF35+BG35+BH35+BI35","v":0},null,null,null,null,{"$f":"BK35+BL35+BM35+BN35","v":0},null,null,null,null,{"$f":"BP35+BQ35+BR35+BS35","v":0}]
["2.2.2","Очистка воды"," кВт.ч",null,{"$f":"H36+I36+J36+K36","v":0},0,"",0,0,0,0,{"$f":"M36+N36+O36+P36","v":0},null,null,null,null,{"$f":"R36+S36+T36+U36","v":0},null,null,null,null,{"$f":"W36+X36+Y36+Z36","v":0},null,null,null,null,{"$f":"AB36+AC36+AD36+AE36","v":0},null,null,null,null,{"$f":"AG36+AH36+AI36+AJ36","v":0},null,null,null,null,{"$f":"AL36+AM36+AN36+AO36","v":0},null,null,null,null,{"$f":"AQ36+AR36+AS36+AT36","v":0},null,null,null,null,{"$f":"AV36+AW36+AX36+AY36","v":0},null,null,null,null,{"$f":"BA36+BB36+BC36+BD36","v":0},null,null,null,null,0,null,null,null,null,0,null,null,null,null,0]
["2.2.3","Транспортировка воды"," кВт.ч",null,0,0,"",0,0,0,0,0,null,null,null,null,0,null,null,null,null,0,null,null,null,null,0,null,null,null,null,0,null,null,null,null,0,null,null,null,null,0,null,null,null,null,0,null,null,null,null,0,null,null,null,null,0,null,null,null,null,0,null,null,null,null,0]
[]
["расход электроэнергии на подготовку воды",null,"кВт.ч",{"$f":"D52*'баланс ВСН'!H24","v":0},{"$f":"H39+I39+J39+K39","v":0},{"$f":"E39-D39","v":0},{"$f":"IF(D39=0,\"\",F39/D39*100)","v":""},{"$f":"H19+H20+H35+H36","v":0},0,0,0,0,0,0,0,0,0,0,0,0,0,0,0,0,0,0,0,0,0,0,0,0,0,0,0,0,0,0,0,0,0,0,0,0,0,0,0,0,0,0,0,0,0,0,0,0,0,0,0,0,0,0,0,0,0,0,0,0,0,0,0]
["расход электроэнергии на транспортировку воды",null,"кВт.ч",{"$f":"D53*'баланс ВСН'!H30","v":0},{"$f":"H40+I40+J40+K40","v":0},0,"",{"$f":"H37+H21","v":0},{"$f":"I37+I21","v":0},0,0,0,0,0,0,0,0,0,0,0,0,0,0,0,0,0,0,0,0,0,0,0,0,0,0,0,0,0,0,0,0,0,0,0,0,0,0,0,0,0,0,0,0,0,0,0,0,0,0,0,0,0,0,0,0,0,0,0,0,0,0]
[null,null,null,{"$f":"D12-D39-D40","v":0}]
[]
["Показатели, принятые экспертом по факту 2016 года"]
[]
[]
["№ п/п","Наименование показателя","ед.изм","план","факт по данным организации","факт, принятый экспертом","отклонение факта, принятого экспертом, от плана"]
["1.","Объем электроэнергии всего","кВтч",{"$f":"D12","v":0},{"$f":"E12","v":0},{"$f":"E47","v":0},{"$f":"F47-D47","v":0}]
["1.1.","в том числе на подготовку воды","кВтч",{"$f":"D39","v":0},{"$f":"E39","v":0},{"$f":"E48","v":0},{"$f":"F48-D48","v":0}]
["1.2.","в том числе на транспортировку воды","кВтч",{"$f":"D40","v":0},{"$f":"E40","v":0},{"$f":"F47-F48","v":0},0]
["2.","Тариф на электроэнергию с учетом оплаты мощности","руб/кВтч",{"$f":"D13","v":0},{"$f":"E13","v":0},{"$f":"E50","v":0},{"$f":"F50-D50","v":0}]
["3.","Стоимость электроэнергии","руб",{"$f":"D50*D47","v":0},{"$f":"E50*E47","v":0},0,{"$f":"F51-D51","v":0}]
["4.","Удельный расход электроэнергии на подготовку воды","кВтч",{"$f":"'исходные данные'!D137","v":0},{"$f":"IF('баланс ВСН'!I24=0,,E48/'баланс ВСН'!I24)","v":0},{"$f":"IF('баланс ВСН'!L24=0,,F48/'баланс ВСН'!L24)","v":0},0]
["5.","Удельный расход электроэнергии на транспортировку воды","кВтч",{"$f":"'исходные данные'!D138","v":0},{"$f":"IF('баланс ВСН'!I30=0,,E49/'баланс ВСН'!I30)","v":0},{"$f":"IF('баланс ВСН'!L30=0,,F49/'баланс ВСН'!L30)","v":0},{"$f":"F53-D53","v":0}]
[]
[]
[]
[]
[]
["Анализ расходов на электроэнергию"]
[]
["№ п/п","Наименование показателя","ед.изм.","2012 год","2013 год","2014 год","2015 год","2016 год"]
[null,null,null,"факт по данным организации","факт по данным организации","факт по данным организации","факт по данным организации","план","факт по данным организации","абс.откл.","%"]
["1.","Объем электроэнергии","кВтч",{"$f":"'исходные данные'!D57","v":0},{"$f":"'исходные данные'!E57","v":0},{"$f":"'исходные данные'!F57","v":0},{"$f":"'исходные данные'!G57","v":0},{"$f":"D12","v":0},{"$f":"E12","v":0},{"$f":"I63-H63","v":0},{"$f":"IF(H63=0,,J63/H63*100)","v":0}]
["1.1.","темп роста к предыдущему году","%","х",{"$f":"IF(D63=0,,(E63-D63)/D63*100)","v":0},{"$f":"IF(E63=0,,(F63-E63)/E63*100)","v":0},0,"х",{"$f":"IF(G63=0,,(I63-G63)/G63*100)","v":0},"х","х"]
["2.","Объем реализации воды","куб.м.",{"$f":"'исходные данные'!D30*1000","v":0},{"$f":"'исходные данные'!E30*1000","v":0},{"$f":"'исходные данные'!F30*1000","v":0},{"$f":"'исходные данные'!G30","v":0},{"$f":"'баланс ВСН'!H30","v":0},{"$f":"'баланс ВСН'!I30","v":0},{"$f":"I65-H65","v":0},{"$f":"IF(H65=0,,J65/H65*100)","v":0}]
["2.1.","темп роста к предыдущему году","%","х",{"$f":"IF(D65=0,,(E65-D65)/D65*100)","v":0},{"$f":"IF(E65=0,,(F65-E65)/E65*100)","v":0},0,"х",{"$f":"IF(G65=0,,(I65-G65)/G65*100)","v":0},"х","х"]
["3.","Удельный расход электроэнергии на реализацию 1 куб.м. воды","кВтч/куб.м.",{"$f":"IF(D65=0,,D63/D65)","v":0},{"$f":"IF(E65=0,,E63/E65)","v":0},{"$f":"IF(F65=0,,F63/F65)","v":0},0,{"$f":"IF(H65=0,,H63/H65)","v":0},{"$f":"IF(I65=0,,I63/I65)","v":0},{"$f":"I67-H67","v":0},{"$f":"IF(H67=0,,J67/H67*100)","v":0}]
["3.1.","темп роста к предыдущему году","%","х",{"$f":"IF(D67=0,,(E67-D67)/D67*100)","v":0},{"$f":"IF(E67=0,,(F67-E67)/E67*100)","v":0},0,"х",{"$f":"IF(H67=0,,(I67-H67)/H67*100)","v":0},"х","х"]
["4.","Удельный расход на 1 куб.м. очистки воды","кВтч/куб.м.","х","х","х","х",{"$f":"IF('баланс ВСН'!H24=0,,D39/'баланс ВСН'!H24)","v":0},{"$f":"IF('баланс ВСН'!I24=0,,E39/'баланс ВСН'!I24)","v":0},{"$f":"I69-H69","v":0},{"$f":"IF(H69=0,,J69/H69*100)","v":0}]
["5.","Удельный расход на 1 куб.м. транспортировки воды","кВтч/куб.м.","х","х","х","х",{"$f":"IF(H65=0,,D40/H65)","v":0},{"$f":"IF(I65=0,,E40/I65)","v":0},0,0]
[]
["6.","Стоимость электроэнергии","руб","2016 год",null,null,null,{"$f":"D11","v":0},{"$f":"E11","v":0},{"$f":"I72-H72","v":0},{"$f":"IF(H72=0,,J72/H72*100)","v":0}]
["6.1.","1 полугодие 2016 года",null,"1-е полугодие 2016 года"]
[null,"стоимость электроэнергии","руб",null,null,null,null,{"$f":"'исходные данные'!E75","v":0},{"$f":"L11+Q11+V11+AA11+AF11+AK11","v":0},{"$f":"I74-H74","v":0},{"$f":"IF(H74=0,,J74/H74*100)","v":0}]
[null,"объем электроэнергии","кВтч",null,null,null,null,{"$f":"'исходные данные'!E83+'исходные данные'!E86+'исходные данные'!E89+'исходные данные'!E92+'исходные данные'!E112+'исходные данные'!E115+'исходные данные'!E118+'исходные данные'!E121","v":0},{"$f":"L12+Q12+V12+AA12+AF12+AK12","v":0},0,0]
[null,"тариф с учетом стоимости мощности","руб/кВтч",null,null,null,null,{"$f":"IF(H75=0,,H74/H75)","v":0},{"$f":"IF(I75=0,,I74/I75)","v":0},0,0]
["6.2.","2 полугодие 2016 года","руб","2-е полугодие 2016 года"]
[null,"стоимость электроэнергии","руб",null,null,null,null,{"$f":"H72-H74","v":0},{"$f":"AP11+AU11+AZ11+BE11+BJ11+BO11","v":0},{"$f":"I78-H78","v":0},{"$f":"IF(H78=0,,J78/H78*100)","v":0}]
[null,"объем электроэнергии","кВтч",null,null,null,null,{"$f":"H63-H75","v":0},{"$f":"AP12+AU12+AZ12+BE12+BJ12+BO12","v":0},0,0]
[null,"тариф с учетом стоимости мощности","руб/кВтч",null,null,null,null,{"$f":"IF(H79=0,,H78/H79)","v":0},{"$f":"IF(I79=0,,I78/I79)","v":0},0,0]
[null,null,null,null,null,null,null,null,{"$f":"I74+I78-I72","v":0}]
[]
[null,"Пересчет расхода электроэнергии на плановые показатели"]
[]
["№ п/п","Наименование показателя","ед.изм.","1-й вариант (без учета отопления, обогрева)",null,null,null,"2-й вариант (с учетом отопления, обогрева)"]
[null,null,null,"план","факт по данным организации","пересчет фактических показателей","отклонение от плановых показателей","план","факт по данным организации","пересчет фактических показателей","отклонение от плановых показателей"]
["1.","Расход электроэнергии на подготовку воды","кВтч",{"$f":"D39","v":0},{"$f":"E39","v":0},{"$f":"F90*F89","v":0},{"$f":"F87-D87","v":0},{"$f":"D39","v":0},{"$f":"E39","v":0},{"$f":"IF(H87=0,0,(H87-H88)/H89*I89+H88)","v":0},{"$f":"J87-H87","v":0}]
["1.1.","в том числе расход электроэнергии на отопление, освещение","кВтч",null,null,{"$f":"D88","v":0},null,null,null,{"$f":"H88","v":0}]
["2.","Объем воды, отпускаемой в сеть","куб.м.",{"$f":"'баланс ВСН'!H24","v":0},{"$f":"'баланс ВСН'!I24","v":0},{"$f":"E89","v":0},{"$f":"F89-D89","v":0},{"$f":"'баланс ВСН'!H24","v":0},{"$f":"'баланс ВСН'!I24","v":0},{"$f":"H89","v":0},{"$f":"J89-H89","v":0}]
["3.","Удельный расход электроэнергии на подготовку воды","кВтч/куб.м.",{"$f":"IF(D89=0,,D87/D89)","v":0},{"$f":"IF(E89=0,,E87/E89)","v":0},{"$f":"D90","v":0},0,{"$f":"IF(H89=0,,H87/H89)","v":0},{"$f":"IF(I89=0,,I87/I89)","v":0},{"$f":"IF(J89=0,,J87/J89)","v":0},0]
["4.","Расход электроэнергии на транспортировку воды","кВтч",{"$f":"D40","v":0},{"$f":"E40","v":0},{"$f":"F94*F93","v":0},0,{"$f":"D40","v":0},{"$f":"E40","v":0},{"$f":"IF(H91=0,0,(H91-H92)/H93*I93+H92)","v":0},0]
["4.1.","в том числе расход электроэнергии на отопление, освещение","кВтч",null,null,null,null,null,null,{"$f":"H92","v":0}]
["5.","Объем транспортируемой воды","куб.м.",{"$f":"'баланс ВСН'!H30","v":0},{"$f":"'баланс ВСН'!I30","v":0},{"$f":"E93","v":0},{"$f":"F93-D93","v":0},{"$f":"'баланс ВСН'!H30","v":0},{"$f":"'баланс ВСН'!I30","v":0},{"$f":"H93","v":0},{"$f":"J93-H93","v":0}]
["6.","Удельный расход электроэнергии на подготовку воды","кВтч/куб.м.",{"$f":"IF(D93=0,,D91/D93)","v":0},{"$f":"IF(E93=0,,E91/E93)","v":0},{"$f":"D94","v":0},0,{"$f":"IF(H93=0,,H91/H93)","v":0},{"$f":"IF(I93=0,,I91/I93)","v":0},{"$f":"IF(J93=0,,J91/J93)","v":0},0]
["7.","Всего расход электроэнергии","кВтч",{"$f":"D87+D91","v":0},{"$f":"E87+E91","v":0},{"$f":"F87+F91","v":0},0,{"$f":"H87+H91","v":0},{"$f":"I87+I91","v":0},0,0]
["8.","тариф на электроэнергию с учетом оплаты за мощность","руб/кВтч",{"$f":"D13","v":0},{"$f":"E13","v":0},{"$f":"E96","v":0},0,{"$f":"D13","v":0},{"$f":"E13","v":0},{"$f":"I96","v":0},{"$f":"J96-H96","v":0}]
["9.","Стоимость электроэнергии","кВтч/куб.м.",{"$f":"D95*D96","v":0},{"$f":"E95*E96","v":0},{"$f":"F95*F96","v":0},0,{"$f":"H95*H96","v":0},{"$f":"I95*I96","v":0},0,0]

{"sheet":"отчет по электроэнергии (бсх)","index":14,"n_rows":116,"n_cols":71,"rows_kept":116,"cut":false,"hidden":false,"merged":[[67,0,68,0],[67,15,67,17],[67,2,67,5],[67,1,68,1],[67,6,67,14],[8,66,9,66],[8,67,8,70],[49,0,49,2],[51,0,52,0],[51,1,52,1],[51,2,52,2],[51,3,51,6],[8,51,9,51],[8,52,8,55],[8,56,9,56],[8,57,8,60],[8,61,9,61],[8,62,8,65],[8,36,9,36],[8,37,8,40],[8,41,9,41],[8,42,8,45],[8,46,9,46],[8,47,8,50],[8,21,9,21],[8,22,8,25],[8,26,9,26],[8,27,8,30],[8,31,9,31],[8,32,8,35],[7,61,7,65],[7,66,7,70],[8,3,9,3],[8,4,9,4],[8,5,8,6],[8,7,8,10],[8,11,9,11],[8,12,8,15],[8,16,9,16],[8,17,8,20],[7,31,7,35],[7,36,7,40],[7,41,7,45],[7,46,7,50],[7,51,7,55],[7,56,7,60],[5,0,5,12],[7,3,7,10],[0,0,0,15],[1,0,1,15],[2,0,2,15],[3,2,3,10],[4,2,4,7],[6,0,9,0],[6,1,9,1],[6,2,9,2],[6,3,6,10],[6,11,6,70],[7,11,7,15],[7,16,7,20],[7,21,7,25],[7,26,7,30]]}
["Отчет по стоимости и объему потребленной электроэнергии и мощности"]
[{"$f":"Титульный!C10","v":" "}]
[{"$f":"Титульный!C19","v":0}]
[null,null,"Объекты бесхозяйного имущества"]
[null,"Район",{"$f":"Титульный!C6","v":0},null,null,null,null,null,null,"МО",{"$f":"Титульный!C7","v":0}]
[]
["№ п/п","Наименование направления расхода электрической энергии","Ед.изм","ВСЕГО по тарифу",null,null,null,null,null,null,null,"период"]
[null,null,null,"2017 год всего",null,null,null,null,null,null,null,"январь",null,null,null,null,"февраль",null,null,null,null,"март",null,null,null,null,"апрель",null,null,null,null,"май",null,null,null,null,"июнь",null,null,null,null,"июль",null,null,null,null,"август",null,null,null,null,"сентябрь",null,null,null,null,"октябрь",null,null,null,null,"ноябрь",null,null,null,null,"декабрь"]
[null,null,null,"план ДТР ТО","всего по факту организации","отклонение",null,"в том числе по уровням напряжения",null,null,null,"всего","в том числе по уровням напряжения",null,null,null,"всего","в том числе по уровням напряжения",null,null,null,"всего","в том числе по уровням напряжения",null,null,null,"всего","в том числе по уровням напряжения",null,null,null,"всего","в том числе по уровням напряжения",null,null,null,"всего","в том числе по уровням напряжения",null,null,null,"всего","в том числе по уровням напряжения",null,null,null,"всего","в том числе по уровням напряжения",null,null,null,"всего","в том числе по уровням напряжения",null,null,null,"всего","в том числе по уровням напряжения",null,null,null,"всего","в том числе по уровням напряжения",null,null,null,"всего","в том числе по уровням напряжения"]
[null,null,null,null,null,"абс.","%","ВН","СН1","СН2","НН",null,"ВН","СН1","СН2","НН",null,"ВН","СН1","СН2","НН",null,"ВН","СН1","СН2","НН",null,"ВН","СН1","СН2","НН",null,"ВН","СН1","СН2","НН",null,"ВН","СН1","СН2","НН",null,"ВН","СН1","СН2","НН",null,"ВН","СН1","СН2","НН",null,"ВН","СН1","СН2","НН",null,"ВН","СН1","СН2","НН",null,"ВН","СН1","СН2","НН",null,"ВН","СН1","СН2","НН"]
["I.","ВСЕГО стоимость покупной электроэнергии и мощности","руб",null,{"$f":"SUM(H11:K11)","v":0},{"$f":"E11-D11","v":0},{"$f":"IF(D11=0,\"\",F11/D11*100)","v":""},{"$f":"H15+H23","v":0},{"$f":"I15+I23","v":0},{"$f":"J15+J23","v":0},{"$f":"K15+K23","v":0},{"$f":"SUM(M11:P11)","v":0},{"$f":"M15+M23","v":0},{"$f":"N15+N23","v":0},{"$f":"O15+O23","v":0},{"$f":"P15+P23","v":0},{"$f":"SUM(R11:U11)","v":0},{"$f":"R15+R23","v":0},{"$f":"S15+S23","v":0},{"$f":"T15+T23","v":0},{"$f":"U15+U23","v":0},{"$f":"SUM(W11:Z11)","v":0},{"$f":"W15+W23","v":0},{"$f":"X15+X23","v":0},{"$f":"Y15+Y23","v":0},{"$f":"Z15+Z23","v":0},{"$f":"SUM(AB11:AE11)","v":0},{"$f":"AB15+AB23","v":0},{"$f":"AC15+AC23","v":0},{"$f":"AD15+AD23","v":0},{"$f":"AE15+AE23","v":0},{"$f":"SUM(AG11:AJ11)","v":0},{"$f":"AG15+AG23","v":0},{"$f":"AH15+AH23","v":0},{"$f":"AI15+AI23","v":0},{"$f":"AJ15+AJ23","v":0},{"$f":"SUM(AL11:AO11)","v":0},{"$f":"AL15+AL23","v":0},{"$f":"AM15+AM23","v":0},{"$f":"AN15+AN23","v":0},{"$f":"AO15+AO23","v":0},{"$f":"SUM(AQ11:AT11)","v":0},{"$f":"AQ15+AQ23","v":0},{"$f":"AR15+AR23","v":0},{"$f":"AS15+AS23","v":0},{"$f":"AT15+AT23","v":0},{"$f":"SUM(AV11:AY11)","v":0},{"$f":"AV15+AV23","v":0},{"$f":"AW15+AW23","v":0},{"$f":"AX15+AX23","v":0},{"$f":"AY15+AY23","v":0},{"$f":"SUM(BA11:BD11)","v":0},{"$f":"BA15+BA23","v":0},{"$f":"BB15+BB23","v":0},{"$f":"BC15+BC23","v":0},{"$f":"BD15+BD23","v":0},{"$f":"SUM(BF11:BI11)","v":0},{"$f":"BF15+BF23","v":0},{"$f":"BG15+BG23","v":0},{"$f":"BH15+BH23","v":0},{"$f":"BI15+BI23","v":0},{"$f":"SUM(BK11:BN11)","v":0},{"$f":"BK15+BK23","v":0},{"$f":"BL15+BL23","v":0},{"$f":"BM15+BM23","v":0},{"$f":"BN15+BN23","v":0},{"$f":"SUM(BP11:BS11)","v":0},{"$f":"BP15+BP23","v":0},{"$f":"BQ15+BQ23","v":0},{"$f":"BR15+BR23","v":0},{"$f":"BS15+BS23","v":0}]
[null,"всего  объем  электроэнергии","кВт.ч",null,{"$f":"E17+E33","v":0},{"$f":"E12-D12","v":0},{"$f":"IF(D12=0,\"\",F12/D12*100)","v":""},{"$f":"H17+H33","v":0},0,0,0,0,0,0,0,0,0,0,0,0,0,0,0,0,0,0,0,0,0,0,0,0,0,0,0,0,0,0,0,0,0,0,0,0,0,0,0,0,0,0,0,0,0,0,0,0,0,0,0,0,0,0,0,0,0,0,0,0,0,0,0]
[null,"одноставочный тариф с учетом платы за мощность","руб./кВт.ч",{"$f":"IF(D12=0,0,D11/D12)","v":0},{"$f":"IF(E12=0,0,E11/E12)","v":0},0,"",{"$f":"IF(H12=0,0,H11/H12)","v":0},0,0,0,0,0,0,0,0,0,0,0,0,0,0,0,0,0,0,0,0,0,0,0,0,0,0,0,0,0,0,0,0,0,0,0,0,0,0,0,0,0,0,0,0,0,0,0,0,0,0,0,0,0,0,0,0,0,0,0,0,0,0,0]
[]
["II.","Покупная электроэнергия по одноставочному тарифу","руб",null,{"$f":"SUM(H15:K15)","v":0},{"$f":"E15-D15","v":0},{"$f":"IF(D15=0,\"\",F15/D15*100)","v":""},{"$f":"M15+R15+W15+AB15+AG15+AL15+AQ15+AV15+BA15+BF15+BK15+BP15","v":0},{"$f":"N15+S15+X15+AC15+AH15+AM15+AR15+AW15+BB15+BG15+BL15+BQ15","v":0},0,0,{"$f":"SUM(M15:P15)","v":0},{"$f":"M16*M17","v":0},{"$f":"N16*N17","v":0},0,0,{"$f":"SUM(R15:U15)","v":0},{"$f":"R16*R17","v":0},{"$f":"S16*S17","v":0},0,0,{"$f":"SUM(W15:Z15)","v":0},{"$f":"W16*W17","v":0},{"$f":"X16*X17","v":0},0,0,{"$f":"SUM(AB15:AE15)","v":0},{"$f":"AB16*AB17","v":0},{"$f":"AC16*AC17","v":0},0,0,{"$f":"SUM(AG15:AJ15)","v":0},{"$f":"AG16*AG17","v":0},{"$f":"AH16*AH17","v":0},0,0,{"$f":"SUM(AL15:AO15)","v":0},{"$f":"AL16*AL17","v":0},{"$f":"AM16*AM17","v":0},0,0,{"$f":"SUM(AQ15:AT15)","v":0},{"$f":"AQ16*AQ17","v":0},{"$f":"AR16*AR17","v":0},0,0,{"$f":"SUM(AV15:AY15)","v":0},{"$f":"AV16*AV17","v":0},{"$f":"AW16*AW17","v":0},0,0,{"$f":"SUM(BA15:BD15)","v":0},{"$f":"BA16*BA17","v":0},{"$f":"BB16*BB17","v":0},0,0,{"$f":"SUM(BF15:BI15)","v":0},{"$f":"BF16*BF17","v":0},0,0,0,{"$f":"SUM(BK15:BN15)","v":0},{"$f":"BK16*BK17","v":0},0,0,0,{"$f":"SUM(BP15:BS15)","v":0},{"$f":"BP16*BP17","v":0},0,0,0]
["1.","Тариф на электроэнергию","руб./кВт.ч",{"$f":"IF(D17=0,0,D15/D17)","v":0},{"$f":"IF(E17=0,0,E15/E17)","v":0},0,"",0,0,0,0,{"$f":"IF(L17=0,0,L15/L17)","v":0},null,null,null,null,{"$f":"IF(Q17=0,0,Q15/Q17)","v":0},null,null,null,null,{"$f":"IF(V17=0,0,V15/V17)","v":0},null,null,null,null,{"$f":"IF(AA17=0,0,AA15/AA17)","v":0},null,null,null,null,{"$f":"IF(AF17=0,0,AF15/AF17)","v":0},null,null,null,null,{"$f":"IF(AK17=0,0,AK15/AK17)","v":0},null,null,null,null,{"$f":"IF(AP17=0,0,AP15/AP17)","v":0},null,null,null,null,{"$f":"IF(AU17=0,0,AU15/AU17)","v":0},null,null,null,null,{"$f":"IF(AZ17=0,0,AZ15/AZ17)","v":0},null,null,null,null,{"$f":"IF(BE17=0,0,BE15/BE17)","v":0},null,null,null,null,{"$f":"IF(BJ17=0,0,BJ15/BJ17)","v":0},null,null,null,null,{"$f":"IF(BO17=0,0,BO15/BO17)","v":0}]
["2.","Объем электроэнергии всего","кВт.ч",null,{"$f":"SUM(E19:E21)","v":0},0,"",{"$f":"SUM(H19:H21)","v":0},0,0,0,0,0,0,0,0,0,0,0,0,0,0,0,0,0,{"$f":"SUM(Z19:Z21)","v":0},0,0,0,0,{"$f":"SUM(AE19:AE21)","v":0},0,0,0,0,{"$f":"SUM(AJ19:AJ21)","v":0},0,0,0,0,{"$f":"SUM(AO19:AO21)","v":0},0,0,0,0,{"$f":"SUM(AT19:AT21)","v":0},0,0,0,0,{"$f":"SUM(AY19:AY21)","v":0},0,0,0,0,{"$f":"SUM(BD19:BD21)","v":0},0,0,0,0,{"$f":"SUM(BI19:BI21)","v":0},0,0,0,0,{"$f":"SUM(BN19:BN21)","v":0},0,0,0,0,{"$f":"SUM(BS19:BS21)","v":0}]
[null,"в том числе:","кВт.ч"]
["2.1.","Подъем воды"," кВт.ч",null,{"$f":"H19+I19+J19+K19","v":0},{"$f":"E19-D19","v":0},{"$f":"IF(D19=0,\"\",F19/D19*100)","v":""},{"$f":"M19+R19+W19+AB19+AG19+AL19+AQ19+AV19+BA19+BF19+BK19+BP19","v":0},0,0,0,{"$f":"M19+N19+O19+P19","v":0},null,null,null,null,{"$f":"R19+S19+T19+U19","v":0},null,null,null,null,{"$f":"W19+X19+Y19+Z19","v":0},null,null,null,null,{"$f":"AB19+AC19+AD19+AE19","v":0},null,null,null,null,{"$f":"AG19+AH19+AI19+AJ19","v":0},null,null,null,null,{"$f":"AL19+AM19+AN19+AO19","v":0},null,null,null,null,{"$f":"AQ19+AR19+AS19+AT19","v":0},null,null,null,null,{"$f":"AV19+AW19+AX19+AY19","v":0},null,null,null,null,{"$f":"BA19+BB19+BC19+BD19","v":0},null,null,null,null,{"$f":"BF19+BG19+BH19+BI19","v":0},null,null,null,null,{"$f":"BK19+BL19+BM19+BN19","v":0},null,null,null,null,{"$f":"BP19+BQ19+BR19+BS19","v":0}]
["2.2.","Очистка воды"," кВт.ч",null,{"$f":"H20+I20+J20+K20","v":0},0,"",0,0,0,0,{"$f":"M20+N20+O20+P20","v":0},null,null,null,null,{"$f":"R20+S20+T20+U20","v":0},null,null,null,null,{"$f":"W20+X20+Y20+Z20","v":0},null,null,null,null,{"$f":"AB20+AC20+AD20+AE20","v":0},null,null,null,null,{"$f":"AG20+AH20+AI20+AJ20","v":0},null,null,null,null,{"$f":"AL20+AM20+AN20+AO20","v":0},null,null,null,null,{"$f":"AQ20+AR20+AS20+AT20","v":0},null,null,null,null,{"$f":"AV20+AW20+AX20+AY20","v":0},null,null,null,null,{"$f":"BA20+BB20+BC20+BD20","v":0},null,null,null,null,0,null,null,null,null,0,null,null,null,null,0]
["2.3.","Транспортировка воды"," кВт.ч",null,0,0,"",0,0,0,0,0,null,null,null,null,0,null,null,null,null,0,null,null,null,null,0,null,null,null,null,0,null,null,null,null,0,null,null,null,null,0,null,null,null,null,0,null,null,null,null,0,null,null,null,null,0,null,null,null,null,0,null,null,null,null,0]
[]
["III.","Покупная электроэнергия по двухставочному тарифу","руб",null,{"$f":"SUM(H23:K23)","v":0},{"$f":"E23-D23","v":0},{"$f":"IF(D23=0,\"\",F23/D23*100)","v":""},{"$f":"H24+H31","v":0},{"$f":"I24+I31","v":0},{"$f":"J24+J31","v":0},{"$f":"K24+K31","v":0},{"$f":"SUM(M23:P23)","v":0},{"$f":"M24+M31","v":0},{"$f":"N24+N31","v":0},{"$f":"O24+O31","v":0},{"$f":"P24+P31","v":0},{"$f":"SUM(R23:U23)","v":0},{"$f":"R24+R31","v":0},{"$f":"S24+S31","v":0},{"$f":"T24+T31","v":0},{"$f":"U24+U31","v":0},{"$f":"SUM(W23:Z23)","v":0},{"$f":"W24+W31","v":0},{"$f":"X24+X31","v":0},{"$f":"Y24+Y31","v":0},{"$f":"Z24+Z31","v":0},{"$f":"SUM(AB23:AE23)","v":0},{"$f":"AB24+AB31","v":0},{"$f":"AC24+AC31","v":0},{"$f":"AD24+AD31","v":0},{"$f":"AE24+AE31","v":0},{"$f":"SUM(AG23:AJ23)","v":0},{"$f":"AG24+AG31","v":0},{"$f":"AH24+AH31","v":0},{"$f":"AI24+AI31","v":0},{"$f":"AJ24+AJ31","v":0},{"$f":"SUM(AL23:AO23)","v":0},{"$f":"AL24+AL31","v":0},{"$f":"AM24+AM31","v":0},{"$f":"AN24+AN31","v":0},{"$f":"AO24+AO31","v":0},{"$f":"SUM(AQ23:AT23)","v":0},{"$f":"AQ24+AQ31","v":0},{"$f":"AR24+AR31","v":0},{"$f":"AS24+AS31","v":0},{"$f":"AT24+AT31","v":0},{"$f":"SUM(AV23:AY23)","v":0},{"$f":"AV24+AV31","v":0},{"$f":"AW24+AW31","v":0},{"$f":"AX24+AX31","v":0},{"$f":"AY24+AY31","v":0},{"$f":"SUM(BA23:BD23)","v":0},{"$f":"BA24+BA31","v":0},{"$f":"BB24+BB31","v":0},{"$f":"BC24+BC31","v":0},{"$f":"BD24+BD31","v":0},{"$f":"SUM(BF23:BI23)","v":0},{"$f":"BF24+BF31","v":0},{"$f":"BG24+BG31","v":0},{"$f":"BH24+BH31","v":0},{"$f":"BI24+BI31","v":0},{"$f":"SUM(BK23:BN23)","v":0},{"$f":"BK24+BK31","v":0},{"$f":"BL24+BL31","v":0},{"$f":"BM24+BM31","v":0},{"$f":"BN24+BN31","v":0},{"$f":"SUM(BP23:BS23)","v":0},{"$f":"BP24+BP31","v":0},{"$f":"BQ24+BQ31","v":0},{"$f":"BR24+BR31","v":0},{"$f":"BS24+BS31","v":0}]
["1.","Мощность","руб",null,{"$f":"H24+I24+J24+K24","v":0},0,"",{"$f":"M24+R24+W24+AB24+AG24+AL24+AQ24+AV24+BA24+BF24+BK24+BP24","v":0},0,0,0,{"$f":"SUM(M24:P24)","v":0},{"$f":"M25*M26","v":0},{"$f":"N25*N26","v":0},0,0,{"$f":"SUM(R24:U24)","v":0},{"$f":"R25*R26","v":0},{"$f":"S25*S26","v":0},0,0,{"$f":"SUM(W24:Z24)","v":0},{"$f":"W25*W26","v":0},{"$f":"X25*X26","v":0},0,0,{"$f":"SUM(AB24:AE24)","v":0},{"$f":"AB25*AB26","v":0},{"$f":"AC25*AC26","v":0},0,0,{"$f":"SUM(AG24:AJ24)","v":0},{"$f":"AG25*AG26","v":0},{"$f":"AH25*AH26","v":0},0,0,{"$f":"SUM(AL24:AO24)","v":0},{"$f":"AL25*AL26","v":0},{"$f":"AM25*AM26","v":0},0,0,{"$f":"SUM(AQ24:AT24)","v":0},{"$f":"AQ25*AQ26","v":0},{"$f":"AR25*AR26","v":0},0,0,{"$f":"SUM(AV24:AY24)","v":0},{"$f":"AV25*AV26","v":0},{"$f":"AW25*AW26","v":0},0,0,{"$f":"SUM(BA24:BD24)","v":0},{"$f":"BA25*BA26","v":0},{"$f":"BB25*BB26","v":0},0,0,{"$f":"SUM(BF24:BI24)","v":0},{"$f":"BF25*BF26","v":0},{"$f":"BG25*BG26","v":0},0,0,{"$f":"SUM(BK24:BN24)","v":0},{"$f":"BK25*BK26","v":0},{"$f":"BL25*BL26","v":0},0,0,{"$f":"SUM(BP24:BS24)","v":0},{"$f":"BP25*BP26","v":0},{"$f":"BQ25*BQ26","v":0},0,0]
["1.1.","Тариф на мощность","руб/кВт",{"$f":"IF(D26=0,0,D24/D26)","v":0},{"$f":"IF(E26=0,0,E24/E26)","v":0},0,"",{"$f":"IF(H26=0,0,H24/H26)","v":0},0,0,0,{"$f":"IF(L26=0,0,L24/L26)","v":0},null,null,null,null,{"$f":"IF(Q26=0,0,Q24/Q26)","v":0},null,null,null,null,{"$f":"IF(V26=0,0,V24/V26)","v":0},null,null,null,null,{"$f":"IF(AA26=0,0,AA24/AA26)","v":0},null,null,null,null,{"$f":"IF(AF26=0,0,AF24/AF26)","v":0},null,null,null,null,{"$f":"IF(AK26=0,0,AK24/AK26)","v":0},null,null,null,null,{"$f":"IF(AP26=0,0,AP24/AP26)","v":0},null,null,null,null,{"$f":"IF(AU26=0,0,AU24/AU26)","v":0},null,null,null,null,{"$f":"IF(AZ26=0,0,AZ24/AZ26)","v":0},null,null,null,null,{"$f":"IF(BE26=0,0,BE24/BE26)","v":0},null,null,null,null,{"$f":"IF(BJ26=0,0,BJ24/BJ26)","v":0},null,null,null,null,{"$f":"IF(BO26=0,0,BO24/BO26)","v":0}]
["1.2.","Объем мощности всего","кВт",null,{"$f":"SUM(E28:E30)","v":0},0,"",{"$f":"SUM(H28:H30)","v":0},0,0,0,0,0,0,0,0,0,0,0,0,0,0,0,{"$f":"SUM(X28:X30)","v":0},0,0,0,0,{"$f":"SUM(AC28:AC30)","v":0},0,0,0,0,{"$f":"SUM(AH28:AH30)","v":0},0,0,0,0,{"$f":"SUM(AM28:AM30)","v":0},0,0,0,0,{"$f":"SUM(AR28:AR30)","v":0},0,0,0,0,{"$f":"SUM(AW28:AW30)","v":0},0,0,0,0,{"$f":"SUM(BB28:BB30)","v":0},0,0,0,0,{"$f":"SUM(BG28:BG30)","v":0},0,0,0,0,{"$f":"SUM(BL28:BL30)","v":0},0,0,0,0,{"$f":"SUM(BQ28:BQ30)","v":0},0,0]
[null,"в том числе:","кВт "]
["1.2.1","Подъем воды","кВт ",null,{"$f":"H28+I28+J28+K28","v":0},{"$f":"E28-D28","v":0},{"$f":"IF(D28=0,\"\",F28/D28*100)","v":""},{"$f":"M28+R28+W28+AB28+AG28+AL28+AQ28+AV28+BA28+BF28+BK28+BP28","v":0},0,0,0,{"$f":"M28+N28+O28+P28","v":0},null,null,null,null,{"$f":"R28+S28+T28+U28","v":0},null,null,null,null,{"$f":"W28+X28+Y28+Z28","v":0},null,null,null,null,{"$f":"AB28+AC28+AD28+AE28","v":0},null,null,null,null,{"$f":"AG28+AH28+AI28+AJ28","v":0},null,null,null,null,{"$f":"AL28+AM28+AN28+AO28","v":0},null,null,null,null,{"$f":"AQ28+AR28+AS28+AT28","v":0},null,null,null,null,{"$f":"AV28+AW28+AX28+AY28","v":0},null,null,null,null,{"$f":"BA28+BB28+BC28+BD28","v":0},null,null,null,null,{"$f":"BF28+BG28+BH28+BI28","v":0},null,null,null,null,{"$f":"BK28+BL28+BM28+BN28","v":0},null,null,null,null,{"$f":"BP28+BQ28+BR28+BS28","v":0}]
["1.2.2","Очистка воды","кВт ",null,{"$f":"H29+I29+J29+K29","v":0},0,"",0,0,0,0,{"$f":"M29+N29+O29+P29","v":0},null,null,null,null,{"$f":"R29+S29+T29+U29","v":0},null,null,null,null,{"$f":"W29+X29+Y29+Z29","v":0},null,null,null,null,{"$f":"AB29+AC29+AD29+AE29","v":0},null,null,null,null,{"$f":"AG29+AH29+AI29+AJ29","v":0},null,null,null,null,{"$f":"AL29+AM29+AN29+AO29","v":0},null,null,null,null,{"$f":"AQ29+AR29+AS29+AT29","v":0},null,null,null,null,{"$f":"AV29+AW29+AX29+AY29","v":0},null,null,null,null,{"$f":"BA29+BB29+BC29+BD29","v":0},null,null,null,null,0,null,null,null,null,0,null,null,null,null,0]
["1.2.3","Транспортировка воды","кВт ",null,0,0,"",0,0,0,0,0,null,null,null,null,0,null,null,null,null,0,null,null,null,null,0,null,null,null,null,0,null,null,null,null,0,null,null,null,null,0,null,null,null,null,0,null,null,null,null,0,null,null,null,null,0,null,null,null,null,0,null,null,null,null,0]
["2.","Активная электроэнергия","руб",null,0,0,"",0,0,0,0,{"$f":"SUM(M31:P31)","v":0},{"$f":"M32*M33","v":0},{"$f":"N32*N33","v":0},0,0,{"$f":"SUM(R31:U31)","v":0},{"$f":"R32*R33","v":0},{"$f":"S32*S33","v":0},0,0,{"$f":"SUM(W31:Z31)","v":0},{"$f":"W32*W33","v":0},{"$f":"X32*X33","v":0},0,0,{"$f":"SUM(AB31:AE31)","v":0},{"$f":"AB32*AB33","v":0},{"$f":"AC32*AC33","v":0},0,0,{"$f":"SUM(AG31:AJ31)","v":0},{"$f":"AG32*AG33","v":0},{"$f":"AH32*AH33","v":0},0,0,{"$f":"SUM(AL31:AO31)","v":0},{"$f":"AL32*AL33","v":0},{"$f":"AM32*AM33","v":0},0,0,{"$f":"SUM(AQ31:AT31)","v":0},{"$f":"AQ32*AQ33","v":0},{"$f":"AR32*AR33","v":0},0,0,{"$f":"SUM(AV31:AY31)","v":0},{"$f":"AV32*AV33","v":0},{"$f":"AW32*AW33","v":0},0,0,{"$f":"SUM(BA31:BD31)","v":0},{"$f":"BA32*BA33","v":0},{"$f":"BB32*BB33","v":0},0,0,{"$f":"SUM(BF31:BI31)","v":0},{"$f":"BF32*BF33","v":0},{"$f":"BG32*BG33","v":0},0,0,{"$f":"SUM(BK31:BN31)","v":0},{"$f":"BK32*BK33","v":0},{"$f":"BL32*BL33","v":0},0,0,{"$f":"SUM(BP31:BS31)","v":0},{"$f":"BP32*BP33","v":0},{"$f":"BQ32*BQ33","v":0},0,0]
["2.1.","Тариф на электроэнергию","руб/кВт.ч",{"$f":"IF(D33=0,0,D31/D33)","v":0},0,0,"",{"$f":"IF(H33=0,0,H31/H33)","v":0},0,0,0,{"$f":"IF(L33=0,0,L31/L33)","v":0},null,null,null,null,{"$f":"IF(Q33=0,0,Q31/Q33)","v":0},null,null,null,null,{"$f":"IF(V33=0,0,V31/V33)","v":0},null,null,null,null,{"$f":"IF(AA33=0,0,AA31/AA33)","v":0},null,null,null,null,{"$f":"IF(AF33=0,0,AF31/AF33)","v":0},null,null,null,null,{"$f":"IF(AK33=0,0,AK31/AK33)","v":0},null,null,null,null,{"$f":"IF(AP33=0,0,AP31/AP33)","v":0},null,null,null,null,{"$f":"IF(AU33=0,0,AU31/AU33)","v":0},null,null,null,null,{"$f":"IF(AZ33=0,0,AZ31/AZ33)","v":0},null,null,null,null,{"$f":"IF(BE33=0,0,BE31/BE33)","v":0},null,null,null,null,{"$f":"IF(BJ33=0,0,BJ31/BJ33)","v":0},null,null,null,null,{"$f":"IF(BO33=0,0,BO31/BO33)","v":0}]
["2.2.","Объем электроэнергии всего","кВт.ч",null,{"$f":"SUM(E35:E37)","v":0},0,"",{"$f":"SUM(H35:H37)","v":0},0,0,0,0,0,0,0,0,0,0,{"$f":"SUM(S35:S37)","v":0},0,0,0,0,0,0,0,0,0,0,0,0,0,0,0,0,0,0,0,0,0,0,0,0,0,0,0,0,0,0,0,0,0,0,0,0,0,0,0,0,0,0,0,0,0,0,0,0,0,0,0,0]
[null,"в том числе:","кВт.ч"]
["2.2.1","Подъем воды"," кВт.ч",null,{"$f":"H35+I35+J35+K35","v":0},{"$f":"E35-D35","v":0},{"$f":"IF(D35=0,\"\",F35/D35*100)","v":""},{"$f":"M35+R35+W35+AB35+AG35+AL35+AQ35+AV35+BA35+BF35+BK35+BP35","v":0},0,0,0,{"$f":"M35+N35+O35+P35","v":0},null,null,null,null,{"$f":"R35+S35+T35+U35","v":0},null,null,null,null,{"$f":"W35+X35+Y35+Z35","v":0},null,null,null,null,{"$f":"AB35+AC35+AD35+AE35","v":0},null,null,null,null,{"$f":"AG35+AH35+AI35+AJ35","v":0},null,null,null,null,{"$f":"AL35+AM35+AN35+AO35","v":0},null,null,null,null,{"$f":"AQ35+AR35+AS35+AT35","v":0},null,null,null,null,{"$f":"AV35+AW35+AX35+AY35","v":0},null,null,null,null,{"$f":"BA35+BB35+BC35+BD35","v":0},null,null,null,null,{"$f":"BF35+BG35+BH35+BI35","v":0},null,null,null,null,{"$f":"BK35+BL35+BM35+BN35","v":0},null,null,null,null,{"$f":"BP35+BQ35+BR35+BS35","v":0}]
["2.2.2","Очистка воды"," кВт.ч",null,{"$f":"H36+I36+J36+K36","v":0},0,"",0,0,0,0,{"$f":"M36+N36+O36+P36","v":0},null,null,null,null,{"$f":"R36+S36+T36+U36","v":0},null,null,null,null,{"$f":"W36+X36+Y36+Z36","v":0},null,null,null,null,{"$f":"AB36+AC36+AD36+AE36","v":0},null,null,null,null,{"$f":"AG36+AH36+AI36+AJ36","v":0},null,null,null,null,{"$f":"AL36+AM36+AN36+AO36","v":0},null,null,null,null,{"$f":"AQ36+AR36+AS36+AT36","v":0},null,null,null,null,{"$f":"AV36+AW36+AX36+AY36","v":0},null,null,null,null,{"$f":"BA36+BB36+BC36+BD36","v":0},null,null,null,null,0,null,null,null,null,0,null,null,null,null,0]
["2.2.3","Транспортировка воды"," кВт.ч",null,0,0,"",0,0,0,0,0,null,null,null,null,0,null,null,null,null,0,null,null,null,null,0,null,null,null,null,0,null,null,null,null,0,null,null,null,null,0,null,null,null,null,0,null,null,null,null,0,null,null,null,null,0,null,null,null,null,0,null,null,null,null,0]
[]
[]
[]
[]
["Показатели, принятые экспертом по факту 2016 года"]
[]
[]
["№ п/п","Наименование показателя","ед.изм","план","факт по данным организации","факт, принятый экспертом","отклонение факта, принятого экспертом, от плана"]
["1.","Объем электроэнергии всего","кВтч",{"$f":"D12","v":0},{"$f":"E12","v":0},null,{"$f":"F46-D46","v":0}]
["2.","Тариф на электроэнергию с учетом оплаты мощности","руб/кВтч",{"$f":"D13","v":0},{"$f":"E13","v":0},{"$f":"E47","v":0},{"$f":"F47-D47","v":0}]
["3.","Стоимость электроэнергии","руб",{"$f":"D47*D46","v":0},{"$f":"E47*E46","v":0},{"$f":"F47*F46","v":0},{"$f":"F48-D48","v":0}]
[]
["Анализ расходов на электроэнергию"]
[]
["№ п/п","Наименование показателя","ед.изм.","2016 год"]
[null,null,null,"план","факт по данным организации","абс.откл.","%"]
[]
["6.","Стоимость электроэнергии","руб",{"$f":"D11","v":0},{"$f":"E11","v":0},{"$f":"E55-D55","v":0},{"$f":"IF(D55=0,,F55/D55*100)","v":0}]
["6.1.","1 полугодие 2016 года"]
[null,"стоимость электроэнергии","руб",{"$f":"'исходные данные'!E75","v":0},{"$f":"L11+Q11+V11+AA11+AF11+AK11","v":0},{"$f":"E57-D57","v":0},{"$f":"IF(D57=0,,F57/D57*100)","v":0}]
[null,"объем электроэнергии","кВтч",{"$f":"'исходные данные'!E83+'исходные данные'!E86+'исходные данные'!E89+'исходные данные'!E92+'исходные данные'!E112+'исходные данные'!E115+'исходные данные'!E118+'исходные данные'!E121","v":0},{"$f":"L12+Q12+V12+AA12+AF12+AK12","v":0},0,0]
[null,"тариф с учетом стоимости мощности","руб/кВтч",{"$f":"IF(D58=0,,D57/D58)","v":0},{"$f":"IF(E58=0,,E57/E58)","v":0},0,0]
["6.2.","2 полугодие 2016 года","руб"]
[null,"стоимость электроэнергии","руб",{"$f":"D55-D57","v":0},{"$f":"AP11+AU11+AZ11+BE11+BJ11+BO11","v":0},{"$f":"E61-D61","v":0},{"$f":"IF(D61=0,,F61/D61*100)","v":0}]
[null,"объем электроэнергии","кВтч",{"$f":"D12-D58","v":0},{"$f":"AP12+AU12+AZ12+BE12+BJ12+BO12","v":0},0,0]
[null,"тариф с учетом стоимости мощности","руб/кВтч",{"$f":"IF(D62=0,,D61/D62)","v":0},{"$f":"IF(E62=0,,E61/E62)","v":0},0,0]
[null,null,null,null,{"$f":"E57+E61-E55","v":0}]
[]
["Затраты на электроэнергию за 2016 год по объектам бесхозяйного имущества"]
[]
["№ п/п","Перечень объектов бесхозяйного имущества, адрес расположения","одноставочный тариф",null,null,null,"двухставочный тариф",null,null,null,null,null,null,null,null,"ВСЕГО по объектам бесхозяного имущества"]
[null,null,"вид напряжения","годовой расход электроэнергии, кВтч","тариф на электроэнергию, руб/кВтч","сумма затрат, руб","вид напряжения","мощность за год, кВт","тариф на мощность, руб/кВт","сумма затрат на мощность, руб","годовой расход электроэнергии, кВтч","тариф на электроэнергию, руб/кВтч","сумма затрат на электроэнергию, руб","Итого затрат на электроэнергию и мощность, руб","тариф на электроэнергию с учетом оплаты за мощность, руб/кВтч","Итого затрат на электроэнергию и мощность, руб","Итого объем электроэнергии, кВтч","тариф на электроэнергию с учетом оплаты за мощность, руб/кВтч"]
[1,null,null,null,{"$f":"IF(D70=0,,F70/D70)","v":0},null,null,null,{"$f":"IF(H70=0,,J70/H70)","v":0},null,null,{"$f":"IF(K70=0,,M70/K70)","v":0},null,{"$f":"J70+M70","v":0},{"$f":"IF(K70=0,,N70/K70)","v":0},{"$f":"F70+N70","v":0},{"$f":"D70+K70","v":0},{"$f":"IF(Q70=0,,P70/Q70)","v":0}]
[2,null,null,null,{"$f":"IF(D71=0,,F71/D71)","v":0},null,null,null,{"$f":"IF(H71=0,,J71/H71)","v":0},null,null,{"$f":"IF(K71=0,,M71/K71)","v":0},null,{"$f":"J71+M71","v":0},{"$f":"IF(K71=0,,N71/K71)","v":0},{"$f":"F71+N71","v":0},{"$f":"D71+K71","v":0},{"$f":"IF(Q71=0,,P71/Q71)","v":0}]
[3,null,null,null,0,null,null,null,0,null,null,0,null,0,0,0,0,0]
[null,null,null,null,{"$f":"IF(D73=0,,F73/D73)","v":0},null,null,null,{"$f":"IF(H73=0,,J73/H73)","v":0},null,null,{"$f":"IF(K73=0,,M73/K73)","v":0},null,{"$f":"J73+M73","v":0},{"$f":"IF(K73=0,,N73/K73)","v":0},{"$f":"F73+N73","v":0},{"$f":"D73+K73","v":0},{"$f":"IF(Q73=0,,P73/Q73)","v":0}]
[null,null,null,null,0,null,null,null,0,null,null,0,null,0,0,0,0,0]
[null,null,null,null,0,null,null,null,0,null,null,0,null,0,0,0,0,0]
[null,null,null,null,0,null,null,null,0,null,null,0,null,0,0,0,0,0]
[null,null,null,null,0,null,null,null,0,null,null,0,null,0,0,0,0,0]
[null,null,null,null,0,null,null,null,0,null,null,0,null,0,0,0,0,0]
[null,null,null,null,0,null,null,null,0,null,null,0,null,0,0,0,0,0]
[null,null,null,null,0,null,null,null,0,null,null,0,null,0,0,0,0,0]
[null,null,null,null,0,null,null,null,0,null,null,0,null,0,0,0,0,0]
[null,null,null,null,0,null,null,null,0,null,null,0,null,0,0,0,0,0]
[null,null,null,null,0,null,null,null,0,null,null,0,null,0,0,0,0,0]
[null,null,null,null,0,null,null,null,0,null,null,0,null,0,0,0,0,0]
[null,null,null,null,0,null,null,null,0,null,null,0,null,0,0,0,0,0]
[null,null,null,null,0,null,null,null,0,null,null,0,null,0,0,0,0,0]
[null,null,null,null,0,null,null,null,0,null,null,0,null,0,0,0,0,0]
[null,null,null,null,0,null,null,null,0,null,null,0,null,0,0,0,0,0]
[null,null,null,null,0,null,null,null,0,null,null,0,null,0,0,0,0,0]
[null,null,null,null,0,null,null,null,0,null,null,0,null,0,0,0,0,0]
[null,null,null,null,0,null,null,null,0,null,null,0,null,0,0,0,0,0]
[null,null,null,null,0,null,null,null,0,null,null,0,null,0,0,0,0,0]
[null,null,null,null,0,null,null,null,0,null,null,0,null,0,0,0,0,0]
[null,null,null,null,0,null,null,null,0,null,null,0,null,0,0,0,0,0]
[null,null,null,null,0,null,null,null,0,null,null,0,null,0,0,0,0,0]
[null,null,null,null,0,null,null,null,0,null,null,0,null,0,0,0,0,0]
[null,null,null,null,0,null,null,null,0,null,null,0,null,0,0,0,0,0]
[null,null,null,null,0,null,null,null,0,null,null,0,null,0,0,0,0,0]
[null,null,null,null,0,null,null,null,0,null,null,0,null,0,0,0,0,0]
[null,null,null,null,0,null,null,null,0,null,null,0,null,0,0,0,0,0]
[null,null,null,null,0,null,null,null,0,null,null,0,null,0,0,0,0,0]
[null,null,null,null,0,null,null,null,0,null,null,0,null,0,0,0,0,0]
[null,null,null,null,0,null,null,null,0,null,null,0,null,0,0,0,0,0]
[null,null,null,null,0,null,null,null,0,null,null,0,null,0,0,0,0,0]
[null,null,null,null,0,null,null,null,0,null,null,0,null,0,0,0,0,0]
[null,null,null,null,0,null,null,null,0,null,null,0,null,0,0,0,0,0]
[null,null,null,null,0,null,null,null,0,null,null,0,null,0,0,0,0,0]
[null,null,null,null,0,null,null,null,0,null,null,0,null,0,0,0,0,0]
[null,null,null,null,0,null,null,null,0,null,null,0,null,0,0,0,0,0]
[null,null,null,null,0,null,null,null,0,null,null,0,null,0,0,0,0,0]
[null,null,null,null,0,null,null,null,0,null,null,0,null,0,0,0,0,0]
[null,null,null,null,0,null,null,null,0,null,null,0,null,0,0,0,0,0]
[null,null,null,null,0,null,null,null,0,null,null,0,null,0,0,0,0,0]
[]
[null,null,null,{"$f":"SUM(D70:D113)","v":0},0,{"$f":"SUM(F70:F113)","v":0},null,{"$f":"SUM(H70:H113)","v":0},0,{"$f":"SUM(J70:J113)","v":0},{"$f":"SUM(K70:K113)","v":0},0,{"$f":"SUM(M70:M113)","v":0},{"$f":"SUM(N70:N113)","v":0},0,{"$f":"SUM(P70:P113)","v":0},0,0]
[null,null,null,null,null,null,null,null,null,null,null,null,null,null,null,{"$f":"P115-E55","v":0},{"$f":"Q115-E58-E62","v":0}]

{"sheet":"ремонт хозспособ","index":15,"n_rows":63,"n_cols":20,"rows_kept":63,"cut":false,"hidden":false,"merged":[[0,0,0,9],[1,0,1,9],[2,0,2,9],[8,2,11,2],[9,8,11,8],[9,6,11,6],[8,3,8,9],[9,7,11,7],[9,9,11,9],[3,0,3,9],[8,0,11,0],[9,3,9,4],[9,5,11,5],[10,3,11,3],[6,0,6,1],[6,2,6,17],[39,0,42,0],[8,1,11,1],[39,1,42,1],[10,4,11,4],[39,2,42,2],[37,2,37,9],[40,3,40,4],[39,3,39,9],[40,8,42,8],[40,5,42,5],[40,6,42,6],[40,7,42,7],[40,9,42,9],[41,3,42,3],[41,4,42,4],[37,10,37,17],[39,10,42,10],[39,11,39,17],[40,13,42,13],[40,14,42,14],[40,15,42,15],[40,16,42,16],[40,17,42,17],[40,11,40,12],[7,2,7,9],[7,10,7,17],[6,18,11,18],[37,18,42,18],[41,11,42,11],[41,12,42,12],[8,10,11,10],[8,11,8,17],[9,11,9,12],[9,13,11,13],[9,14,11,14],[9,15,11,15],[9,16,11,16],[9,17,11,17],[10,11,11,11],[10,12,11,12]]}
["Отчет о выполнении текущего и капитального ремонтов хозспособом "]
[{"$f":"Титульный!C10","v":" "}]
[{"$f":"Титульный!C19","v":0}]
["имущество, переданное по договору аренды или принадлежащее на праве собственности"]
["район",null,{"$f":"Титульный!C6","v":0},null,null,"МО",{"$f":"Титульный!C7","v":0},null,null,null,{"$f":"Титульный!K6","v":0},null,null,"МО",{"$f":"Титульный!K7","v":0}]
["Текущий ремонт"]
["Без расшифровки видов выполненных работ отчет принят не будет!",null,"Расходы на преведение текущего ремонта в 2017 году, руб",null,null,null,null,null,null,null,null,null,null,null,null,null,null,null,"КОММЕНТАРИИ"]
[null,null,"ПО ДАННЫМ ОРГАНИЗАЦИИ",null,null,null,null,null,null,null,"ПО ДАННЫМ ЭКСПЕРТА"]
["Наименование работ","реквизиты документа подтверждающего расходы на проведение ремонта (с указанием тома и страницы материалов дела)","всего","в том числе",null,null,null,null,null,null,"всего","в том числе"]
[null,null,null,"расходы на оплату труда ремонтного персонала ",null,"материалы","транспортные расходы","услуги вспомогательных производств","цеховые (общепроизводственные) расходы","Общехозяйственные расходы",null,"расходы на оплату труда ремонтного персонала ",null,"материалы","транспортные расходы","услуги вспомогательных производств","цеховые (общепроизводственные) расходы","Общехозяйственные расходы"]
[null,null,null,"заработная плата","отчисления от ФОТ",null,null,null,null,null,null,"заработная плата","отчисления от ФОТ"]
[]
[null,null,{"$f":"SUM(D13:J13)","v":0},null,null,null,null,null,null,null,{"$f":"SUM(L13:R13)","v":0},{"$f":"D13","v":0},{"$f":"E13","v":0},0,0,0,0,0]
[null,null,{"$f":"SUM(D14:J14)","v":0},null,null,null,null,null,null,null,{"$f":"SUM(L14:R14)","v":0},{"$f":"D14","v":0},{"$f":"E14","v":0},{"$f":"F14","v":0},{"$f":"G14","v":0},{"$f":"H14","v":0},{"$f":"I14","v":0},{"$f":"J14","v":0}]
[null,null,0,null,null,null,null,null,null,null,0,0,0,0,0,0,0,0]
[null,null,0,null,null,null,null,null,null,null,0,0,0,0,0,0,0,0]
[null,null,0,null,null,null,null,null,null,null,0,0,0,0,0,0,0,0,null,"строки вставлять здесь"]
[null,null,0,null,null,null,null,null,null,null,0,0,0,0,0,0,0,0]
[null,null,0,null,null,null,null,null,null,null,0,0,0,0,0,0,0,0]
[null,null,0,null,null,null,null,null,null,null,0,0,0,0,0,0,0,0]
[null,null,0,null,null,null,null,null,null,null,0,0,0,0,0,0,0,0]
[null,null,0,null,null,null,null,null,null,null,0,0,0,0,0,0,0,0]
[null,null,0,null,null,null,null,null,null,null,0,0,0,0,0,0,0,0]
[null,null,0,null,null,null,null,null,null,null,0,0,0,0,0,0,0,0]
[null,null,0,null,null,null,null,null,null,null,0,0,0,0,0,0,0,0]
[null,null,0,null,null,null,null,null,null,null,0,0,0,0,0,0,0,0]
[null,null,0,null,null,null,null,null,null,null,0,0,0,0,0,0,0,0]
[null,null,0,null,null,null,null,null,null,null,0,0,0,0,0,0,0,0]
[null,null,0,null,null,null,null,null,null,null,0,0,0,0,0,0,0,0]
[null,null,0,null,null,null,null,null,null,null,0,0,0,0,0,0,0,0]
["ВСЕГО","х",{"$f":"SUM(C13:C30)","v":0},0,0,0,0,0,0,0,0,0,0,0,0,0,0,0]
["в том числе","х"]
["подъем воды","х",{"$f":"SUM(D33:J33)","v":0},null,null,null,null,null,null,null,{"$f":"SUM(L33:R33)","v":0},{"$f":"D33","v":0},{"$f":"E33","v":0},{"$f":"F33","v":0},{"$f":"G33","v":0},{"$f":"H33","v":0},{"$f":"I33","v":0},{"$f":"J33","v":0}]
["очистка воды","х",{"$f":"SUM(D34:J34)","v":0},null,null,null,null,null,null,null,{"$f":"SUM(L34:R34)","v":0},0,0,0,0,0,0,0]
["транспортировка воды","х",{"$f":"SUM(D35:J35)","v":0},{"$f":"D31-D33-D34","v":0},{"$f":"E31-E33-E34","v":0},0,0,0,0,0,{"$f":"SUM(L35:R35)","v":0},{"$f":"L31-L33-L34","v":0},{"$f":"M31-M33-M34","v":0},0,0,0,0,0]
[]
["Капитальный ремонт"]
["Без расшифровки видов выполненных работ отчет принят не будет!",null,"Расходы на преведение капитального ремонта в 2017 году, руб",null,null,null,null,null,null,null,"Расходы на преведение капитального ремонта в 2017 году, руб",null,null,null,null,null,null,null,"КОММЕНТАРИИ"]
[]
["Наименование работ","реквизиты документа подтверждающего расходы на проведение ремонта (с указанием тома и страницы материалов дела)","всего","в том числе",null,null,null,null,null,null,"всего","в том числе"]
[null,null,null,"расходы на оплату труда ремонтного персонала ",null,"материалы","транспортные расходы","услуги вспомогательных производств",{"$f":"I10","v":"цеховые (общепроизводственные) расходы"},"Общехозяйственные расходы",null,"расходы на оплату труда ремонтного персонала ",null,"материалы","транспортные расходы","услуги вспомогательных производств",{"$f":"Q10","v":"цеховые (общепроизводственные) расходы"},"Общехозяйственные расходы"]
[null,null,null,"заработная плата","отчисления от ФОТ",null,null,null,null,null,null,"заработная плата","отчисления от ФОТ"]
[]
[null,null,{"$f":"SUM(D44:J44)","v":0},null,null,null,null,null,null,null,{"$f":"SUM(L44:R44)","v":0},{"$f":"D44","v":0},{"$f":"E44","v":0},{"$f":"F44","v":0},{"$f":"G44","v":0},{"$f":"H44","v":0},{"$f":"I44","v":0},{"$f":"J44","v":0}]
[null,null,{"$f":"SUM(D45:J45)","v":0},null,null,null,null,null,null,null,{"$f":"SUM(L45:R45)","v":0},0,0,0,0,0,0,0]
[null,null,0,null,null,null,null,null,null,null,0,0,0,0,0,0,0,0]
[null,null,0,null,null,null,null,null,null,null,0,0,0,0,0,0,0,0]
[null,null,0,null,null,null,null,null,null,null,0,0,0,0,0,0,0,0]
[null,null,0,null,null,null,null,null,null,null,0,0,0,0,0,0,0,0]
[null,null,0,null,null,null,null,null,null,null,0,0,0,0,0,0,0,0]
[null,null,0,null,null,null,null,null,null,null,0,0,0,0,0,0,0,0]
[null,null,0,null,null,null,null,null,null,null,0,0,0,0,0,0,0,0]
[null,null,{"$f":"SUM(D53:J53)","v":0},null,null,null,null,null,null,null,{"$f":"SUM(L53:R53)","v":0},0,0,0,0,0,0,0,null,"строки вставлять здесь"]
[null,null,{"$f":"SUM(D54:J54)","v":0},null,null,null,null,null,null,null,{"$f":"SUM(L54:R54)","v":0},0,0,0,0,0,0,0]
[null,null,0,null,null,null,null,null,null,null,0,0,0,0,0,0,0,0]
[null,null,0,null,null,null,null,null,null,null,0,0,0,0,0,0,0,0]
[null,null,0,null,null,null,null,null,null,null,0,0,0,0,0,0,0,0]
[null,null,null,null,null,null,null,null,null,null,null,0,0,0,0,0,0,0]
["ВСЕГО","х",{"$f":"SUM(C44:C57)","v":0},0,0,0,0,0,0,0,{"$f":"SUM(K44:K57)","v":0},0,0,0,0,0,0,0]
["в том числе","х"]
["подъем воды","х",{"$f":"SUM(D61:J61)","v":0},null,null,null,null,null,null,null,{"$f":"SUM(L61:R61)","v":0},{"$f":"D61","v":0},{"$f":"E61","v":0},{"$f":"F61","v":0},{"$f":"G61","v":0},{"$f":"H61","v":0},{"$f":"I61","v":0},{"$f":"J61","v":0}]
["очистка воды","х",{"$f":"SUM(D62:J62)","v":0},null,null,null,null,null,null,null,{"$f":"SUM(L62:R62)","v":0},0,0,0,0,0,0,0]
["транспортировка воды","х",{"$f":"SUM(D63:J63)","v":0},{"$f":"D59-D61-D62","v":0},{"$f":"E59-E61-E62","v":0},{"$f":"F59-F61-F62","v":0},{"$f":"G59-G61-G62","v":0},{"$f":"H59-H61-H62","v":0},{"$f":"I59-I61-I62","v":0},{"$f":"J59-J61-J62","v":0},{"$f":"SUM(L63:R63)","v":0},{"$f":"L59-L61-L62","v":0},{"$f":"M59-M61-M62","v":0},0,0,0,0,0]

{"sheet":"ремонт хозспособ (бсх)","index":16,"n_rows":68,"n_cols":20,"rows_kept":68,"cut":false,"hidden":false,"merged":[[0,0,0,9],[1,0,1,9],[2,0,2,9],[8,0,11,0],[8,2,11,2],[8,3,8,9],[9,3,9,4],[10,3,11,3],[10,4,11,4],[9,5,11,5],[9,6,11,6],[9,7,11,7],[3,0,3,9],[6,0,7,0],[6,1,11,1],[6,2,6,17],[42,0,45,0],[42,2,45,2],[42,3,42,9],[43,3,43,4],[43,9,45,9],[44,3,45,3],[44,4,45,4],[43,8,45,8],[43,5,45,5],[43,6,45,6],[40,1,45,1],[40,0,41,0],[43,7,45,7],[7,2,7,9],[7,10,7,17],[9,8,11,8],[9,9,11,9],[41,10,41,17],[8,10,11,10],[8,11,8,17],[9,11,9,12],[9,13,11,13],[9,14,11,14],[9,15,11,15],[9,16,11,16],[9,17,11,17],[6,18,11,18],[40,18,45,18],[42,10,45,10],[42,11,42,17],[43,11,43,12],[43,13,45,13],[43,14,45,14],[43,15,45,15],[43,16,45,16],[43,17,45,17],[44,11,45,11],[44,12,45,12],[40,2,40,17],[41,2,41,9],[10,11,11,11],[10,12,11,12]]}
["Отчет о выполнении текущего и капитального ремонтов хозспособом "]
[{"$f":"Титульный!C10","v":" "}]
[{"$f":"Титульный!C19","v":0}]
["Объекты бесхозяйного имущества"]
["район",null,{"$f":"Титульный!C6","v":0},null,null,"МО",{"$f":"Титульный!C7","v":0},null,null,null,{"$f":"Титульный!K6","v":0},null,null,"МО",{"$f":"Титульный!K7","v":0}]
["Текущий ремонт"]
["Без расшифровки видов выполненных работ отчет принят не будет!","реквизиты документа подтверждающего расходы на проведение ремонта (с указанием тома и страницы материалов дела)","Расходы на преведение текущего ремонта в 2017 году, руб ",null,null,null,null,null,null,null,null,null,null,null,null,null,null,null,"КОММЕНТАРИИ"]
[null,null,"ПО ДАННЫМ ОРГАНИЗАЦИИ",null,null,null,null,null,null,null,"ПО ДАННЫМ ЭКСПЕРТА"]
["Наименование работ",null,"всего","в том числе",null,null,null,null,null,null,"всего","в том числе"]
[null,null,null,"расходы на оплату труда ремонтного персонала ",null,"материалы","транспортные расходы","услуги вспомогательных производств","цеховые (общепроизводственные) расходы","Общехозяйственные расходы",null,"расходы на оплату труда ремонтного персонала ",null,"материалы","транспортные расходы","услуги вспомогательных производств","цеховые (общепроизводственные) расходы","Общехозяйственные расходы"]
[null,null,null,"заработная плата","отчисления от ФОТ",null,null,null,null,null,null,"заработная плата","отчисления от ФОТ"]
[]
[null,null,{"$f":"SUM(D13:J13)","v":0},null,null,null,null,null,null,null,{"$f":"SUM(L13:R13)","v":0},{"$f":"D13","v":0},{"$f":"E13","v":0},0,0,0,0,0]
[null,null,{"$f":"SUM(D14:J14)","v":0},null,null,null,null,null,null,null,{"$f":"SUM(L14:R14)","v":0},{"$f":"D14","v":0},{"$f":"E14","v":0},{"$f":"F14","v":0},{"$f":"G14","v":0},{"$f":"H14","v":0},{"$f":"I14","v":0},{"$f":"J14","v":0}]
[null,null,0,null,null,null,null,null,null,null,0,0,0,0,0,0,0,0]
[null,null,0,null,null,null,null,null,null,null,0,0,0,0,0,0,0,0]
[null,null,0,null,null,null,null,null,null,null,0,0,0,0,0,0,0,0]
[null,null,0,null,null,null,null,null,null,null,0,0,0,0,0,0,0,0,null,"строки вставлять здесь"]
[null,null,0,null,null,null,null,null,null,null,0,0,0,0,0,0,0,0]
[null,null,0,null,null,null,null,null,null,null,0,0,0,0,0,0,0,0]
[null,null,0,null,null,null,null,null,null,null,0,0,0,0,0,0,0,0]
[null,null,0,null,null,null,null,null,null,null,0,0,0,0,0,0,0,0]
[null,null,0,null,null,null,null,null,null,null,0,0,0,0,0,0,0,0]
[null,null,0,null,null,null,null,null,null,null,0,0,0,0,0,0,0,0]
[null,null,0,null,null,null,null,null,null,null,0,0,0,0,0,0,0,0]
[null,null,0,null,null,null,null,null,null,null,0,0,0,0,0,0,0,0]
[null,null,0,null,null,null,null,null,null,null,0,0,0,0,0,0,0,0]
[null,null,0,null,null,null,null,null,null,null,0,0,0,0,0,0,0,0]
[null,null,0,null,null,null,null,null,null,null,0,0,0,0,0,0,0,0]
[null,null,0,null,null,null,null,null,null,null,0,0,0,0,0,0,0,0]
[null,null,0,null,null,null,null,null,null,null,0,0,0,0,0,0,0,0]
[null,null,0,null,null,null,null,null,null,null,0,0,0,0,0,0,0,0]
[null,null,0,null,null,null,null,null,null,null,0,0,0,0,0,0,0,0]
["ВСЕГО","х",{"$f":"SUM(C13:C33)","v":0},{"$f":"SUM(D13:D33)","v":0},{"$f":"SUM(E13:E33)","v":0},0,0,0,0,0,{"$f":"SUM(K13:K33)","v":0},{"$f":"SUM(L13:L33)","v":0},{"$f":"SUM(M13:M33)","v":0},0,0,0,0,0]
["в том числе","х"]
["подъем воды","х",{"$f":"SUM(D36:J36)","v":0},null,null,null,null,null,null,null,{"$f":"SUM(L36:R36)","v":0},{"$f":"D36","v":0},{"$f":"E36","v":0},{"$f":"F36","v":0},{"$f":"G36","v":0},{"$f":"H36","v":0},{"$f":"I36","v":0},{"$f":"J36","v":0}]
["очистка воды","х",{"$f":"SUM(D37:J37)","v":0},null,null,null,null,null,null,null,{"$f":"SUM(L37:R37)","v":0},0,0,0,0,0,0,0]
["транспортировка воды","х",{"$f":"SUM(D38:J38)","v":0},{"$f":"D34-D36-D37","v":0},{"$f":"E34-E36-E37","v":0},0,0,0,0,0,{"$f":"SUM(L38:R38)","v":0},{"$f":"L34-L36-L37","v":0},{"$f":"M34-M36-M37","v":0},0,0,0,0,0]
[]
["Капитальный ремонт"]
["Без расшифровки видов выполненных работ отчет принят не будет!","реквизиты документа подтверждающего расходы на проведение ремонта (с указанием тома и страницы материалов дела)","Расходы на преведение капитального ремонта в 2017 году, руб",null,null,null,null,null,null,null,null,null,null,null,null,null,null,null,"КОММЕНТАРИИ"]
[null,null,"ПО ДАННЫМ ОРГАНИЗАЦИИ",null,null,null,null,null,null,null,"ПО ДАННЫМ ЭКСПЕРТА"]
["Наименование работ",null,"всего","в том числе",null,null,null,null,null,null,"всего","в том числе"]
[null,null,null,"расходы на оплату труда ремонтного персонала ",null,"материалы","транспортные расходы","услуги вспомогательных производств",{"$f":"I10","v":"цеховые (общепроизводственные) расходы"},"Общехозяйственные расходы",null,"расходы на оплату труда ремонтного персонала ",null,"материалы","транспортные расходы","услуги вспомогательных производств",{"$f":"Q10","v":"цеховые (общепроизводственные) расходы"},"Общехозяйственные расходы"]
[null,null,null,"заработная плата","отчисления от ФОТ",null,null,null,null,null,null,"заработная плата","отчисления от ФОТ"]
[]
[null,null,{"$f":"SUM(D47:J47)","v":0},null,null,null,null,null,null,null,{"$f":"SUM(L47:R47)","v":0},{"$f":"D47","v":0},{"$f":"E47","v":0},{"$f":"F47","v":0},{"$f":"G47","v":0},{"$f":"H47","v":0},{"$f":"I47","v":0},{"$f":"J47","v":0}]
[null,null,{"$f":"SUM(D48:J48)","v":0},null,null,null,null,null,null,null,{"$f":"SUM(L48:R48)","v":0},0,0,0,0,0,0,0]
[null,null,0,null,null,null,null,null,null,null,0,0,0,0,0,0,0,0]
[null,null,0,null,null,null,null,null,null,null,0,0,0,0,0,0,0,0]
[null,null,0,null,null,null,null,null,null,null,0,0,0,0,0,0,0,0]
[null,null,0,null,null,null,null,null,null,null,0,0,0,0,0,0,0,0]
[null,null,0,null,null,null,null,null,null,null,0,0,0,0,0,0,0,0]
[null,null,0,null,null,null,null,null,null,null,0,0,0,0,0,0,0,0]
[null,null,0,null,null,null,null,null,null,null,0,0,0,0,0,0,0,0]
[null,null,0,null,null,null,null,null,null,null,0,0,0,0,0,0,0,0]
[null,null,0,null,null,null,null,null,null,null,0,0,0,0,0,0,0,0]
[null,null,0,null,null,null,null,null,null,null,0,0,0,0,0,0,0,0]
[null,null,0,null,null,null,null,null,null,null,0,0,0,0,0,0,0,0]
[null,null,0,null,null,null,null,null,null,null,0,0,0,0,0,0,0,0]
["ВСЕГО","х",{"$f":"SUM(C47:C60)","v":0},0,0,0,0,0,0,0,{"$f":"SUM(K47:K60)","v":0},0,0,0,0,0,0,0]
["в том числе","х"]
["подъем воды","х",{"$f":"SUM(D63:J63)","v":0},null,null,null,null,null,null,null,{"$f":"SUM(L63:R63)","v":0},{"$f":"D63","v":0},{"$f":"E63","v":0},{"$f":"F63","v":0},{"$f":"G63","v":0},{"$f":"H63","v":0},{"$f":"I63","v":0},{"$f":"J63","v":0}]
["очистка воды","х",{"$f":"SUM(D64:J64)","v":0},null,null,null,null,null,null,null,{"$f":"SUM(L64:R64)","v":0},0,0,0,0,0,0,0]
["транспортировка воды","х",{"$f":"SUM(D65:J65)","v":0},{"$f":"D61-D63-D64","v":0},{"$f":"E61-E63-E64","v":0},0,0,0,0,0,{"$f":"SUM(L65:R65)","v":0},{"$f":"L61-L63-L64","v":0},{"$f":"M61-M63-M64","v":0},0,0,0,0,0]
[]
[]
[{"$f":"'данные об организации'!#REF!","v":{"$error":"#REF!"}}]

{"sheet":"ремонт подряд","index":17,"n_rows":60,"n_cols":16,"rows_kept":60,"cut":false,"hidden":false,"merged":[[11,5,11,6],[10,5,10,8],[10,4,12,4],[11,7,12,7],[11,8,12,8],[0,0,0,4],[1,0,1,4],[2,0,2,4],[6,0,6,4],[8,0,12,0],[8,1,12,1],[8,2,12,2],[8,3,12,3],[35,0,39,0],[35,1,39,1],[35,2,39,2],[35,3,39,3],[35,4,35,8],[37,4,39,4],[37,5,37,8],[38,5,38,6],[38,7,39,7],[38,8,39,8],[36,4,36,8],[8,14,12,14],[35,14,39,14],[35,9,35,13],[37,9,39,9],[37,10,37,13],[38,10,38,11],[38,12,39,12],[38,13,39,13],[10,9,12,9],[10,10,10,13],[11,10,11,11],[11,12,12,12],[11,13,12,13],[8,4,8,13],[9,4,9,8],[9,9,9,13]]}
["Отчет о выполнении текущего и капитального ремонтов подрядным способом"]
[{"$f":"Титульный!C10","v":" "}]
[{"$f":"Титульный!C19","v":0}]
[]
["район",null,null,{"$f":"Титульный!C6","v":0}]
["МО",null,null,{"$f":"Титульный!C7","v":0}]
["имущество, переданное по договору аренды или принадлежащее на праве собственности"]
["Текущий ремонт"]
["Наименование работ","период / дата выполнения работ","Наименование организации- подрядчика","№ договора (с указанием тома и страницы материалов дела)","Сумма в 2017 году, руб",null,null,null,null,null,null,null,null,null,"КОММЕНТРАИИ"]
[null,null,null,null,"ПО ДАННЫМ ОРГАНИЗАЦИИ",null,null,null,null,"ПО ДАННЫМ ЭКСПЕРТА"]
[null,null,null,null,"всего","в том числе:",null,null,null,"всего","в том числе:"]
[null,null,null,null,null,"расходы на оплату труда ремонтного персонала ",null,"материалы","транспортные расходы",null,"расходы на оплату труда ремонтного персонала ",null,"материалы","транспортные расходы"]
[null,null,null,null,null,"заработная плата","отчисления от ФОТ",null,null,null,"заработная плата","отчисления от ФОТ"]
[null,null,null,null,{"$f":"SUM(F14:I14)","v":0},null,null,null,null,{"$f":"SUM(K14:N14)","v":0},{"$f":"F14","v":0},{"$f":"G14","v":0},0,0]
[null,null,null,null,{"$f":"SUM(F15:I15)","v":0},null,null,null,null,{"$f":"SUM(K15:N15)","v":0},{"$f":"F15","v":0},{"$f":"G15","v":0},{"$f":"H15","v":0},{"$f":"I15","v":0}]
[null,null,null,null,0,null,null,null,null,0,0,0,0,0]
[null,null,null,null,0,null,null,null,null,0,0,0,0,0]
[null,null,null,null,0,null,null,null,null,0,0,0,0,0]
[null,null,null,null,0,null,null,null,null,0,0,0,0,0,null,"строки вставлять здесь"]
[null,null,null,null,0,null,null,null,null,0,0,0,0,0]
[null,null,null,null,0,null,null,null,null,0,0,0,0,0]
[null,null,null,null,0,null,null,null,null,0,0,0,0,0]
[null,null,null,null,0,null,null,null,null,0,0,0,0,0]
[null,null,null,null,0,null,null,null,null,0,0,0,0,0]
[null,null,null,null,0,null,null,null,null,0,0,0,0,0]
[null,null,null,null,0,null,null,null,null,0,0,0,0,0]
[null,null,null,null,0,null,null,null,null,0,0,0,0,0]
[null,null,null,null,0,null,null,null,null,0,0,0,0,0]
["ВСЕГО",null,"х","х",{"$f":"SUM(E14:E28)","v":0},null,null,null,null,{"$f":"SUM(J14:J28)","v":0}]
["в том числе"]
["подъем воды",null,null,null,{"$f":"SUM(F31:I31)","v":0},null,null,null,null,{"$f":"SUM(K31:N31)","v":0},{"$f":"F31","v":0},{"$f":"G31","v":0},{"$f":"H31","v":0},{"$f":"I31","v":0}]
["очистка воды",null,null,null,{"$f":"SUM(F32:I32)","v":0},null,null,null,null,0,{"$f":"F32","v":0},0,0,0]
["транспортировка воды",null,null,null,{"$f":"E29-E31-E32","v":0},null,null,null,null,{"$f":"J29-J31-J32","v":0}]
[]
["Капитальный ремонт"]
["Наименование работ","период / дата выполнения работ","Наименование организации- подрядчика","№ договора (с указанием тома и страницы материалов дела)","Сумма в 2017 году, руб",null,null,null,null,"Сумма в 2017 году, руб",null,null,null,null,"КОММЕНТРАИИ"]
[null,null,null,null,"ПО ДАННЫМ ОРГАНИЗАЦИИ "]
[null,null,null,null,"всего","в том числе:",null,null,null,"всего","в том числе:"]
[null,null,null,null,null,"расходы на оплату труда ремонтного персонала ",null,"материалы","транспортные расходы",null,"расходы на оплату труда ремонтного персонала ",null,"материалы","транспортные расходы"]
[null,null,null,null,null,"заработная плата","отчисления от ФОТ",null,null,null,"заработная плата","отчисления от ФОТ"]
[null,null,null,null,{"$f":"SUM(F41:I41)","v":0},null,null,null,null,{"$f":"SUM(K41:N41)","v":0},{"$f":"F41","v":0},{"$f":"G41","v":0},{"$f":"H41","v":0},{"$f":"I41","v":0}]
[null,null,null,null,{"$f":"SUM(F42:I42)","v":0},null,null,null,null,{"$f":"SUM(K42:N42)","v":0},{"$f":"F42","v":0},0,0,0]
[null,null,null,null,{"$f":"SUM(F43:I43)","v":0},null,null,null,null,0,0,0,0,0]
[null,null,null,null,0,null,null,null,null,0,0,0,0,0,null,"строки вставлять здесь"]
[null,null,null,null,0,null,null,null,null,0,0,0,0,0]
[null,null,null,null,0,null,null,null,null,0,0,0,0,0]
[null,null,null,null,0,null,null,null,null,0,0,0,0,0]
[null,null,null,null,0,null,null,null,null,0,0,0,0,0]
[null,null,null,null,0,null,null,null,null,0,0,0,0,0]
[null,null,null,null,0,null,null,null,null,0,0,0,0,0]
[]
[]
[]
[]
[]
["ВСЕГО",null,"х","х",{"$f":"SUM(E41:E56)","v":0},null,null,null,null,{"$f":"SUM(J41:O55)","v":0}]
["в том числе"]
["подъем воды",null,null,null,{"$f":"SUM(F58:I58)","v":0},null,null,null,null,{"$f":"SUM(K58:N58)","v":0},{"$f":"F58","v":0},{"$f":"G58","v":0},{"$f":"H58","v":0},{"$f":"I58","v":0}]
["очистка воды",null,null,null,{"$f":"SUM(F59:I59)","v":0},null,null,null,null,0,0,0,0,0]
["транспортировка воды",null,null,null,{"$f":"E56-E58-E59","v":0},null,null,null,null,{"$f":"J56-J58-J59","v":0}]

{"sheet":"ремонт подряд (бсх)","index":18,"n_rows":55,"n_cols":16,"rows_kept":55,"cut":false,"hidden":false,"merged":[[0,0,0,3],[1,0,1,3],[2,0,2,3],[6,0,6,3],[31,0,35,0],[31,1,35,1],[31,2,35,2],[31,3,35,3],[8,0,12,0],[8,1,12,1],[8,2,12,2],[8,3,12,3],[31,4,31,8],[33,4,35,4],[33,5,33,8],[34,5,34,6],[34,7,35,7],[34,8,35,8],[32,4,32,8],[8,4,8,8],[10,4,12,4],[10,5,10,8],[11,5,11,6],[11,7,12,7],[11,8,12,8],[9,4,9,8],[31,14,35,14],[8,14,12,14],[10,9,12,9],[10,10,10,13],[11,10,11,11],[11,12,12,12],[11,13,12,13],[8,9,8,13],[31,9,31,13],[33,9,35,9],[33,10,33,13],[34,10,34,11],[34,12,35,12],[34,13,35,13]]}
["Отчет о выполнении текущего и капитального ремонтов подрядным способом"]
[{"$f":"Титульный!C10","v":" "}]
[{"$f":"Титульный!C19","v":0}]
[]
["район",null,{"$f":"Титульный!C6","v":0}]
["МО",null,{"$f":"Титульный!C7","v":0}]
["Объекты бесхозяйного имущества"]
["Текущий ремонт"]
["Наименование работ","период / дата выполнения работ","Наименование организации- подрядчика","№ договора (с указанием тома и страницы материалов дела)","Сумма в 2017 году, руб",null,null,null,null,"Сумма в 2017 году, руб",null,null,null,null,"КОММЕНТАРИИ"]
[null,null,null,null,"ПО ДАННЫМ ОРГАНИЗАЦИИ "]
[null,null,null,null,"всего","в том числе:",null,null,null,"всего","в том числе:"]
[null,null,null,null,null,"расходы на оплату труда ремонтного персонала ",null,"материалы","транспортные расходы",null,"расходы на оплату труда ремонтного персонала ",null,"материалы","транспортные расходы"]
[null,null,null,null,null,"заработная плата","отчисления от ФОТ",null,null,null,"заработная плата","отчисления от ФОТ"]
[null,null,null,null,{"$f":"SUM(F14:I14)","v":0},null,null,null,null,{"$f":"SUM(K14:N14)","v":0},{"$f":"F14","v":0},{"$f":"G14","v":0},0,0]
[null,null,null,null,0,null,null,null,null,0,0,0,0,0]
[null,null,null,null,0,null,null,null,null,0,0,0,0,0]
[null,null,null,null,0,null,null,null,null,0,0,0,0,0]
[null,null,null,null,0,null,null,null,null,0,0,0,0,0]
[null,null,null,null,0,null,null,null,null,0,0,0,0,0]
[null,null,null,null,0,null,null,null,null,0,0,0,0,0]
[null,null,null,null,0,null,null,null,null,0,0,0,0,0,null,"строки вставлять здесь"]
[null,null,null,null,0,null,null,null,null,0,0,0,0,0]
[null,null,null,null,0,null,null,null,null,0,0,0,0,0]
["ВСЕГО","х","х",{"$f":"SUM(D14:D23)","v":0}]
["в том числе"]
["подъем воды",null,null,null,{"$f":"SUM(F26:I26)","v":0},null,null,null,null,{"$f":"SUM(K26:N26)","v":0},{"$f":"F26","v":0},{"$f":"G26","v":0},0,0]
["очистка воды",null,null,null,{"$f":"SUM(F27:I27)","v":0},null,null,null,null,{"$f":"SUM(K27:N27)","v":0},{"$f":"F27","v":0},0,0,0]
["транспортировка воды",null,null,{"$f":"D24-D26-D27","v":0}]
[]
[]
["Капитальный ремонт"]
["Наименование работ","период / дата выполнения работ","Наименование организации- подрядчика","№ договора (с указанием тома и страницы материалов дела)","Сумма в 2017 году, руб",null,null,null,null,"Сумма в 2017 году, руб",null,null,null,null,"КОММЕНТАРИИ"]
[null,null,null,null,"ПО ДАННЫМ ОРГАНИЗАЦИИ "]
[null,null,null,null,"всего","в том числе:",null,null,null,"всего","в том числе:"]
[null,null,null,null,null,"расходы на оплату труда ремонтного персонала ",null,"материалы","транспортные расходы",null,"расходы на оплату труда ремонтного персонала ",null,"материалы","транспортные расходы"]
[null,null,null,null,null,"заработная плата","отчисления от ФОТ",null,null,null,"заработная плата","отчисления от ФОТ"]
[null,null,null,null,{"$f":"SUM(F37:I37)","v":0},null,null,null,null,{"$f":"SUM(K37:N37)","v":0},{"$f":"F37","v":0},{"$f":"G37","v":0},0,0]
[null,null,null,null,0,null,null,null,null,0,0,0,0,0]
[null,null,null,null,0,null,null,null,null,0,0,0,0,0]
[null,null,null,null,0,null,null,null,null,0,0,0,0,0]
[null,null,null,null,0,null,null,null,null,0,0,0,0,0]
[null,null,null,null,0,null,null,null,null,0,0,0,0,0]
[null,null,null,null,0,null,null,null,null,0,0,0,0,0,null,"строки вставлять здесь"]
[null,null,null,null,0,null,null,null,null,0,0,0,0,0]
[null,null,null,null,0,null,null,null,null,0,0,{"$f":"G45","v":0},0,0]
[null,null,null,null,0,null,null,null,null,0,0,0,0,0]
[null,null,null,null,null,null,null,null,null,null,null,null,null,null,null,"строки вставлять здесь"]
[]
[]
[]
["ВСЕГО","х","х",{"$f":"SUM(D37:I50)","v":0}]
["в том числе"]
["подъем воды",null,null,null,{"$f":"SUM(F53:I53)","v":0},null,null,null,null,{"$f":"SUM(K53:N53)","v":0},{"$f":"F53","v":0},{"$f":"G53","v":0},0,0]
["очистка воды",null,null,null,{"$f":"SUM(F54:I54)","v":0},null,null,null,null,{"$f":"SUM(K54:N54)","v":0},{"$f":"F54","v":0},0,0,0]
["транспортировка воды",null,null,{"$f":"D51-D53-D54","v":0}]

{"sheet":"форма №2","index":19,"n_rows":171,"n_cols":4,"rows_kept":171,"cut":false,"hidden":false,"merged":[[0,0,0,2],[1,0,1,2],[4,2,5,2],[4,0,5,0],[4,1,5,1]]}
["Отчёт по бухгалтерской форме № 2 за 2017 год  с детализацией по видам деятельности"]
[{"$f":"Титульный!C10","v":" "}]
["Район",{"$f":"Титульный!C7","v":0},"МО",{"$f":"Титульный!C8","v":0}]
[]
["№ п/п","Наименование показателя","Сумма по данным организации, руб"]
[]
["I","Доходы и расходы по обычным видам деятельности"]
["1.1","Выручка (нетто) от продажи товаров, продукции, работ, услуг (за минусом налога на добавленную стоимость, акцизов и аналогичных обязательных платежей)",{"$f":"SUM(C9:C23)","v":0}]
["1.1.1","тепловая энергия"]
["1.1.2","электроэнергия"]
["1.1.3","горячая вода"]
["1.1.4",{"$f":"Титульный!C19","v":0},{"$f":"'отчет по реализации'!R77","v":0}]
["1.1.5","объекты бесхозяйного имущества вода"]
["1.1.6","водоотведение"]
["1.1.7","очистка сточных вод"]
["1.1.8","техническая вода"]
["1.1.9","очистка воды"]
["1.1.10"]
["1.1.11"]
["1.1.12"]
["1.1.13"]
["1.1.14"]
["1.1.15","прочие (нерегулируемые) виды деятельности"]
["1.2","Себестоимость проданных товаров, продукции, работ, услуг",{"$f":"SUM(C25:C39)","v":0}]
["1.2.1",{"$f":"B9","v":"тепловая энергия"}]
["1.2.2","электроэнергия"]
["1.2.3","горячая вода"]
["1.2.4",0]
["1.2.5","объекты бесхозяйного имущества вода"]
["1.2.6","водоотведение"]
["1.2.7","очистка сточных вод"]
["1.2.8","техническая вода"]
["1.2.9","очистка воды"]
["1.2.10",0]
["1.2.11",0]
["1.2.12",0]
["1.2.13",0]
["1.2.14",0]
["1.2.15","прочие (нерегулируемые) виды деятельности"]
["1.3","Валовая прибыль",{"$f":"SUM(C41:C55)","v":0}]
["1.3.1",{"$f":"B25","v":"тепловая энергия"},{"$f":"C9-C25","v":0}]
["1.3.2","электроэнергия",{"$f":"C10-C26","v":0}]
["1.3.3","горячая вода",0]
["1.3.4",0,0]
["1.3.5","объекты бесхозяйного имущества вода",0]
["1.3.6","водоотведение",0]
["1.3.7","очистка сточных вод",0]
["1.3.8","техническая вода",0]
["1.3.9","очистка воды",0]
["1.3.10",0,0]
["1.3.11",0,0]
["1.3.12",0,0]
["1.3.13",0,0]
["1.3.14",0,0]
["1.3.15","прочие (нерегулируемые) виды деятельности",0]
["1.4","Коммерческие расходы",{"$f":"SUM(C57:C71)","v":0}]
["1.4.1",{"$f":"B41","v":"тепловая энергия"}]
["1.4.2","электроэнергия"]
["1.4.3","горячая вода"]
["1.4.4",0]
["1.4.5","объекты бесхозяйного имущества вода"]
["1.4.6","водоотведение"]
["1.4.7","очистка сточных вод"]
["1.4.8","техническая вода"]
["1.4.9","очистка воды"]
["1.4.10",0]
["1.4.11",0]
["1.4.12",0]
["1.4.13",{"$f":"B53","v":0}]
["1.4.14",0]
["1.4.15","прочие (нерегулируемые) виды деятельности"]
["1.5","Управленческие расходы",{"$f":"SUM(C73:C87)","v":0}]
["1.5.1",{"$f":"B57","v":"тепловая энергия"}]
["1.5.2","электроэнергия"]
["1.5.3","горячая вода"]
["1.5.4",0]
["1.5.5","объекты бесхозяйного имущества вода"]
["1.5.6","водоотведение"]
["1.5.7","очистка сточных вод"]
["1.5.8","техническая вода"]
["1.5.9","очистка воды"]
["1.5.10",0]
["1.5.11",0]
["1.5.12",0]
["1.5.13",{"$f":"B69","v":0}]
["1.5.14",0]
["1.5.15","прочие (нерегулируемые) виды деятельности"]
["1.6","Прибыль (убыток) от продаж ",{"$f":"SUM(C89:C103)","v":0}]
["1.6.1",{"$f":"B9","v":"тепловая энергия"},{"$f":"C41-C57-C73","v":0}]
["1.6.2","электроэнергия",{"$f":"C42-C58-C74","v":0}]
["1.6.3","горячая вода",0]
["1.6.4",0,0]
["1.6.5","объекты бесхозяйного имущества вода",0]
["1.6.6","водоотведение",0]
["1.6.7","очистка сточных вод",0]
["1.6.8","техническая вода",0]
["1.6.9","очистка воды",0]
["1.6.10",0,0]
["1.6.11",0,0]
["1.6.12",0,0]
["1.6.13",0,0]
["1.6.14",0,0]
["1.6.15","прочие (нерегулируемые) виды деятельности",0]
["II","Прочие доходы и расходы",{"$f":"C105-C121","v":0}]
["2.3","Прочие доходы",{"$f":"SUM(C106:C120)","v":0}]
["2.3.1",{"$f":"B89","v":"тепловая энергия"}]
["2.3.2",{"$f":"B90","v":"электроэнергия"}]
["2.3.3","горячая вода"]
["2.3.4",0]
["2.3.5","объекты бесхозяйного имущества вода"]
["2.3.6","водоотведение"]
["2.3.7","очистка сточных вод"]
["2.3.8","техническая вода"]
["2.3.9","очистка воды"]
["2.3.10",0]
["2.3.11",0]
["2.3.12",0]
["2.3.13",0]
["2.3.14",0]
["2.3.15","прочие (нерегулируемые) виды деятельности"]
["2.4","Прочие расходы",{"$f":"SUM(C122:C136)","v":0}]
["2.4.1",{"$f":"B106","v":"тепловая энергия"}]
["2.4.2",{"$f":"B107","v":"электроэнергия"}]
["2.4.3","горячая вода"]
["2.4.4",0]
["2.4.5","объекты бесхозяйного имущества вода"]
["2.4.6","водоотведение"]
["2.4.7","очистка сточных вод"]
["2.4.8","техническая вода"]
["2.4.9","очистка воды"]
["2.4.10",0]
["2.4.11",0]
["2.4.12",0]
["2.4.13",0]
["2.4.14",0]
["2.4.15","прочие (нерегулируемые) виды деятельности"]
["3","Прибыль (убыток) до налогообложения ",{"$f":"SUM(C138:C152)","v":0}]
["3.1.1",{"$f":"B9","v":"тепловая энергия"},{"$f":"C89+C106-C122","v":0}]
["3.1.2",{"$f":"B10","v":"электроэнергия"},{"$f":"C90+C107-C123","v":0}]
["3.1.3","горячая вода",0]
["3.1.4",0,0]
["3.1.5","объекты бесхозяйного имущества вода",0]
["3.1.6","водоотведение",0]
["3.1.7","очистка сточных вод",0]
["3.1.8","техническая вода",0]
["3.1.9","очистка воды",0]
["3.1.10",0,0]
["3.1.11",0,0]
["3.1.12",0,0]
["3.1.13",0,0]
["3.1.14",0,0]
["3.1.15","прочие (нерегулируемые) виды деятельности",0]
["3.2.2","Текущий налог на прибыль",{"$f":"SUM(C154:C168)","v":0}]
["3.2.2.1",{"$f":"B25","v":"тепловая энергия"}]
["3.2.2.2",{"$f":"B26","v":"электроэнергия"}]
["3.2.2.3","горячая вода"]
["3.2.2.4",0]
["3.2.2.5","объекты бесхозяйного имущества вода"]
["3.2.2.6","водоотведение"]
["3.2.2.7","очистка сточных вод"]
["3.2.2.8","техническая вода"]
["3.2.2.9","очистка воды"]
["3.2.2.10",0]
["3.2.2.11",0]
["3.2.2.12",0]
["3.2.2.13",0]
["3.2.2.14",0]
["3.2.2.15","прочие (нерегулируемые) виды деятельности"]
[]
[]
["5.","Чистая прибыль (убыток) отчетного периода",{"$f":"C137-C153+C169+C170","v":0}]

{"sheet":"показатели раздельного учета 1","index":20,"n_rows":28,"n_cols":33,"rows_kept":28,"cut":false,"hidden":false,"merged":[[7,17,7,32],[8,18,8,32],[7,0,9,0],[7,1,7,16],[8,1,9,1],[8,2,8,16],[8,17,9,17]]}
[null,null,"Показатели раздельного учета доходов и расходов  за 2017 год"]
[]
["Организация",null,{"$f":"Титульный!C10","v":" "}]
[]
["район",{"$f":"Титульный!C6","v":0},null,null,"МО",{"$f":"Титульный!C7","v":0}]
[]
["тыс.руб.",null,"для заполнения ООО \"Томскводоканал\", ОАО \"Северский водоканал\", ООО \"Стрежевой энергокомплекс\", ООО \"ЭнергонефтьТомск\"",null,null,null,null,null,null,null,null,null,null,null,null,null,null,null,null,null,null,null,null,null,null,"тыс.руб"]
["Наименование статьи","по Бухгалтерскому учету",null,null,null,null,null,null,null,null,null,null,null,null,null,null,null,"по Налоговому учету"]
[null,"За отчетный период (2017 год), всего по предприятию","из графы 2 по видам деятельности",null,null,null,null,null,null,null,null,null,null,null,null,null,null,"За отчетный период (2017 год), всего по предприятию","из графы 18 по видам деятельности"]
[null,null,{"$f":"'форма №2'!B9","v":"тепловая энергия"},{"$f":"'форма №2'!B10","v":"электроэнергия"},{"$f":"'форма №2'!B11","v":"горячая вода"},{"$f":"'форма №2'!B12","v":0},{"$f":"'форма №2'!B13","v":"объекты бесхозяйного имущества вода"},{"$f":"'форма №2'!B14","v":"водоотведение"},{"$f":"'форма №2'!B15","v":"очистка сточных вод"},{"$f":"'форма №2'!B16","v":"техническая вода"},{"$f":"'форма №2'!B17","v":"очистка воды"},{"$f":"'форма №2'!B18","v":0},{"$f":"'форма №2'!B19","v":0},{"$f":"'форма №2'!B20","v":0},{"$f":"'форма №2'!B21","v":0},{"$f":"'форма №2'!B22","v":0},{"$f":"'форма №2'!B23","v":"прочие (нерегулируемые) виды деятельности"},null,{"$f":"C10","v":"тепловая энергия"},{"$f":"D10","v":"электроэнергия"},"горячая вода",0,"объекты бесхозяйного имущества вода","водоотведение","очистка сточных вод",{"$f":"J10","v":"техническая вода"},"очистка воды",0,0,0,0,0,{"$f":"Q10","v":"прочие (нерегулируемые) виды деятельности"}]
[1,2,3,4,5,6,7,8,9,10,11,12,13,14,15,16,17,18,19,20,21,22,23,24,25,26,27,28,29,30,31,32,33]
["Выручка (нетто) от продажи товаров, продукции, работ, услуг (за минусом налога на добавленную стоимость, акцизов и аналогичных обязательных платежей)",{"$f":"SUM(C12:Q12)","v":0},{"$f":"'форма №2'!$C9/1000","v":0},{"$f":"'форма №2'!$C10/1000","v":0},{"$f":"'форма №2'!$C11/1000","v":0},{"$f":"'форма №2'!$C12/1000","v":0},{"$f":"'форма №2'!$C13/1000","v":0},{"$f":"'форма №2'!$C14/1000","v":0},{"$f":"'форма №2'!$C15/1000","v":0},{"$f":"'форма №2'!$C16/1000","v":0},{"$f":"'форма №2'!$C17/1000","v":0},{"$f":"'форма №2'!$C18/1000","v":0},{"$f":"'форма №2'!$C19/1000","v":0},{"$f":"'форма №2'!$C20/1000","v":0},{"$f":"'форма №2'!$C21/1000","v":0},{"$f":"'форма №2'!$C22/1000","v":0},{"$f":"'форма №2'!$C23/1000","v":0},{"$f":"SUM(S12:AG12)","v":0}]
["Себестоимость проданных товаров, продукции, работ, услуг",{"$f":"SUM(C13:P13)","v":0},{"$f":"'форма №2'!$C25/1000","v":0},{"$f":"'форма №2'!$C26/1000","v":0},{"$f":"'форма №2'!$C27/1000","v":0},{"$f":"'форма №2'!$C28/1000","v":0},{"$f":"'форма №2'!$C29/1000","v":0},{"$f":"'форма №2'!$C30/1000","v":0},{"$f":"'форма №2'!$C31/1000","v":0},{"$f":"'форма №2'!$C32/1000","v":0},{"$f":"'форма №2'!$C33/1000","v":0},{"$f":"'форма №2'!$C34/1000","v":0},{"$f":"'форма №2'!$C35/1000","v":0},{"$f":"'форма №2'!$C36/1000","v":0},{"$f":"'форма №2'!$C37/1000","v":0},{"$f":"'форма №2'!$C38/1000","v":0},{"$f":"'форма №2'!$C39/1000","v":0},{"$f":"SUM(S13:AF13)","v":0}]
["Валовая прибыль",{"$f":"SUM(C14:Q14)","v":0},{"$f":"C12-C13","v":0},{"$f":"D12-D13","v":0},0,0,0,0,0,0,0,0,0,0,0,0,0,{"$f":"SUM(S14:AG14)","v":0},{"$f":"S12-S13","v":0},{"$f":"T12-T13","v":0},{"$f":"U12-U13","v":0},{"$f":"V12-V13","v":0},{"$f":"W12-W13","v":0},{"$f":"X12-X13","v":0},{"$f":"Y12-Y13","v":0},{"$f":"Z12-Z13","v":0},{"$f":"AA12-AA13","v":0},{"$f":"AB12-AB13","v":0},{"$f":"AC12-AC13","v":0},{"$f":"AD12-AD13","v":0},{"$f":"AE12-AE13","v":0},{"$f":"AF12-AF13","v":0},{"$f":"AG12-AG13","v":0}]
["Коммерческие расходы",0,{"$f":"'форма №2'!$C57/1000","v":0},{"$f":"'форма №2'!$C58/1000","v":0},{"$f":"'форма №2'!$C59/1000","v":0},{"$f":"'форма №2'!$C60/1000","v":0},{"$f":"'форма №2'!$C61/1000","v":0},{"$f":"'форма №2'!$C62/1000","v":0},{"$f":"'форма №2'!$C63/1000","v":0},{"$f":"'форма №2'!$C64/1000","v":0},{"$f":"'форма №2'!$C65/1000","v":0},{"$f":"'форма №2'!$C66/1000","v":0},{"$f":"'форма №2'!$C67/1000","v":0},{"$f":"'форма №2'!$C68/1000","v":0},{"$f":"'форма №2'!$C69/1000","v":0},{"$f":"'форма №2'!$C70/1000","v":0},{"$f":"'форма №2'!$C71/1000","v":0},0]
["Управленческие расходы",0,{"$f":"'форма №2'!$C73/1000","v":0},{"$f":"'форма №2'!$C74/1000","v":0},{"$f":"'форма №2'!$C75/1000","v":0},{"$f":"'форма №2'!$C76/1000","v":0},{"$f":"'форма №2'!$C77/1000","v":0},{"$f":"'форма №2'!$C78/1000","v":0},{"$f":"'форма №2'!$C79/1000","v":0},{"$f":"'форма №2'!$C80/1000","v":0},{"$f":"'форма №2'!$C81/1000","v":0},{"$f":"'форма №2'!$C82/1000","v":0},{"$f":"'форма №2'!$C83/1000","v":0},{"$f":"'форма №2'!$C84/1000","v":0},{"$f":"'форма №2'!$C85/1000","v":0},{"$f":"'форма №2'!$C86/1000","v":0},{"$f":"'форма №2'!$C87/1000","v":0},0]
["Прибыль (убыток) от продаж",0,{"$f":"C14-C15-C16","v":0},{"$f":"D14-D15-D16","v":0},0,0,0,0,0,0,0,0,0,0,0,0,0,0,{"$f":"S14-S15-S16","v":0},{"$f":"T14-T15-T16","v":0},{"$f":"U14-U15-U16","v":0},{"$f":"V14-V15-V16","v":0},{"$f":"W14-W15-W16","v":0},{"$f":"X14-X15-X16","v":0},{"$f":"Y14-Y15-Y16","v":0},{"$f":"Z14-Z15-Z16","v":0},{"$f":"AA14-AA15-AA16","v":0},{"$f":"AB14-AB15-AB16","v":0},{"$f":"AC14-AC15-AC16","v":0},{"$f":"AD14-AD15-AD16","v":0},{"$f":"AE14-AE15-AE16","v":0},{"$f":"AF14-AF15-AF16","v":0},{"$f":"AG14-AG15-AG16","v":0}]
["Проценты к получению",0,null,null,null,null,null,null,null,null,null,null,null,null,null,null,null,0]
["Проценты к уплате",0,null,null,null,null,null,null,null,null,null,null,null,null,null,null,null,0]
["Прочие доходы",0,{"$f":"'форма №2'!$C106/1000-C18","v":0},{"$f":"'форма №2'!$C107/1000-D18","v":0},{"$f":"'форма №2'!$C108/1000-E18","v":0},{"$f":"'форма №2'!$C109/1000-F18","v":0},{"$f":"'форма №2'!$C110/1000-G18","v":0},{"$f":"'форма №2'!$C111/1000-H18","v":0},{"$f":"'форма №2'!$C112/1000-I18","v":0},{"$f":"'форма №2'!$C113/1000-J18","v":0},{"$f":"'форма №2'!$C114/1000-K18","v":0},{"$f":"'форма №2'!$C115/1000-L18","v":0},{"$f":"'форма №2'!$C116/1000-M18","v":0},{"$f":"'форма №2'!$C117/1000-N18","v":0},{"$f":"'форма №2'!$C118/1000-O18","v":0},{"$f":"'форма №2'!$C119/1000-P18","v":0},{"$f":"'форма №2'!$C120/1000-Q18","v":0},0]
["Прочие расходы",0,{"$f":"'форма №2'!$C122/1000-C19","v":0},{"$f":"'форма №2'!$C123/1000-D19","v":0},{"$f":"'форма №2'!$C124/1000-E19","v":0},{"$f":"'форма №2'!$C125/1000-F19","v":0},{"$f":"'форма №2'!$C126/1000-G19","v":0},{"$f":"'форма №2'!$C127/1000-H19","v":0},{"$f":"'форма №2'!$C128/1000-I19","v":0},{"$f":"'форма №2'!$C129/1000-J19","v":0},{"$f":"'форма №2'!$C130/1000-K19","v":0},{"$f":"'форма №2'!$C131/1000-L19","v":0},{"$f":"'форма №2'!$C132/1000-M19","v":0},{"$f":"'форма №2'!$C133/1000-N19","v":0},{"$f":"'форма №2'!$C134/1000-O19","v":0},{"$f":"'форма №2'!$C135/1000-P19","v":0},{"$f":"'форма №2'!$C136/1000-Q19","v":0},0]
["Прибыль до налогообложения",0,{"$f":"C17+C18+C20-C19-C21","v":0},{"$f":"D17+D18+D20-D19-D21","v":0},0,0,0,0,0,0,0,0,0,0,0,0,0,0,{"$f":"S17+S18+S20-S19-S21","v":0},{"$f":"T17+T18+T20-T19-T21","v":0},{"$f":"U17+U18+U20-U19-U21","v":0},{"$f":"V17+V18+V20-V19-V21","v":0},{"$f":"W17+W18+W20-W19-W21","v":0},{"$f":"X17+X18+X20-X19-X21","v":0},{"$f":"Y17+Y18+Y20-Y19-Y21","v":0},{"$f":"Z17+Z18+Z20-Z19-Z21","v":0},{"$f":"AA17+AA18+AA20-AA19-AA21","v":0},{"$f":"AB17+AB18+AB20-AB19-AB21","v":0},{"$f":"AC17+AC18+AC20-AC19-AC21","v":0},{"$f":"AD17+AD18+AD20-AD19-AD21","v":0},{"$f":"AE17+AE18+AE20-AE19-AE21","v":0},{"$f":"AF17+AF18+AF20-AF19-AF21","v":0},{"$f":"AG17+AG18+AG20-AG19-AG21","v":0}]
["Текущий налог на прибыль",0,null,null,null,null,null,null,null,null,null,null,null,null,null,null,null,0]
["Чистая прибыль",0,{"$f":"C22-C23","v":0},{"$f":"D22-D23","v":0},0,0,0,0,0,0,0,0,0,0,0,0,0,0,{"$f":"S22-S23","v":0},{"$f":"T22-T23","v":0},{"$f":"U22-U23","v":0},{"$f":"V22-V23","v":0},{"$f":"W22-W23","v":0},{"$f":"X22-X23","v":0},{"$f":"Y22-Y23","v":0},{"$f":"Z22-Z23","v":0},{"$f":"AA22-AA23","v":0},{"$f":"AB22-AB23","v":0},{"$f":"AC22-AC23","v":0},{"$f":"AD22-AD23","v":0},{"$f":"AE22-AE23","v":0},{"$f":"AF22-AF23","v":0},{"$f":"AG22-AG23","v":0}]
["Справочно:",0,null,null,null,null,null,null,null,null,null,null,null,null,null,null,null,0]
["Списание дебиторской задолженнсти, по которой истек срок исковой давностиих и кредиторских",0,null,null,null,null,null,null,null,null,null,null,null,null,null,null,null,0]
["Списание кредиторской задолженнсти, по которой истек срок исковой давностиих и кредиторских",0,null,null,null,null,null,null,null,null,null,null,null,null,null,null,null,0]
["Прибыль (убыток) прошлых лет, выявленная в отчетном году",0,null,null,null,null,null,null,null,null,null,null,null,null,null,null,null,0]

{"sheet":"показатели раздельного учета 2","index":21,"n_rows":32,"n_cols":33,"rows_kept":32,"cut":false,"hidden":false,"merged":[[7,0,9,0],[7,1,7,16],[7,17,7,32],[8,1,9,1],[8,2,8,16],[8,17,9,17],[8,18,8,32]]}
[null,null,"Показатели раздельного учета расходов  за 2017 год"]
[]
["Организация",null,{"$f":"Титульный!C10","v":" "}]
[]
["район",{"$f":"Титульный!C6","v":0},null,null,"МО",{"$f":"Титульный!C7","v":0}]
[]
["тыс.руб.",null,null,{"$f":"'показатели раздельного учета 1'!C7","v":"для заполнения ООО \"Томскводоканал\", ОАО \"Северский водоканал\", ООО \"Стрежевой энергокомплекс\", ООО \"ЭнергонефтьТомск\""}]
["Наименование статьи","по Бухгалтерскому учету",null,null,null,null,null,null,null,null,null,null,null,null,null,null,null,"по Налоговому учету"]
[null,"За отчетный период (2017 год), всего по предприятию","из графы 2 по видам деятельности",null,null,null,null,null,null,null,null,null,null,null,null,null,null,"За отчетный период (2017 год), всего по предприятию","из графы 18 по видам деятельности"]
[null,null,{"$f":"'форма №2'!B9","v":"тепловая энергия"},{"$f":"'форма №2'!B10","v":"электроэнергия"},{"$f":"'форма №2'!B11","v":"горячая вода"},{"$f":"'форма №2'!B12","v":0},{"$f":"'форма №2'!B13","v":"объекты бесхозяйного имущества вода"},{"$f":"'форма №2'!B14","v":"водоотведение"},{"$f":"'форма №2'!B15","v":"очистка сточных вод"},{"$f":"'форма №2'!B16","v":"техническая вода"},{"$f":"'форма №2'!B17","v":"очистка воды"},{"$f":"'форма №2'!B18","v":0},{"$f":"'форма №2'!B19","v":0},{"$f":"'форма №2'!B20","v":0},{"$f":"'форма №2'!B21","v":0},{"$f":"'форма №2'!B22","v":0},{"$f":"'форма №2'!B23","v":"прочие (нерегулируемые) виды деятельности"},null,{"$f":"C10","v":"тепловая энергия"},{"$f":"D10","v":"электроэнергия"},"горячая вода",0,"объекты бесхозяйного имущества вода","водоотведение","очистка сточных вод","техническая вода","очистка воды",0,0,0,0,0,"прочие (нерегулируемые) виды деятельности"]
[1,2,3,4,5,6,7,8,9,10,11,12,13,14,15,16,17,18,19,20,21,22,23,24,25,26,27,28,29,30,31,32,33]
["Расходы, учитываемые в целях налогообложения прибыли, всего, в том числе",{"$f":"SUM(C12:Q12)","v":0},{"$f":"SUM(C13,C19:C25)","v":0},0,0,0,0,0,0,0,0,0,0,0,0,0,0,{"$f":"SUM(S12:AG12)","v":0},{"$f":"SUM(S13,S19:S25)","v":0},0,0,0,0,0,0,0,0,0,0,0,0,0,0]
["Производственные расходы",{"$f":"SUM(C13:Q13)","v":0},{"$f":"SUM(C14:C18)","v":0},{"$f":"SUM(D14:D18)","v":0},0,{"$f":"SUM(F14:F18)","v":0},0,0,0,0,0,0,0,0,0,0,0,{"$f":"SUM(S13:AG13)","v":0},{"$f":"SUM(S14:S18)","v":0},{"$f":"SUM(T14:T18)","v":0},{"$f":"SUM(U14:U18)","v":0},{"$f":"SUM(V14:V18)","v":0},{"$f":"SUM(W14:W18)","v":0},{"$f":"SUM(X14:X18)","v":0},{"$f":"SUM(Y14:Y18)","v":0},{"$f":"SUM(Z14:Z18)","v":0},{"$f":"SUM(AA14:AA18)","v":0},{"$f":"SUM(AB14:AB18)","v":0},{"$f":"SUM(AC14:AC18)","v":0},{"$f":"SUM(AD14:AD18)","v":0},{"$f":"SUM(AE14:AE18)","v":0},{"$f":"SUM(AF14:AF18)","v":0},{"$f":"SUM(AG14:AG18)","v":0}]
["Расходы на приобретение сырья и материалов и их хранения",0,null,null,null,{"$f":"'Смета факт'!D12/1000","v":0},{"$f":"'Смета факт'!E12/1000","v":0},null,null,null,null,null,null,null,null,null,null,0]
["Расходы на энергетические ресурсы и холодную воду",0,null,null,null,{"$f":"'Смета факт'!D20/1000","v":0},{"$f":"'Смета факт'!E20/1000","v":0},null,null,null,null,null,null,null,null,null,null,0]
["Расходы на оплат уработ и услуг, выполняемых сторонними организациями,  связанные с эксплуатацией централизованных систем либо объектов в составе таких систем, по регулируемым тарифам",0,null,null,null,{"$f":"'Смета факт'!D33/1000","v":0},{"$f":"'Смета факт'!E33/1000","v":0},null,null,null,null,null,null,null,null,null,null,0]
["Расходы на оплату труда и отчисления на социальные нужды",0,null,null,null,{"$f":"'Смета факт'!D39/1000","v":0},{"$f":"'Смета факт'!E39/1000","v":0},null,null,null,null,null,null,null,null,null,null,0]
["Прочие производственные расходы",0,null,null,null,{"$f":"'Смета факт'!D46/1000","v":0},{"$f":"'Смета факт'!E46/1000","v":0},null,null,null,null,null,null,null,null,null,null,0]
["Ремонтные расходы",0,null,null,null,{"$f":"'Смета факт'!D83/1000","v":0},{"$f":"'Смета факт'!E83/1000","v":0},null,null,null,null,null,null,null,null,null,null,0]
["Прочие расходы",0,null,null,null,{"$f":"'Смета факт'!D108/1000","v":0},{"$f":"'Смета факт'!E108/1000","v":0},null,null,null,null,null,null,null,null,null,null,0]
["Общехозяйственные расходы",0,null,null,null,{"$f":"'Смета факт'!D136/1000","v":0},{"$f":"'Смета факт'!E136/1000","v":0},null,null,null,null,null,null,null,null,null,null,0]
["Сбытовые расходы",0,null,null,null,{"$f":"'Смета факт'!D157/1000","v":0},{"$f":"'Смета факт'!E157/1000","v":0},null,null,null,null,null,null,null,null,null,null,0]
["Амортизация основных средств",0,null,null,null,{"$f":"'Смета факт'!D160/1000","v":0},{"$f":"'Смета факт'!E160/1000","v":0},null,null,null,null,null,null,null,null,null,null,0]
["Расходы на арендную плату, лизинговые платежи, концессионная плата",0,null,null,null,{"$f":"'Смета факт'!D163/1000","v":0},{"$f":"'Смета факт'!E163/1000","v":0},null,null,null,null,null,null,null,null,null,null,0]
["Налоги, уменьшающие налогооблагаемую базу по налогу на прибыль",0,null,null,null,{"$f":"'Смета факт'!D168/1000","v":0},{"$f":"'Смета факт'!E168/1000","v":0},null,null,null,null,null,null,null,null,null,null,0]
["Расходы, не учитываемые в целях налогообложения прибыли, всего, в том числе",0,{"$f":"SUM(C27:C31)","v":0},0,0,{"$f":"SUM(F27:F31)","v":0},{"$f":"SUM(G27:G31)","v":0},{"$f":"SUM(H27:H31)","v":0},{"$f":"SUM(I27:I31)","v":0},0,{"$f":"SUM(K27:K31)","v":0},{"$f":"SUM(L27:L31)","v":0},{"$f":"SUM(M27:M31)","v":0},0,{"$f":"SUM(O27:O31)","v":0},{"$f":"SUM(P27:P31)","v":0},{"$f":"SUM(Q27:Q31)","v":0},0,{"$f":"SUM(S27:S31)","v":0},{"$f":"SUM(T27:T31)","v":0},{"$f":"SUM(U27:U31)","v":0},{"$f":"SUM(V27:V31)","v":0},{"$f":"SUM(W27:W31)","v":0},{"$f":"SUM(X27:X31)","v":0},{"$f":"SUM(Y27:Y31)","v":0},{"$f":"SUM(Z27:Z31)","v":0},{"$f":"SUM(AA27:AA31)","v":0},{"$f":"SUM(AB27:AB31)","v":0},{"$f":"SUM(AC27:AC31)","v":0},{"$f":"SUM(AD27:AD31)","v":0},{"$f":"SUM(AE27:AE31)","v":0},{"$f":"SUM(AF27:AF31)","v":0},{"$f":"SUM(AG27:AG31)","v":0}]
["Возврат заемных средств ",0,{"$f":"'показатели раздельного учета 3'!C55","v":0},{"$f":"'показатели раздельного учета 3'!D55","v":0},{"$f":"'показатели раздельного учета 3'!E55","v":0},{"$f":"'Смета факт'!D178/1000","v":0},{"$f":"'Смета факт'!E178/1000","v":0},{"$f":"'показатели раздельного учета 3'!H55","v":0},{"$f":"'показатели раздельного учета 3'!I55","v":0},{"$f":"'показатели раздельного учета 3'!J55","v":0},{"$f":"'показатели раздельного учета 3'!K55","v":0},{"$f":"'показатели раздельного учета 3'!L55","v":0},{"$f":"'показатели раздельного учета 3'!M55","v":0},{"$f":"'показатели раздельного учета 3'!N55","v":0},{"$f":"'показатели раздельного учета 3'!O55","v":0},{"$f":"'показатели раздельного учета 3'!P55","v":0},{"$f":"'показатели раздельного учета 3'!Q55","v":0},0]
["Прибыль, направленная на инвестиции",0,{"$f":"'показатели раздельного учета 3'!B56","v":0},{"$f":"'показатели раздельного учета 3'!C56","v":0},{"$f":"'показатели раздельного учета 3'!D56","v":0},{"$f":"'Смета факт'!D179/1000","v":0},{"$f":"'Смета факт'!E179/1000","v":0},{"$f":"'показатели раздельного учета 3'!G56","v":0},{"$f":"'показатели раздельного учета 3'!H56","v":0},{"$f":"'показатели раздельного учета 3'!I56","v":0},{"$f":"'показатели раздельного учета 3'!J56","v":0},{"$f":"'показатели раздельного учета 3'!K56","v":0},{"$f":"'показатели раздельного учета 3'!L56","v":0},{"$f":"'показатели раздельного учета 3'!M56","v":0},{"$f":"'показатели раздельного учета 3'!N56","v":0},{"$f":"'показатели раздельного учета 3'!O56","v":0},{"$f":"'показатели раздельного учета 3'!P56","v":0},0]
["Прибыль, направленная на выплату дивидендов",0,{"$f":"'показатели раздельного учета 3'!B57","v":0},{"$f":"'показатели раздельного учета 3'!D29","v":0},{"$f":"'показатели раздельного учета 3'!E29","v":0},{"$f":"'показатели раздельного учета 3'!F29","v":0},{"$f":"'показатели раздельного учета 3'!G29","v":0},{"$f":"'показатели раздельного учета 3'!H29","v":0},{"$f":"'показатели раздельного учета 3'!I29","v":0},{"$f":"'показатели раздельного учета 3'!J29","v":0},{"$f":"'показатели раздельного учета 3'!K29","v":0},{"$f":"'показатели раздельного учета 3'!L29","v":0},{"$f":"'показатели раздельного учета 3'!M29","v":0},{"$f":"'показатели раздельного учета 3'!N29","v":0},{"$f":"'показатели раздельного учета 3'!O29","v":0},{"$f":"'показатели раздельного учета 3'!P29","v":0},{"$f":"'показатели раздельного учета 3'!Q29","v":0},0]
["Расходы социального характера из прибыли",0,{"$f":"'показатели раздельного учета 3'!C14","v":0},{"$f":"'показатели раздельного учета 3'!D14","v":0},{"$f":"'показатели раздельного учета 3'!E14","v":0},{"$f":"'Смета факт'!D180/1000","v":0},{"$f":"'Смета факт'!E180/1000","v":0},{"$f":"'показатели раздельного учета 3'!H14","v":0},{"$f":"'показатели раздельного учета 3'!I14","v":0},{"$f":"'показатели раздельного учета 3'!J14","v":0},{"$f":"'показатели раздельного учета 3'!K14","v":0},{"$f":"'показатели раздельного учета 3'!L14","v":0},{"$f":"'показатели раздельного учета 3'!M14","v":0},{"$f":"'показатели раздельного учета 3'!N14","v":0},{"$f":"'показатели раздельного учета 3'!O14","v":0},{"$f":"'показатели раздельного учета 3'!P14","v":0},{"$f":"'показатели раздельного учета 3'!Q14","v":0},0]
["Прочие расходы из прибыли в отчетном периоде",0,{"$f":"'показатели раздельного учета 3'!C41-SUM(C27:C29)","v":0},{"$f":"'показатели раздельного учета 3'!D41-SUM(D27:D29)","v":0},{"$f":"'показатели раздельного учета 3'!E41-SUM(E27:E29)","v":0},{"$f":"'Смета факт'!D181/1000-F29","v":0},{"$f":"'Смета факт'!E181/1000-G29","v":0},{"$f":"'показатели раздельного учета 3'!H41-SUM(H27:H29)","v":0},{"$f":"'показатели раздельного учета 3'!I41-SUM(I27:I29)","v":0},{"$f":"'показатели раздельного учета 3'!J41-SUM(J27:J29)","v":0},{"$f":"'показатели раздельного учета 3'!K41-SUM(K27:K29)","v":0},{"$f":"'показатели раздельного учета 3'!L41-SUM(L27:L29)","v":0},{"$f":"'показатели раздельного учета 3'!M41-SUM(M27:M29)","v":0},{"$f":"'показатели раздельного учета 3'!N41-SUM(N27:N29)","v":0},{"$f":"'показатели раздельного учета 3'!O41-SUM(O27:O29)","v":0},{"$f":"'показатели раздельного учета 3'!P41-SUM(P27:P29)","v":0},{"$f":"'показатели раздельного учета 3'!Q41-SUM(Q27:Q29)","v":0},0]
["Расходы на уплату налога на прибыль",0,null,null,null,{"$f":"'Смета факт'!D182/1000+'Смета факт'!D183/1000","v":0},{"$f":"'Смета факт'!E182/1000+'Смета факт'!E183/1000","v":0},null,null,null,null,null,null,null,null,null,null,0]

{"sheet":"показатели раздельного учета 3","index":22,"n_rows":60,"n_cols":17,"rows_kept":60,"cut":false,"hidden":false,"merged":[[7,0,9,0],[7,1,7,16],[8,1,9,1],[8,2,8,16]]}
[null,null,"Показатели раздельного учета расходов из прибыли за 2017 год"]
[]
["Организация",null,{"$f":"Титульный!C10","v":" "}]
[]
["район",{"$f":"Титульный!C6","v":0},null,null,"МО",{"$f":"Титульный!C7","v":0}]
[]
["тыс.руб.",null,{"$f":"'показатели раздельного учета 1'!C7","v":"для заполнения ООО \"Томскводоканал\", ОАО \"Северский водоканал\", ООО \"Стрежевой энергокомплекс\", ООО \"ЭнергонефтьТомск\""}]
["Наименование статьи","по Бухгалтерскому учету"]
[null,"За отчетный период (2017 год), всего по предприятию","из графы 2 по видам деятельности"]
[null,null,{"$f":"'форма №2'!B9","v":"тепловая энергия"},{"$f":"'форма №2'!B10","v":"электроэнергия"},{"$f":"'форма №2'!B11","v":"горячая вода"},{"$f":"'форма №2'!B12","v":0},{"$f":"'форма №2'!B13","v":"объекты бесхозяйного имущества вода"},{"$f":"'форма №2'!B14","v":"водоотведение"},{"$f":"'форма №2'!B15","v":"очистка сточных вод"},{"$f":"'форма №2'!B16","v":"техническая вода"},{"$f":"'форма №2'!B17","v":"очистка воды"},{"$f":"'форма №2'!B18","v":0},{"$f":"'форма №2'!B19","v":0},{"$f":"'форма №2'!B20","v":0},{"$f":"'форма №2'!B21","v":0},{"$f":"'форма №2'!B22","v":0},{"$f":"'форма №2'!B23","v":"прочие (нерегулируемые) виды деятельности"}]
[1,2,3,4,5,6,7,8,9,10,11,12,13,14,15,16,17]
["Расходы из прибыли всего",{"$f":"B14+B41","v":0},{"$f":"C14+C41","v":0},0,0,0,0,0,0,0,0,0,0,0,0,0,0]
["в том числе"]
["Расходы социального характера из прибыли",{"$f":"B15+B30","v":0},{"$f":"C15+C30","v":0},0,0,0,0,0,0,0,0,0,0,0,0,0,0]
["в том числе работникам предприятия",{"$f":"SUM(B16:B20)","v":0},{"$f":"SUM(C16:C20)","v":0},0,0,0,0,0,0,0,0,0,0,0,0,0,0]
["материальная помощь к отпуску",{"$f":"SUM(C16:Q16)","v":0}]
["выплаты к юбилейным датам",{"$f":"SUM(C17:Q17)","v":0}]
["выплаты в связи со смертью, рождением ребенка, свадьбой",0]
["мат.помощь на лечение",0]
["прочие (расшифровать)",{"$f":"SUM(B21:B29)","v":0},{"$f":"SUM(C21:C29)","v":0},{"$f":"SUM(D21:D29)","v":0},0,0,0,0,0,0,0,0,0,0,0,0,0]
[null,{"$f":"SUM(C21:Q21)","v":0}]
[null,{"$f":"SUM(C22:Q22)","v":0}]
[null,0]
[]
[]
[null,0]
[null,0]
[null,0]
[null,0]
["в том числе пенсионерам",{"$f":"SUM(B31:B40)","v":0},{"$f":"SUM(C31:C40)","v":0},0,0,0,0,0,0,0,0,0,0,0,0,0,0]
["выплаты к юбилейным датам",{"$f":"SUM(C31:Q31)","v":0}]
["мат.помощь на лечение",{"$f":"SUM(C32:Q32)","v":0}]
["прочее (расшифровать)",0]
[null,0]
[null,0]
[null,0]
[null,0]
[null,0]
[null,0]
[null,0]
["прочие расходы из прибыли (расшифровать)",{"$f":"SUM(B42:B57)","v":0},0,0,0,0,0,0,0,0,0,0,0,0,0,0,0]
[null,{"$f":"SUM(C42:Q42)","v":0}]
[null,{"$f":"SUM(C43:Q43)","v":0}]
[null,0]
[null,0]
[null,0]
[null,0]
[null,0]
[null,0]
[null,0]
[null,0]
[null,0]
[null,0]
[null,0]
["Возврат заемных средств ",0]
["Прибыль, направленная на инвестиции",0]
["Прибыль, направленная на выплату дивидендов",0]
["Справочно"]
["численность работников, чел",0,{"$f":"'показатели раздельного учета 4'!$S9","v":0},{"$f":"'показатели раздельного учета 4'!$S10","v":0},{"$f":"'показатели раздельного учета 4'!$S11","v":0},{"$f":"'показатели раздельного учета 4'!$S12","v":0},{"$f":"'показатели раздельного учета 4'!$S13","v":0},{"$f":"'показатели раздельного учета 4'!$S14","v":0},{"$f":"'показатели раздельного учета 4'!$S15","v":0},{"$f":"'показатели раздельного учета 4'!$S16","v":0},{"$f":"'показатели раздельного учета 4'!$S17","v":0},{"$f":"'показатели раздельного учета 4'!$S18","v":0},{"$f":"'показатели раздельного учета 4'!$S19","v":0},{"$f":"'показатели раздельного учета 4'!$S20","v":0},{"$f":"'показатели раздельного учета 4'!$S21","v":0},{"$f":"'показатели раздельного учета 4'!$S22","v":0},{"$f":"'показатели раздельного учета 4'!$S23","v":0}]
["выплаты из прибыли социального характера на 1 работника, тыс.руб/год",{"$f":"IF(B59=0,,B14/B59)","v":0},{"$f":"IF(C59=0,,C14/C59)","v":0},0,0,0,0,0,0,0,0,0,0,0,0,0,0]

{"sheet":"показатели раздельного учета 4","index":23,"n_rows":24,"n_cols":19,"rows_kept":24,"cut":false,"hidden":false,"merged":[[6,18,7,18],[6,9,7,9],[6,10,7,10],[6,11,7,11],[6,12,7,12],[6,13,7,13],[6,16,7,16],[6,17,7,17],[6,0,7,0],[6,1,7,1],[6,2,6,6],[6,7,7,7],[6,8,7,8]]}
[null,null,"Распределение численности организации по видам деятельности в 2017 году"]
[]
["Организация",null,{"$f":"Титульный!C10","v":" "}]
[]
["район",{"$f":"Титульный!C6","v":0},null,null,null,"МО",{"$f":"Титульный!C7","v":0}]
["чел",null,null,{"$f":"'показатели раздельного учета 1'!C7","v":"для заполнения ООО \"Томскводоканал\", ОАО \"Северский водоканал\", ООО \"Стрежевой энергокомплекс\", ООО \"ЭнергонефтьТомск\""}]
["Вид деятельности","основное производство","вспомогательные производства",null,null,null,null,"собственный транспорт","АУП","цеховый персонал","общепроизводственный персонал","ремонтный персонал (на текущем ремонте)","ремонтный персонал (на капитальном ремонте)",null,null,null,null,null,"ИТОГО"]
[null,null,null,null,null,null,"ИТОГО"]
[{"$f":"'форма №2'!B9","v":"тепловая энергия"},null,null,null,null,null,{"$f":"SUM(C9:F9)","v":0},null,null,null,null,null,null,null,null,null,null,null,{"$f":"SUM(B9,G9:R9)","v":0}]
[{"$f":"'форма №2'!B10","v":"электроэнергия"},null,null,null,null,null,{"$f":"SUM(C10:F10)","v":0},null,null,null,null,null,null,null,null,null,null,null,{"$f":"SUM(B10,G10:R10)","v":0}]
[{"$f":"'форма №2'!B11","v":"горячая вода"},null,null,null,null,null,0,null,null,null,null,null,null,null,null,null,null,null,0]
[{"$f":"'форма №2'!B12","v":0},{"$f":"'Смета факт'!D41","v":0},{"$f":"G12-SUM(D12:F12)","v":0},null,null,null,{"$f":"'Смета факт'!D50","v":0},{"$f":"'Смета факт'!D56","v":0},{"$f":"'Смета факт'!D138","v":0},{"$f":"'Смета факт'!D62","v":0},{"$f":"'Смета факт'!D68","v":0},{"$f":"'Смета факт'!D87","v":0},{"$f":"'Смета факт'!D99","v":0},null,null,null,null,null,0]
[{"$f":"'форма №2'!B13","v":"объекты бесхозяйного имущества вода"},{"$f":"'Смета факт'!E41","v":0},{"$f":"G13-SUM(D13:F13)","v":0},null,null,null,{"$f":"'Смета факт'!E50","v":0},{"$f":"'Смета факт'!E56","v":0},{"$f":"'Смета факт'!E138","v":0},{"$f":"'Смета факт'!E62","v":0},{"$f":"'Смета факт'!E68","v":0},{"$f":"'Смета факт'!E87","v":0},{"$f":"'Смета факт'!E99","v":0},null,null,null,null,null,0]
[{"$f":"'форма №2'!B14","v":"водоотведение"},null,null,null,null,null,{"$f":"SUM(C14:F14)","v":0},null,null,null,null,null,null,null,null,null,null,null,0]
[{"$f":"'форма №2'!B15","v":"очистка сточных вод"},null,null,null,null,null,0,null,null,null,null,null,null,null,null,null,null,null,0]
[{"$f":"'форма №2'!B16","v":"техническая вода"},null,null,null,null,null,0,null,null,null,null,null,null,null,null,null,null,null,0]
[{"$f":"'форма №2'!B17","v":"очистка воды"},null,null,null,null,null,0,null,null,null,null,null,null,null,null,null,null,null,0]
[{"$f":"'форма №2'!B18","v":0},null,null,null,null,null,0,null,null,null,null,null,null,null,null,null,null,null,0]
[{"$f":"'форма №2'!B19","v":0},null,null,null,null,null,0,null,null,null,null,null,null,null,null,null,null,null,0]
[{"$f":"'форма №2'!B20","v":0},null,null,null,null,null,0,null,null,null,null,null,null,null,null,null,null,null,0]
[{"$f":"'форма №2'!B21","v":0},null,null,null,null,null,0,null,null,null,null,null,null,null,null,null,null,null,0]
[{"$f":"'форма №2'!B22","v":0},null,null,null,null,null,0,null,null,null,null,null,null,null,null,null,null,null,0]
[{"$f":"'форма №2'!B23","v":"прочие (нерегулируемые) виды деятельности"},null,null,null,null,null,0,null,null,null,null,null,null,null,null,null,null,null,0]
["ВСЕГО по предприятию",{"$f":"SUM(B9:B23)","v":0},{"$f":"SUM(C9:C23)","v":0},0,0,0,0,0,0,0,0,0,0,0,0,0,0,0,0]

{"sheet":"показатели раздельного учета 5","index":24,"n_rows":24,"n_cols":19,"rows_kept":24,"cut":false,"hidden":false,"merged":[[6,18,7,18],[6,14,7,14],[6,15,7,15],[6,10,7,10],[6,11,7,11],[6,12,7,12],[6,13,7,13],[6,16,7,16],[6,17,7,17],[6,9,7,9],[6,0,7,0],[6,1,7,1],[6,2,6,6],[6,7,7,7],[6,8,7,8]]}
[null,null,"Распределение фонда оплаты труда организации по видам деятельности в 2017 году"]
[]
[null,"Организация",{"$f":"Титульный!C10","v":" "}]
[]
["район",{"$f":"Титульный!C6","v":0},null,null,null,"МО",{"$f":"Титульный!C7","v":0}]
["тыс.руб",null,{"$f":"'показатели раздельного учета 1'!C7","v":"для заполнения ООО \"Томскводоканал\", ОАО \"Северский водоканал\", ООО \"Стрежевой энергокомплекс\", ООО \"ЭнергонефтьТомск\""}]
["Вид деятельности","основное производство","вспомогательные производства",null,null,null,null,"собственный транспорт","АУП","цеховый персонал","общепроизводственный персонал","ремонтный персонал (на текущем ремонте)","ремонтный персонал (на капитальном ремонте)",{"$f":"'показатели раздельного учета 4'!N7","v":0},{"$f":"'показатели раздельного учета 4'!O7","v":0},{"$f":"'показатели раздельного учета 4'!P7","v":0},{"$f":"'показатели раздельного учета 4'!Q7","v":0},{"$f":"'показатели раздельного учета 4'!R7","v":0},"ИТОГО"]
[null,null,{"$f":"'показатели раздельного учета 4'!C8","v":0},{"$f":"'показатели раздельного учета 4'!D8","v":0},{"$f":"'показатели раздельного учета 4'!E8","v":0},{"$f":"'показатели раздельного учета 4'!F8","v":0},"ИТОГО"]
[{"$f":"'форма №2'!B9","v":"тепловая энергия"},null,null,null,null,null,{"$f":"SUM(C9:F9)","v":0},null,null,null,null,null,null,null,null,null,null,null,{"$f":"SUM(B9,G9:R9)","v":0}]
[{"$f":"'форма №2'!B10","v":"электроэнергия"},null,null,null,null,null,{"$f":"SUM(C10:F10)","v":0},null,null,null,null,null,null,null,null,null,null,null,{"$f":"SUM(B10,G10:R10)","v":0}]
[{"$f":"'форма №2'!B11","v":"горячая вода"},null,null,null,null,null,0,null,null,null,null,null,null,null,null,null,null,null,0]
[{"$f":"'форма №2'!B12","v":0},{"$f":"'Смета факт'!D40/1000","v":0},{"$f":"G12-SUM(D12:F12)","v":0},null,null,null,{"$f":"'Смета факт'!D49/1000","v":0},{"$f":"'Смета факт'!D55/1000","v":0},{"$f":"'Смета факт'!D137/1000","v":0},{"$f":"'Смета факт'!D61/1000","v":0},{"$f":"'Смета факт'!D67/1000","v":0},{"$f":"'Смета факт'!D86/1000","v":0},{"$f":"'Смета факт'!D98/1000","v":0},null,null,null,null,null,0]
[{"$f":"'форма №2'!B13","v":"объекты бесхозяйного имущества вода"},{"$f":"'Смета факт'!E40/1000","v":0},{"$f":"G13-SUM(D13:F13)","v":0},null,null,null,{"$f":"'Смета факт'!E49/1000","v":0},{"$f":"'Смета факт'!E55/1000","v":0},{"$f":"'Смета факт'!E137/1000","v":0},{"$f":"'Смета факт'!E61/1000","v":0},{"$f":"'Смета факт'!E67/1000","v":0},{"$f":"'Смета факт'!E86/1000","v":0},{"$f":"'Смета факт'!E98/1000","v":0},null,null,null,null,null,0]
[{"$f":"'форма №2'!B14","v":"водоотведение"},null,null,null,null,null,{"$f":"SUM(C14:F14)","v":0},null,null,null,null,null,null,null,null,null,null,null,0]
[{"$f":"'форма №2'!B15","v":"очистка сточных вод"},null,null,null,null,null,0,null,null,null,null,null,null,null,null,null,null,null,0]
[{"$f":"'форма №2'!B16","v":"техническая вода"},null,null,null,null,null,0,null,null,null,null,null,null,null,null,null,null,null,0]
[{"$f":"'форма №2'!B17","v":"очистка воды"},null,null,null,null,null,0,null,null,null,null,null,null,null,null,null,null,null,0]
[{"$f":"'форма №2'!B18","v":0},null,null,null,null,null,0,null,null,null,null,null,null,null,null,null,null,null,0]
[{"$f":"'форма №2'!B19","v":0},null,null,null,null,null,0,null,null,null,null,null,null,null,null,null,null,null,0]
[{"$f":"'форма №2'!B20","v":0},null,null,null,null,null,0,null,null,null,null,null,null,null,null,null,null,null,0]
[{"$f":"'форма №2'!B21","v":0},null,null,null,null,null,0,null,null,null,null,null,null,null,null,null,null,null,0]
[{"$f":"'форма №2'!B22","v":0},null,null,null,null,null,0,null,null,null,null,null,null,null,null,null,null,null,0]
[{"$f":"'форма №2'!B23","v":"прочие (нерегулируемые) виды деятельности"},null,null,null,null,null,0,null,null,null,null,null,null,null,null,null,null,null,0]
["ВСЕГО по предприятию",{"$f":"SUM(B9:B23)","v":0},{"$f":"SUM(C9:C23)","v":0},0,0,0,0,0,0,0,0,0,0,0,0,0,0,0,0]

{"sheet":"показатели раздельного учета 6","index":25,"n_rows":24,"n_cols":19,"rows_kept":24,"cut":false,"hidden":false,"merged":[[6,18,7,18],[6,14,7,14],[6,15,7,15],[6,10,7,10],[6,11,7,11],[6,12,7,12],[6,13,7,13],[6,16,7,16],[6,17,7,17],[6,9,7,9],[6,0,7,0],[6,1,7,1],[6,2,6,6],[6,7,7,7],[6,8,7,8]]}
["Фактическая средняя заработная плата работников организации по видам деятельности за 2017 год"]
[]
["Организация",null,{"$f":"Титульный!C10","v":" "}]
[]
["район",{"$f":"Титульный!C6","v":0},null,null,null,"МО",{"$f":"Титульный!C7","v":0}]
["тыс.руб",null,{"$f":"'показатели раздельного учета 1'!C7","v":"для заполнения ООО \"Томскводоканал\", ОАО \"Северский водоканал\", ООО \"Стрежевой энергокомплекс\", ООО \"ЭнергонефтьТомск\""}]
["Вид деятельности","основное производство","вспомогательные производства",null,null,null,null,"собственный транспорт","АУП","цеховый персонал","общепроизводственный персонал","ремонтный персонал (на текущем ремонте)","ремонтный персонал (на капитальном ремонте)",{"$f":"'показатели раздельного учета 4'!N7","v":0},{"$f":"'показатели раздельного учета 4'!O7","v":0},{"$f":"'показатели раздельного учета 4'!P7","v":0},{"$f":"'показатели раздельного учета 4'!Q7","v":0},{"$f":"'показатели раздельного учета 4'!R7","v":0},"ИТОГО"]
[null,null,{"$f":"'показатели раздельного учета 4'!C8","v":0},{"$f":"'показатели раздельного учета 4'!D8","v":0},{"$f":"'показатели раздельного учета 4'!E8","v":0},{"$f":"'показатели раздельного учета 4'!F8","v":0},"ИТОГО"]
[{"$f":"'форма №2'!B9","v":"тепловая энергия"},{"$f":"IF('показатели раздельного учета 4'!B9=0,,'показатели раздельного учета 5'!B9/'показатели раздельного учета 4'!B9*1000/12)","v":0},{"$f":"IF('показатели раздельного учета 4'!C9=0,,'показатели раздельного учета 5'!C9/'показатели раздельного учета 4'!C9*1000/12)","v":0},{"$f":"IF('показатели раздельного учета 4'!D9=0,,'показатели раздельного учета 5'!D9/'показатели раздельного учета 4'!D9*1000/12)","v":0},{"$f":"IF('показатели раздельного учета 4'!E9=0,,'показатели раздельного учета 5'!E9/'показатели раздельного учета 4'!E9*1000/12)","v":0},{"$f":"IF('показатели раздельного учета 4'!F9=0,,'показатели раздельного учета 5'!F9/'показатели раздельного учета 4'!F9*1000/12)","v":0},{"$f":"IF('показатели раздельного учета 4'!G9=0,,'показатели раздельного учета 5'!G9/'показатели раздельного учета 4'!G9*1000/12)","v":0},{"$f":"IF('показатели раздельного учета 4'!H9=0,,'показатели раздельного учета 5'!H9/'показатели раздельного учета 4'!H9*1000/12)","v":0},{"$f":"IF('показатели раздельного учета 4'!I9=0,,'показатели раздельного учета 5'!I9/'показатели раздельного учета 4'!I9*1000/12)","v":0},{"$f":"IF('показатели раздельного учета 4'!J9=0,,'показатели раздельного учета 5'!J9/'показатели раздельного учета 4'!J9*1000/12)","v":0},{"$f":"IF('показатели раздельного учета 4'!K9=0,,'показатели раздельного учета 5'!K9/'показатели раздельного учета 4'!K9*1000/12)","v":0},{"$f":"IF('показатели раздельного учета 4'!L9=0,,'показатели раздельного учета 5'!L9/'показатели раздельного учета 4'!L9*1000/12)","v":0},{"$f":"IF('показатели раздельного учета 4'!M9=0,,'показатели раздельного учета 5'!M9/'показатели раздельного учета 4'!M9*1000/12)","v":0},{"$f":"IF('показатели раздельного учета 4'!N9=0,,'показатели раздельного учета 5'!N9/'показатели раздельного учета 4'!N9*1000/12)","v":0},{"$f":"IF('показатели раздельного учета 4'!O9=0,,'показатели раздельного учета 5'!O9/'показатели раздельного учета 4'!O9*1000/12)","v":0},{"$f":"IF('показатели раздельного учета 4'!P9=0,,'показатели раздельного учета 5'!P9/'показатели раздельного учета 4'!P9*1000/12)","v":0},{"$f":"IF('показатели раздельного учета 4'!Q9=0,,'показатели раздельного учета 5'!Q9/'показатели раздельного учета 4'!Q9*1000/12)","v":0},{"$f":"IF('показатели раздельного учета 4'!R9=0,,'показатели раздельного учета 5'!R9/'показатели раздельного учета 4'!R9*1000/12)","v":0},{"$f":"IF('показатели раздельного учета 4'!S9=0,,'показатели раздельного учета 5'!S9/'показатели раздельного учета 4'!S9*1000/12)","v":0}]
[{"$f":"'форма №2'!B10","v":"электроэнергия"},{"$f":"IF('показатели раздельного учета 4'!B10=0,,'показатели раздельного учета 5'!B10/'показатели раздельного учета 4'!B10*1000/12)","v":0},{"$f":"IF('показатели раздельного учета 4'!C10=0,,'показатели раздельного учета 5'!C10/'показатели раздельного учета 4'!C10*1000/12)","v":0},{"$f":"IF('показатели раздельного учета 4'!D10=0,,'показатели раздельного учета 5'!D10/'показатели раздельного учета 4'!D10*1000/12)","v":0},{"$f":"IF('показатели раздельного учета 4'!E10=0,,'показатели раздельного учета 5'!E10/'показатели раздельного учета 4'!E10*1000/12)","v":0},{"$f":"IF('показатели раздельного учета 4'!F10=0,,'показатели раздельного учета 5'!F10/'показатели раздельного учета 4'!F10*1000/12)","v":0},{"$f":"IF('показатели раздельного учета 4'!G10=0,,'показатели раздельного учета 5'!G10/'показатели раздельного учета 4'!G10*1000/12)","v":0},{"$f":"IF('показатели раздельного учета 4'!H10=0,,'показатели раздельного учета 5'!H10/'показатели раздельного учета 4'!H10*1000/12)","v":0},{"$f":"IF('показатели раздельного учета 4'!I10=0,,'показатели раздельного учета 5'!I10/'показатели раздельного учета 4'!I10*1000/12)","v":0},{"$f":"IF('показатели раздельного учета 4'!J10=0,,'показатели раздельного учета 5'!J10/'показатели раздельного учета 4'!J10*1000/12)","v":0},{"$f":"IF('показатели раздельного учета 4'!K10=0,,'показатели раздельного учета 5'!K10/'показатели раздельного учета 4'!K10*1000/12)","v":0},{"$f":"IF('показатели раздельного учета 4'!L10=0,,'показатели раздельного учета 5'!L10/'показатели раздельного учета 4'!L10*1000/12)","v":0},{"$f":"IF('показатели раздельного учета 4'!M10=0,,'показатели раздельного учета 5'!M10/'показатели раздельного учета 4'!M10*1000/12)","v":0},{"$f":"IF('показатели раздельного учета 4'!N10=0,,'показатели раздельного учета 5'!N10/'показатели раздельного учета 4'!N10*1000/12)","v":0},{"$f":"IF('показатели раздельного учета 4'!O10=0,,'показатели раздельного учета 5'!O10/'показатели раздельного учета 4'!O10*1000/12)","v":0},{"$f":"IF('показатели раздельного учета 4'!P10=0,,'показатели раздельного учета 5'!P10/'показатели раздельного учета 4'!P10*1000/12)","v":0},{"$f":"IF('показатели раздельного учета 4'!Q10=0,,'показатели раздельного учета 5'!Q10/'показатели раздельного учета 4'!Q10*1000/12)","v":0},{"$f":"IF('показатели раздельного учета 4'!R10=0,,'показатели раздельного учета 5'!R10/'показатели раздельного учета 4'!R10*1000/12)","v":0},{"$f":"IF('показатели раздельного учета 4'!S10=0,,'показатели раздельного учета 5'!S10/'показатели раздельного учета 4'!S10*1000/12)","v":0}]
[{"$f":"'форма №2'!B11","v":"горячая вода"},{"$f":"IF('показатели раздельного учета 4'!B11=0,,'показатели раздельного учета 5'!B11/'показатели раздельного учета 4'!B11*1000/12)","v":0},{"$f":"IF('показатели раздельного учета 4'!C11=0,,'показатели раздельного учета 5'!C11/'показатели раздельного учета 4'!C11*1000/12)","v":0},{"$f":"IF('показатели раздельного учета 4'!D11=0,,'показатели раздельного учета 5'!D11/'показатели раздельного учета 4'!D11*1000/12)","v":0},{"$f":"IF('показатели раздельного учета 4'!E11=0,,'показатели раздельного учета 5'!E11/'показатели раздельного учета 4'!E11*1000/12)","v":0},{"$f":"IF('показатели раздельного учета 4'!F11=0,,'показатели раздельного учета 5'!F11/'показатели раздельного учета 4'!F11*1000/12)","v":0},{"$f":"IF('показатели раздельного учета 4'!G11=0,,'показатели раздельного учета 5'!G11/'показатели раздельного учета 4'!G11*1000/12)","v":0},{"$f":"IF('показатели раздельного учета 4'!H11=0,,'показатели раздельного учета 5'!H11/'показатели раздельного учета 4'!H11*1000/12)","v":0},{"$f":"IF('показатели раздельного учета 4'!I11=0,,'показатели раздельного учета 5'!I11/'показатели раздельного учета 4'!I11*1000/12)","v":0},{"$f":"IF('показатели раздельного учета 4'!J11=0,,'показатели раздельного учета 5'!J11/'показатели раздельного учета 4'!J11*1000/12)","v":0},{"$f":"IF('показатели раздельного учета 4'!K11=0,,'показатели раздельного учета 5'!K11/'показатели раздельного учета 4'!K11*1000/12)","v":0},{"$f":"IF('показатели раздельного учета 4'!L11=0,,'показатели раздельного учета 5'!L11/'показатели раздельного учета 4'!L11*1000/12)","v":0},{"$f":"IF('показатели раздельного учета 4'!M11=0,,'показатели раздельного учета 5'!M11/'показатели раздельного учета 4'!M11*1000/12)","v":0},{"$f":"IF('показатели раздельного учета 4'!N11=0,,'показатели раздельного учета 5'!N11/'показатели раздельного учета 4'!N11*1000/12)","v":0},{"$f":"IF('показатели раздельного учета 4'!O11=0,,'показатели раздельного учета 5'!O11/'показатели раздельного учета 4'!O11*1000/12)","v":0},{"$f":"IF('показатели раздельного учета 4'!P11=0,,'показатели раздельного учета 5'!P11/'показатели раздельного учета 4'!P11*1000/12)","v":0},{"$f":"IF('показатели раздельного учета 4'!Q11=0,,'показатели раздельного учета 5'!Q11/'показатели раздельного учета 4'!Q11*1000/12)","v":0},{"$f":"IF('показатели раздельного учета 4'!R11=0,,'показатели раздельного учета 5'!R11/'показатели раздельного учета 4'!R11*1000/12)","v":0},{"$f":"IF('показатели раздельного учета 4'!S11=0,,'показатели раздельного учета 5'!S11/'показатели раздельного учета 4'!S11*1000/12)","v":0}]
[{"$f":"'форма №2'!B12","v":0},{"$f":"IF('показатели раздельного учета 4'!B12=0,,'показатели раздельного учета 5'!B12/'показатели раздельного учета 4'!B12*1000/12)","v":0},{"$f":"IF('показатели раздельного учета 4'!C12=0,,'показатели раздельного учета 5'!C12/'показатели раздельного учета 4'!C12*1000/12)","v":0},{"$f":"IF('показатели раздельного учета 4'!D12=0,,'показатели раздельного учета 5'!D12/'показатели раздельного учета 4'!D12*1000/12)","v":0},{"$f":"IF('показатели раздельного учета 4'!E12=0,,'показатели раздельного учета 5'!E12/'показатели раздельного учета 4'!E12*1000/12)","v":0},{"$f":"IF('показатели раздельного учета 4'!F12=0,,'показатели раздельного учета 5'!F12/'показатели раздельного учета 4'!F12*1000/12)","v":0},{"$f":"IF('показатели раздельного учета 4'!G12=0,,'показатели раздельного учета 5'!G12/'показатели раздельного учета 4'!G12*1000/12)","v":0},{"$f":"IF('показатели раздельного учета 4'!H12=0,,'показатели раздельного учета 5'!H12/'показатели раздельного учета 4'!H12*1000/12)","v":0},{"$f":"IF('показатели раздельного учета 4'!I12=0,,'показатели раздельного учета 5'!I12/'показатели раздельного учета 4'!I12*1000/12)","v":0},{"$f":"IF('показатели раздельного учета 4'!J12=0,,'показатели раздельного учета 5'!J12/'показатели раздельного учета 4'!J12*1000/12)","v":0},{"$f":"IF('показатели раздельного учета 4'!K12=0,,'показатели раздельного учета 5'!K12/'показатели раздельного учета 4'!K12*1000/12)","v":0},{"$f":"IF('показатели раздельного учета 4'!L12=0,,'показатели раздельного учета 5'!L12/'показатели раздельного учета 4'!L12*1000/12)","v":0},{"$f":"IF('показатели раздельного учета 4'!M12=0,,'показатели раздельного учета 5'!M12/'показатели раздельного учета 4'!M12*1000/12)","v":0},{"$f":"IF('показатели раздельного учета 4'!N12=0,,'показатели раздельного учета 5'!N12/'показатели раздельного учета 4'!N12*1000/12)","v":0},{"$f":"IF('показатели раздельного учета 4'!O12=0,,'показатели раздельного учета 5'!O12/'показатели раздельного учета 4'!O12*1000/12)","v":0},{"$f":"IF('показатели раздельного учета 4'!P12=0,,'показатели раздельного учета 5'!P12/'показатели раздельного учета 4'!P12*1000/12)","v":0},{"$f":"IF('показатели раздельного учета 4'!Q12=0,,'показатели раздельного учета 5'!Q12/'показатели раздельного учета 4'!Q12*1000/12)","v":0},{"$f":"IF('показатели раздельного учета 4'!R12=0,,'показатели раздельного учета 5'!R12/'показатели раздельного учета 4'!R12*1000/12)","v":0},{"$f":"IF('показатели раздельного учета 4'!S12=0,,'показатели раздельного учета 5'!S12/'показатели раздельного учета 4'!S12*1000/12)","v":0}]
[{"$f":"'форма №2'!B13","v":"объекты бесхозяйного имущества вода"},{"$f":"IF('показатели раздельного учета 4'!B13=0,,'показатели раздельного учета 5'!B13/'показатели раздельного учета 4'!B13*1000/12)","v":0},{"$f":"IF('показатели раздельного учета 4'!C13=0,,'показатели раздельного учета 5'!C13/'показатели раздельного учета 4'!C13*1000/12)","v":0},{"$f":"IF('показатели раздельного учета 4'!D13=0,,'показатели раздельного учета 5'!D13/'показатели раздельного учета 4'!D13*1000/12)","v":0},{"$f":"IF('показатели раздельного учета 4'!E13=0,,'показатели раздельного учета 5'!E13/'показатели раздельного учета 4'!E13*1000/12)","v":0},{"$f":"IF('показатели раздельного учета 4'!F13=0,,'показатели раздельного учета 5'!F13/'показатели раздельного учета 4'!F13*1000/12)","v":0},{"$f":"IF('показатели раздельного учета 4'!G13=0,,'показатели раздельного учета 5'!G13/'показатели раздельного учета 4'!G13*1000/12)","v":0},{"$f":"IF('показатели раздельного учета 4'!H13=0,,'показатели раздельного учета 5'!H13/'показатели раздельного учета 4'!H13*1000/12)","v":0},{"$f":"IF('показатели раздельного учета 4'!I13=0,,'показатели раздельного учета 5'!I13/'показатели раздельного учета 4'!I13*1000/12)","v":0},{"$f":"IF('показатели раздельного учета 4'!J13=0,,'показатели раздельного учета 5'!J13/'показатели раздельного учета 4'!J13*1000/12)","v":0},{"$f":"IF('показатели раздельного учета 4'!K13=0,,'показатели раздельного учета 5'!K13/'показатели раздельного учета 4'!K13*1000/12)","v":0},{"$f":"IF('показатели раздельного учета 4'!L13=0,,'показатели раздельного учета 5'!L13/'показатели раздельного учета 4'!L13*1000/12)","v":0},{"$f":"IF('показатели раздельного учета 4'!M13=0,,'показатели раздельного учета 5'!M13/'показатели раздельного учета 4'!M13*1000/12)","v":0},{"$f":"IF('показатели раздельного учета 4'!N13=0,,'показатели раздельного учета 5'!N13/'показатели раздельного учета 4'!N13*1000/12)","v":0},{"$f":"IF('показатели раздельного учета 4'!O13=0,,'показатели раздельного учета 5'!O13/'показатели раздельного учета 4'!O13*1000/12)","v":0},{"$f":"IF('показатели раздельного учета 4'!P13=0,,'показатели раздельного учета 5'!P13/'показатели раздельного учета 4'!P13*1000/12)","v":0},{"$f":"IF('показатели раздельного учета 4'!Q13=0,,'показатели раздельного учета 5'!Q13/'показатели раздельного учета 4'!Q13*1000/12)","v":0},{"$f":"IF('показатели раздельного учета 4'!R13=0,,'показатели раздельного учета 5'!R13/'показатели раздельного учета 4'!R13*1000/12)","v":0},{"$f":"IF('показатели раздельного учета 4'!S13=0,,'показатели раздельного учета 5'!S13/'показатели раздельного учета 4'!S13*1000/12)","v":0}]
[{"$f":"'форма №2'!B14","v":"водоотведение"},{"$f":"IF('показатели раздельного учета 4'!B14=0,,'показатели раздельного учета 5'!B14/'показатели раздельного учета 4'!B14*1000/12)","v":0},{"$f":"IF('показатели раздельного учета 4'!C14=0,,'показатели раздельного учета 5'!C14/'показатели раздельного учета 4'!C14*1000/12)","v":0},{"$f":"IF('показатели раздельного учета 4'!D14=0,,'показатели раздельного учета 5'!D14/'показатели раздельного учета 4'!D14*1000/12)","v":0},{"$f":"IF('показатели раздельного учета 4'!E14=0,,'показатели раздельного учета 5'!E14/'показатели раздельного учета 4'!E14*1000/12)","v":0},{"$f":"IF('показатели раздельного учета 4'!F14=0,,'показатели раздельного учета 5'!F14/'показатели раздельного учета 4'!F14*1000/12)","v":0},{"$f":"IF('показатели раздельного учета 4'!G14=0,,'показатели раздельного учета 5'!G14/'показатели раздельного учета 4'!G14*1000/12)","v":0},{"$f":"IF('показатели раздельного учета 4'!H14=0,,'показатели раздельного учета 5'!H14/'показатели раздельного учета 4'!H14*1000/12)","v":0},{"$f":"IF('показатели раздельного учета 4'!I14=0,,'показатели раздельного учета 5'!I14/'показатели раздельного учета 4'!I14*1000/12)","v":0},{"$f":"IF('показатели раздельного учета 4'!J14=0,,'показатели раздельного учета 5'!J14/'показатели раздельного учета 4'!J14*1000/12)","v":0},{"$f":"IF('показатели раздельного учета 4'!K14=0,,'показатели раздельного учета 5'!K14/'показатели раздельного учета 4'!K14*1000/12)","v":0},{"$f":"IF('показатели раздельного учета 4'!L14=0,,'показатели раздельного учета 5'!L14/'показатели раздельного учета 4'!L14*1000/12)","v":0},{"$f":"IF('показатели раздельного учета 4'!M14=0,,'показатели раздельного учета 5'!M14/'показатели раздельного учета 4'!M14*1000/12)","v":0},{"$f":"IF('показатели раздельного учета 4'!N14=0,,'показатели раздельного учета 5'!N14/'показатели раздельного учета 4'!N14*1000/12)","v":0},{"$f":"IF('показатели раздельного учета 4'!O14=0,,'показатели раздельного учета 5'!O14/'показатели раздельного учета 4'!O14*1000/12)","v":0},{"$f":"IF('показатели раздельного учета 4'!P14=0,,'показатели раздельного учета 5'!P14/'показатели раздельного учета 4'!P14*1000/12)","v":0},{"$f":"IF('показатели раздельного учета 4'!Q14=0,,'показатели раздельного учета 5'!Q14/'показатели раздельного учета 4'!Q14*1000/12)","v":0},{"$f":"IF('показатели раздельного учета 4'!R14=0,,'показатели раздельного учета 5'!R14/'показатели раздельного учета 4'!R14*1000/12)","v":0},{"$f":"IF('показатели раздельного учета 4'!S14=0,,'показатели раздельного учета 5'!S14/'показатели раздельного учета 4'!S14*1000/12)","v":0}]
[{"$f":"'форма №2'!B15","v":"очистка сточных вод"},{"$f":"IF('показатели раздельного учета 4'!B15=0,,'показатели раздельного учета 5'!B15/'показатели раздельного учета 4'!B15*1000/12)","v":0},{"$f":"IF('показатели раздельного учета 4'!C15=0,,'показатели раздельного учета 5'!C15/'показатели раздельного учета 4'!C15*1000/12)","v":0},{"$f":"IF('показатели раздельного учета 4'!D15=0,,'показатели раздельного учета 5'!D15/'показатели раздельного учета 4'!D15*1000/12)","v":0},{"$f":"IF('показатели раздельного учета 4'!E15=0,,'показатели раздельного учета 5'!E15/'показатели раздельного учета 4'!E15*1000/12)","v":0},{"$f":"IF('показатели раздельного учета 4'!F15=0,,'показатели раздельного учета 5'!F15/'показатели раздельного учета 4'!F15*1000/12)","v":0},{"$f":"IF('показатели раздельного учета 4'!G15=0,,'показатели раздельного учета 5'!G15/'показатели раздельного учета 4'!G15*1000/12)","v":0},{"$f":"IF('показатели раздельного учета 4'!H15=0,,'показатели раздельного учета 5'!H15/'показатели раздельного учета 4'!H15*1000/12)","v":0},{"$f":"IF('показатели раздельного учета 4'!I15=0,,'показатели раздельного учета 5'!I15/'показатели раздельного учета 4'!I15*1000/12)","v":0},{"$f":"IF('показатели раздельного учета 4'!J15=0,,'показатели раздельного учета 5'!J15/'показатели раздельного учета 4'!J15*1000/12)","v":0},{"$f":"IF('показатели раздельного учета 4'!K15=0,,'показатели раздельного учета 5'!K15/'показатели раздельного учета 4'!K15*1000/12)","v":0},{"$f":"IF('показатели раздельного учета 4'!L15=0,,'показатели раздельного учета 5'!L15/'показатели раздельного учета 4'!L15*1000/12)","v":0},{"$f":"IF('показатели раздельного учета 4'!M15=0,,'показатели раздельного учета 5'!M15/'показатели раздельного учета 4'!M15*1000/12)","v":0},{"$f":"IF('показатели раздельного учета 4'!N15=0,,'показатели раздельного учета 5'!N15/'показатели раздельного учета 4'!N15*1000/12)","v":0},{"$f":"IF('показатели раздельного учета 4'!O15=0,,'показатели раздельного учета 5'!O15/'показатели раздельного учета 4'!O15*1000/12)","v":0},{"$f":"IF('показатели раздельного учета 4'!P15=0,,'показатели раздельного учета 5'!P15/'показатели раздельного учета 4'!P15*1000/12)","v":0},{"$f":"IF('показатели раздельного учета 4'!Q15=0,,'показатели раздельного учета 5'!Q15/'показатели раздельного учета 4'!Q15*1000/12)","v":0},{"$f":"IF('показатели раздельного учета 4'!R15=0,,'показатели раздельного учета 5'!R15/'показатели раздельного учета 4'!R15*1000/12)","v":0},{"$f":"IF('показатели раздельного учета 4'!S15=0,,'показатели раздельного учета 5'!S15/'показатели раздельного учета 4'!S15*1000/12)","v":0}]
[{"$f":"'форма №2'!B16","v":"техническая вода"},{"$f":"IF('показатели раздельного учета 4'!B16=0,,'показатели раздельного учета 5'!B16/'показатели раздельного учета 4'!B16*1000/12)","v":0},{"$f":"IF('показатели раздельного учета 4'!C16=0,,'показатели раздельного учета 5'!C16/'показатели раздельного учета 4'!C16*1000/12)","v":0},{"$f":"IF('показатели раздельного учета 4'!D16=0,,'показатели раздельного учета 5'!D16/'показатели раздельного учета 4'!D16*1000/12)","v":0},{"$f":"IF('показатели раздельного учета 4'!E16=0,,'показатели раздельного учета 5'!E16/'показатели раздельного учета 4'!E16*1000/12)","v":0},{"$f":"IF('показатели раздельного учета 4'!F16=0,,'показатели раздельного учета 5'!F16/'показатели раздельного учета 4'!F16*1000/12)","v":0},{"$f":"IF('показатели раздельного учета 4'!G16=0,,'показатели раздельного учета 5'!G16/'показатели раздельного учета 4'!G16*1000/12)","v":0},{"$f":"IF('показатели раздельного учета 4'!H16=0,,'показатели раздельного учета 5'!H16/'показатели раздельного учета 4'!H16*1000/12)","v":0},{"$f":"IF('показатели раздельного учета 4'!I16=0,,'показатели раздельного учета 5'!I16/'показатели раздельного учета 4'!I16*1000/12)","v":0},{"$f":"IF('показатели раздельного учета 4'!J16=0,,'показатели раздельного учета 5'!J16/'показатели раздельного учета 4'!J16*1000/12)","v":0},{"$f":"IF('показатели раздельного учета 4'!K16=0,,'показатели раздельного учета 5'!K16/'показатели раздельного учета 4'!K16*1000/12)","v":0},{"$f":"IF('показатели раздельного учета 4'!L16=0,,'показатели раздельного учета 5'!L16/'показатели раздельного учета 4'!L16*1000/12)","v":0},{"$f":"IF('показатели раздельного учета 4'!M16=0,,'показатели раздельного учета 5'!M16/'показатели раздельного учета 4'!M16*1000/12)","v":0},{"$f":"IF('показатели раздельного учета 4'!N16=0,,'показатели раздельного учета 5'!N16/'показатели раздельного учета 4'!N16*1000/12)","v":0},{"$f":"IF('показатели раздельного учета 4'!O16=0,,'показатели раздельного учета 5'!O16/'показатели раздельного учета 4'!O16*1000/12)","v":0},{"$f":"IF('показатели раздельного учета 4'!P16=0,,'показатели раздельного учета 5'!P16/'показатели раздельного учета 4'!P16*1000/12)","v":0},{"$f":"IF('показатели раздельного учета 4'!Q16=0,,'показатели раздельного учета 5'!Q16/'показатели раздельного учета 4'!Q16*1000/12)","v":0},{"$f":"IF('показатели раздельного учета 4'!R16=0,,'показатели раздельного учета 5'!R16/'показатели раздельного учета 4'!R16*1000/12)","v":0},{"$f":"IF('показатели раздельного учета 4'!S16=0,,'показатели раздельного учета 5'!S16/'показатели раздельного учета 4'!S16*1000/12)","v":0}]
[{"$f":"'форма №2'!B17","v":"очистка воды"},{"$f":"IF('показатели раздельного учета 4'!B17=0,,'показатели раздельного учета 5'!B17/'показатели раздельного учета 4'!B17*1000/12)","v":0},{"$f":"IF('показатели раздельного учета 4'!C17=0,,'показатели раздельного учета 5'!C17/'показатели раздельного учета 4'!C17*1000/12)","v":0},{"$f":"IF('показатели раздельного учета 4'!D17=0,,'показатели раздельного учета 5'!D17/'показатели раздельного учета 4'!D17*1000/12)","v":0},{"$f":"IF('показатели раздельного учета 4'!E17=0,,'показатели раздельного учета 5'!E17/'показатели раздельного учета 4'!E17*1000/12)","v":0},{"$f":"IF('показатели раздельного учета 4'!F17=0,,'показатели раздельного учета 5'!F17/'показатели раздельного учета 4'!F17*1000/12)","v":0},{"$f":"IF('показатели раздельного учета 4'!G17=0,,'показатели раздельного учета 5'!G17/'показатели раздельного учета 4'!G17*1000/12)","v":0},{"$f":"IF('показатели раздельного учета 4'!H17=0,,'показатели раздельного учета 5'!H17/'показатели раздельного учета 4'!H17*1000/12)","v":0},{"$f":"IF('показатели раздельного учета 4'!I17=0,,'показатели раздельного учета 5'!I17/'показатели раздельного учета 4'!I17*1000/12)","v":0},{"$f":"IF('показатели раздельного учета 4'!J17=0,,'показатели раздельного учета 5'!J17/'показатели раздельного учета 4'!J17*1000/12)","v":0},{"$f":"IF('показатели раздельного учета 4'!K17=0,,'показатели раздельного учета 5'!K17/'показатели раздельного учета 4'!K17*1000/12)","v":0},{"$f":"IF('показатели раздельного учета 4'!L17=0,,'показатели раздельного учета 5'!L17/'показатели раздельного учета 4'!L17*1000/12)","v":0},{"$f":"IF('показатели раздельного учета 4'!M17=0,,'показатели раздельного учета 5'!M17/'показатели раздельного учета 4'!M17*1000/12)","v":0},{"$f":"IF('показатели раздельного учета 4'!N17=0,,'показатели раздельного учета 5'!N17/'показатели раздельного учета 4'!N17*1000/12)","v":0},{"$f":"IF('показатели раздельного учета 4'!O17=0,,'показатели раздельного учета 5'!O17/'показатели раздельного учета 4'!O17*1000/12)","v":0},{"$f":"IF('показатели раздельного учета 4'!P17=0,,'показатели раздельного учета 5'!P17/'показатели раздельного учета 4'!P17*1000/12)","v":0},{"$f":"IF('показатели раздельного учета 4'!Q17=0,,'показатели раздельного учета 5'!Q17/'показатели раздельного учета 4'!Q17*1000/12)","v":0},{"$f":"IF('показатели раздельного учета 4'!R17=0,,'показатели раздельного учета 5'!R17/'показатели раздельного учета 4'!R17*1000/12)","v":0},{"$f":"IF('показатели раздельного учета 4'!S17=0,,'показатели раздельного учета 5'!S17/'показатели раздельного учета 4'!S17*1000/12)","v":0}]
[{"$f":"'форма №2'!B18","v":0},{"$f":"IF('показатели раздельного учета 4'!B18=0,,'показатели раздельного учета 5'!B18/'показатели раздельного учета 4'!B18*1000/12)","v":0},{"$f":"IF('показатели раздельного учета 4'!C18=0,,'показатели раздельного учета 5'!C18/'показатели раздельного учета 4'!C18*1000/12)","v":0},{"$f":"IF('показатели раздельного учета 4'!D18=0,,'показатели раздельного учета 5'!D18/'показатели раздельного учета 4'!D18*1000/12)","v":0},{"$f":"IF('показатели раздельного учета 4'!E18=0,,'показатели раздельного учета 5'!E18/'показатели раздельного учета 4'!E18*1000/12)","v":0},{"$f":"IF('показатели раздельного учета 4'!F18=0,,'показатели раздельного учета 5'!F18/'показатели раздельного учета 4'!F18*1000/12)","v":0},{"$f":"IF('показатели раздельного учета 4'!G18=0,,'показатели раздельного учета 5'!G18/'показатели раздельного учета 4'!G18*1000/12)","v":0},{"$f":"IF('показатели раздельного учета 4'!H18=0,,'показатели раздельного учета 5'!H18/'показатели раздельного учета 4'!H18*1000/12)","v":0},{"$f":"IF('показатели раздельного учета 4'!I18=0,,'показатели раздельного учета 5'!I18/'показатели раздельного учета 4'!I18*1000/12)","v":0},{"$f":"IF('показатели раздельного учета 4'!J18=0,,'показатели раздельного учета 5'!J18/'показатели раздельного учета 4'!J18*1000/12)","v":0},{"$f":"IF('показатели раздельного учета 4'!K18=0,,'показатели раздельного учета 5'!K18/'показатели раздельного учета 4'!K18*1000/12)","v":0},{"$f":"IF('показатели раздельного учета 4'!L18=0,,'показатели раздельного учета 5'!L18/'показатели раздельного учета 4'!L18*1000/12)","v":0},{"$f":"IF('показатели раздельного учета 4'!M18=0,,'показатели раздельного учета 5'!M18/'показатели раздельного учета 4'!M18*1000/12)","v":0},{"$f":"IF('показатели раздельного учета 4'!N18=0,,'показатели раздельного учета 5'!N18/'показатели раздельного учета 4'!N18*1000/12)","v":0},{"$f":"IF('показатели раздельного учета 4'!O18=0,,'показатели раздельного учета 5'!O18/'показатели раздельного учета 4'!O18*1000/12)","v":0},{"$f":"IF('показатели раздельного учета 4'!P18=0,,'показатели раздельного учета 5'!P18/'показатели раздельного учета 4'!P18*1000/12)","v":0},{"$f":"IF('показатели раздельного учета 4'!Q18=0,,'показатели раздельного учета 5'!Q18/'показатели раздельного учета 4'!Q18*1000/12)","v":0},{"$f":"IF('показатели раздельного учета 4'!R18=0,,'показатели раздельного учета 5'!R18/'показатели раздельного учета 4'!R18*1000/12)","v":0},{"$f":"IF('показатели раздельного учета 4'!S18=0,,'показатели раздельного учета 5'!S18/'показатели раздельного учета 4'!S18*1000/12)","v":0}]
[{"$f":"'форма №2'!B19","v":0},{"$f":"IF('показатели раздельного учета 4'!B19=0,,'показатели раздельного учета 5'!B19/'показатели раздельного учета 4'!B19*1000/12)","v":0},{"$f":"IF('показатели раздельного учета 4'!C19=0,,'показатели раздельного учета 5'!C19/'показатели раздельного учета 4'!C19*1000/12)","v":0},{"$f":"IF('показатели раздельного учета 4'!D19=0,,'показатели раздельного учета 5'!D19/'показатели раздельного учета 4'!D19*1000/12)","v":0},{"$f":"IF('показатели раздельного учета 4'!E19=0,,'показатели раздельного учета 5'!E19/'показатели раздельного учета 4'!E19*1000/12)","v":0},{"$f":"IF('показатели раздельного учета 4'!F19=0,,'показатели раздельного учета 5'!F19/'показатели раздельного учета 4'!F19*1000/12)","v":0},{"$f":"IF('показатели раздельного учета 4'!G19=0,,'показатели раздельного учета 5'!G19/'показатели раздельного учета 4'!G19*1000/12)","v":0},{"$f":"IF('показатели раздельного учета 4'!H19=0,,'показатели раздельного учета 5'!H19/'показатели раздельного учета 4'!H19*1000/12)","v":0},{"$f":"IF('показатели раздельного учета 4'!I19=0,,'показатели раздельного учета 5'!I19/'показатели раздельного учета 4'!I19*1000/12)","v":0},{"$f":"IF('показатели раздельного учета 4'!J19=0,,'показатели раздельного учета 5'!J19/'показатели раздельного учета 4'!J19*1000/12)","v":0},{"$f":"IF('показатели раздельного учета 4'!K19=0,,'показатели раздельного учета 5'!K19/'показатели раздельного учета 4'!K19*1000/12)","v":0},{"$f":"IF('показатели раздельного учета 4'!L19=0,,'показатели раздельного учета 5'!L19/'показатели раздельного учета 4'!L19*1000/12)","v":0},{"$f":"IF('показатели раздельного учета 4'!M19=0,,'показатели раздельного учета 5'!M19/'показатели раздельного учета 4'!M19*1000/12)","v":0},{"$f":"IF('показатели раздельного учета 4'!N19=0,,'показатели раздельного учета 5'!N19/'показатели раздельного учета 4'!N19*1000/12)","v":0},{"$f":"IF('показатели раздельного учета 4'!O19=0,,'показатели раздельного учета 5'!O19/'показатели раздельного учета 4'!O19*1000/12)","v":0},{"$f":"IF('показатели раздельного учета 4'!P19=0,,'показатели раздельного учета 5'!P19/'показатели раздельного учета 4'!P19*1000/12)","v":0},{"$f":"IF('показатели раздельного учета 4'!Q19=0,,'показатели раздельного учета 5'!Q19/'показатели раздельного учета 4'!Q19*1000/12)","v":0},{"$f":"IF('показатели раздельного учета 4'!R19=0,,'показатели раздельного учета 5'!R19/'показатели раздельного учета 4'!R19*1000/12)","v":0},{"$f":"IF('показатели раздельного учета 4'!S19=0,,'показатели раздельного учета 5'!S19/'показатели раздельного учета 4'!S19*1000/12)","v":0}]
[{"$f":"'форма №2'!B20","v":0},{"$f":"IF('показатели раздельного учета 4'!B20=0,,'показатели раздельного учета 5'!B20/'показатели раздельного учета 4'!B20*1000/12)","v":0},{"$f":"IF('показатели раздельного учета 4'!C20=0,,'показатели раздельного учета 5'!C20/'показатели раздельного учета 4'!C20*1000/12)","v":0},{"$f":"IF('показатели раздельного учета 4'!D20=0,,'показатели раздельного учета 5'!D20/'показатели раздельного учета 4'!D20*1000/12)","v":0},{"$f":"IF('показатели раздельного учета 4'!E20=0,,'показатели раздельного учета 5'!E20/'показатели раздельного учета 4'!E20*1000/12)","v":0},{"$f":"IF('показатели раздельного учета 4'!F20=0,,'показатели раздельного учета 5'!F20/'показатели раздельного учета 4'!F20*1000/12)","v":0},{"$f":"IF('показатели раздельного учета 4'!G20=0,,'показатели раздельного учета 5'!G20/'показатели раздельного учета 4'!G20*1000/12)","v":0},{"$f":"IF('показатели раздельного учета 4'!H20=0,,'показатели раздельного учета 5'!H20/'показатели раздельного учета 4'!H20*1000/12)","v":0},{"$f":"IF('показатели раздельного учета 4'!I20=0,,'показатели раздельного учета 5'!I20/'показатели раздельного учета 4'!I20*1000/12)","v":0},{"$f":"IF('показатели раздельного учета 4'!J20=0,,'показатели раздельного учета 5'!J20/'показатели раздельного учета 4'!J20*1000/12)","v":0},{"$f":"IF('показатели раздельного учета 4'!K20=0,,'показатели раздельного учета 5'!K20/'показатели раздельного учета 4'!K20*1000/12)","v":0},{"$f":"IF('показатели раздельного учета 4'!L20=0,,'показатели раздельного учета 5'!L20/'показатели раздельного учета 4'!L20*1000/12)","v":0},{"$f":"IF('показатели раздельного учета 4'!M20=0,,'показатели раздельного учета 5'!M20/'показатели раздельного учета 4'!M20*1000/12)","v":0},{"$f":"IF('показатели раздельного учета 4'!N20=0,,'показатели раздельного учета 5'!N20/'показатели раздельного учета 4'!N20*1000/12)","v":0},{"$f":"IF('показатели раздельного учета 4'!O20=0,,'показатели раздельного учета 5'!O20/'показатели раздельного учета 4'!O20*1000/12)","v":0},{"$f":"IF('показатели раздельного учета 4'!P20=0,,'показатели раздельного учета 5'!P20/'показатели раздельного учета 4'!P20*1000/12)","v":0},{"$f":"IF('показатели раздельного учета 4'!Q20=0,,'показатели раздельного учета 5'!Q20/'показатели раздельного учета 4'!Q20*1000/12)","v":0},{"$f":"IF('показатели раздельного учета 4'!R20=0,,'показатели раздельного учета 5'!R20/'показатели раздельного учета 4'!R20*1000/12)","v":0},{"$f":"IF('показатели раздельного учета 4'!S20=0,,'показатели раздельного учета 5'!S20/'показатели раздельного учета 4'!S20*1000/12)","v":0}]
[{"$f":"'форма №2'!B21","v":0},{"$f":"IF('показатели раздельного учета 4'!B21=0,,'показатели раздельного учета 5'!B21/'показатели раздельного учета 4'!B21*1000/12)","v":0},{"$f":"IF('показатели раздельного учета 4'!C21=0,,'показатели раздельного учета 5'!C21/'показатели раздельного учета 4'!C21*1000/12)","v":0},{"$f":"IF('показатели раздельного учета 4'!D21=0,,'показатели раздельного учета 5'!D21/'показатели раздельного учета 4'!D21*1000/12)","v":0},{"$f":"IF('показатели раздельного учета 4'!E21=0,,'показатели раздельного учета 5'!E21/'показатели раздельного учета 4'!E21*1000/12)","v":0},{"$f":"IF('показатели раздельного учета 4'!F21=0,,'показатели раздельного учета 5'!F21/'показатели раздельного учета 4'!F21*1000/12)","v":0},{"$f":"IF('показатели раздельного учета 4'!G21=0,,'показатели раздельного учета 5'!G21/'показатели раздельного учета 4'!G21*1000/12)","v":0},{"$f":"IF('показатели раздельного учета 4'!H21=0,,'показатели раздельного учета 5'!H21/'показатели раздельного учета 4'!H21*1000/12)","v":0},{"$f":"IF('показатели раздельного учета 4'!I21=0,,'показатели раздельного учета 5'!I21/'показатели раздельного учета 4'!I21*1000/12)","v":0},{"$f":"IF('показатели раздельного учета 4'!J21=0,,'показатели раздельного учета 5'!J21/'показатели раздельного учета 4'!J21*1000/12)","v":0},{"$f":"IF('показатели раздельного учета 4'!K21=0,,'показатели раздельного учета 5'!K21/'показатели раздельного учета 4'!K21*1000/12)","v":0},{"$f":"IF('показатели раздельного учета 4'!L21=0,,'показатели раздельного учета 5'!L21/'показатели раздельного учета 4'!L21*1000/12)","v":0},{"$f":"IF('показатели раздельного учета 4'!M21=0,,'показатели раздельного учета 5'!M21/'показатели раздельного учета 4'!M21*1000/12)","v":0},{"$f":"IF('показатели раздельного учета 4'!N21=0,,'показатели раздельного учета 5'!N21/'показатели раздельного учета 4'!N21*1000/12)","v":0},{"$f":"IF('показатели раздельного учета 4'!O21=0,,'показатели раздельного учета 5'!O21/'показатели раздельного учета 4'!O21*1000/12)","v":0},{"$f":"IF('показатели раздельного учета 4'!P21=0,,'показатели раздельного учета 5'!P21/'показатели раздельного учета 4'!P21*1000/12)","v":0},{"$f":"IF('показатели раздельного учета 4'!Q21=0,,'показатели раздельного учета 5'!Q21/'показатели раздельного учета 4'!Q21*1000/12)","v":0},{"$f":"IF('показатели раздельного учета 4'!R21=0,,'показатели раздельного учета 5'!R21/'показатели раздельного учета 4'!R21*1000/12)","v":0},{"$f":"IF('показатели раздельного учета 4'!S21=0,,'показатели раздельного учета 5'!S21/'показатели раздельного учета 4'!S21*1000/12)","v":0}]
[{"$f":"'форма №2'!B22","v":0},{"$f":"IF('показатели раздельного учета 4'!B22=0,,'показатели раздельного учета 5'!B22/'показатели раздельного учета 4'!B22*1000/12)","v":0},{"$f":"IF('показатели раздельного учета 4'!C22=0,,'показатели раздельного учета 5'!C22/'показатели раздельного учета 4'!C22*1000/12)","v":0},{"$f":"IF('показатели раздельного учета 4'!D22=0,,'показатели раздельного учета 5'!D22/'показатели раздельного учета 4'!D22*1000/12)","v":0},{"$f":"IF('показатели раздельного учета 4'!E22=0,,'показатели раздельного учета 5'!E22/'показатели раздельного учета 4'!E22*1000/12)","v":0},{"$f":"IF('показатели раздельного учета 4'!F22=0,,'показатели раздельного учета 5'!F22/'показатели раздельного учета 4'!F22*1000/12)","v":0},{"$f":"IF('показатели раздельного учета 4'!G22=0,,'показатели раздельного учета 5'!G22/'показатели раздельного учета 4'!G22*1000/12)","v":0},{"$f":"IF('показатели раздельного учета 4'!H22=0,,'показатели раздельного учета 5'!H22/'показатели раздельного учета 4'!H22*1000/12)","v":0},{"$f":"IF('показатели раздельного учета 4'!I22=0,,'показатели раздельного учета 5'!I22/'показатели раздельного учета 4'!I22*1000/12)","v":0},{"$f":"IF('показатели раздельного учета 4'!J22=0,,'показатели раздельного учета 5'!J22/'показатели раздельного учета 4'!J22*1000/12)","v":0},{"$f":"IF('показатели раздельного учета 4'!K22=0,,'показатели раздельного учета 5'!K22/'показатели раздельного учета 4'!K22*1000/12)","v":0},{"$f":"IF('показатели раздельного учета 4'!L22=0,,'показатели раздельного учета 5'!L22/'показатели раздельного учета 4'!L22*1000/12)","v":0},{"$f":"IF('показатели раздельного учета 4'!M22=0,,'показатели раздельного учета 5'!M22/'показатели раздельного учета 4'!M22*1000/12)","v":0},{"$f":"IF('показатели раздельного учета 4'!N22=0,,'показатели раздельного учета 5'!N22/'показатели раздельного учета 4'!N22*1000/12)","v":0},{"$f":"IF('показатели раздельного учета 4'!O22=0,,'показатели раздельного учета 5'!O22/'показатели раздельного учета 4'!O22*1000/12)","v":0},{"$f":"IF('показатели раздельного учета 4'!P22=0,,'показатели раздельного учета 5'!P22/'показатели раздельного учета 4'!P22*1000/12)","v":0},{"$f":"IF('показатели раздельного учета 4'!Q22=0,,'показатели раздельного учета 5'!Q22/'показатели раздельного учета 4'!Q22*1000/12)","v":0},{"$f":"IF('показатели раздельного учета 4'!R22=0,,'показатели раздельного учета 5'!R22/'показатели раздельного учета 4'!R22*1000/12)","v":0},{"$f":"IF('показатели раздельного учета 4'!S22=0,,'показатели раздельного учета 5'!S22/'показатели раздельного учета 4'!S22*1000/12)","v":0}]
[{"$f":"'форма №2'!B23","v":"прочие (нерегулируемые) виды деятельности"},{"$f":"IF('показатели раздельного учета 4'!B23=0,,'показатели раздельного учета 5'!B23/'показатели раздельного учета 4'!B23*1000/12)","v":0},{"$f":"IF('показатели раздельного учета 4'!C23=0,,'показатели раздельного учета 5'!C23/'показатели раздельного учета 4'!C23*1000/12)","v":0},{"$f":"IF('показатели раздельного учета 4'!D23=0,,'показатели раздельного учета 5'!D23/'показатели раздельного учета 4'!D23*1000/12)","v":0},{"$f":"IF('показатели раздельного учета 4'!E23=0,,'показатели раздельного учета 5'!E23/'показатели раздельного учета 4'!E23*1000/12)","v":0},{"$f":"IF('показатели раздельного учета 4'!F23=0,,'показатели раздельного учета 5'!F23/'показатели раздельного учета 4'!F23*1000/12)","v":0},{"$f":"IF('показатели раздельного учета 4'!G23=0,,'показатели раздельного учета 5'!G23/'показатели раздельного учета 4'!G23*1000/12)","v":0},{"$f":"IF('показатели раздельного учета 4'!H23=0,,'показатели раздельного учета 5'!H23/'показатели раздельного учета 4'!H23*1000/12)","v":0},{"$f":"IF('показатели раздельного учета 4'!I23=0,,'показатели раздельного учета 5'!I23/'показатели раздельного учета 4'!I23*1000/12)","v":0},{"$f":"IF('показатели раздельного учета 4'!J23=0,,'показатели раздельного учета 5'!J23/'показатели раздельного учета 4'!J23*1000/12)","v":0},{"$f":"IF('показатели раздельного учета 4'!K23=0,,'показатели раздельного учета 5'!K23/'показатели раздельного учета 4'!K23*1000/12)","v":0},{"$f":"IF('показатели раздельного учета 4'!L23=0,,'показатели раздельного учета 5'!L23/'показатели раздельного учета 4'!L23*1000/12)","v":0},{"$f":"IF('показатели раздельного учета 4'!M23=0,,'показатели раздельного учета 5'!M23/'показатели раздельного учета 4'!M23*1000/12)","v":0},{"$f":"IF('показатели раздельного учета 4'!N23=0,,'показатели раздельного учета 5'!N23/'показатели раздельного учета 4'!N23*1000/12)","v":0},{"$f":"IF('показатели раздельного учета 4'!O23=0,,'показатели раздельного учета 5'!O23/'показатели раздельного учета 4'!O23*1000/12)","v":0},{"$f":"IF('показатели раздельного учета 4'!P23=0,,'показатели раздельного учета 5'!P23/'показатели раздельного учета 4'!P23*1000/12)","v":0},{"$f":"IF('показатели раздельного учета 4'!Q23=0,,'показатели раздельного учета 5'!Q23/'показатели раздельного учета 4'!Q23*1000/12)","v":0},{"$f":"IF('показатели раздельного учета 4'!R23=0,,'показатели раздельного учета 5'!R23/'показатели раздельного учета 4'!R23*1000/12)","v":0},{"$f":"IF('показатели раздельного учета 4'!S23=0,,'показатели раздельного учета 5'!S23/'показатели раздельного учета 4'!S23*1000/12)","v":0}]
["ВСЕГО по предприятию",{"$f":"IF('показатели раздельного учета 4'!B24=0,,'показатели раздельного учета 5'!B24/'показатели раздельного учета 4'!B24*1000/12)","v":0},{"$f":"IF('показатели раздельного учета 4'!C24=0,,'показатели раздельного учета 5'!C24/'показатели раздельного учета 4'!C24*1000/12)","v":0},{"$f":"IF('показатели раздельного учета 4'!D24=0,,'показатели раздельного учета 5'!D24/'показатели раздельного учета 4'!D24*1000/12)","v":0},{"$f":"IF('показатели раздельного учета 4'!E24=0,,'показатели раздельного учета 5'!E24/'показатели раздельного учета 4'!E24*1000/12)","v":0},{"$f":"IF('показатели раздельного учета 4'!F24=0,,'показатели раздельного учета 5'!F24/'показатели раздельного учета 4'!F24*1000/12)","v":0},{"$f":"IF('показатели раздельного учета 4'!G24=0,,'показатели раздельного учета 5'!G24/'показатели раздельного учета 4'!G24*1000/12)","v":0},{"$f":"IF('показатели раздельного учета 4'!H24=0,,'показатели раздельного учета 5'!H24/'показатели раздельного учета 4'!H24*1000/12)","v":0},{"$f":"IF('показатели раздельного учета 4'!I24=0,,'показатели раздельного учета 5'!I24/'показатели раздельного учета 4'!I24*1000/12)","v":0},{"$f":"IF('показатели раздельного учета 4'!J24=0,,'показатели раздельного учета 5'!J24/'показатели раздельного учета 4'!J24*1000/12)","v":0},{"$f":"IF('показатели раздельного учета 4'!K24=0,,'показатели раздельного учета 5'!K24/'показатели раздельного учета 4'!K24*1000/12)","v":0},{"$f":"IF('показатели раздельного учета 4'!L24=0,,'показатели раздельного учета 5'!L24/'показатели раздельного учета 4'!L24*1000/12)","v":0},{"$f":"IF('показатели раздельного учета 4'!M24=0,,'показатели раздельного учета 5'!M24/'показатели раздельного учета 4'!M24*1000/12)","v":0},{"$f":"IF('показатели раздельного учета 4'!N24=0,,'показатели раздельного учета 5'!N24/'показатели раздельного учета 4'!N24*1000/12)","v":0},{"$f":"IF('показатели раздельного учета 4'!O24=0,,'показатели раздельного учета 5'!O24/'показатели раздельного учета 4'!O24*1000/12)","v":0},{"$f":"IF('показатели раздельного учета 4'!P24=0,,'показатели раздельного учета 5'!P24/'показатели раздельного учета 4'!P24*1000/12)","v":0},{"$f":"IF('показатели раздельного учета 4'!Q24=0,,'показатели раздельного учета 5'!Q24/'показатели раздельного учета 4'!Q24*1000/12)","v":0},{"$f":"IF('показатели раздельного учета 4'!R24=0,,'показатели раздельного учета 5'!R24/'показатели раздельного учета 4'!R24*1000/12)","v":0},{"$f":"IF('показатели раздельного учета 4'!S24=0,,'показатели раздельного учета 5'!S24/'показатели раздельного учета 4'!S24*1000/12)","v":0}]

{"sheet":"показатели надежн и качества","index":26,"n_rows":24,"n_cols":8,"rows_kept":24,"cut":false,"hidden":false,"merged":[[20,0,20,6],[6,2,8,2],[2,0,2,4],[0,0,0,4],[1,0,1,4],[6,0,8,0],[6,1,8,1],[6,3,6,6],[7,5,7,6],[7,3,8,3],[7,4,8,4],[9,0,9,6],[16,0,16,6]]}
["Фактические значения показателей надежности, качества и энергетической эффективности объектов централизованных систем водоснабжения за 2017 год"]
[{"$f":"Титульный!C10","v":" "}]
[{"$f":"Титульный!C19","v":0}]
["район",{"$f":"Титульный!C6","v":0}]
["МО",{"$f":"Титульный!C7","v":0}]
[]
["№ п/п","Наименование показателя","ед. изм.","2017  год"]
[null,null,null,"план","факт","отклонение"]
[null,null,null,null,null,"абс.","%"]
["Показатели качества воды"]
[1,"Доля проб питьевой воды, подаваемой с водопроводных станций в распределительную водопроводную сеть, не соответствующих установленным требованиям, в общем объеме проб, отобранных по результатам производственного контроля качества питьевой воды","%",null,{"$f":"IF(E12=0,0,E13/E12*100)","v":0},{"$f":"E11-D11","v":0},{"$f":"IF(D11=0,,F11/D11*100)","v":0},"приложить отчеты о проведении исследований!"]
["1.1.","количество проб питьевой воды всего","ед","х",null,null,null,"если исследования не проводились поставить прочерк"]
["1.2.","количество проб питьевой воды, не соответствующих установленным требованиям","ед","х"]
[2,"Доля проб питьевой воды в распределительной водопроводной сети, не соответствующих установленным требованиям, в общем объеме проб, отобранных по результатам производственного контроля качества питьевой воды","%",null,null,{"$f":"E14-D14","v":0},{"$f":"IF(D14=0,,F14/D14*100)","v":0},"приложить отчеты о проведении исследований!"]
["2..1.","количество проб питьевой воды всего","ед","х",null,null,null,"если исследования не проводились поставить прочерк"]
[".2.2.","количество проб питьевой воды, не соответствующих установленным требованиям","ед","х"]
["Показатели надежности и бесперебойности водоснабжения"]
[1,"Количество зафиксированных перерывов в подаче холодной воды, возникших в результате аварий, повреждений и иных технологических нарушений","ед в год/ км",null,{"$f":"IF(E20=0,0,E19/E20)","v":0},{"$f":"E18-D18","v":0},{"$f":"IF(D18=0,,F18/D18*100)","v":0},"приложить обосновывающие документы!"]
["1.1.","количество зафиксированных перерывов в подаче холодной воды","ед","х"]
["1.2.","протяженность водопроводных сетей","км","х",{"$f":"'Техн характер системы'!K103/1000","v":0}]
["Показатели энергетической эффективности использования ресурсов"]
[1,"Доля потерь воды в централизованных системах водоснабжения при транспортировке в общем объеме воды, поданной в водопроводную сеть","%",null,{"$f":"'баланс ВСН'!I28","v":0},{"$f":"E22-D22","v":0},{"$f":"IF(D22=0,,F22/D22*100)","v":0}]
[2,"Удельный расход электроэнергии, потребляемой в технологическом процессе для подготовки воды на единицу объема воды, отпускаемой в сеть","кВт.ч / куб.м",null,{"$f":"IF('баланс ВСН'!I24=0,0,'отчет по электроэнергии'!E39/'баланс ВСН'!I24)","v":0},0,0]
[3,"Удельный расход электроэнергии, потребляемой в технологическом процессе транспортировки воды на единицу объема транспортируемой воды","кВт.ч / куб.м",null,{"$f":"IF('баланс ВСН'!I30=0,0,'отчет по электроэнергии'!E40/'баланс ВСН'!I30)","v":0},0,0]

{"sheet":"отчет ПП","index":27,"n_rows":44,"n_cols":8,"rows_kept":44,"cut":false,"hidden":false,"merged":[[12,5,12,7],[14,1,14,4],[8,5,8,7],[9,2,9,3],[9,4,9,5],[8,0,8,1],[6,2,6,7],[7,0,7,1],[7,2,7,7],[4,0,4,1],[4,2,4,7],[5,0,5,1],[5,2,5,7],[2,0,2,1],[2,2,2,7],[3,0,3,1],[27,5,27,7],[26,2,26,3],[26,4,26,5],[27,0,28,0],[25,0,25,7],[21,0,22,0],[18,2,18,3],[18,4,18,5],[11,2,11,3],[11,4,11,5],[12,0,13,0],[12,1,13,4],[6,0,6,1],[33,5,33,7],[38,0,38,7],[16,1,16,4],[17,1,17,4],[21,5,21,7],[21,1,22,4],[31,0,31,7],[23,1,23,4],[27,1,28,4],[29,1,29,4],[3,2,3,7],[1,0,1,1],[1,2,1,3],[1,4,1,5],[43,1,43,3],[40,0,40,7],[41,1,41,3],[39,1,39,3],[37,1,37,3],[36,1,36,3],[35,0,35,7],[42,1,42,3],[15,1,15,4],[33,1,34,3],[33,0,34,0],[33,4,34,4]]}
["I. Отчет о выполнении производственной программы за 2016 год"]
[]
["Полное наименование организации",null,{"$f":"Титульный!C10","v":" "}]
["Юридический адрес, телефон, факс",null,{"$f":"CONCATENATE('данные об организации'!C4,'данные об организации'!C5)","v":""}]
["ИНН",null,{"$f":"Титульный!C9","v":0}]
["Сфера деятельности",null,{"$f":"Титульный!C15","v":"Водоснабжение"}]
["Наименование уполномоченного органа",null,"Департамент тарифного регулирования Томской   области"]
["Юридический адрес, телефон, факс",null,"634041, г. Томск, пр. Кирова 41, тел./факс: (3822)   560-373"]
["Период реализации производственной программы (график реализации мероприятий производственной программы)",null,"с ",{"$f":"'данные об организации'!H29","v":"2017-01-01"},"по","2017-12-31"]
[]
["II. Выполнение плановых мероприятий"]
[]
["№ п/п","Вид плановых мероприятий",null,null,null,"Сумма за 2017 год, тыс.руб"]
[null,null,null,null,null,"план","факт","откл"]
[1,"Плановые мероприятия: по ремонту объектов водоснабжения и водопроводных сетей, направленные на улучшение качества питьевой воды, обслуживания абонентов",null,null,null,null,{"$f":"'Смета факт'!C83/1000","v":0},{"$f":"G15-F15","v":0}]
[2,"Плановые мероприятия по энергосбережению и повышению энергетической эффективности, в том числе по снижению потерь воды при транспортировке",null,null,null,0,null,{"$f":"G16-F16","v":0}]
[3,"Другие мероприятия",null,null,null,0,null,{"$f":"G17-F17","v":0}]
[null,"Итого",null,null,null,{"$f":"SUM(F15:F17)","v":0},{"$f":"SUM(G15:G17)","v":0},0]
[]
["III. Объем подачи (транспортировки, очистки) воды"]
[]
["№ п/п","Наименование показателя",null,null,null,"Объем за 2017 год, тыс. куб.м."]
[null,null,null,null,null,"план","факт","откл"]
[1,"Объем реализации",null,null,null,null,{"$f":"'баланс ВСН'!I30/1000","v":0},{"$f":"G24-F24","v":0}]
[]
["IV. Объем финансовых потребностей, необходимых для реализации производственной программы"]
[]
["№ п/п","Наименование показателя",null,null,null,"Сумма за 2017 год, тыс.руб"]
[null,null,null,null,null,"план","факт","откл"]
[1,"Необходимая валовая выручка",null,null,null,null,{"$f":"'Смета факт'!C184/1000","v":0},{"$f":"G30-F30","v":0}]
[]
["V. Выполнение плановые значения показателей надежности, качества и энергетической эффективности объектов централизованных систем водоснабжения"]
[]
["№ п/п","Наименование показателя",null,null,"ед. изм.","Значение за 2017 год"]
[null,null,null,null,null,"план","факт","откл"]
["Показатели качества воды"]
[1,"Доля проб питьевой воды, подаваемой с водопроводных станций в распределительную водопроводную сеть, не соответствующих установленным требованиям, в общем объеме проб, отобранных по результатам производственного контроля качества питьевой воды",null,null,"%",{"$f":"'показатели надежн и качества'!D11","v":0},{"$f":"'показатели надежн и качества'!E11","v":0},{"$f":"G37-F37","v":0}]
[2,"Доля проб питьевой воды в распределительной водопроводной сети, не соответствующих установленным требованиям, в общем объеме проб, отобранных по результатам производственного контроля качества питьевой воды",null,null,"%",{"$f":"'показатели надежн и качества'!D14","v":0},{"$f":"'показатели надежн и качества'!E14","v":0},{"$f":"G38-F38","v":0}]
["Показатели надежности и бесперебойности водоснабжения"]
[1,"Количество зафиксированных перерывов в подаче холодной воды, возникших в результате аварий, повреждений и иных технологических нарушений",null,null,"ед в год/ км",{"$f":"'показатели надежн и качества'!D18","v":0},{"$f":"'показатели надежн и качества'!E18","v":0},{"$f":"G40-F40","v":0}]
["Показатели энергетической эффективности использования ресурсов"]
[1,"Доля потерь воды в централизованных системах водоснабжения при транспортировке в общем объеме воды, поданной в водопроводную сеть",null,null,"%",{"$f":"'показатели надежн и качества'!D22","v":0},{"$f":"'показатели надежн и качества'!E22","v":0},{"$f":"G42-F42","v":0}]
[2,"Удельный расход электроэнергии, потребляемой в технологическом процессе для подготовки воды на единицу объема воды, отпускаемой в сеть",null,null,"кВт.ч  куб.м",{"$f":"'показатели надежн и качества'!D23","v":0},{"$f":"'показатели надежн и качества'!E23","v":0},{"$f":"G43-F43","v":0}]
[3,"Удельный расход электроэнергии, потребляемой в технологическом процессе транспортировки воды на единицу объема транспортируемой воды",null,null,"кВт.ч  куб.м",{"$f":"'показатели надежн и качества'!D24","v":0},{"$f":"'показатели надежн и качества'!E24","v":0},0]

{"sheet":"Смета факт","index":28,"n_rows":233,"n_cols":5,"rows_kept":233,"cut":false,"hidden":false,"merged":[[0,1,0,4],[9,0,9,2],[6,0,8,0],[6,1,8,1],[1,0,1,4],[2,0,2,4],[3,0,3,4],[6,2,6,4],[7,2,8,2],[7,3,8,3],[7,4,8,4],[193,3,193,4],[194,3,194,4],[195,3,195,4],[196,3,196,4],[197,3,197,4],[198,3,198,4],[199,3,199,4],[200,3,200,4],[201,3,201,4],[202,3,202,4],[203,3,203,4],[204,3,204,4],[205,3,205,4],[208,3,208,4],[209,3,209,4],[210,3,210,4],[211,3,211,4],[212,3,212,4],[213,3,213,4],[214,3,214,4],[215,3,215,4],[216,3,216,4],[219,3,219,4],[220,3,220,4],[221,3,221,4],[227,3,227,4],[229,3,229,4],[222,3,222,4],[223,3,223,4],[224,3,224,4],[225,3,225,4],[226,3,226,4]]}
[null,"заполняется РСО в соответствии с данными бухгалтерского учета"]
["Фактическая смета расходов и НВВ по установленному тарифу в сфере водоснабжения за 2017 год"]
[{"$f":"Титульный!C10","v":" "}]
[{"$f":"Титульный!C19","v":0}]
["район",{"$f":"Титульный!C6","v":0},"МО"]
[]
["№ п/п","Наименование статьи","Сумма, руб"]
[null,null,"ВСЕГО","имущество по договору аренды или находящееся в собственности","бесхозяйное имущество"]
[]
["номер бухгалтерского счета (субсчета) учета затрат"]
["I","ПРОИЗВОДСТВЕННЫЕ РАСХОДЫ",{"$f":"D11+E11","v":0},{"$f":"D12+D20+D33+D39+D46","v":0},{"$f":"E12+E20+E33+E39+E46","v":0}]
["1.","Расходы на приобретение сырья и материалов и их хранения",0,{"$f":"D13+D14+D15+D16","v":0},{"$f":"E13+E14+E15+E16","v":0}]
["1.1.","реагенты",{"$f":"D13+E13","v":0}]
["1.2.","заполнители фильтров (песок, гравий и пр.)",0]
["1.3.","горюче-смазочные материалы",0]
["1.4.","материалы и малоценные основные средства, в т.ч.",0,{"$f":"SUM(D17:D19)","v":0},{"$f":"E17+E18+E19","v":0}]
["1.4.1.","материалы на техническое обслуживание",0]
["1.4.2.","специальная одежда",0]
["1.4.3.","хозяйственный инвентарь и другие  вспомогательные материалы",0]
["2.","Расходы на энергетические ресурсы и холодную воду",0,{"$f":"D21+D24+D25+D26+D27+D28","v":0},{"$f":"E21+E24+E25+E26+E27+E28","v":0}]
["2.1.","Электроэнергия, в том числе",0,{"$f":"D22+D23","v":0},{"$f":"E22+E23","v":0}]
["2.1.1.","активная",0,{"$f":"'отчет по электроэнергии'!E15+'отчет по электроэнергии'!E31","v":0},{"$f":"'отчет по электроэнергии (бсх)'!E15+'отчет по электроэнергии (бсх)'!E31","v":0}]
["2.1.2.","мощность",0,{"$f":"'отчет по электроэнергии'!E24","v":0},{"$f":"'отчет по электроэнергии (бсх)'!E24","v":0}]
["2.2.","Тепловая энергия",0]
["2.3.","Вода на собственные нужды",0]
["2.4.","Водоотведение на собственные нужды",0]
["2.5.","Прочие энергоресурсы",0]
["2.6.","Расходы на покупку холодной воды, в том числе:",0,{"$f":"D29+D31","v":0},{"$f":"E29+E31","v":0}]
["2.6.1.","технического качества",0]
["2.6.2.","в том числе: покупка потерь",0]
["2.6.3.","питьевого качества ",0]
["2.6.4.","в том числе: покупка потерь",0]
["3.","Услуги, оказываемые сторонними организациями",0,{"$f":"D34+D35+D36","v":0},{"$f":"E34+E35+E36","v":0}]
["3.1.","Услуги по подъему воды, оказываемые сторонними       организациями",0]
["3.2.","Услуги по очистке воды, оказываемые сторонними организациями",0]
["3.3.","Услуги  по транспортированию воды, оказываемые сторонними организациями, всего",0,{"$f":"D37+D38","v":0},{"$f":"E37+E38","v":0}]
["3.3.1.","                  в том числе:    услуги по транспортированию неочищенной воды, оказываемые сторонними организациями",0]
["3.3.2.","                  услуги  по транспортированию очищенной воды, оказываемые сторонними организациями               ",0]
["4.","Расходы на оплату труда и отчисления на социальные нужды",0,{"$f":"D40+D43","v":0},{"$f":"E40+E43","v":0}]
["4.1.","Расходы на оплату труда основного персонала",0]
["4.2.","Численность основного персонала, относимого на регулируемый вид деятельности, чел",0]
["4.2.1.","средняя заработная плата",{"$f":"IF(C41=0,,C40/C41/12)","v":0},{"$f":"IF(D41=0,,D40/D41/12)","v":0},0]
["4.3.","Отчисления на социальные нужды от расходов на оплату труда",{"$f":"D43+E43","v":0}]
["4.3.1."," % расходов на уплату страховых взносов в ПФ, ФСС, ОМС",{"$f":"IF(C40=0,,C43/C40*100-C45)","v":0},{"$f":"IF(D40=0,,D43/D40*100-D45)","v":0},0]
["4.3.2.","% платежей в фонд социального страхования от несчастных случаев",null,null,0.2]
["5.","Прочие производственные расходы",{"$f":"D46+E46","v":0},{"$f":"D47+D72+D78+D79+D80","v":0},{"$f":"E47+E72+E78+E79+E80","v":0}]
["5.1.","Услуги собственных подразделений",{"$f":"D47+E47","v":0},{"$f":"D48+D54+D60+D66","v":0},{"$f":"E48+E54+E60+E66","v":0}]
["5.1.1.","Услуги вспомогательных производств",{"$f":"D48+E48","v":0},{"$f":"D49+D52+D53","v":0},{"$f":"E49+E52+E53","v":0}]
["5.1.1.1.","Расходы на оплату труда, относимую на регулируемый вид деятельности",{"$f":"D49+E49","v":0}]
["5.1.1.1.1.","Численность, относимая на регулируемый вид деятельности, чел",{"$f":"D50+E50","v":0}]
["5.1.1.1.2.","средняя заработная плата",{"$f":"IF(C50=0,,C49/C50/12)","v":0},{"$f":"IF(D50=0,,D49/D50/12)","v":0},0]
["5.1.1.2.","Отчисления на социальные нужды от расходов на оплату труда",{"$f":"D52+E52","v":0}]
["5.1.1.3.","Прочие расходы",{"$f":"D53+E53","v":0}]
["5.1.2.","Транспортные расходы",{"$f":"D54+E54","v":0},{"$f":"D55+D58+D59","v":0},{"$f":"E55+E58+E59","v":0}]
["5.1.2.1.","Расходы на оплату труда, относимую на регулируемый вид деятельности",{"$f":"D55+E55","v":0}]
["5.1.2.1.1.","Численность, относимая на регулируемый вид деятельности, чел",{"$f":"D56+E56","v":0}]
["5.1.2.1.2.","средняя заработная плата",{"$f":"IF(C56=0,,C55/C56/12)","v":0},0,0]
["5.1.2.2.","Отчисления на социальные нужды от расходов на оплату труда",{"$f":"D58+E58","v":0}]
["5.1.2.3.","Прочие расходы",{"$f":"D59+E59","v":0}]
["5.1.3.","Цеховые расходы",{"$f":"D60+E60","v":0},{"$f":"D61+D64+D65","v":0},{"$f":"E61+E64+E65","v":0}]
["5.1.3.1.","Расходы на оплату труда, относимую на регулируемый вид деятельности",{"$f":"D61+E61","v":0}]
["5.1.3.1.1.","Численность, относимая на регулируемый вид деятельности, чел",{"$f":"D62+E62","v":0}]
["5.1.3.1.2.","средняя заработная плата",{"$f":"IF(C62=0,,C61/C62/12)","v":0},{"$f":"IF(D62=0,,D61/D62/12)","v":0},{"$f":"IF(E62=0,,E61/E62/12)","v":0}]
["5.1.3.2.","Отчисления на социальные нужды от расходов на оплату труда",{"$f":"D64+E64","v":0}]
["5.1.3.3.","Прочие расходы",{"$f":"D65+E65","v":0}]
["5.1.4.","Общепроизводственные расходы",{"$f":"D66+E66","v":0},{"$f":"D67+D70+D71","v":0},{"$f":"E67+E70+E71","v":0}]
["5.1.4.1.","Расходы на оплату труда, относимую на регулируемый вид деятельности",{"$f":"D67+E67","v":0}]
["5.1.4.1.1.","Численность, относимая на регулируемый вид деятельности, чел",{"$f":"D68+E68","v":0}]
["5.1.4.1.2.","средняя заработная плата",{"$f":"IF(C68=0,,C67/C68/12)","v":0},{"$f":"IF(D68=0,,D67/D68/12)","v":0},{"$f":"IF(E68=0,,E67/E68/12)","v":0}]
["5.1.4.2.","Отчисления на социальные нужды от расходов на оплату труда",{"$f":"D70+E70","v":0}]
["5.1.4.3.","Прочие расходы",0]
["5.2.","Охрана труда всего, в том числе:",0,{"$f":"SUM(D73:D77)","v":0},{"$f":"SUM(E73:E77)","v":0}]
["5.2.1.","моющие средства",0]
["5.2.2.","специальное питание",0]
["5.2.3.","страхование персонала (кроме ДМС)",0]
["5.2.4.","аттестация",0]
["5.2.5.","медицинский осмотр",0]
["5.3.","Расходы на льготный проезд",0]
["5.4.","Расходы на содержание зданий (вывоз ТБО, дератизация, дезинсекция)",0]
["5.5.","Производственный контроль качества воды",0,{"$f":"SUM(D81:D82)","v":0},{"$f":"SUM(E81:E82)","v":0}]
["5.5.1."," контроль качества воды",0]
["5.5.2.","оборудование  лаборатории",0]
["II","РЕМОНТНЫЕ РАСХОДЫ",0,{"$f":"D84+D96","v":0},{"$f":"E84+E96","v":0}]
["6.1.","Текущий ремонт централизованных систем водоснабжения, объектов, входящих в состав таких систем, в том числе:",0,{"$f":"D85+D95","v":0},{"$f":"E85+E95","v":0}]
["6.1.1.","затраты на ремонт хоз. способом:",0,{"$f":"D86+D89+D90+D91+D92+D93+D94","v":0},{"$f":"SUM(E86:E94)","v":0}]
["6.1.1.1.","заработная плата ремонтного персонала",0,{"$f":"'ремонт хозспособ'!D31","v":0},{"$f":"'ремонт хозспособ (бсх)'!D34","v":0}]
["6.1.1.1.1.","Численность, относимая на регулируемый вид деятельности, чел",0]
["6.1.1.1.2.","средняя заработная плата",{"$f":"IF(C87=0,,C86/C87/12)","v":0},{"$f":"IF(D87=0,,D86/D87/12)","v":0},{"$f":"IF(E87=0,,E86/E87/12)","v":0}]
["6.1.1.2.","отчисления на социальные нужды от расходов на оплату труда",{"$f":"D89+E89","v":0},{"$f":"'ремонт хозспособ'!E31","v":0},{"$f":"'ремонт хозспособ (бсх)'!E34","v":0}]
["6.1.1.3.","материалы",0,{"$f":"'ремонт хозспособ'!F31","v":0},{"$f":"'ремонт хозспособ (бсх)'!F34","v":0}]
["6.1.1.4.","услуги вспомогательных производств",0,{"$f":"'ремонт хозспособ'!H31","v":0},{"$f":"'ремонт хозспособ (бсх)'!H34","v":0}]
["6.1.1.5.","транспортные расходы",0,{"$f":"'ремонт хозспособ'!G31","v":0},{"$f":"'ремонт хозспособ (бсх)'!G34","v":0}]
["6.1.1.6.","цеховые расходы",0,{"$f":"'ремонт хозспособ'!I31","v":0},{"$f":"'ремонт хозспособ (бсх)'!I34","v":0}]
["6.1.1.7.","общехозяйственные расходы",0,{"$f":"'ремонт хозспособ'!J31","v":0},{"$f":"'ремонт хозспособ (бсх)'!J34","v":0}]
["6.1.2.","затраты на ремонт подрядным способом",0,{"$f":"'ремонт подряд'!E29","v":0},{"$f":"'ремонт подряд (бсх)'!D24","v":0}]
["6.2.","Капитальный ремонт централизованных систем водоснабжения, объектов, входящих в состав таких систем, в том числе:",0,{"$f":"D97+D107","v":0},{"$f":"E97+E107","v":0}]
["6.2.1."," затраты на ремонт хоз.способом:",0,{"$f":"D98+D101+D102+D103+D104+D105+D106","v":0},{"$f":"SUM(E98:E106)","v":0}]
["6.2.1.1.","заработная плата ремонтного персонала",0,{"$f":"'ремонт хозспособ'!D59","v":0},{"$f":"'ремонт хозспособ (бсх)'!D61","v":0}]
["6.2.1.1.1.","Численность, относимая на регулируемый вид деятельности, чел",0]
["6.2.1.1.2.","средняя заработная плата",{"$f":"IF(C99=0,,C98/C99/12)","v":0},{"$f":"IF(D99=0,,D98/D99/12)","v":0},{"$f":"IF(E99=0,,E98/E99/12)","v":0}]
["6.2.1.2.","отчисления на социальные нужды от расходов на оплату труда",{"$f":"D101+E101","v":0},{"$f":"'ремонт хозспособ'!E59","v":0},{"$f":"'ремонт хозспособ (бсх)'!E61","v":0}]
["6.2.1.3.","материалы",0,{"$f":"'ремонт хозспособ'!F59","v":0},{"$f":"'ремонт хозспособ (бсх)'!F61","v":0}]
["6.2.1.4.","услуги вспомогательных производств",0,{"$f":"'ремонт хозспособ'!H59","v":0},{"$f":"'ремонт хозспособ (бсх)'!H61","v":0}]
["6.2.1.5.","транспортные расходы",0,{"$f":"'ремонт хозспособ'!G59","v":0},{"$f":"'ремонт хозспособ (бсх)'!G61","v":0}]
["6.2.1.6.","цеховые расходы",0,{"$f":"'ремонт хозспособ'!I59","v":0},{"$f":"'ремонт хозспособ (бсх)'!I61","v":0}]
["6.2.1.7.","общехозяйственные расходы",0,{"$f":"'ремонт хозспособ'!J59","v":0},{"$f":"'ремонт хозспособ (бсх)'!J61","v":0}]
["6.2.2.","затраты на ремонт подрядным способом",0,{"$f":"'ремонт подряд'!E56","v":0},{"$f":"'ремонт подряд (бсх)'!D51","v":0}]
["III","ПРОЧИЕ РАСХОДЫ",0,{"$f":"SUM(D109:D115)","v":0},{"$f":"SUM(E109:E115)","v":0}]
["7.1.","Расходы на услуги связи",0]
["7.2.","Вневедомственная охрана объектов и территории",0]
["7.3.","Расходы на обучение персонала",0]
["7.4.","Расходы на служебные командировки",0]
["7.5.","Расходы на страхование производственных объектов",0]
["7.6.","Лицензирование",0]
["7.7.","Прочие расходы",0,{"$f":"SUM(D116:D135)","v":0},{"$f":"SUM(E116:E135)","v":0}]
["7.7.1.",null,0]
["7.7.2.",null,0]
["7.7.3.",null,0]
["7.7.4.",null,0]
["7..7.5.",null,0]
["7.7.6.",null,0]
["7.7.7.",null,0]
["7.7.8.",null,0]
["7.7.9.",null,0]
["7.7.10.",null,0]
["7.7.11.",null,0]
["7.7.12.",null,0]
["7.7.13.",null,0]
["7.7.14.",null,0]
["7.7.15.",null,0]
["7.7.16.",null,0]
["7.7.17.",null,0]
["7.7.18.",null,0]
["7.7.19.",null,0]
["7.7.20.",null,0]
["IV","ОБЩЕХОЗЯЙСТВЕННЫЕ РАСХОДЫ",0,{"$f":"D137+D140+D141","v":0},{"$f":"E137+E140+E141","v":0}]
["8.1.","Расходы на оплату труда, относимую на регулируемый вид деятельности",0]
["8.1.1.","Численность, относимая на регулируемый вид деятельности, чел",0]
["8.1.2.","средняя заработная плата",{"$f":"IF(C138=0,,C137/C138/12)","v":0},{"$f":"IF(D138=0,,D137/D138/12)","v":0},{"$f":"IF(E138=0,,E137/E138/12)","v":0}]
["8.2.","Отчисления на социальные нужды от расходов на оплату труда",{"$f":"D140+E140","v":0}]
["8.3.","Прочие расходы",0,{"$f":"SUM(D142:D156)","v":0},{"$f":"SUM(E142:E156)","v":0}]
[null,null,0]
[null,null,0]
[null,null,0]
[null,null,0]
[null,null,0]
[null,null,0]
[null,null,0]
[null,null,0]
[null,null,0]
[null,null,0]
[null,null,0]
[null,null,0]
[null,null,0]
[null,null,0]
[null,null,0]
["IV","СБЫТОВЫЕ РАСХОДЫ",0,{"$f":"SUM(D158:D159)","v":0},{"$f":"SUM(E158:E159)","v":0}]
["9.1.","Расходы по сомнительным долгам",0]
["9.2.","Прочие сбытовые расходы",0]
["V","РАСХОДЫ НА АМОРТИЗАЦИЮ ОСНОВНЫХ СРЕДСТВ И НЕМАТЕРИАЛЬНЫХ АКТИВОВ",0,{"$f":"SUM(D161:D162)","v":0},{"$f":"SUM(E161:E162)","v":0}]
["10.1.","Амортизация основных средств,относимых к объектам централизованной системы водоснабжения",0]
["10.2.","Амортизация нематериальных активов,относимых к объектам централизованной системы водоснабжения",0]
["VI","РАСХОДЫ НА АРЕНДНУЮ ПЛАТУ, ЛИЗИНГОВЫЕ ПЛАТЕЖИ, КОНЦЕССИОННУЮ ПЛАТУ",0,{"$f":"SUM(D164:D167)","v":0},0]
["11.1.","лизинговые платежи",0]
["11.2.","концессионная плата",0]
["11.3.","аренда имущества",0]
["11.4.","аренда земельных участков",0]
["VII","РАСХОДЫ, СВЯЗАННЫЕ С ОПЛАТОЙ НАЛОГОВ И СБОРОВ",0,{"$f":"SUM(D169:D174)","v":0},{"$f":"SUM(E169:E174)","v":0}]
["11.5.","водный налог",0]
["11.6.","налог на землю",0]
["11.7.","налог на имущество",0]
["11.8.","плата за загрязнение окружающей среды",0]
["11.9.","транспортный налог",0]
["11.10.","прочие налоги и сборы",0]
["VIII","ВСЕГО СЕБЕСТОИМОСТЬ",{"$f":"SUM(C11,C83,C108,C136,C157,C160,C163,C168)","v":0},{"$f":"SUM(D11,D83,D108,D136,D157,D160,D163,D168)","v":0},0]
["IХ","Финансовый результат от реализации",0,{"$f":"D178+D179+D180+D181+D182+D183","v":0}]
["12.1.","то же в %",{"$f":"IF(SUM(C11,C83,C108,C136,C157,C160,C163,C168,C182:C183)=0,0,SUM(C178:C181)/SUM(C11,C83,C108,C136,C157,C160,C163,C168,C182:C183)*100)","v":0},{"$f":"IF(SUM(D11,D83,D108,D136,D157,D160,D163,D168,D182:D183)=0,0,SUM(D178:D181)/SUM(D11,D83,D108,D136,D157,D160,D163,D168,D182:D183)*100)","v":0},{"$f":"IF(SUM(E11,E83,E108,E136,E157,E160,E163,E168,E182:E183)=0,0,SUM(E178:E181)/SUM(E11,E83,E108,E136,E157,E160,E163,E168,E182:E183)*100)","v":0}]
["12.2.","средства на возврат займов и кредитов и процентов по ним",{"$f":"D178+E178","v":0}]
["12.3.","расходы на капитальные вложения (инвестиции)",0]
["12.4.","денежные выплаты социального характера (по коллективному договору)",0]
["12.5.","прибыль, обеспечивающая финансирование других расходов, не учитываемых  при определении налоговой бызы налога на прибыль (остающаяся в распоряжении организации)",0]
["13.1.","налог на прибыль",0]
["13.2."," (или)единый налог при УСН ",0]
["Х","НЕОБХОДИМАЯ ВАЛОВАЯ ВЫРУЧКА",{"$f":"C176+C168+C163+C160+C157+C136+C108+C83+C11","v":0},{"$f":"D176+D168+D163+D160+D157+D136+D108+D83+D11","v":0},0]
["16.","Товарная продукция",{"$f":"D185","v":0},{"$f":"'форма №2'!C12","v":0}]
[]
["18.","Отпущено воды всего, м3, в том числе: ",{"$f":"'баланс ВСН'!I30","v":0},{"$f":"C187","v":0},0]
["18.1.","на собственное потребление",{"$f":"'баланс ВСН'!I31","v":0},0,0]
["18.2.","сторонним потребителям",{"$f":"C187-C188","v":0},0,0]
["XI","Цена (тариф) на холодную воду, руб./м3",{"$f":"IF(C187=0,0,C184/C187)","v":0},{"$f":"IF(D187=0,0,D184/D187)","v":0},{"$f":"IF(E187=0,0,E184/E187)","v":0}]
[]
[null,"Итоги по смете"]
[null,"Себестоимость"]
[null,"наименование расходов, номер счета, субсчета","сумма отнесенная РСО на регулируемый вид деятельности, рублей","реквизиты документа подтверждающего расходы с указанием тома и страницы материалов дела)"]
[null,"20 счет"]
[null,"23 счет"]
[null,"25 счет"]
[null,"Транспортные расходы"]
[null,"ОХР"]
[]
[]
[]
[]
[]
[]
[null,"итого",{"$f":"SUM(C195:C205)","v":0}]
[]
[null,"Не принято в отчет"]
[null,"наименование расходов, номер счета, субсчета","сумма отнесенная РСО на регулируемый вид деятельности, рублей","реквизиты документа подтверждающего расходы с указанием тома и страницы материалов дела)"]
[]
[]
[]
[]
[]
[]
[]
[null,"итого",{"$f":"SUM(C210:C216)","v":0}]
[]
[null,"91 счет"]
[null,"наименование расходов, номер счета, субсчета","сумма отнесенная РСО на регулируемый вид деятельности, рублей","реквизиты документа подтверждающего расходы с указанием тома и страницы материалов дела)"]
[null,"УСН / налог на прибыль"]
[null,"Соц.выплаты"]
[null,"Услуги банков"]
[]
[]
[]
[]
[null,"итого",{"$f":"SUM(C221:C227)","v":0}]
[]
[null,"ВСЕГО НВВ по смете",{"$f":"C206-C217+C228","v":0}]
[]
[null,"Проверка",{"$f":"C230-C184","v":0}]
[null,null,"должен быть ноль!"]

{"sheet":"Смета пл 2017 МЭОР","index":29,"n_rows":185,"n_cols":10,"rows_kept":185,"cut":false,"hidden":true,"merged":[[0,0,4,0],[3,5,3,6],[3,7,4,7],[3,8,3,9],[0,1,0,9],[1,1,1,9],[2,1,2,3],[2,4,2,6],[2,7,2,9],[3,1,4,1],[3,2,3,3],[3,4,4,4]]}
["Наименование статей","период регулирования"]
[null,"2017 год"]
[null,"всего",null,null,"01.01.-30.06",null,null,"01.07.-31.12"]
[null,"итого","подъем, транспортировка, очистка",null,"итого","подъем, транспортировка, очистка",null,"итого","подъем, транспортировка, очистка"]
[null,null,"оформленное имущество","бесхозяйное имущество",null,"оформленное имущество","бесхозяйное имущество",null,"оформленное имущество","бесхозяйное имущество"]
["ПРОИЗВОДСТВЕННЫЕ РАСХОДЫ"]
["Материалы , в том числе:"]
["реагенты"]
["закупка заполнителей фильтров (песок, гравий и пр.)"]
["горюче-смазочные материалы"]
["материалы и малоценные основные средства, в т.ч."]
["материалы на техническое обслуживание"]
["специальная одежда"]
["хозяйственный инвентарь и другие  вспомогательные материалы"]
["Расходы на энергетические ресурсы"]
["Расходы на электроэнергию, в том числе"]
["                      по показаниям счетчика "]
["                      за заявленную мощность "]
["Расходы на тепловую энергию "]
["Расходы воды на хозбытовые нужды"]
["Расходы на услуги по водоотведению для хозбытовых нужд"]
["Расходы на прочие энергоресурсы"]
["Расходы на покупку холодной воды, в том числе:"]
["                      технического качества"]
["                      в том числе: покупка потерь"]
["                      питьевого качества "]
["                      в том числе: покупка потерь"]
["Услуги, оказываемые сторонними организациями"]
["Услуги по подъему воды, оказываемые сторонними       организациями"]
["Услуги по очистке воды, оказываемые сторонними организациями"]
["Услуги  по транспортированию воды, оказываемые сторонними организациями, всего"]
["                  в том числе:    услуги по транспортированию неочищенной воды, оказываемые сторонними организациями"]
["                  услуги  по транспортированию очищенной воды, оказываемые сторонними организациями               "]
["Расходы на оплату труда и отчисления на социальные нужды"]
["Расходы на оплату труда"]
["Численность по регулируемому виду деятельности, чел"]
["Ставка рабочего 1-го разряда (с учетом отраслевого коэффициента)"]
["Отчисления на социальные нужды от расходов на оплату труда"]
[" % расходов на уплату страховых взносов в ПФ, ФСС, ОМС"]
["% платежей в фонд социального страхования от несчастных случаев"]
["Прочие производственные расходы"]
["Услуги собственных подразделений"]
["Услуги вспомогательных производств"]
["              расходы на оплату труда, относимую на регулируемый вид деятельности"]
["             численность, относимая на регулируемый вид     деятельности, чел"]
["             отчисления на социальные нужды от расходов на оплату труда"]
["             прочие расходы"]
[" Транспортные расходы"]
["             расходы на оплату труда, относимую на регулируемый вид деятельности"]
["             численность, относимая на регулируемый вид деятельности, чел"]
["             отчисления на социальные нужды от расходов на оплату труда"]
["             прочие расходы"]
["Цеховые расходы"]
["             расходы на оплату труда, относимую на регулируемый вид деятельности"]
["              численность, относимая на регулируемый вид деятельности, чел"]
["              отчисления на социальные нужды от расходов на оплату труда"]
["             прочие расходы"]
[" Общепроизводственные расходы"]
["               расходы на оплату труда, относимую на регулируемый вид деятельности"]
["               численность, относимая на регулируемый вид деятельности, чел"]
["               отчисления на социальные нужды от расходов на оплату труда"]
["               прочие расходы"]
["охрана труда всего, в том числе:"]
["моющие средства"]
["специальное питание"]
["страхование персонала (кроме ДМС)"]
["аттестация"]
["медицинский осмотр"]
["расходы на льготный проезд"]
["расходы на содержание зданий (за исключением расходов на энергетические ресурсы)"]
["Производственный контроль качества воды"]
[" контроль качества воды"]
["оборудование  лаборатории"]
["РЕМОНТНЫЕ РАСХОДЫ"]
["Текущий ремонт, в том числе:"]
["  затраты на ремонт хоз. способом:"]
["              заработная плата ремонтного персонала"]
["              численность, относимая на регулируемый вид деятельности, чел"]
["              отчисления на соц. нужды от заработной платы ремонтного  персонала"]
["              материалы"]
["              услуги вспомогательных производств"]
["              транспортные расходы"]
["              цеховые расходы"]
["              общепроизводственные расходы"]
["  затраты на ремонт подрядным способом"]
["Капитальный ремонт основных средств, в том числе:"]
["  затраты на ремонт хоз.способом:"]
["            заработная плата ремонтного персонала"]
["             численность, относимая на регулируемый вид деятельности, чел"]
["             отчисления на соц.нужды от заработной платы ремонтного персонала"]
["             материалы"]
["              услуги вспомогательных производств"]
["              транспортные расходы"]
["              цеховые расходы"]
["              общепроизводственные расходы"]
["  затраты на ремонт подрядным способом"]
["ПРОЧИЕ РАСХОДЫ"]
["Расходы на услуги связи"]
["Вневедомственная охрана объектов и территории"]
["Расходы на обучение персонала"]
["Расходы на служебные командировки"]
["Расходы на страхование производственных объектов"]
["Лицензирование"]
["Прочие расходы"]
[]
[]
[]
[]
[]
[]
[]
[]
[]
[]
[]
[]
[]
[]
[]
[]
[]
[]
[]
["прочие"]
["ОБЩЕХОЗЯЙСТВЕННЫЕ РАСХОДЫ"]
["Расходы на оплату труда, относимую на регулируемый вид деятельности"]
["Численность, относимая на регулируемый вид деятельности, чел"]
["Отчисления на социальные нужды от расходов на оплату труда"]
["Прочие расходы"]
[]
[]
[]
[]
[]
[]
[]
[]
[]
[]
[]
[]
[]
[]
[]
["СБЫТОВЫЕ РАСХОДЫ"]
["Расходы по сомнительным долгам"]
["Прочие сбытовые расходы"]
["РАСХОДЫ НА АМОРТИЗАЦИЮ ОСНОВНЫХ СРЕДСТВ И НЕМАТЕРИАЛЬНЫХ АКТИВОВ"]
["Амортизация основных средств,относимых к объектам централизованной системы водоснабжения"]
["Амортизация нематериальных активов,относимых к объектам централизованной системы водоснабжения"]
["РАСХОДЫ НА АРЕНДНУЮ ПЛАТУ, ЛИЗИНГОВЫЕ ПЛАТЕЖИ, КОНЦЕССИОННУЮ ПЛАТУ"]
["        по договорам лизинга"]
["        по концессионным соглашениям"]
["        по другим договорам"]
["        аренда земельных участков"]
["РАСХОДЫ, СВЯЗАННЫЕ С ОПЛАТОЙ НАЛОГОВ И СБОРОВ"]
["             водный налог"]
["             налог на землю"]
["             налог на имущество"]
["             плата за загрязнение окружающей среды"]
["             транспортный налог"]
["             прочие налоги и сборы"]
["ФИНАНСОВЫЙ РЕЗУЛЬТАТ ОТ РЕАЛИЗАЦИИ"]
["в том числе в %"]
["средства на возврат займов и кредитов и процентов по ним"]
["расходы на капитальные вложения (инвестиции)"]
["денежные выплаты социального характера (по коллективному договору)"]
["прибыль, обеспечивающая финансирование других расходов, не учитываемых  при определении налоговой бызы налога на прибыль (остающаяся в распоряжении организации)"]
["налог на прибыль"]
[" (или)единый налог при УСН "]
["Недополученный по независящим причинам доход"]
["выпадающие расходы/экономия (в целях выравнивания сметы между полугодия регулируемого периода)"]
["экономически обоснованные расходы, понесённые за отчётные периоды "]
["выпадающие доходы за отчётные периоды регулирования, связанные с изменением объёмов реализации  "]
["Избыток средств, полученный за отчётные периоды регулирования"]
["Расчетная предпринимательская прибыль гарантирующей организации"]
["НЕОБХОДИМАЯ ВАЛОВАЯ ВЫРУЧКА"]
["Товарная продукция"]
["Затраты на собственное потребление"]
["Отпущено воды всего, м3, в том числе: "]
["на собственное потребление"]
["сторонним потребителям"]
["Цена (тариф) на холодную воду, руб./м3"]
["Дествующий тариф, руб./м3"]
["Темп роста"]

{"sheet":"анализ факт сметы МЭОР","index":30,"n_rows":237,"n_cols":23,"rows_kept":237,"cut":false,"hidden":true,"merged":[[0,0,0,20],[1,0,1,20],[2,0,2,20],[5,0,6,0],[5,1,6,1],[5,2,5,7],[5,8,5,13],[5,14,5,19],[5,20,6,20]]}
["Анализ фактической  сметы расходов и НВВ по установленному тарифу в сфере водоснабжения за 2017 год"]
[{"$f":"Титульный!C10","v":" "}]
[{"$f":"Титульный!C19","v":0}]
["район",{"$f":"Титульный!C6","v":0},{"$f":"Титульный!C7","v":0},null,null,null,null,null,null,null,null,null,null,null,null,null,null,"отражается равным факту по Б/У  - решение о принятии  рассматривается экспертом самостоятельно "]
[null,null,null,null,null,null,null,null,null,null,null,"отражается равным факту по Б/У  - решение о принятии  рассматривается экспертом самостоятельно "]
["№ п/п","Наименование статьи","ВСЕГО",null,null,null,null,null,"имущество, переданное по договору аренды (концессионному соглашению) или находящееся в собственности",null,null,null,null,null,"бесхозяйное имущество",null,null,null,null,null,"Примечание"]
[null,null,"план","факт организации","факт организации по данным б/у","факт, принятый ДТР","Абсолютное отклонение","Относительное отклонение","план","факт организации","факт организации по данным б/у","факт, принятый ДТР","Абсолютное отклонение","Относительное отклонение","план","факт организации","факт организации по данным б/у","факт, принятый ДТР","Абсолютное отклонение","Относительное отклонение"]
["I","ПРОИЗВОДСТВЕННЫЕ РАСХОДЫ",{"$f":"C9+C17+C30+C36+C43","v":0},{"$f":"D9+D17+D30+D36+D43","v":0},{"$f":"E9+E17+E30+E36+E43","v":0},{"$f":"F9+F17+F30+F36+F43","v":0},{"$f":"F8-C8","v":0},{"$f":"IF(C8=0,0,F8/C8)","v":0},0,0,0,0,{"$f":"M9+M17+M30+M36+M43","v":0},{"$f":"IF(I8=0,0,L8/I8)","v":0},{"$f":"O9+O17+O30+O36+O43","v":0},{"$f":"P9+P17+P30+P36+P43","v":0},0,0,{"$f":"S9+S17+S30+S36+S43","v":0},{"$f":"IF(O8=0,0,R8/O8)","v":0}]
["1.","Расходы на приобретение сырья и материалов и их хранения",{"$f":"C10+C11+C12+C13","v":0},{"$f":"D10+D11+D12+D13","v":0},{"$f":"E10+E11+E12+E13","v":0},{"$f":"F10+F11+F12+F13","v":0},0,0,0,0,{"$f":"K10+K11+K12+K13","v":0},0,{"$f":"M10+M11+M12+M13","v":0},0,{"$f":"O10+O11+O12+O13","v":0},{"$f":"P10+P11+P12+P13","v":0},0,0,{"$f":"S10+S11+S12+S13","v":0},0]
["1.1.","реагенты",{"$f":"I10+O10","v":0},{"$f":"J10+P10","v":0},{"$f":"K10+Q10","v":0},{"$f":"L10+R10","v":0},0,0,{"$f":"'Смета пл 2017 МЭОР'!C8","v":0},{"$f":"'Смета факт'!D13","v":0},null,{"$f":"K10","v":0},{"$f":"L10-I10","v":0},0,{"$f":"'Смета пл 2017 МЭОР'!D8","v":0},{"$f":"'Смета факт'!E13","v":0},null,{"$f":"Q10","v":0},{"$f":"R10-O10","v":0},0]
["1.2.","заполнители фильтров (песок, гравий и пр.)",{"$f":"I11+O11","v":0},{"$f":"J11+P11","v":0},0,{"$f":"L11+R11","v":0},0,0,{"$f":"'Смета пл 2017 МЭОР'!C9","v":0},{"$f":"'Смета факт'!D14","v":0},null,{"$f":"K11","v":0},{"$f":"L11-I11","v":0},0,{"$f":"'Смета пл 2017 МЭОР'!D9","v":0},{"$f":"'Смета факт'!E14","v":0},null,{"$f":"Q11","v":0},{"$f":"R11-O11","v":0},0]
["1.3.","горюче-смазочные материалы",{"$f":"I12+O12","v":0},0,0,0,0,0,{"$f":"'Смета пл 2017 МЭОР'!C10","v":0},{"$f":"'Смета факт'!D15","v":0},null,0,{"$f":"L12-I12","v":0},0,{"$f":"'Смета пл 2017 МЭОР'!D10","v":0},{"$f":"'Смета факт'!E15","v":0},null,0,{"$f":"R12-O12","v":0},0]
["1.4.","материалы и малоценные основные средства, в т.ч.",{"$f":"C14+C15+C16","v":0},{"$f":"D14+D15+D16","v":0},{"$f":"E14+E15+E16","v":0},{"$f":"F14+F15+F16","v":0},0,0,{"$f":"'Смета пл 2017 МЭОР'!C11","v":0},{"$f":"'Смета факт'!D16","v":0},{"$f":"K14+K15+K16","v":0},0,{"$f":"M14+M15+M16","v":0},0,{"$f":"'Смета пл 2017 МЭОР'!D11","v":0},{"$f":"'Смета факт'!E16","v":0},{"$f":"Q14+Q15+Q16","v":0},0,{"$f":"S14+S15+S16","v":0},0]
["1.4.1.","материалы на техническое обслуживание",{"$f":"I14+O14","v":0},{"$f":"J14+P14","v":0},0,{"$f":"L14+R14","v":0},0,0,{"$f":"'Смета пл 2017 МЭОР'!C12","v":0},{"$f":"'Смета факт'!D17","v":0},null,0,{"$f":"L14-I14","v":0},0,{"$f":"'Смета пл 2017 МЭОР'!D12","v":0},{"$f":"'Смета факт'!E17","v":0},null,{"$f":"Q14","v":0},{"$f":"R14-O14","v":0},0]
["1.4.2.","специальная одежда",{"$f":"I15+O15","v":0},0,0,0,{"$f":"F15-C15","v":0},0,{"$f":"'Смета пл 2017 МЭОР'!C13","v":0},{"$f":"'Смета факт'!D18","v":0},null,0,0,0,{"$f":"'Смета пл 2017 МЭОР'!D13","v":0},{"$f":"'Смета факт'!E18","v":0},null,0,0,0]
["1.4.3.","хозяйственный инвентарь и другие  вспомогательные материалы",{"$f":"I16+O16","v":0},0,0,0,0,0,{"$f":"'Смета пл 2017 МЭОР'!C14","v":0},{"$f":"'Смета факт'!D19","v":0},null,0,0,0,{"$f":"'Смета пл 2017 МЭОР'!D14","v":0},{"$f":"'Смета факт'!E19","v":0},null,0,0,0]
["2.","Расходы на энергетические ресурсы и холодную воду",{"$f":"C18+C21+C22+C23+C24+C25","v":0},{"$f":"D18+D21+D22+D23+D24+D25","v":0},{"$f":"E18+E21+E22+E23+E24+E25","v":0},{"$f":"F18+F21+F22+F23+F24+F25","v":0},0,0,0,0,{"$f":"K18+K21+K22+K23+K24+K25","v":0},0,0,0,{"$f":"O18+O21+O22+O23+O24+O25","v":0},{"$f":"P18+P21+P22+P23+P24+P25","v":0},0,0,0,0]
["2.1.","Электроэнергия, в том числе",{"$f":"I18+O18","v":0},{"$f":"J18+P18","v":0},0,{"$f":"L18+R18","v":0},0,0,{"$f":"I19+I20","v":0},0,{"$f":"'отчет по электроэнергии'!E47","v":0},{"$f":"'отчет по электроэнергии'!F47","v":0},0,0,{"$f":"O19+O20","v":0},{"$f":"P19+P20","v":0},{"$f":"'отчет по электроэнергии'!K47","v":0},{"$f":"'отчет по электроэнергии (бсх)'!F46","v":0},0,0]
["2.1.1.","активная",0,0,0,0,0,0,{"$f":"'Смета пл 2017 МЭОР'!C17","v":0},{"$f":"'Смета факт'!D22","v":0},null,{"$f":"K19","v":0},0,0,{"$f":"'Смета пл 2017 МЭОР'!D17","v":0},{"$f":"'Смета факт'!E22","v":0},null,null,0,0]
["2.1.2.","мощность",0,0,0,0,0,0,{"$f":"'Смета пл 2017 МЭОР'!C18","v":0},{"$f":"'Смета факт'!D23","v":0},null,0,0,0,{"$f":"'Смета пл 2017 МЭОР'!D18","v":0},{"$f":"'Смета факт'!E23","v":0},null,null,0,0]
["2.2.","Тепловая энергия",0,0,0,0,0,0,{"$f":"'Смета пл 2017 МЭОР'!C19","v":0},{"$f":"'Смета факт'!D24","v":0},null,{"$f":"K21","v":0},0,0,{"$f":"'Смета пл 2017 МЭОР'!D19","v":0},{"$f":"'Смета факт'!E24","v":0},null,{"$f":"Q21","v":0},0,0]
["2.3.","Вода на собственные нужды",0,{"$f":"J22+P22","v":0},0,{"$f":"L22+R22","v":0},0,0,{"$f":"'Смета пл 2017 МЭОР'!C20","v":0},{"$f":"'Смета факт'!D25","v":0},null,0,0,0,{"$f":"'Смета пл 2017 МЭОР'!D20","v":0},{"$f":"'Смета факт'!E25","v":0},null,0,0,0]
["2.4.","Водоотведение на собственные нужды",0,0,0,0,0,0,{"$f":"'Смета пл 2017 МЭОР'!C21","v":0},{"$f":"'Смета факт'!D26","v":0},null,0,0,0,{"$f":"'Смета пл 2017 МЭОР'!D21","v":0},{"$f":"'Смета факт'!E26","v":0},null,0,0,0]
["2.5.","Прочие энергоресурсы",0,0,0,0,0,0,{"$f":"'Смета пл 2017 МЭОР'!C22","v":0},{"$f":"'Смета факт'!D27","v":0},null,0,0,0,{"$f":"'Смета пл 2017 МЭОР'!D22","v":0},{"$f":"'Смета факт'!E27","v":0},null,0,0,0]
["2.6.","Расходы на покупку холодной воды, в том числе:",{"$f":"C26+C28","v":0},{"$f":"D26+D28","v":0},{"$f":"E26+E28","v":0},{"$f":"F26+F28","v":0},0,0,0,0,{"$f":"K26+K28","v":0},0,{"$f":"M26+M28","v":0},0,{"$f":"O26+O28","v":0},{"$f":"P26+P28","v":0},0,0,0,0]
["2.6.1.","технического качества",{"$f":"I26+O26","v":0},{"$f":"J26+P26","v":0},0,{"$f":"L26+R26","v":0},0,0,{"$f":"'Смета пл 2017 МЭОР'!C24","v":0},{"$f":"'Смета факт'!D29","v":0},null,{"$f":"K26","v":0},{"$f":"L26-I26","v":0},0,{"$f":"'Смета пл 2017 МЭОР'!D24","v":0},{"$f":"'Смета факт'!E29","v":0},null,{"$f":"Q26","v":0},0,0]
["2.6.2.","в том числе: покупка потерь",{"$f":"I27+O27","v":0},0,0,0,0,0,{"$f":"'Смета пл 2017 МЭОР'!C25","v":0},{"$f":"'Смета факт'!D30","v":0},null,0,{"$f":"L27-I27","v":0},0,{"$f":"'Смета пл 2017 МЭОР'!D25","v":0},{"$f":"'Смета факт'!E30","v":0},null,0,0,0]
["2.6.3.","питьевого качества ",{"$f":"I28+O28","v":0},0,0,0,0,0,{"$f":"'Смета пл 2017 МЭОР'!C26","v":0},{"$f":"'Смета факт'!D31","v":0},null,0,{"$f":"L28-I28","v":0},0,{"$f":"'Смета пл 2017 МЭОР'!D26","v":0},{"$f":"'Смета факт'!E31","v":0},null,0,0,0]
["2.6.4.","в том числе: покупка потерь",{"$f":"I29+O29","v":0},0,0,0,0,0,{"$f":"'Смета пл 2017 МЭОР'!C27","v":0},{"$f":"'Смета факт'!D32","v":0},null,0,{"$f":"L29-I29","v":0},0,{"$f":"'Смета пл 2017 МЭОР'!D27","v":0},{"$f":"'Смета факт'!E32","v":0},null,0,0,0]
["3.","Расходы на оплат уработ и услуг, выполняемых сторонними организациями,  связанные с эксплуатацией централизованных систем либо объектов в составе таких систем, по регулируемым тарифам",{"$f":"C31+C32+C33","v":0},{"$f":"D31+D32+D33","v":0},{"$f":"E31+E32+E33","v":0},{"$f":"F31+F32+F33","v":0},0,0,0,0,{"$f":"K31+K32+K33","v":0},0,{"$f":"M31+M32+M33","v":0},0,{"$f":"O31+O32+O33","v":0},{"$f":"P31+P32+P33","v":0},0,0,{"$f":"S31+S32+S33","v":0},0]
["3.1.","Услуги по подъему воды",{"$f":"I31+O31","v":0},{"$f":"J31+P31","v":0},0,{"$f":"L31+R31","v":0},0,0,{"$f":"'Смета пл 2017 МЭОР'!C29","v":0},{"$f":"'Смета факт'!D34","v":0},null,{"$f":"K31","v":0},{"$f":"L31-I31","v":0},0,{"$f":"'Смета пл 2017 МЭОР'!D29","v":0},{"$f":"'Смета факт'!E34","v":0},null,{"$f":"Q31","v":0},{"$f":"R31-O31","v":0},0]
["3.2.","Услуги по очистке воды",{"$f":"I32+O32","v":0},0,0,0,0,0,{"$f":"'Смета пл 2017 МЭОР'!C30","v":0},{"$f":"'Смета факт'!D35","v":0},null,0,{"$f":"L32-I32","v":0},0,{"$f":"'Смета пл 2017 МЭОР'!D30","v":0},{"$f":"'Смета факт'!E35","v":0},null,0,{"$f":"R32-O32","v":0},0]
["3.3.","Услуги  по транспортировке воды, в том числе",{"$f":"C34+C35","v":0},{"$f":"D34+D35","v":0},{"$f":"E34+E35","v":0},{"$f":"F34+F35","v":0},0,0,0,0,{"$f":"K34+K35","v":0},0,{"$f":"M34+M35","v":0},0,{"$f":"O34+O35","v":0},{"$f":"P34+P35","v":0},0,0,{"$f":"S34+S35","v":0},0]
["3.3.1.","транспортировка технической воды",{"$f":"I34+O34","v":0},{"$f":"J34+P34","v":0},0,{"$f":"L34+R34","v":0},0,0,{"$f":"'Смета пл 2017 МЭОР'!C32","v":0},{"$f":"'Смета факт'!D37","v":0},null,{"$f":"K34","v":0},{"$f":"L34-I34","v":0},0,{"$f":"'Смета пл 2017 МЭОР'!D32","v":0},{"$f":"'Смета факт'!E37","v":0},null,{"$f":"Q34","v":0},{"$f":"R34-O34","v":0},0]
["3.3.2.","транспортировка питьевой воды     ",{"$f":"I35+O35","v":0},0,0,0,0,0,{"$f":"'Смета пл 2017 МЭОР'!C33","v":0},{"$f":"'Смета факт'!D38","v":0},null,0,{"$f":"L35-I35","v":0},0,{"$f":"'Смета пл 2017 МЭОР'!D33","v":0},{"$f":"'Смета факт'!E38","v":0},null,0,{"$f":"R35-O35","v":0},0]
["4.","Расходы на оплату труда и отчисления на социальные нужды",{"$f":"C37+C40","v":0},{"$f":"D37+D40","v":0},{"$f":"E37+E40","v":0},{"$f":"F37+F40","v":0},0,0,0,0,{"$f":"K37+K40","v":0},0,{"$f":"M37+M40","v":0},0,{"$f":"O37+O40","v":0},{"$f":"P37+P40","v":0},0,0,{"$f":"S37+S40","v":0},0]
["4.1.","Расходы на оплату труда основного персонала",{"$f":"I37+O37","v":0},{"$f":"J37+P37","v":0},0,{"$f":"L37+R37","v":0},0,0,{"$f":"'Смета пл 2017 МЭОР'!C35","v":0},{"$f":"'Смета факт'!D40","v":0},null,{"$f":"K37","v":0},{"$f":"L37-I37","v":0},0,{"$f":"'Смета пл 2017 МЭОР'!D35","v":0},{"$f":"'Смета факт'!E40","v":0},null,{"$f":"Q37","v":0},{"$f":"R37-O37","v":0},0]
["4.2.","Численность основного персонала, относимого на регулируемый вид деятельности, чел",{"$f":"I38+O38","v":0},0,0,0,0,0,{"$f":"'Смета пл 2017 МЭОР'!C36","v":0},{"$f":"'Смета факт'!D41","v":0},null,0,0,0,{"$f":"'Смета пл 2017 МЭОР'!D36","v":0},{"$f":"'Смета факт'!E41","v":0},null,0,0,0]
["4.2.1.","средняя заработная плата",{"$f":"IF(C38=0,,C37/C38/12)","v":0},0,{"$f":"IF(E38=0,,E37/E38/12)","v":0},0,0,0,{"$f":"IF(I38=0,,I37/I38/12)","v":0},{"$f":"IF(J38=0,,J37/J38/12)","v":0},{"$f":"IF(K38=0,,K37/K38/12)","v":0},{"$f":"IF(L38=0,,L37/L38/12)","v":0},0,0,{"$f":"IF(O38=0,,O37/O38/12)","v":0},{"$f":"IF(P38=0,,P37/P38/12)","v":0},{"$f":"IF(Q38=0,,Q37/Q38/12)","v":0},0,0,0]
["4.3.","Отчисления на социальные нужды от расходов на оплату труда",{"$f":"I40+O40","v":0},{"$f":"J40+P40","v":0},0,{"$f":"L40+R40","v":0},0,0,{"$f":"'Смета пл 2017 МЭОР'!C38","v":0},{"$f":"'Смета факт'!D43","v":0},null,{"$f":"K40","v":0},0,{"$f":"IF(I40=0,0,L40/I40)","v":0},{"$f":"'Смета пл 2017 МЭОР'!D38","v":0},{"$f":"'Смета факт'!E43","v":0},null,{"$f":"Q40","v":0},0,{"$f":"IF(O40=0,0,R40/O40)","v":0}]
["4.3.1."," % расходов на уплату страховых взносов в ПФ, ФСС, ОМС",{"$f":"IF(C37=0,,C40/C37*100-C42)","v":0},0,{"$f":"IF(E37=0,,E40/E37*100-E42)","v":0},0,0,0,{"$f":"IF(I37=0,,I40/I37*100-I42)","v":0},{"$f":"IF(J37=0,,J40/J37*100-J42)","v":0},{"$f":"IF(K37=0,,K40/K37*100-K42)","v":0},0,0,0,{"$f":"IF(O37=0,,O40/O37*100-O42)","v":0},{"$f":"IF(P37=0,,P40/P37*100-P42)","v":0},0,0,0,0]
["4.3.2.","% платежей в фонд социального страхования от несчастных случаев",{"$f":"I42","v":0},{"$f":"J42","v":0},{"$f":"K42","v":0},{"$f":"L42","v":0},0,0,{"$f":"'Смета пл 2017 МЭОР'!C40","v":0},{"$f":"'Смета факт'!D45","v":0},null,{"$f":"K42","v":0},0,0,{"$f":"'Смета пл 2017 МЭОР'!D40","v":0},{"$f":"'Смета факт'!E45","v":0.2},null,{"$f":"Q42","v":0},0,0,null,null,"м"]
["5.","Прочие производственные расходы",{"$f":"C44+C69+C75+C76+C77","v":0},{"$f":"D44+D69+D75+D76+D77","v":0},{"$f":"E44+E69+E75+E76+E77","v":0},{"$f":"F44+F69+F75+F76+F77","v":0},0,0,{"$f":"I44+I69+I75+I76+I77","v":0},{"$f":"J44+J69+J75+J76+J77","v":0},{"$f":"K44+K69+K75+K76+K77","v":0},{"$f":"L44+L69+L75+L76+L77","v":0},{"$f":"M44+M69+M75+M76+M77","v":0},0,{"$f":"O44+O69+O75+O76+O77","v":0},{"$f":"P44+P69+P75+P76+P77","v":0},{"$f":"Q44+Q69+Q75+Q76+Q77","v":0},{"$f":"R44+R69+R75+R76+R77","v":0},{"$f":"S44+S69+S75+S76+S77","v":0},0]
["5.1.","Услуги собственных подразделений",{"$f":"C45+C51+C57+C63","v":0},{"$f":"D45+D51+D57+D63","v":0},{"$f":"E45+E51+E57+E63","v":0},{"$f":"F45+F51+F57+F63","v":0},0,0,{"$f":"I45+I51+I57+I63","v":0},{"$f":"J45+J51+J57+J63","v":0},{"$f":"K45+K51+K57+K63","v":0},{"$f":"L45+L51+L57+L63","v":0},{"$f":"M45+M51+M57+M63","v":0},0,{"$f":"O45+O51+O57+O63","v":0},{"$f":"P45+P51+P57+P63","v":0},{"$f":"Q45+Q51+Q57+Q63","v":0},{"$f":"R45+R51+R57+R63","v":0},{"$f":"S45+S51+S57+S63","v":0},0]
["5.1.1.","Услуги вспомогательных производств",{"$f":"C46+C49+C50","v":0},{"$f":"D46+D49+D50","v":0},{"$f":"E46+E49+E50","v":0},{"$f":"F46+F49+F50","v":0},0,0,{"$f":"I46+I49+I50","v":0},{"$f":"J46+J49+J50","v":0},{"$f":"K46+K49+K50","v":0},{"$f":"L46+L49+L50","v":0},{"$f":"M46+M49+M50","v":0},0,{"$f":"O46+O49+O50","v":0},{"$f":"P46+P49+P50","v":0},{"$f":"Q46+Q49+Q50","v":0},{"$f":"R46+R49+R50","v":0},{"$f":"S46+S49+S50","v":0},0]
["5.1.1.1.","Расходы на оплату труда, относимую на регулируемый вид деятельности",{"$f":"I46+O46","v":0},{"$f":"J46+P46","v":0},0,{"$f":"L46+R46","v":0},0,0,{"$f":"'Смета пл 2017 МЭОР'!C44","v":0},{"$f":"'Смета факт'!D49","v":0},null,null,{"$f":"L46-I46","v":0},0,{"$f":"'Смета пл 2017 МЭОР'!D44","v":0},{"$f":"'Смета факт'!E49","v":0},null,{"$f":"Q46","v":0},{"$f":"R46-O46","v":0},0]
["5.1.1.1.1.","Численность, относимая на регулируемый вид деятельности, чел",{"$f":"I47+O47","v":0},0,0,0,0,0,{"$f":"'Смета пл 2017 МЭОР'!C45","v":0},{"$f":"'Смета факт'!D50","v":0},null,null,{"$f":"L47-I47","v":0},0,{"$f":"'Смета пл 2017 МЭОР'!D45","v":0},{"$f":"'Смета факт'!E50","v":0},null,0,{"$f":"R47-O47","v":0},0]
[null,"средняя заработная плата",{"$f":"IF(C47=0,,C46/C47/12)","v":0},0,{"$f":"IF(E47=0,,E46/E47/12)","v":0},0,0,0,{"$f":"IF(I47=0,,I46/I47/12)","v":0},{"$f":"IF(J47=0,,J46/J47/12)","v":0},{"$f":"IF(K47=0,,K46/K47/12)","v":0},0,{"$f":"L48-I48","v":0},0,{"$f":"IF(O47=0,,O46/O47/12)","v":0},{"$f":"IF(P47=0,,P46/P47/12)","v":0},0,0,{"$f":"R48-O48","v":0},0]
["5.1.1.2.","Отчисления на социальные нужды от расходов на оплату труда",{"$f":"I49+O49","v":0},0,0,0,0,{"$f":"IF(C49=0,0,F49/C49)","v":0},{"$f":"'Смета пл 2017 МЭОР'!C47","v":0},{"$f":"'Смета факт'!D52","v":0},null,{"$f":"K49","v":0},{"$f":"L49-I49","v":0},0,{"$f":"'Смета пл 2017 МЭОР'!D47","v":0},{"$f":"'Смета факт'!E52","v":0},null,{"$f":"Q49","v":0},{"$f":"R49-O49","v":0},0]
["5.1.1.3.","Прочие расходы",{"$f":"I50+O50","v":0},0,0,0,0,0,{"$f":"'Смета пл 2017 МЭОР'!C48","v":0},{"$f":"'Смета факт'!D53","v":0},null,0,{"$f":"L50-I50","v":0},0,{"$f":"'Смета пл 2017 МЭОР'!D48","v":0},{"$f":"'Смета факт'!E53","v":0},null,0,{"$f":"R50-O50","v":0},0]
["5.1.2.","Транспортные расходы",{"$f":"C52+C55+C56","v":0},{"$f":"D52+D55+D56","v":0},{"$f":"E52+E55+E56","v":0},{"$f":"F52+F55+F56","v":0},0,0,0,0,{"$f":"K52+K55+K56","v":0},0,{"$f":"M52+M55+M56","v":0},0,{"$f":"O52+O55+O56","v":0},{"$f":"P52+P55+P56","v":0},0,0,{"$f":"S52+S55+S56","v":0},0]
["5.1.2.1.","Расходы на оплату труда, относимую на регулируемый вид деятельности",{"$f":"I52+O52","v":0},{"$f":"J52+P52","v":0},0,{"$f":"L52+R52","v":0},0,0,{"$f":"'Смета пл 2017 МЭОР'!C49","v":0},{"$f":"'Смета факт'!D55","v":0},null,{"$f":"K52","v":0},{"$f":"L52-I52","v":0},0,{"$f":"'Смета пл 2017 МЭОР'!D49","v":0},{"$f":"'Смета факт'!E55","v":0},null,{"$f":"Q52","v":0},{"$f":"R52-O52","v":0},0]
["5.1.2.1.1.","Численность, относимая на регулируемый вид деятельности, чел",{"$f":"I53+O53","v":0},0,0,0,0,0,{"$f":"'Смета пл 2017 МЭОР'!C50","v":0},{"$f":"'Смета факт'!D56","v":0},null,0,{"$f":"L53-I53","v":0},0,{"$f":"'Смета пл 2017 МЭОР'!D50","v":0},{"$f":"'Смета факт'!E56","v":0},null,0,{"$f":"R53-O53","v":0},0]
[null,"средняя заработная плата",{"$f":"IF(C53=0,,C52/C53/12)","v":0},0,{"$f":"IF(E53=0,,E52/E53/12)","v":0},0,0,0,{"$f":"IF(I53=0,,I52/I53/12)","v":0},{"$f":"IF(J53=0,,J52/J53/12)","v":0},{"$f":"IF(K53=0,,K52/K53/12)","v":0},0,{"$f":"L54-I54","v":0},0,{"$f":"IF(O53=0,,O52/O53/12)","v":0},{"$f":"IF(P53=0,,P52/P53/12)","v":0},0,0,{"$f":"R54-O54","v":0},0]
["5.1.2.2.","Отчисления на социальные нужды от расходов на оплату труда",{"$f":"I55+O55","v":0},0,0,0,0,{"$f":"IF(C55=0,0,F55/C55)","v":0},{"$f":"'Смета пл 2017 МЭОР'!C52","v":0},{"$f":"'Смета факт'!D58","v":0},null,{"$f":"K55","v":0},{"$f":"L55-I55","v":0},0,{"$f":"'Смета пл 2017 МЭОР'!D52","v":0},{"$f":"'Смета факт'!E58","v":0},null,{"$f":"Q55","v":0},{"$f":"R55-O55","v":0},0]
["5.1.2.3.","Прочие расходы",{"$f":"I56+O56","v":0},0,0,0,0,0,{"$f":"'Смета пл 2017 МЭОР'!C53","v":0},{"$f":"'Смета факт'!D59","v":0},null,0,{"$f":"L56-I56","v":0},0,{"$f":"'Смета пл 2017 МЭОР'!D53","v":0},{"$f":"'Смета факт'!E59","v":0},null,0,{"$f":"R56-O56","v":0},0]
["5.1.3.","Цеховые расходы",{"$f":"C58+C61+C62","v":0},{"$f":"D58+D61+D62","v":0},{"$f":"E58+E61+E62","v":0},{"$f":"F58+F61+F62","v":0},0,0,0,0,{"$f":"K58+K61+K62","v":0},0,{"$f":"M58+M61+M62","v":0},0,{"$f":"O58+O61+O62","v":0},{"$f":"P58+P61+P62","v":0},0,0,{"$f":"S58+S61+S62","v":0},0]
["5.1.3.1.","Расходы на оплату труда, относимую на регулируемый вид деятельности",{"$f":"I58+O58","v":0},{"$f":"J58+P58","v":0},0,{"$f":"L58+R58","v":0},0,0,{"$f":"'Смета пл 2017 МЭОР'!C54","v":0},{"$f":"'Смета факт'!D61","v":0},null,{"$f":"K58","v":0},{"$f":"L58-I58","v":0},0,{"$f":"'Смета пл 2017 МЭОР'!D54","v":0},{"$f":"'Смета факт'!E61","v":0},null,{"$f":"Q58","v":0},{"$f":"R58-O58","v":0},0]
["5.1.3.1.1.","Численность, относимая на регулируемый вид деятельности, чел",{"$f":"I59+O59","v":0},0,0,0,0,0,{"$f":"'Смета пл 2017 МЭОР'!C55","v":0},{"$f":"'Смета факт'!D62","v":0},null,0,{"$f":"L59-I59","v":0},0,{"$f":"'Смета пл 2017 МЭОР'!D55","v":0},{"$f":"'Смета факт'!E62","v":0},null,0,{"$f":"R59-O59","v":0},0]
[null,"средняя заработная плата",{"$f":"IF(C59=0,,C58/C59/12)","v":0},0,{"$f":"IF(E59=0,,E58/E59/12)","v":0},0,{"$f":"F60-C60","v":0},{"$f":"IF(C60=0,0,F60/C60)","v":0},{"$f":"IF(I59=0,,I58/I59/12)","v":0},{"$f":"IF(J59=0,,J58/J59/12)","v":0},{"$f":"IF(K59=0,,K58/K59/12)","v":0},0,{"$f":"L60-I60","v":0},0,{"$f":"IF(O59=0,,O58/O59/12)","v":0},{"$f":"IF(P59=0,,P58/P59/12)","v":0},0,0,{"$f":"R60-O60","v":0},0]
["5.1.3.2.","Отчисления на социальные нужды от расходов на оплату труда",{"$f":"I61+O61","v":0},0,0,0,0,0,{"$f":"'Смета пл 2017 МЭОР'!C57","v":0},{"$f":"'Смета факт'!D64","v":0},null,{"$f":"K61","v":0},{"$f":"L61-I61","v":0},0,{"$f":"'Смета пл 2017 МЭОР'!D57","v":0},{"$f":"'Смета факт'!E64","v":0},null,{"$f":"Q61","v":0},{"$f":"R61-O61","v":0},0]
["5.1.3.3.","Прочие расходы",{"$f":"I62+O62","v":0},0,0,0,0,0,{"$f":"'Смета пл 2017 МЭОР'!C58","v":0},{"$f":"'Смета факт'!D65","v":0},null,0,{"$f":"L62-I62","v":0},0,{"$f":"'Смета пл 2017 МЭОР'!D58","v":0},{"$f":"'Смета факт'!E65","v":0},null,0,{"$f":"R62-O62","v":0},0]
["5.1.4.","Общепроизводственные расходы",{"$f":"C64+C67+C68","v":0},{"$f":"D64+D67+D68","v":0},{"$f":"E64+E67+E68","v":0},{"$f":"F64+F67+F68","v":0},0,0,0,0,{"$f":"K64+K67+K68","v":0},0,{"$f":"M64+M67+M68","v":0},0,{"$f":"O64+O67+O68","v":0},{"$f":"P64+P67+P68","v":0},0,0,{"$f":"S64+S67+S68","v":0},0]
["5.1.4.1.","Расходы на оплату труда, относимую на регулируемый вид деятельности",{"$f":"I64+O64","v":0},{"$f":"J64+P64","v":0},0,{"$f":"L64+R64","v":0},0,0,{"$f":"'Смета пл 2017 МЭОР'!C59","v":0},{"$f":"'Смета факт'!D67","v":0},null,{"$f":"K64","v":0},{"$f":"L64-I64","v":0},0,{"$f":"'Смета пл 2017 МЭОР'!D59","v":0},{"$f":"'Смета факт'!E67","v":0},null,{"$f":"Q64","v":0},{"$f":"R64-O64","v":0},0]
["5.1.4.1.1.","Численность, относимая на регулируемый вид деятельности, чел",{"$f":"I65+O65","v":0},0,0,0,0,0,{"$f":"'Смета пл 2017 МЭОР'!C60","v":0},{"$f":"'Смета факт'!D68","v":0},null,0,{"$f":"L65-I65","v":0},0,{"$f":"'Смета пл 2017 МЭОР'!D60","v":0},{"$f":"'Смета факт'!E68","v":0},null,0,{"$f":"R65-O65","v":0},0]
[null,"средняя заработная плата",{"$f":"IF(C65=0,,C64/C65/12)","v":0},0,{"$f":"IF(E65=0,,E64/E65/12)","v":0},0,{"$f":"F66-C66","v":0},{"$f":"IF(C66=0,0,F66/C66)","v":0},{"$f":"IF(I65=0,,I64/I65/12)","v":0},{"$f":"IF(J65=0,,J64/J65/12)","v":0},{"$f":"IF(K65=0,,K64/K65/12)","v":0},0,{"$f":"L66-I66","v":0},0,{"$f":"IF(O65=0,,O64/O65/12)","v":0},{"$f":"IF(P65=0,,P64/P65/12)","v":0},0,0,{"$f":"R66-O66","v":0},0]
["5.1.4.2.","Отчисления на социальные нужды от расходов на оплату труда",{"$f":"I67+O67","v":0},0,0,0,0,0,{"$f":"'Смета пл 2017 МЭОР'!C62","v":0},{"$f":"'Смета факт'!D70","v":0},null,{"$f":"K67","v":0},{"$f":"L67-I67","v":0},0,{"$f":"'Смета пл 2017 МЭОР'!D62","v":0},{"$f":"'Смета факт'!E70","v":0},null,{"$f":"Q67","v":0},{"$f":"R67-O67","v":0},0]
["5.1.4.3.","Прочие расходы",{"$f":"I68+O68","v":0},0,0,0,0,0,{"$f":"'Смета пл 2017 МЭОР'!C63","v":0},{"$f":"'Смета факт'!D71","v":0},null,0,{"$f":"L68-I68","v":0},0,{"$f":"'Смета пл 2017 МЭОР'!D63","v":0},{"$f":"'Смета факт'!E71","v":0},null,0,{"$f":"R68-O68","v":0},0]
["5.2.","Охрана труда всего, в том числе:",{"$f":"SUM(C70:C74)","v":0},{"$f":"SUM(D70:D74)","v":0},{"$f":"SUM(E70:E74)","v":0},{"$f":"SUM(F70:F74)","v":0},0,0,0,0,{"$f":"SUM(K70:K74)","v":0},0,{"$f":"SUM(M70:M74)","v":0},0,{"$f":"SUM(O70:O74)","v":0},{"$f":"SUM(P70:P74)","v":0},0,0,{"$f":"SUM(S70:S74)","v":0},0]
["5.2.1.","моющие средства",{"$f":"I70+O70","v":0},{"$f":"J70+P70","v":0},0,{"$f":"L70+R70","v":0},0,0,{"$f":"'Смета пл 2017 МЭОР'!C64","v":0},{"$f":"'Смета факт'!D73","v":0},null,{"$f":"K70","v":0},{"$f":"L70-I70","v":0},0,{"$f":"'Смета пл 2017 МЭОР'!D64","v":0},{"$f":"'Смета факт'!E73","v":0},null,{"$f":"Q70","v":0},{"$f":"R70-O70","v":0},0]
["5.2.2.","специальное питание",0,0,0,0,0,0,{"$f":"'Смета пл 2017 МЭОР'!C65","v":0},{"$f":"'Смета факт'!D74","v":0},null,0,0,0,{"$f":"'Смета пл 2017 МЭОР'!D65","v":0},{"$f":"'Смета факт'!E74","v":0},null,0,0,0]
["5.2.3.","страхование персонала (кроме ДМС)",0,0,0,0,0,0,{"$f":"'Смета пл 2017 МЭОР'!C66","v":0},{"$f":"'Смета факт'!D75","v":0},null,0,0,{"$f":"IF(I72=0,0,L72/I72)","v":0},{"$f":"'Смета пл 2017 МЭОР'!D66","v":0},{"$f":"'Смета факт'!E75","v":0},null,0,0,{"$f":"IF(O72=0,0,R72/O72)","v":0}]
["5.2.4.","аттестация",0,0,0,0,0,0,{"$f":"'Смета пл 2017 МЭОР'!C67","v":0},{"$f":"'Смета факт'!D76","v":0},null,0,0,0,{"$f":"'Смета пл 2017 МЭОР'!D67","v":0},{"$f":"'Смета факт'!E76","v":0},null,0,0,0]
["5.2.5.","медицинский осмотр",0,0,0,0,{"$f":"F74-C74","v":0},0,{"$f":"'Смета пл 2017 МЭОР'!C68","v":0},{"$f":"'Смета факт'!D77","v":0},null,0,0,0,{"$f":"'Смета пл 2017 МЭОР'!D68","v":0},{"$f":"'Смета факт'!E77","v":0},null,0,0,0]
["5.3.","Расходы на льготный проезд",0,0,0,0,0,0,{"$f":"'Смета пл 2017 МЭОР'!C69","v":0},{"$f":"'Смета факт'!D78","v":0},null,0,0,0,{"$f":"'Смета пл 2017 МЭОР'!D69","v":0},{"$f":"'Смета факт'!E78","v":0},null,0,0,0]
["5.4.","Расходы на содержание зданий (вывоз ТБО, дератизация, дезинсекция)",0,0,0,0,0,0,{"$f":"'Смета пл 2017 МЭОР'!C70","v":0},{"$f":"'Смета факт'!D79","v":0},null,0,0,0,{"$f":"'Смета пл 2017 МЭОР'!D70","v":0},{"$f":"'Смета факт'!E79","v":0},null,0,0,0]
["5.5.","Производственный контроль качества воды",{"$f":"SUM(C78:C79)","v":0},{"$f":"SUM(D78:D79)","v":0},{"$f":"SUM(E78:E79)","v":0},{"$f":"SUM(F78:F79)","v":0},0,0,0,0,{"$f":"SUM(K78:K79)","v":0},0,{"$f":"SUM(M78:M79)","v":0},0,{"$f":"SUM(O78:O79)","v":0},{"$f":"SUM(P78:P79)","v":0},0,0,{"$f":"SUM(S78:S79)","v":0},0]
["5.5.1."," контроль качества воды",{"$f":"I78+O78","v":0},{"$f":"J78+P78","v":0},0,{"$f":"L78+R78","v":0},0,0,{"$f":"'Смета пл 2017 МЭОР'!C72","v":0},{"$f":"'Смета факт'!D81","v":0},null,{"$f":"K78","v":0},{"$f":"L78-I78","v":0},0,{"$f":"'Смета пл 2017 МЭОР'!D72","v":0},{"$f":"'Смета факт'!E81","v":0},null,{"$f":"Q78","v":0},{"$f":"R78-O78","v":0},0]
["5.5.2.","затраты лаборатории без ФОТ",{"$f":"I79+O79","v":0},0,0,0,0,0,{"$f":"'Смета пл 2017 МЭОР'!C73","v":0},{"$f":"'Смета факт'!D82","v":0},null,0,{"$f":"L79-I79","v":0},0,{"$f":"'Смета пл 2017 МЭОР'!D73","v":0},{"$f":"'Смета факт'!E82","v":0},null,0,{"$f":"R79-O79","v":0},0]
["II","РЕМОНТНЫЕ РАСХОДЫ",{"$f":"C81+C93","v":0},{"$f":"D81+D93","v":0},{"$f":"E81+E93","v":0},{"$f":"F81+F93","v":0},0,0,{"$f":"I81+I93","v":0},0,{"$f":"K81+K93","v":0},0,{"$f":"M81+M93","v":0},0,{"$f":"O81+O93","v":0},{"$f":"P81+P93","v":0},0,0,{"$f":"S81+S93","v":0},0]
["6.1.","Текущий ремонт централизованных систем водоснабжения, объектов, входящих в состав таких систем, в том числе:",{"$f":"C82+C92","v":0},{"$f":"D82+D92","v":0},{"$f":"E82+E92","v":0},{"$f":"F82+F92","v":0},0,0,{"$f":"I82+I92","v":0},0,{"$f":"K82+K92","v":0},0,{"$f":"M82+M92","v":0},0,{"$f":"O82+O92","v":0},{"$f":"P82+P92","v":0},0,0,{"$f":"S82+S92","v":0},0]
["6.1.1.","затраты на ремонт хоз. способом:",{"$f":"SUM(C83:C91)","v":0},{"$f":"SUM(D83:D91)","v":0},{"$f":"SUM(E83:E91)","v":0},{"$f":"SUM(F83:F91)","v":0},0,0,{"$f":"I83+I86+I87+I88+I89+I90+I91","v":0},0,{"$f":"SUM(K83:K91)","v":0},0,{"$f":"SUM(M83:M91)","v":0},0,{"$f":"O83+O86+O87+O88+O89+O90+O91","v":0},{"$f":"SUM(P83:P91)","v":0},0,0,{"$f":"SUM(S83:S91)","v":0},0]
["6.1.1.1.","заработная плата ремонтного персонала",{"$f":"I83+O83","v":0},{"$f":"J83+P83","v":0},0,{"$f":"L83+R83","v":0},0,0,{"$f":"'Смета пл 2017 МЭОР'!C77","v":0},{"$f":"'Смета факт'!D86","v":0},null,{"$f":"K83","v":0},{"$f":"L83-I83","v":0},0,{"$f":"'Смета пл 2017 МЭОР'!D77","v":0},{"$f":"'Смета факт'!E86","v":0},null,{"$f":"Q83","v":0},{"$f":"R83-O83","v":0},0]
["6.1.1.1.1.","Численность, относимая на регулируемый вид деятельности, чел",{"$f":"I84+O84","v":0},0,0,0,0,0,{"$f":"'Смета пл 2017 МЭОР'!C78","v":0},{"$f":"'Смета факт'!D87","v":0},null,0,0,0,{"$f":"'Смета пл 2017 МЭОР'!D78","v":0},{"$f":"'Смета факт'!E87","v":0},null,0,0,0]
[null,"средняя заработная плата",{"$f":"IF(C84=0,,C83/C84/12)","v":0},0,{"$f":"IF(E84=0,,E83/E84/12)","v":0},0,{"$f":"F85-C85","v":0},{"$f":"IF(C85=0,0,F85/C85)","v":0},{"$f":"IF(I84=0,,I83/I84/12)","v":0},{"$f":"IF(J84=0,,J83/J84/12)","v":0},{"$f":"IF(K84=0,,K83/K84/12)","v":0},0,0,0,{"$f":"IF(O84=0,,O83/O84/12)","v":0},{"$f":"IF(P84=0,,P83/P84/12)","v":0},0,0,0,0]
["6.1.1.2.","отчисления на социальные нужды от расходов на оплату труда",{"$f":"I86+O86","v":0},0,0,0,0,0,{"$f":"'Смета пл 2017 МЭОР'!C79","v":0},{"$f":"'Смета факт'!D89","v":0},null,{"$f":"K86","v":0},0,0,{"$f":"'Смета пл 2017 МЭОР'!D79","v":0},{"$f":"'Смета факт'!E89","v":0},null,{"$f":"Q86","v":0},0,0]
["6.1.1.3.","материалы",0,0,0,0,0,0,{"$f":"'Смета пл 2017 МЭОР'!C80","v":0},{"$f":"'Смета факт'!D90","v":0},null,0,0,0,{"$f":"'Смета пл 2017 МЭОР'!D80","v":0},{"$f":"'Смета факт'!E90","v":0},null,{"$f":"Q87","v":0},0,0]
["6.1.1.4.","услуги вспомогательных производств",0,0,0,0,0,0,{"$f":"'Смета пл 2017 МЭОР'!C81","v":0},{"$f":"'Смета факт'!D91","v":0},null,0,0,0,{"$f":"'Смета пл 2017 МЭОР'!D81","v":0},{"$f":"'Смета факт'!E91","v":0},null,0,0,0]
["6.1.1.5.","транспортные расходы",0,0,0,0,0,0,{"$f":"'Смета пл 2017 МЭОР'!C82","v":0},{"$f":"'Смета факт'!D92","v":0},null,0,0,0,{"$f":"'Смета пл 2017 МЭОР'!D82","v":0},{"$f":"'Смета факт'!E92","v":0},null,0,0,0]
["6.1.1.6.","цеховые расходы",0,0,0,0,0,{"$f":"IF(C90=0,0,F90/C90)","v":0},{"$f":"'Смета пл 2017 МЭОР'!C83","v":0},{"$f":"'Смета факт'!D93","v":0},null,0,0,0,{"$f":"'Смета пл 2017 МЭОР'!D83","v":0},{"$f":"'Смета факт'!E93","v":0},null,0,0,0]
["6.1.1.7.","общехозяйственные расходы",0,0,0,0,0,0,{"$f":"'Смета пл 2017 МЭОР'!C84","v":0},{"$f":"'Смета факт'!D94","v":0},null,0,0,0,{"$f":"'Смета пл 2017 МЭОР'!D84","v":0},{"$f":"'Смета факт'!E94","v":0},null,0,0,0]
["6.1.2.","затраты на ремонт подрядным способом",0,0,0,0,0,0,{"$f":"'Смета пл 2017 МЭОР'!C85","v":0},{"$f":"'Смета факт'!D95","v":0},null,0,0,0,{"$f":"'Смета пл 2017 МЭОР'!D85","v":0},{"$f":"'Смета факт'!E95","v":0},null,0,0,0]
["6.2.","Капитальный ремонт централизованных систем водоснабжения, объектов, входящих в состав таких систем, в том числе:",{"$f":"C94+C104","v":0},{"$f":"D94+D104","v":0},{"$f":"E94+E104","v":0},{"$f":"F94+F104","v":0},0,0,{"$f":"I94+I104","v":0},{"$f":"J94+J104","v":0},{"$f":"K94+K104","v":0},{"$f":"L94+L104","v":0},{"$f":"M94+M104","v":0},0,{"$f":"O94+O104","v":0},{"$f":"P94+P104","v":0},{"$f":"Q94+Q104","v":0},{"$f":"R94+R104","v":0},{"$f":"S94+S104","v":0},0]
["6.2.1."," затраты на ремонт хоз.способом:",{"$f":"SUM(C95:C103)","v":0},{"$f":"SUM(D95:D103)","v":0},{"$f":"SUM(E95:E103)","v":0},{"$f":"SUM(F95:F103)","v":0},0,0,{"$f":"I95+I98+I99+I100+I101+I102+I103","v":0},{"$f":"SUM(J95:J103)","v":0},{"$f":"SUM(K95:K103)","v":0},{"$f":"SUM(L95:L103)","v":0},{"$f":"SUM(M95:M103)","v":0},0,{"$f":"O95+O98+O99+O100+O101+O102+O103","v":0},{"$f":"SUM(P95:P103)","v":0},{"$f":"SUM(Q95:Q103)","v":0},{"$f":"SUM(R95:R103)","v":0},{"$f":"SUM(S95:S103)","v":0},0]
["6.2.1.1.","заработная плата ремонтного персонала",{"$f":"I95+O95","v":0},{"$f":"J95+P95","v":0},0,{"$f":"L95+R95","v":0},0,0,{"$f":"IF('Смета пл 2017 МЭОР'!C88=\"х\",0,'Смета пл 2017 МЭОР'!C88)","v":0},{"$f":"'Смета факт'!D98","v":0},null,{"$f":"K95","v":0},{"$f":"L95-I95","v":0},0,{"$f":"IF('Смета пл 2017 МЭОР'!D88=\"х\",0,'Смета пл 2017 МЭОР'!D88)","v":0},{"$f":"'Смета факт'!E98","v":0},null,{"$f":"Q95","v":0},{"$f":"R95-O95","v":0},0]
[null,"Численность, относимая на регулируемый вид деятельности, чел",{"$f":"I96+O96","v":0},0,0,0,0,0,{"$f":"'Смета пл 2017 МЭОР'!C89","v":0},{"$f":"'Смета факт'!D99","v":0},null,0,0,0,{"$f":"'Смета пл 2017 МЭОР'!D89","v":0},{"$f":"'Смета факт'!E99","v":0},null,0,0,0]
[null,"средняя заработная плата",{"$f":"IF(C96=0,,C95/C96/12)","v":0},0,{"$f":"IF(E96=0,,E95/E96/12)","v":0},0,{"$f":"F97-C97","v":0},{"$f":"IF(C97=0,0,F97/C97)","v":0},{"$f":"IF(I96=0,,I95/I96/12)","v":0},{"$f":"IF(J96=0,,J95/J96/12)","v":0},{"$f":"IF(K96=0,,K95/K96/12)","v":0},0,0,0,{"$f":"IF(O96=0,,O95/O96/12)","v":0},{"$f":"IF(P96=0,,P95/P96/12)","v":0},0,0,0,0]
["6.2.1.2.","отчисления на социальные нужды от расходов на оплату труда",{"$f":"I98+O98","v":0},0,0,0,0,0,{"$f":"'Смета пл 2017 МЭОР'!C90","v":0},{"$f":"'Смета факт'!D101","v":0},null,{"$f":"K98","v":0},0,0,{"$f":"'Смета пл 2017 МЭОР'!D90","v":0},{"$f":"'Смета факт'!E101","v":0},null,{"$f":"Q98","v":0},0,0]
["6.2.1.3.","материалы",0,0,0,0,0,0,{"$f":"'Смета пл 2017 МЭОР'!C91","v":0},{"$f":"'Смета факт'!D102","v":0},null,0,0,0,{"$f":"'Смета пл 2017 МЭОР'!D91","v":0},{"$f":"'Смета факт'!E102","v":0},null,0,0,0]
["6.2.1.4.","услуги вспомогательных производств",0,0,0,0,0,0,{"$f":"'Смета пл 2017 МЭОР'!C92","v":0},{"$f":"'Смета факт'!D103","v":0},null,0,0,0,{"$f":"'Смета пл 2017 МЭОР'!D92","v":0},{"$f":"'Смета факт'!E103","v":0},null,0,0,0]
["6.2.1.5.","транспортные расходы",0,0,0,0,0,0,{"$f":"'Смета пл 2017 МЭОР'!C93","v":0},{"$f":"'Смета факт'!D104","v":0},null,0,0,0,{"$f":"'Смета пл 2017 МЭОР'!D93","v":0},{"$f":"'Смета факт'!E104","v":0},null,0,0,0]
["6.2.1.6.","цеховые расходы",0,0,0,0,0,0,{"$f":"'Смета пл 2017 МЭОР'!C94","v":0},{"$f":"'Смета факт'!D105","v":0},null,0,0,0,{"$f":"'Смета пл 2017 МЭОР'!D94","v":0},{"$f":"'Смета факт'!E105","v":0},null,0,0,0]
["6.2.1.7.","общехозяйственные расходы",0,0,0,0,0,0,{"$f":"'Смета пл 2017 МЭОР'!C95","v":0},{"$f":"'Смета факт'!D106","v":0},null,0,0,0,{"$f":"'Смета пл 2017 МЭОР'!D95","v":0},{"$f":"'Смета факт'!E106","v":0},null,0,0,0]
["6.2.2.","затраты на ремонт подрядным способом",0,0,0,0,0,0,{"$f":"'Смета пл 2017 МЭОР'!C96","v":0},{"$f":"'Смета факт'!D107","v":0},null,0,0,{"$f":"IF(I104=0,0,L104/I104)","v":0},{"$f":"'Смета пл 2017 МЭОР'!D96","v":0},{"$f":"'Смета факт'!E107","v":0},null,0,0,{"$f":"IF(O104=0,0,R104/O104)","v":0}]
["III","ПРОЧИЕ РАСХОДЫ",{"$f":"SUM(C106:C112)","v":0},{"$f":"SUM(D106:D112)","v":0},{"$f":"SUM(E106:E112)","v":0},{"$f":"SUM(F106:F112)","v":0},0,0,{"$f":"SUM(I106:I112)","v":0},{"$f":"SUM(J106:J112)","v":0},{"$f":"SUM(K106:K112)","v":0},{"$f":"SUM(L106:L112)","v":0},{"$f":"SUM(M106:M112)","v":0},0,{"$f":"SUM(O106:O112)","v":0},{"$f":"SUM(P106:P112)","v":0},{"$f":"SUM(Q106:Q112)","v":0},{"$f":"SUM(R106:R112)","v":0},{"$f":"SUM(S106:S112)","v":0},0]
["7.1.","Расходы на услуги связи",{"$f":"I106+O106","v":0},{"$f":"J106+P106","v":0},0,{"$f":"L106+R106","v":0},0,0,{"$f":"'Смета пл 2017 МЭОР'!C98","v":0},{"$f":"'Смета факт'!D109","v":0},null,{"$f":"K106","v":0},{"$f":"L106-I106","v":0},0,{"$f":"'Смета пл 2017 МЭОР'!D98","v":0},{"$f":"'Смета факт'!E109","v":0},null,{"$f":"Q106","v":0},{"$f":"R106-O106","v":0},0]
["7.2.","Вневедомственная охрана объектов и территории",0,0,0,0,0,0,{"$f":"'Смета пл 2017 МЭОР'!C99","v":0},{"$f":"'Смета факт'!D110","v":0},null,0,0,0,{"$f":"'Смета пл 2017 МЭОР'!D99","v":0},{"$f":"'Смета факт'!E110","v":0},null,0,0,0]
["7.3.","Расходы на обучение персонала",0,0,0,0,0,0,{"$f":"'Смета пл 2017 МЭОР'!C100","v":0},{"$f":"'Смета факт'!D111","v":0},null,0,0,0,{"$f":"'Смета пл 2017 МЭОР'!D100","v":0},{"$f":"'Смета факт'!E111","v":0},null,0,0,0]
["7.4.","Расходы на служебные командировки",0,0,0,0,0,0,{"$f":"'Смета пл 2017 МЭОР'!C101","v":0},{"$f":"'Смета факт'!D112","v":0},null,0,0,0,{"$f":"'Смета пл 2017 МЭОР'!D101","v":0},{"$f":"'Смета факт'!E112","v":0},null,0,0,0]
["7.6.","Расходы на страхование производственных объектов",0,0,0,0,0,0,{"$f":"'Смета пл 2017 МЭОР'!C102","v":0},{"$f":"'Смета факт'!D113","v":0},null,0,0,0,{"$f":"'Смета пл 2017 МЭОР'!D102","v":0},{"$f":"'Смета факт'!E113","v":0},null,0,0,0]
["7.7.","Лицензирование",0,0,0,0,0,0,{"$f":"'Смета пл 2017 МЭОР'!C103","v":0},{"$f":"'Смета факт'!D114","v":0},null,0,0,0,{"$f":"'Смета пл 2017 МЭОР'!D103","v":0},{"$f":"'Смета факт'!E114","v":0},null,0,0,0]
["7.8.","Прочие расходы",{"$f":"SUM(C113:C132)","v":0},{"$f":"SUM(D113:D132)","v":0},{"$f":"SUM(E113:E132)","v":0},{"$f":"SUM(F113:F132)","v":0},0,0,0,0,{"$f":"SUM(K113:K132)","v":0},0,{"$f":"SUM(M113:M132)","v":0},0,{"$f":"SUM(O113:O132)","v":0},{"$f":"SUM(P113:P132)","v":0},0,0,{"$f":"SUM(S113:S132)","v":0},0]
[null,{"$f":"'Смета факт'!B116","v":0},{"$f":"I113+O113","v":0},{"$f":"J113+P113","v":0},0,{"$f":"L113+R113","v":0},0,0,{"$f":"'Смета пл 2017 МЭОР'!C105","v":0},{"$f":"'Смета факт'!D116","v":0},null,{"$f":"K113","v":0},{"$f":"L113-I113","v":0},0,{"$f":"'Смета пл 2017 МЭОР'!D105","v":0},{"$f":"'Смета факт'!E116","v":0},null,{"$f":"Q113","v":0},{"$f":"R113-O113","v":0},0]
[null,{"$f":"'Смета факт'!B117","v":0},0,0,0,0,0,0,{"$f":"'Смета пл 2017 МЭОР'!C106","v":0},{"$f":"'Смета факт'!D117","v":0},null,0,0,0,{"$f":"'Смета пл 2017 МЭОР'!D106","v":0},{"$f":"'Смета факт'!E117","v":0},null,0,0,0]
[null,{"$f":"'Смета факт'!B118","v":0},0,0,0,0,0,0,{"$f":"'Смета пл 2017 МЭОР'!C107","v":0},{"$f":"'Смета факт'!D118","v":0},null,0,0,0,{"$f":"'Смета пл 2017 МЭОР'!D107","v":0},{"$f":"'Смета факт'!E118","v":0},null,0,0,0]
[null,{"$f":"'Смета факт'!B119","v":0},0,0,0,0,0,0,{"$f":"'Смета пл 2017 МЭОР'!C108","v":0},{"$f":"'Смета факт'!D119","v":0},null,0,0,0,{"$f":"'Смета пл 2017 МЭОР'!D108","v":0},{"$f":"'Смета факт'!E119","v":0},null,0,0,0]
[null,{"$f":"'Смета факт'!B120","v":0},0,0,0,0,0,0,{"$f":"'Смета пл 2017 МЭОР'!C109","v":0},{"$f":"'Смета факт'!D120","v":0},null,0,0,0,{"$f":"'Смета пл 2017 МЭОР'!D109","v":0},{"$f":"'Смета факт'!E120","v":0},null,0,0,0]
[null,{"$f":"'Смета факт'!B121","v":0},0,0,0,0,0,0,{"$f":"'Смета пл 2017 МЭОР'!C110","v":0},{"$f":"'Смета факт'!D121","v":0},null,0,0,0,{"$f":"'Смета пл 2017 МЭОР'!D110","v":0},{"$f":"'Смета факт'!E121","v":0},null,0,0,0]
[null,{"$f":"'Смета факт'!B122","v":0},0,0,0,0,0,0,{"$f":"'Смета пл 2017 МЭОР'!C111","v":0},{"$f":"'Смета факт'!D122","v":0},null,0,0,0,{"$f":"'Смета пл 2017 МЭОР'!D111","v":0},{"$f":"'Смета факт'!E122","v":0},null,0,0,0]
[null,{"$f":"'Смета факт'!B123","v":0},0,0,0,0,0,0,{"$f":"'Смета пл 2017 МЭОР'!C112","v":0},{"$f":"'Смета факт'!D123","v":0},null,0,0,0,{"$f":"'Смета пл 2017 МЭОР'!D112","v":0},{"$f":"'Смета факт'!E123","v":0},null,0,0,0]
[null,{"$f":"'Смета факт'!B124","v":0},0,0,0,0,0,0,{"$f":"'Смета пл 2017 МЭОР'!C113","v":0},{"$f":"'Смета факт'!D124","v":0},null,0,0,0,{"$f":"'Смета пл 2017 МЭОР'!D113","v":0},{"$f":"'Смета факт'!E124","v":0},null,0,0,0]
[null,{"$f":"'Смета факт'!B125","v":0},0,0,0,0,0,0,{"$f":"'Смета пл 2017 МЭОР'!C114","v":0},{"$f":"'Смета факт'!D125","v":0},null,0,0,0,{"$f":"'Смета пл 2017 МЭОР'!D114","v":0},{"$f":"'Смета факт'!E125","v":0},null,0,0,0]
[null,{"$f":"'Смета факт'!B126","v":0},0,0,0,0,0,{"$f":"IF(C123=0,0,F123/C123)","v":0},{"$f":"'Смета пл 2017 МЭОР'!C115","v":0},{"$f":"'Смета факт'!D126","v":0},null,0,0,0,{"$f":"'Смета пл 2017 МЭОР'!D115","v":0},{"$f":"'Смета факт'!E126","v":0},null,0,0,0]
[null,{"$f":"'Смета факт'!B127","v":0},0,0,0,0,0,0,{"$f":"'Смета пл 2017 МЭОР'!C116","v":0},{"$f":"'Смета факт'!D127","v":0},null,0,0,0,{"$f":"'Смета пл 2017 МЭОР'!D116","v":0},{"$f":"'Смета факт'!E127","v":0},null,0,0,0]
[null,{"$f":"'Смета факт'!B128","v":0},0,0,0,0,0,0,{"$f":"'Смета пл 2017 МЭОР'!C117","v":0},{"$f":"'Смета факт'!D128","v":0},null,0,0,0,{"$f":"'Смета пл 2017 МЭОР'!D117","v":0},{"$f":"'Смета факт'!E128","v":0},null,0,0,0]
[null,{"$f":"'Смета факт'!B129","v":0},0,0,0,0,0,0,{"$f":"'Смета пл 2017 МЭОР'!C118","v":0},{"$f":"'Смета факт'!D129","v":0},null,0,0,0,{"$f":"'Смета пл 2017 МЭОР'!D118","v":0},{"$f":"'Смета факт'!E129","v":0},null,0,0,0]
[null,{"$f":"'Смета факт'!B130","v":0},0,0,0,0,0,0,{"$f":"'Смета пл 2017 МЭОР'!C119","v":0},{"$f":"'Смета факт'!D130","v":0},null,0,0,0,{"$f":"'Смета пл 2017 МЭОР'!D119","v":0},{"$f":"'Смета факт'!E130","v":0},null,0,0,0]
[null,{"$f":"'Смета факт'!B131","v":0},0,0,0,0,0,0,{"$f":"'Смета пл 2017 МЭОР'!C120","v":0},{"$f":"'Смета факт'!D131","v":0},null,0,0,0,{"$f":"'Смета пл 2017 МЭОР'!D120","v":0},{"$f":"'Смета факт'!E131","v":0},null,0,0,0]
[null,{"$f":"'Смета факт'!B132","v":0},0,0,0,0,0,0,{"$f":"'Смета пл 2017 МЭОР'!C121","v":0},{"$f":"'Смета факт'!D132","v":0},null,0,0,0,{"$f":"'Смета пл 2017 МЭОР'!D121","v":0},{"$f":"'Смета факт'!E132","v":0},null,0,0,0]
[null,{"$f":"'Смета факт'!B133","v":0},0,0,0,0,0,0,{"$f":"'Смета пл 2017 МЭОР'!C122","v":0},{"$f":"'Смета факт'!D133","v":0},null,0,0,0,{"$f":"'Смета пл 2017 МЭОР'!D122","v":0},{"$f":"'Смета факт'!E133","v":0},null,0,0,0]
[null,{"$f":"'Смета факт'!B134","v":0},0,0,0,0,0,0,{"$f":"'Смета пл 2017 МЭОР'!C123","v":0},{"$f":"'Смета факт'!D134","v":0},null,0,0,0,{"$f":"'Смета пл 2017 МЭОР'!D123","v":0},{"$f":"'Смета факт'!E134","v":0},null,0,0,0]
[null,"прочие",0,0,0,0,0,0,{"$f":"'Смета пл 2017 МЭОР'!C124","v":0},{"$f":"'Смета факт'!D135","v":0},null,0,0,0,{"$f":"'Смета пл 2017 МЭОР'!D124","v":0},{"$f":"'Смета факт'!E135","v":0},null,0,0,0]
["IV","ОБЩЕХОЗЯЙСТВЕННЫЕ РАСХОДЫ",{"$f":"C134+C137+C138","v":0},{"$f":"D134+D137+D138","v":0},{"$f":"E134+E137+E138","v":0},{"$f":"F134+F137+F138","v":0},0,0,0,0,{"$f":"K134+K137+K138","v":0},0,{"$f":"M134+M137+M138","v":0},0,{"$f":"O134+O137+O138","v":0},{"$f":"P134+P137+P138","v":0},{"$f":"Q134+Q137+Q138","v":0},{"$f":"R134+R137+R138","v":0},0,0]
["8.1.","Расходы на оплату труда, относимую на регулируемый вид деятельности",{"$f":"I134+O134","v":0},{"$f":"J134+P134","v":0},0,{"$f":"L134+R134","v":0},0,0,{"$f":"'Смета пл 2017 МЭОР'!C126","v":0},{"$f":"'Смета факт'!D137","v":0},null,{"$f":"K134","v":0},{"$f":"L134-I134","v":0},0,{"$f":"'Смета пл 2017 МЭОР'!D126","v":0},{"$f":"'Смета факт'!E137","v":0},null,{"$f":"Q134","v":0},0,0]
["8.1.1.","Численность, относимая на регулируемый вид деятельности, чел",{"$f":"I135+O135","v":0},0,0,0,0,0,{"$f":"'Смета пл 2017 МЭОР'!C127","v":0},{"$f":"'Смета факт'!D138","v":0},null,0,{"$f":"L135-I135","v":0},0,{"$f":"'Смета пл 2017 МЭОР'!D127","v":0},{"$f":"'Смета факт'!E138","v":0},null,0,0,0]
[null,"средняя заработная плата",{"$f":"IF(C135=0,,C134/C135/12)","v":0},0,{"$f":"IF(E135=0,,E134/E135/12)","v":0},0,0,0,{"$f":"IF(I135=0,,I134/I135/12)","v":0},{"$f":"IF(J135=0,,J134/J135/12)","v":0},{"$f":"IF(K135=0,,K134/K135/12)","v":0},0,{"$f":"L136-I136","v":0},{"$f":"IF(I136=0,0,L136/I136)","v":0},{"$f":"IF(O135=0,,O134/O135/12)","v":0},{"$f":"IF(P135=0,,P134/P135/12)","v":0},0,0,0,{"$f":"IF(O136=0,0,R136/O136)","v":0}]
["8.2.","Отчисления на социальные нужды от расходов на оплату труда",{"$f":"I137+O137","v":0},0,0,0,0,{"$f":"IF(C137=0,0,F137/C137)","v":0},{"$f":"'Смета пл 2017 МЭОР'!C128","v":0},{"$f":"'Смета факт'!D140","v":0},null,{"$f":"K137","v":0},{"$f":"L137-I137","v":0},0,{"$f":"'Смета пл 2017 МЭОР'!D128","v":0},{"$f":"'Смета факт'!E140","v":0},null,{"$f":"Q137","v":0},0,0]
["8.3.","Прочие расходы",{"$f":"SUM(C139:C153)","v":0},{"$f":"SUM(D139:D153)","v":0},{"$f":"SUM(E139:E153)","v":0},{"$f":"SUM(F139:F153)","v":0},0,0,0,0,{"$f":"SUM(K139:K153)","v":0},0,{"$f":"SUM(M139:M153)","v":0},0,{"$f":"SUM(O139:O153)","v":0},{"$f":"SUM(P139:P153)","v":0},0,0,0,0]
[null,{"$f":"'Смета факт'!B142","v":0},{"$f":"I139+O139","v":0},{"$f":"J139+P139","v":0},0,{"$f":"L139+R139","v":0},0,0,{"$f":"'Смета пл 2017 МЭОР'!C130","v":0},{"$f":"'Смета факт'!D142","v":0},null,{"$f":"K139","v":0},{"$f":"L139-I139","v":0},0,{"$f":"'Смета пл 2017 МЭОР'!D130","v":0},{"$f":"'Смета факт'!E142","v":0},null,{"$f":"Q139","v":0},0,0]
[null,{"$f":"'Смета факт'!B143","v":0},0,0,0,0,{"$f":"F140-C140","v":0},0,{"$f":"'Смета пл 2017 МЭОР'!C131","v":0},{"$f":"'Смета факт'!D143","v":0},null,0,0,0,{"$f":"'Смета пл 2017 МЭОР'!D131","v":0},{"$f":"'Смета факт'!E143","v":0},null,0,0,0]
[null,{"$f":"'Смета факт'!B144","v":0},0,0,0,0,0,0,{"$f":"'Смета пл 2017 МЭОР'!C132","v":0},{"$f":"'Смета факт'!D144","v":0},null,0,0,0,{"$f":"'Смета пл 2017 МЭОР'!D132","v":0},{"$f":"'Смета факт'!E144","v":0},null,0,0,0]
[null,{"$f":"'Смета факт'!B145","v":0},0,0,0,0,0,0,{"$f":"'Смета пл 2017 МЭОР'!C133","v":0},{"$f":"'Смета факт'!D145","v":0},null,0,0,0,{"$f":"'Смета пл 2017 МЭОР'!D133","v":0},{"$f":"'Смета факт'!E145","v":0},null,0,0,0]
[null,{"$f":"'Смета факт'!B146","v":0},0,0,0,0,0,0,{"$f":"'Смета пл 2017 МЭОР'!C134","v":0},{"$f":"'Смета факт'!D146","v":0},null,0,0,0,{"$f":"'Смета пл 2017 МЭОР'!D134","v":0},{"$f":"'Смета факт'!E146","v":0},null,0,0,0]
[null,{"$f":"'Смета факт'!B147","v":0},0,0,0,0,0,0,{"$f":"'Смета пл 2017 МЭОР'!C135","v":0},{"$f":"'Смета факт'!D147","v":0},null,0,0,0,{"$f":"'Смета пл 2017 МЭОР'!D135","v":0},{"$f":"'Смета факт'!E147","v":0},null,0,0,0]
[null,{"$f":"'Смета факт'!B148","v":0},0,0,0,0,0,0,{"$f":"'Смета пл 2017 МЭОР'!C136","v":0},{"$f":"'Смета факт'!D148","v":0},null,0,0,0,{"$f":"'Смета пл 2017 МЭОР'!D136","v":0},{"$f":"'Смета факт'!E148","v":0},null,0,0,0]
[null,{"$f":"'Смета факт'!B149","v":0},0,0,0,0,0,0,{"$f":"'Смета пл 2017 МЭОР'!C137","v":0},{"$f":"'Смета факт'!D149","v":0},null,0,0,0,{"$f":"'Смета пл 2017 МЭОР'!D137","v":0},{"$f":"'Смета факт'!E149","v":0},null,0,0,0]
[null,{"$f":"'Смета факт'!B150","v":0},0,0,0,0,0,0,{"$f":"'Смета пл 2017 МЭОР'!C138","v":0},{"$f":"'Смета факт'!D150","v":0},null,0,0,0,{"$f":"'Смета пл 2017 МЭОР'!D138","v":0},{"$f":"'Смета факт'!E150","v":0},null,0,0,0]
[null,{"$f":"'Смета факт'!B151","v":0},0,0,0,0,0,0,{"$f":"'Смета пл 2017 МЭОР'!C139","v":0},{"$f":"'Смета факт'!D151","v":0},null,0,0,0,{"$f":"'Смета пл 2017 МЭОР'!D139","v":0},{"$f":"'Смета факт'!E151","v":0},null,0,0,0]
[null,{"$f":"'Смета факт'!B152","v":0},0,0,0,0,0,0,{"$f":"'Смета пл 2017 МЭОР'!C140","v":0},{"$f":"'Смета факт'!D152","v":0},null,0,0,0,{"$f":"'Смета пл 2017 МЭОР'!D140","v":0},{"$f":"'Смета факт'!E152","v":0},null,0,0,0]
[null,{"$f":"'Смета факт'!B153","v":0},0,0,0,0,0,0,{"$f":"'Смета пл 2017 МЭОР'!C141","v":0},{"$f":"'Смета факт'!D153","v":0},null,0,0,0,{"$f":"'Смета пл 2017 МЭОР'!D141","v":0},{"$f":"'Смета факт'!E153","v":0},null,0,0,0]
[null,{"$f":"'Смета факт'!B154","v":0},0,0,0,0,0,0,{"$f":"'Смета пл 2017 МЭОР'!C142","v":0},{"$f":"'Смета факт'!D154","v":0},null,0,0,0,{"$f":"'Смета пл 2017 МЭОР'!D142","v":0},{"$f":"'Смета факт'!E154","v":0},null,0,0,0]
[null,{"$f":"'Смета факт'!B155","v":0},0,0,0,0,0,0,{"$f":"'Смета пл 2017 МЭОР'!C143","v":0},{"$f":"'Смета факт'!D155","v":0},null,0,0,0,{"$f":"'Смета пл 2017 МЭОР'!D143","v":0},{"$f":"'Смета факт'!E155","v":0},null,0,0,0]
[null,"прочие",0,0,0,0,0,0,{"$f":"'Смета пл 2017 МЭОР'!C144","v":0},{"$f":"'Смета факт'!D156","v":0},null,0,0,0,{"$f":"'Смета пл 2017 МЭОР'!D144","v":0},{"$f":"'Смета факт'!E156","v":0},null,0,0,0]
["IV","СБЫТОВЫЕ РАСХОДЫ",{"$f":"SUM(C155:C156)","v":0},{"$f":"SUM(D155:D156)","v":0},{"$f":"SUM(E155:E156)","v":0},{"$f":"SUM(F155:F156)","v":0},0,0,0,0,{"$f":"SUM(K155:K156)","v":0},0,{"$f":"SUM(M155:M156)","v":0},0,{"$f":"SUM(O155:O156)","v":0},{"$f":"SUM(P155:P156)","v":0},0,0,{"$f":"SUM(S155:S156)","v":0},0]
["9.1.","Расходы по сомнительным долгам (для ГО)",{"$f":"I155+O155","v":0},{"$f":"J155+P155","v":0},0,{"$f":"L155+R155","v":0},0,0,{"$f":"'Смета пл 2017 МЭОР'!C146","v":0},{"$f":"'Смета факт'!D158","v":0},null,{"$f":"K155","v":0},{"$f":"L155-I155","v":0},0,{"$f":"'Смета пл 2017 МЭОР'!D146","v":0},{"$f":"'Смета факт'!E158","v":0},null,{"$f":"Q155","v":0},{"$f":"R155-O155","v":0},0]
["9.2.","Прочие сбытовые расходы",{"$f":"I156+O156","v":0},0,0,0,0,0,{"$f":"'Смета пл 2017 МЭОР'!C147","v":0},{"$f":"'Смета факт'!D159","v":0},null,0,{"$f":"L156-I156","v":0},0,{"$f":"'Смета пл 2017 МЭОР'!D147","v":0},{"$f":"'Смета факт'!E159","v":0},null,0,{"$f":"R156-O156","v":0},0]
["V","РАСХОДЫ НА АМОРТИЗАЦИЮ ОСНОВНЫХ СРЕДСТВ И НЕМАТЕРИАЛЬНЫХ АКТИВОВ",{"$f":"SUM(C158:C159)","v":0},{"$f":"SUM(D158:D159)","v":0},{"$f":"SUM(E158:E159)","v":0},{"$f":"SUM(F158:F159)","v":0},0,0,0,0,{"$f":"SUM(K158:K159)","v":0},0,{"$f":"SUM(M158:M159)","v":0},0,{"$f":"SUM(O158:O159)","v":0},{"$f":"SUM(P158:P159)","v":0},0,0,{"$f":"SUM(S158:S159)","v":0},0]
["10.1.","Амортизация основных средств,относимых к объектам централизованной системы водоснабжения",{"$f":"I158+O158","v":0},{"$f":"J158+P158","v":0},0,{"$f":"L158+R158","v":0},0,0,{"$f":"'Смета пл 2017 МЭОР'!C149","v":0},{"$f":"'Смета факт'!D161","v":0},null,{"$f":"K158","v":0},{"$f":"L158-I158","v":0},0,{"$f":"'Смета пл 2017 МЭОР'!D149","v":0},{"$f":"'Смета факт'!E161","v":0},null,{"$f":"Q158","v":0},{"$f":"R158-O158","v":0},0]
["10.2.","Амортизация нематериальных активов,относимых к объектам централизованной системы водоснабжения",{"$f":"I159+O159","v":0},0,0,0,0,0,{"$f":"'Смета пл 2017 МЭОР'!C150","v":0},{"$f":"'Смета факт'!D162","v":0},null,0,{"$f":"L159-I159","v":0},0,{"$f":"'Смета пл 2017 МЭОР'!D150","v":0},{"$f":"'Смета факт'!E162","v":0},null,0,{"$f":"R159-O159","v":0},0]
["VI","РАСХОДЫ НА АРЕНДНУЮ ПЛАТУ, ЛИЗИНГОВЫЕ ПЛАТЕЖИ, КОНЦЕССИОННУЮ ПЛАТУ",{"$f":"SUM(C161:C164)","v":0},{"$f":"SUM(D161:D164)","v":0},{"$f":"SUM(E161:E164)","v":0},0,0,0,0,0,{"$f":"SUM(K161:K164)","v":0},0,{"$f":"SUM(M161:M164)","v":0},0,{"$f":"SUM(O161:O164)","v":0},{"$f":"SUM(P161:P164)","v":0},0,{"$f":"SUM(R161:R164)","v":0},0,0]
["11.1.","лизинговые платежи",{"$f":"I161+O161","v":0},{"$f":"J161+P161","v":0},0,{"$f":"L161+R161","v":0},0,0,{"$f":"'Смета пл 2017 МЭОР'!C152","v":0},{"$f":"'Смета факт'!D164","v":0},null,{"$f":"K161","v":0},{"$f":"L161-I161","v":0},0,{"$f":"'Смета пл 2017 МЭОР'!D152","v":0},{"$f":"'Смета факт'!E164","v":0},null,{"$f":"Q161","v":0},{"$f":"R161-O161","v":0},0]
["11.2.","концессионная плата",{"$f":"I162+O162","v":0},0,0,0,0,0,{"$f":"'Смета пл 2017 МЭОР'!C153","v":0},{"$f":"'Смета факт'!D165","v":0},null,0,{"$f":"L162-I162","v":0},0,{"$f":"'Смета пл 2017 МЭОР'!D153","v":0},{"$f":"'Смета факт'!E165","v":0},null,0,{"$f":"R162-O162","v":0},0]
["11.3.","аренда имущества",{"$f":"I163+O163","v":0},0,0,0,0,0,{"$f":"'Смета пл 2017 МЭОР'!C154","v":0},{"$f":"'Смета факт'!D166","v":0},null,0,{"$f":"L163-I163","v":0},0,{"$f":"'Смета пл 2017 МЭОР'!D154","v":0},{"$f":"'Смета факт'!E166","v":0},null,0,{"$f":"R163-O163","v":0},0]
["11.4.","аренда земельных участков",{"$f":"I164+O164","v":0},0,0,0,0,0,{"$f":"'Смета пл 2017 МЭОР'!C155","v":0},{"$f":"'Смета факт'!D167","v":0},null,0,{"$f":"L164-I164","v":0},0,{"$f":"'Смета пл 2017 МЭОР'!D155","v":0},{"$f":"'Смета факт'!E167","v":0},null,0,{"$f":"R164-O164","v":0},0]
["VII","РАСХОДЫ, СВЯЗАННЫЕ С ОПЛАТОЙ НАЛОГОВ И СБОРОВ",{"$f":"SUM(C166:C171)","v":0},{"$f":"SUM(D166:D171)","v":0},{"$f":"SUM(E166:E171)","v":0},{"$f":"SUM(F166:F171)","v":0},0,0,0,0,{"$f":"SUM(K166:K171)","v":0},0,{"$f":"SUM(M166:M171)","v":0},0,{"$f":"SUM(O166:O171)","v":0},{"$f":"SUM(P166:P171)","v":0},0,0,{"$f":"SUM(S166:S171)","v":0},0]
["11.5.","водный налог",{"$f":"I166+O166","v":0},{"$f":"J166+P166","v":0},0,{"$f":"L166+R166","v":0},0,0,{"$f":"'Смета пл 2017 МЭОР'!C157","v":0},{"$f":"'Смета факт'!D169","v":0},null,{"$f":"K166","v":0},{"$f":"L166-I166","v":0},0,{"$f":"'Смета пл 2017 МЭОР'!D157","v":0},{"$f":"'Смета факт'!E169","v":0},null,{"$f":"Q166","v":0},{"$f":"R166-O166","v":0},0]
["11.6.","налог на землю",0,0,0,0,0,0,{"$f":"'Смета пл 2017 МЭОР'!C158","v":0},{"$f":"'Смета факт'!D170","v":0},null,0,0,0,{"$f":"'Смета пл 2017 МЭОР'!D158","v":0},{"$f":"'Смета факт'!E170","v":0},null,0,0,0]
["11.7.","налог на имущество",0,0,0,0,0,0,{"$f":"'Смета пл 2017 МЭОР'!C159","v":0},{"$f":"'Смета факт'!D171","v":0},null,0,0,{"$f":"IF(I168=0,0,L168/I168)","v":0},{"$f":"'Смета пл 2017 МЭОР'!D159","v":0},{"$f":"'Смета факт'!E171","v":0},null,0,0,{"$f":"IF(O168=0,0,R168/O168)","v":0}]
["11.8.","плата за загрязнение окружающей среды",0,0,0,0,0,{"$f":"IF(C169=0,0,F169/C169)","v":0},{"$f":"'Смета пл 2017 МЭОР'!C160","v":0},{"$f":"'Смета факт'!D172","v":0},null,0,0,0,{"$f":"'Смета пл 2017 МЭОР'!D160","v":0},{"$f":"'Смета факт'!E172","v":0},null,0,0,0]
["11.9.","транспортный налог",0,0,0,0,0,0,{"$f":"'Смета пл 2017 МЭОР'!C161","v":0},{"$f":"'Смета факт'!D173","v":0},null,0,0,0,{"$f":"'Смета пл 2017 МЭОР'!D161","v":0},{"$f":"'Смета факт'!E173","v":0},null,0,0,0]
["11.10.","прочие налоги и сборы",0,0,0,0,0,0,{"$f":"'Смета пл 2017 МЭОР'!C162","v":0},{"$f":"'Смета факт'!D174","v":0},null,0,0,0,{"$f":"'Смета пл 2017 МЭОР'!D162","v":0},{"$f":"'Смета факт'!E174","v":0},null,0,0,0]
["VIII","ВСЕГО СЕБЕСТОИМОСТЬ",{"$f":"C174+C175+C176+C177+C178+C179","v":0},{"$f":"D174+D175+D176+D177+D178+D179","v":0},{"$f":"E174+E175+E176+E177+E178+E179","v":0},0,{"$f":"F172-C172","v":0},{"$f":"IF(C172=0,0,F172/C172)","v":0},{"$f":"SUM(I8,I80,I105,I133,I154,I157,I160,I165)","v":0},{"$f":"SUM(J8,J80,J105,J133,J154,J157,J160,J165)","v":0},{"$f":"SUM(K8,K80,K105,K133,K154,K157,K160,K165)","v":0},0,0,0,{"$f":"SUM(O8,O80,O105,O133,O154,O157,O160,O165)","v":0},{"$f":"SUM(P8,P80,P105,P133,P154,P157,P160,P165)","v":0},0,0,0,0]
["IХ","Финансовый результат от реализации",{"$f":"C175+C176+C177+C178+C179+C180","v":0},0,{"$f":"E175+E176+E177+E178+E179+E180","v":0},0,0,0,{"$f":"'Смета пл 2017 МЭОР'!C163","v":0},{"$f":"'Смета факт'!D176","v":0},{"$f":"K175+K176+K177+K178+K179+K180","v":0},{"$f":"L175+L176+L177+L178+L179+L180","v":0},0,0,0,{"$f":"'Смета факт'!E176","v":0},{"$f":"Q175+Q176+Q177+Q178+Q179+Q180","v":0},{"$f":"R175+R176+R177+R178+R179+R180","v":0},0,0]
["12.1.","то же в %",{"$f":"IF(SUM(C8,C80,C105,C133,C154,C157,C160,C165,C179:C180)=0,0,SUM(C175:C178)/SUM(C8,C80,C105,C133,C154,C157,C160,C165,C179:C180)*100)","v":0},{"$f":"IF(SUM(D8,D80,D105,D133,D154,D157,D160,D165,D179:D180)=0,0,SUM(D175:D178)/SUM(D8,D80,D105,D133,D154,D157,D160,D165,D179:D180)*100)","v":0},{"$f":"IF(SUM(E8,E80,E105,E133,E154,E157,E160,E165,E179:E180)=0,0,SUM(E175:E178)/SUM(E8,E80,E105,E133,E154,E157,E160,E165,E179:E180)*100)","v":0},{"$f":"IF(SUM(F8,F80,F105,F133,F154,F157,F160,F165,F179:F180)=0,0,SUM(F175:F178)/SUM(F8,F80,F105,F133,F154,F157,F160,F165,F179:F180)*100)","v":0},0,0,{"$f":"IF(SUM(I8,I80,I105,I133,I154,I157,I160,I165,I179:I180)=0,0,SUM(I175:I178)/SUM(I8,I80,I105,I133,I154,I157,I160,I165,I179:I180)*100)","v":0},0,{"$f":"IF(SUM(K8,K80,K105,K133,K154,K157,K160,K165,K179:K180)=0,0,SUM(K175:K178)/SUM(K8,K80,K105,K133,K154,K157,K160,K165,K179:K180)*100)","v":0},{"$f":"IF(SUM(L8,L80,L105,L133,L154,L157,L160,L165,L179:L180)=0,0,SUM(L175:L178)/SUM(L8,L80,L105,L133,L154,L157,L160,L165,L179:L180)*100)","v":0},0,0,{"$f":"IF(SUM(O8,O80,O105,O133,O154,O157,O160,O165,O179:O180)=0,0,SUM(O175:O178)/SUM(O8,O80,O105,O133,O154,O157,O160,O165,O179:O180)*100)","v":0},{"$f":"IF(SUM(P8,P80,P105,P133,P154,P157,P160,P165,P179:P180)=0,0,SUM(P175:P178)/SUM(P8,P80,P105,P133,P154,P157,P160,P165,P179:P180)*100)","v":0},{"$f":"IF(SUM(Q8,Q80,Q105,Q133,Q154,Q157,Q160,Q165,Q179:Q180)=0,0,SUM(Q175:Q178)/SUM(Q8,Q80,Q105,Q133,Q154,Q157,Q160,Q165,Q179:Q180)*100)","v":0},{"$f":"IF(SUM(R8,R80,R105,R133,R154,R157,R160,R165,R179:R180)=0,0,SUM(R175:R178)/SUM(R8,R80,R105,R133,R154,R157,R160,R165,R179:R180)*100)","v":0},0,0]
["12.2.","средства на возврат займов и кредитов и процентов по ним",{"$f":"I175+O175","v":0},{"$f":"J175+P175","v":0},0,{"$f":"L175+R175","v":0},0,0,{"$f":"'Смета пл 2017 МЭОР'!C165","v":0},{"$f":"'Смета факт'!D178","v":0},null,{"$f":"K175","v":0},0,0,{"$f":"'Смета пл 2017 МЭОР'!D165","v":0},{"$f":"'Смета факт'!E178","v":0},null,{"$f":"Q175","v":0},0,0]
["12.3.","расходы на капитальные вложения (инвестиции)",0,0,0,0,0,0,{"$f":"'Смета пл 2017 МЭОР'!C166","v":0},{"$f":"'Смета факт'!D179","v":0},null,0,0,0,{"$f":"'Смета пл 2017 МЭОР'!D166","v":0},{"$f":"'Смета факт'!E179","v":0},null,0,0,0]
["12.4.","денежные выплаты социального характера (по коллективному договору)",0,0,0,0,0,0,{"$f":"'Смета пл 2017 МЭОР'!C167","v":0},{"$f":"'Смета факт'!D180","v":0},null,0,0,0,{"$f":"'Смета пл 2017 МЭОР'!D167","v":0},{"$f":"'Смета факт'!E180","v":0},null,0,0,0]
["12.5.","прибыль, обеспечивающая финансирование других расходов, не учитываемых  при определении налоговой бызы налога на прибыль (остающаяся в распоряжении организации)",0,0,0,0,0,0,{"$f":"I173-I175-I176-I177-I179-I180","v":0},{"$f":"'Смета факт'!D181","v":0},null,0,0,0,{"$f":"O173-O175-O176-O177-O179-O180","v":0},{"$f":"'Смета факт'!E181","v":0},null,0,0,0]
["13.1.","налог на прибыль",0,0,0,0,0,0,{"$f":"'Смета пл 2017 МЭОР'!C169","v":0},{"$f":"'Смета факт'!D182","v":0},null,0,0,0,{"$f":"'Смета пл 2017 МЭОР'!D169","v":0},{"$f":"'Смета факт'!E182","v":0},null,0,0,0]
["13.2."," (или)единый налог при УСН ",0,0,0,0,0,0,{"$f":"'Смета пл 2017 МЭОР'!C170","v":0},{"$f":"'Смета факт'!D183","v":0},null,0,0,0,{"$f":"'Смета пл 2017 МЭОР'!D170","v":0},{"$f":"'Смета факт'!E183","v":0},null,0,0,0]
[null,"Недополученный по независящим причинам доход",0,{"$f":"J181+P181","v":0},{"$f":"K181+Q181","v":0},{"$f":"L181+R181","v":0},{"$f":"F181-C181","v":0},{"$f":"IF(C181=0,0,F181/C181)","v":0},{"$f":"SUM(I182:I185)","v":0},{"$f":"SUM(J182:J185)","v":0},0,0,0,0,{"$f":"SUM(O182:O185)","v":0},0,0,0,0,0]
[null,"выпадающие расходы/экономия (в целях выравнивания сметы между полугодия регулируемого периода)",0,{"$f":"J182+P182","v":0},{"$f":"K182+Q182","v":0},{"$f":"L182+R182","v":0},{"$f":"F182-C182","v":0},{"$f":"IF(C182=0,0,F182/C182)","v":0},{"$f":"'Смета пл 2017 МЭОР'!C172","v":0},null,null,null,null,null,{"$f":"'Смета пл 2017 МЭОР'!D172","v":0}]
[null,"экономически обоснованные расходы, понесённые за отчётные периоды ",0,0,0,0,0,0,{"$f":"'Смета пл 2017 МЭОР'!C173","v":0},null,null,null,null,null,{"$f":"'Смета пл 2017 МЭОР'!D173","v":0}]
[null,"выпадающие доходы за отчётные периоды регулирования, связанные с изменением объёмов реализации  ",0,0,0,0,0,0,{"$f":"'Смета пл 2017 МЭОР'!C174","v":0},null,null,null,null,null,{"$f":"'Смета пл 2017 МЭОР'!D174","v":0}]
[null,"Избыток средств, полученный за отчётные периоды регулирования",0,0,0,0,0,0,{"$f":"'Смета пл 2017 МЭОР'!C175","v":0},null,null,null,null,null,{"$f":"'Смета пл 2017 МЭОР'!D175","v":0}]
[null,"Расчетная предпринимательская прибыль гарантирующей организации",0,{"$f":"J186+P186","v":0},{"$f":"K186+Q186","v":0},{"$f":"L186+R186","v":0},{"$f":"F186-C186","v":0},{"$f":"IF(C186=0,0,F186/C186)","v":0},{"$f":"'Смета пл 2017 МЭОР'!C176","v":0}]
["IХ","НЕОБХОДИМАЯ ВАЛОВАЯ ВЫРУЧКА",{"$f":"C173+C165+C160+C157+C154+C133+C105+C80+C8+C186+C181","v":0},0,0,0,0,0,{"$f":"I173+I165+I160+I157+I154+I133+I105+I80+I8+I186+I181","v":0},{"$f":"J173+J165+J160+J157+J154+J133+J105+J80+J8+J186+J181","v":0},0,0,0,{"$f":"IF(I187=0,0,L187/I187)","v":0},{"$f":"O173+O165+O160+O157+O154+O133+O105+O80+O8+O186+O181","v":0},{"$f":"P173+P165+P160+P157+P154+P133+P105+P80+P8+P186+P181","v":0},0,0,{"$f":"S173+S165+S160+S157+S154+S133+S105+S80+S8+S186+S181","v":0},{"$f":"IF(O187=0,0,R187/O187)","v":0}]
["16.","Товарная продукция",{"$f":"I188+O188","v":0},{"$f":"J188+P188","v":0},0,{"$f":"L188+R188","v":0},0,0,{"$f":"'Смета пл 2017 МЭОР'!C178","v":0},{"$f":"'форма №2'!C12","v":0},{"$f":"'форма №2'!B12","v":0},{"$f":"'форма №2'!C12","v":0},{"$f":"L188-I188","v":0},0,{"$f":"'Смета пл 2017 МЭОР'!D178","v":0},null,{"$f":"'форма №2'!H12","v":0},null,{"$f":"R188-O188","v":0},0]
["17.","Затраты на собственное потребление",{"$f":"I189+O189","v":0},0,0,0,0,0,null,null,null,null,null,0,null,null,null,null,0,0]
["18.","Отпущено воды всего, м3, в том числе: ",{"$f":"I190","v":0},{"$f":"J190","v":0},0,{"$f":"L190","v":0},0,0,{"$f":"'баланс ВСН'!H30","v":0},{"$f":"'баланс ВСН'!I30","v":0},{"$f":"'баланс ВСН'!I30","v":0},{"$f":"'баланс ВСН'!L30","v":0},{"$f":"L190-I190","v":0},0,{"$f":"'баланс ВСН'!H30","v":0},{"$f":"J190","v":0},0,0,0,0]
["18.1.","на собственное потребление",{"$f":"I191","v":0},0,0,{"$f":"L191","v":0},0,0,{"$f":"'баланс ВСН'!H31","v":0},{"$f":"'баланс ВСН'!I31","v":0},{"$f":"'баланс ВСН'!I31","v":0},{"$f":"'баланс ВСН'!L31","v":0},{"$f":"L191-I191","v":0},0,{"$f":"'баланс ВСН'!H31","v":0},0,0,0,0,0]
["18.2.","сторонним потребителям",0,0,0,{"$f":"L192","v":0},0,0,{"$f":"I190-I191","v":0},{"$f":"J190-J191","v":0},{"$f":"K190-K191","v":0},{"$f":"L190-L191","v":0},{"$f":"L192-I192","v":0},0,{"$f":"O190-O191","v":0},{"$f":"P190-P191","v":0},{"$f":"Q190-Q191","v":0},{"$f":"R190-R191","v":0},0,0]
["X","Цена (тариф) на холодную воду, руб./м3",{"$f":"IF(C190=0,0,C187/C190)","v":0},{"$f":"IF(D190=0,0,D187/D190)","v":0},{"$f":"IF(E190=0,0,E187/E190)","v":0},{"$f":"IF(F190=0,0,F187/F190)","v":0},0,0,{"$f":"IF(I190=0,,I187/I190)","v":0},{"$f":"IF(J190=0,0,J187/J190)","v":0},{"$f":"IF(K190=0,0,K187/K190)","v":0},{"$f":"IF(L190=0,0,L187/L190)","v":0},{"$f":"L193-I193","v":0},0,{"$f":"IF(O190=0,,O187/O190)","v":0},{"$f":"IF(P190=0,0,P187/P190)","v":0},{"$f":"IF(Q190=0,0,Q187/Q190)","v":0},{"$f":"IF(R190=0,0,R187/R190)","v":0},0,0]
[null,null,{"$f":"C187-'Смета пл 2017 МЭОР'!B136","v":0},{"$f":"'Смета факт'!C184-D187","v":0},null,null,null,null,{"$f":"I187-('Смета пл 2017 МЭОР'!B136-'Смета пл 2017 МЭОР'!D136)","v":0},{"$f":"J187-'Смета факт'!D184","v":0},null,null,null,null,{"$f":"O187-'Смета пл 2017 МЭОР'!D136","v":0},{"$f":"P187-'Смета факт'!E184","v":0}]
[]
[]
[null,null,null,null,null,null,null,null,"Итоги по смете"]
[null,null,null,null,null,null,null,null,"Себестоимость"]
[null,null,null,null,null,null,null,null,"наименование расходов, номер счета, субсчета","сумма отнесенная РСО на регулируемый вид деятельности, рублей","сумма в соответствии с оборотно- сальдовой ведомостью, рублей","принято экспертом, рублей","Примечание"]
[null,null,null,null,null,null,null,null,{"$f":"'Смета факт'!B195","v":"20 счет"},{"$f":"'Смета факт'!C195","v":0}]
[null,null,null,null,null,null,null,null,{"$f":"'Смета факт'!B196","v":"23 счет"},{"$f":"'Смета факт'!C196","v":0}]
[null,null,null,null,null,null,null,null,{"$f":"'Смета факт'!B197","v":"25 счет"},{"$f":"'Смета факт'!C197","v":0}]
[null,null,null,null,null,null,null,null,{"$f":"'Смета факт'!B198","v":"Транспортные расходы"},{"$f":"'Смета факт'!C198","v":0}]
[null,null,null,null,null,null,null,null,{"$f":"'Смета факт'!B199","v":"ОХР"},{"$f":"'Смета факт'!C199","v":0}]
[null,null,null,null,null,null,null,null,{"$f":"'Смета факт'!B200","v":0},{"$f":"'Смета факт'!C200","v":0}]
[null,null,null,null,null,null,null,null,{"$f":"'Смета факт'!B201","v":0},{"$f":"'Смета факт'!C201","v":0}]
[null,null,null,null,null,null,null,null,{"$f":"'Смета факт'!B202","v":0},{"$f":"'Смета факт'!C202","v":0}]
[null,null,null,null,null,null,null,null,{"$f":"'Смета факт'!B203","v":0},{"$f":"'Смета факт'!C203","v":0}]
[null,null,null,null,null,null,null,null,{"$f":"'Смета факт'!B204","v":0},{"$f":"'Смета факт'!C204","v":0}]
[null,null,null,null,null,null,null,null,{"$f":"'Смета факт'!B205","v":0},{"$f":"'Смета факт'!C205","v":0}]
[null,null,null,null,null,null,null,null,"итого",{"$f":"SUM(J200:J210)","v":0},{"$f":"SUM(K200:K210)","v":0},{"$f":"SUM(L200:L210)","v":0}]
[]
[null,null,null,null,null,null,null,null,"Не принято в отчет"]
[null,null,null,null,null,null,null,null,"наименование расходов, номер счета, субсчета","сумма отнесенная РСО на регулируемый вид деятельности, рублей","сумма в соответствии с оборотно- сальдовой ведомостью, рублей","сумма эксперта, рублей","Примечание"]
[null,null,null,null,null,null,null,null,{"$f":"'Смета факт'!B210","v":0},{"$f":"'Смета факт'!C210","v":0}]
[null,null,null,null,null,null,null,null,{"$f":"'Смета факт'!B211","v":0},{"$f":"'Смета факт'!C211","v":0}]
[null,null,null,null,null,null,null,null,{"$f":"'Смета факт'!B212","v":0},{"$f":"'Смета факт'!C212","v":0}]
[null,null,null,null,null,null,null,null,{"$f":"'Смета факт'!B213","v":0},{"$f":"'Смета факт'!C213","v":0}]
[null,null,null,null,null,null,null,null,{"$f":"'Смета факт'!B214","v":0},{"$f":"'Смета факт'!C214","v":0}]
[null,null,null,null,null,null,null,null,{"$f":"'Смета факт'!B215","v":0},{"$f":"'Смета факт'!C215","v":0}]
[null,null,null,null,null,null,null,null,{"$f":"'Смета факт'!B216","v":0},{"$f":"'Смета факт'!C216","v":0}]
[null,null,null,null,null,null,null,null,"итого",{"$f":"SUM(J215:J221)","v":0},{"$f":"SUM(K215:K221)","v":0},{"$f":"SUM(L215:L221)","v":0}]
[]
[null,null,null,null,null,null,null,null,"91 счет"]
[null,null,null,null,null,null,null,null,"наименование расходов, номер счета, субсчета","сумма отнесенная РСО на регулируемый вид деятельности, рублей","сумма в соответствии с оборотно- сальдовой ведомостью, рублей","принято экспертом, рублей","Примечание"]
[null,null,null,null,null,null,null,null,{"$f":"'Смета факт'!B221","v":"УСН / налог на прибыль"},{"$f":"'Смета факт'!C221","v":0}]
[null,null,null,null,null,null,null,null,{"$f":"'Смета факт'!B222","v":"Соц.выплаты"},{"$f":"'Смета факт'!C222","v":0}]
[null,null,null,null,null,null,null,null,{"$f":"'Смета факт'!B223","v":"Услуги банков"},{"$f":"'Смета факт'!C223","v":0}]
[null,null,null,null,null,null,null,null,{"$f":"'Смета факт'!B224","v":0},{"$f":"'Смета факт'!C224","v":0}]
[null,null,null,null,null,null,null,null,{"$f":"'Смета факт'!B225","v":0},{"$f":"'Смета факт'!C225","v":0}]
[null,null,null,null,null,null,null,null,{"$f":"'Смета факт'!B226","v":0},{"$f":"'Смета факт'!C226","v":0}]
[null,null,null,null,null,null,null,null,{"$f":"'Смета факт'!B227","v":0},{"$f":"'Смета факт'!C227","v":0}]
[null,null,null,null,null,null,null,null,"итого",{"$f":"SUM(J226:J232)","v":0},{"$f":"SUM(K226:K232)","v":0},{"$f":"SUM(L226:L232)","v":0}]
[]
[null,null,null,null,null,null,null,null,"ВСЕГО НВВ по смете",{"$f":"J211-J222+J233","v":0},{"$f":"K211-K222+K233","v":0},{"$f":"L211-L222+L233","v":0},"х"]
[]
[null,null,null,null,null,null,null,null,null,{"$f":"J235-J187","v":0},null,{"$f":"L235-L187","v":0}]

{"sheet":"ОР 2017","index":31,"n_rows":147,"n_cols":11,"rows_kept":147,"cut":false,"hidden":true,"merged":[[9,10,25,10],[7,3,7,5],[7,6,7,8],[0,0,0,8],[1,0,1,8],[2,0,2,8],[3,0,3,8],[5,0,8,0],[5,1,8,1],[5,2,5,5],[7,2,8,2],[6,2,6,5],[5,6,6,8]]}
["Операционные расходы 2017 год ПЛАН"]
[{"$f":"Титульный!C10","v":" "}]
[]
[{"$f":"Титульный!C19","v":0}]
[null,{"$f":"'[2]смета 2016'!AC4","v":"без учета НДС"},null,null,null,null,{"$f":"G10-G13-G14-G15-G17-G18-G22-G23-G24","v":1.862645149230957E-9},{"$f":"H10-H13-H14-H15-H17-H18-H22-H23-H24","v":6.9849193096160889E-10},-3.4924596548080444E-10]
["№\nп/п","Наименование показателя","При периоде регулирования  2016-2018 года экспертом заполняются данные, принятые при утверждении  в части операционных расходов",null,null,null,"пересчет на 2017 год"]
[null,null,"2016 год"]
[null,null,{"$f":"'[2]НП 2016-2018'!K8","v":"план организации "},{"$f":"'[2]НП 2016-2018'!L8","v":"ДТР ТО"},null,null,{"$f":"D8","v":"ДТР ТО"}]
[null,null,null,"Итого",{"$f":"'[2]смета 2016'!W8","v":"01.01-30.06"},{"$f":"'[2]смета 2016'!AB8","v":"01.07-31.12"},"Итого",{"$f":"E9","v":"01.01-30.06"},{"$f":"F9","v":"01.07-31.12"}]
["I","Операционные расходы","х",9735174.8435839247,4700402.9208837524,5034771.9227001714,{"$f":"G11*(1-G25/100)*G26*(1+G27)","v":10167903.36538123},{"$f":"H11*(1-G25/100)*G26*(1+G27)","v":4909335.8307170346},{"$f":"I11*(1-G25/100)*G26*(1+G27)","v":5258567.5346641932},null,"заполняются данные в серых ячейках: смета операционных из сметы МИ (метод индексации) 2016-2018, индексы из сметы утвержденной корректировки на 2017 год "]
["1.","Базовый уровень операционных расходов","х",9735174.8435839247,4700402.9208837524,5034771.9227001714,{"$f":"D11","v":9735174.8435839247},{"$f":"E11","v":4700402.9208837524},5034771.9227001714]
["1.1.","Производственные расходы:","х",8085540.7465328416,3897689.5400914885,4187851.2064413531,{"$f":"D12*(1-$G$25/100)*$G$26*(1+$G$27)","v":8444943.0327162258},{"$f":"E12*(1-$G$25/100)*$G$26*(1+$G$27)","v":4070941.8401485551},{"$f":"F12*(1-$G$25/100)*$G$26*(1+$G$27)","v":4374001.1925676707}]
["1.1.1","расходы на приобретение сырья и материалов и их хранение","х",106071.019,51995.5975490196,54075.421450980393,{"$f":"D13*(1-$G$25/100)*$G$26*(1+$G$27)","v":110785.87579455},54306.801860073523,56479.073934476466]
["1.1.2","расходы на оплату регулируемыми организациями выполняемых сторонними организациями работ и (или) услуг","х",84814.760000000009,41575.862745098042,43238.897254901967,88584.776082000011,43423.909844117647,45160.866237882357]
["1.1.3","расходы на оплату труда и отчисления на социальные нужды основного производственного персонала,\nв том числе:","х",6483224.6344696935,3116934.9204181219,3366289.7140515717,6771403.9694718709,3255482.6776307072,3515921.2918411638]
["1.1.3.1","налоги и сборы с фонда оплаты труда","х",1503789.431343969,722975.6881461388,780813.74319783004,1570632.8715672083,755111.95748423471,815520.9140829735]
["1.1.4","расходы на уплату процентов по займам и кредитам","х",null,null,null,0,0,0]
["1.1.5","прочие производственные расходы:","х",1411430.3330631477,687183.15937924886,724247.17368389887,1474168.4113678045,717728.45081365632,756439.96055414807]
["1.1.5.1","расходы на эксплуатацию, техническое обслуживание и ремонт автотранспорта","х",1206370.6630631478,586663.71330081753,619706.94976233027,1259993.8390363045,612740.91535703884,647252.92367926578]
["1.1.5.2","контроль качества воды и сточных вод","х",158044,77472.549019607846,80571.450980392168,165069.0558,80916.203823529402,84152.8519764706]
["1.1.5.3","Прочие расходы","х",47015.67,23046.897058823528,23968.77294117647,49105.516531499998,24071.331633088234,25034.184898411761]
["1.2.","Ремонтные расходы","х",461345.75,226149.87745098039,235195.87254901961,481852.56858749996,236202.23950367645,245650.32908382351]
["1.3.","Административные расходы","х",1188288.3470510817,576563.50334128318,611724.84370979841,1241107.7640775023,602191.75106480322,638916.01301269885]
["1.4.","Сбытовые расходы гарантирующей организации","х",0,0,0,0,0,0]
["2.","индекс эффективности расходов","х",null,null,null,1]
["3.","индекс потребительских цен","х",null,null,null,1.0549999999999999]
["4.","индекс количества активов","х",null,null,null,0]
[null,null,"х"]
[null,null,"х"]
[null,"Др","х"]
[null,null,"х"]
[null,null,"х"]
[null,null,"х"]
[null,null,"х"]
[null,null,"х"]
[null,null,"х"]
[null,null,"х"]
[null,null,"х"]
[null,null,"х"]
[null,null,"х"]
[null,null,"х"]
[null,null,"х"]
[null,null,"х"]
[null,null,"х"]
[null,null,"х"]
[null,null,"х"]
[null,null,"х"]
[null,null,"х"]
[null,null,"х"]
[null,null,"х"]
[null,null,"х"]
[null,null,"х"]
[null,null,"х"]
[null,null,"х"]
[null,null,"х"]
[null,null,"х"]
[null,null,"х"]
[null,null,"х"]
[null,null,"х"]
[null,null,"х"]
[null,null,"х"]
[null,null,"х"]
[null,null,"х"]
[null,null,"х"]
[null,null,"х"]
[null,null,"х"]
[null,null,"х"]
[null,null,"х"]
[null,null,"х"]
[null,null,"х"]
[null,null,"х"]
[null,null,"х"]
[null,null,"х"]
[null,null,"х"]
[null,null,"х"]
[null,null,"х"]
[null,null,"х"]
[null,null,"х"]
[null,null,"х"]
[null,null,"х"]
[null,null,"х"]
[null,null,"х"]
[null,null,"х"]
[null,null,"х"]
[null,null,"х"]
[null,null,"х"]
[null,null,"х"]
[null,null,"х"]
[null,null,"х"]
[null,null,"х"]
[null,null,"х"]
[null,null,"х"]
[null,null,"х"]
[null,null,"х"]
[null,null,"х"]
[null,null,"х"]
[null,null,"х"]
[null,null,"х"]
[null,null,"х"]
[null,null,"х"]
[null,null,"х"]
[null,null,"х"]
[null,null,"х"]
[null,null,"х"]
[null,null,"х"]
[null,null,"х"]
[null,null,"х"]
[null,null,"х"]
[null,null,"х"]
[null,null,"х"]
[null,null,"х"]
[null,null,"х"]
[null,null,"х"]
[null,null,"х"]
[null,null,"х"]
[null,null,"х"]
[null,null,"х"]
[null,null,"х"]
[null,null,"х"]
[null,null,"х"]
[null,null,"х"]
[null,null,"х"]
[null,null,"х"]
[null,null,"х"]
[null,null,"х"]
[null,null,"х"]
[null,null,"х"]
[null,null,"х"]
[null,null,"х"]
[null,null,"х"]
[null,null,"х"]
[null,null,"х"]
[null,null,"х"]
[null,null,"х"]
[null,null,"х"]
[null,null,"х"]
[null,null,"х"]
[null,null,"х"]
[null,null,"х"]
[null,null,"х"]
[null,null,"х"]
[null,null,"х"]
[null,null,"х"]
[null,null,"х"]
[null,null,"х"]
[null,null,"х"]
[null,null,"х"]

{"sheet":"Смета 2017 МДИ ","index":32,"n_rows":105,"n_cols":16,"rows_kept":105,"cut":false,"hidden":true,"merged":[[5,2,6,5],[0,0,0,13],[1,0,1,13],[2,0,2,13],[3,0,3,13],[5,0,8,0],[5,1,8,1],[5,10,5,13],[7,2,8,2],[7,3,7,5],[7,6,8,6],[7,7,7,9],[7,10,8,10],[7,11,7,13],[5,6,6,9],[237,0,237,1],[48,15,96,15],[225,0,225,1],[227,0,227,1],[228,0,228,1],[229,0,229,1],[230,0,230,1],[231,0,231,1],[223,0,223,1],[9,15,47,15],[232,0,232,1],[233,0,233,1],[234,0,234,1],[236,0,236,1]]}
["Расчет тарифов методом индексации"]
[{"$f":"Титульный!C10","v":" "}]
[{"$f":"Титульный!C15","v":"Водоснабжение"}]
[{"$f":"Титульный!C19","v":0}]
[null,{"$f":"IF(Титульный!C23=\"общая\",\"без учета НДС\",\"НДС не предусмотрен\")","v":"без учета НДС"},null,null,null,null,null,{"$f":"H10-H13-H21-H34-H36-H37-H43-H44-H45","v":1.862645149230957E-9},{"$f":"I10-I13-I21-I34-I36-I37-I43-I44-I45","v":6.9849193096160889E-10},{"$f":"J10-J13-J21-J34-J36-J37-J43-J44-J45","v":-3.4924596548080444E-10},null,null,null,"рублей"]
["№\nп/п","Наименование показателя","перенос операционных расходов из вкладки \"ОР 2017\"",null,null,null,"2017 (за исключением плановых операционных расходов остальные расходы (начиная со строки 49) вносятся вручную из утвержденной сметы индексации",null,null,null,2018]
[]
[null,null,{"$f":"'[2]НП 2016-2018'!K8","v":"план организации "},{"$f":"'[2]НП 2016-2018'!L8","v":"ДТР ТО"},null,null,{"$f":"C8","v":"план организации "},{"$f":"D8","v":"ДТР ТО"},null,null,{"$f":"G8","v":"план организации "},{"$f":"H8","v":"ДТР ТО"}]
[null,null,null,"Итого",{"$f":"'[2]смета 2016'!W8","v":"01.01-30.06"},{"$f":"'[2]смета 2016'!AB8","v":"01.07-31.12"},null,"Итого",{"$f":"E9","v":"01.01-30.06"},{"$f":"F9","v":"01.07-31.12"},null,"Итого",{"$f":"I9","v":"01.01-30.06"},{"$f":"J9","v":"01.07-31.12"}]
["I","Операционные расходы","х",{"$f":"'ОР 2017'!D10","v":9735174.8435839247},{"$f":"'ОР 2017'!E10","v":4700402.9208837524},{"$f":"'ОР 2017'!F10","v":5034771.9227001714},"х",{"$f":"H11*(1-H46/100)*H47*(1+H48)","v":10167903.36538123},{"$f":"I11*(1-H46/100)*H47*(1+H48)","v":4909335.8307170346},{"$f":"J11*(1-H46/100)*H47*(1+H48)","v":5258567.5346641932},"х","х","х","х",null,"перенос базовых статей из листа \"ОР 2017\", (зеленые ячейки); более детальной разделение вносится вручную (серые ячейки)"]
["1.","Базовый уровень операционных расходов","х",{"$f":"'ОР 2017'!D11","v":9735174.8435839247},{"$f":"'ОР 2017'!E11","v":4700402.9208837524},{"$f":"'ОР 2017'!F11","v":5034771.9227001714},"х",{"$f":"D11","v":9735174.8435839247},{"$f":"E11","v":4700402.9208837524},5034771.9227001714,"х","х","х","х"]
["1.1.","Производственные расходы:","х",{"$f":"'ОР 2017'!D12","v":8085540.7465328416},{"$f":"'ОР 2017'!E12","v":3897689.5400914885},{"$f":"'ОР 2017'!F12","v":4187851.2064413531},"х",{"$f":"D12*(1-$H$46/100)*$H$47*(1+$H$48)","v":8444943.0327162258},4070941.8401485551,4374001.1925676707,"х","х","х","х"]
["1.1.1","расходы на приобретение сырья и материалов и их хранение","х",{"$f":"'ОР 2017'!D13","v":106071.019},{"$f":"'ОР 2017'!E13","v":51995.5975490196},{"$f":"'ОР 2017'!F13","v":54075.421450980393},"х",110785.87579455,54306.801860073523,56479.073934476466,"х","х","х","х"]
[null,"реагенты","х",null,null,null,"х",{"$f":"D14*(1-$H$46/100)*$H$47*(1+$H$48)","v":0},{"$f":"E14*(1-$H$46/100)*$H$47*(1+$H$48)","v":0},{"$f":"F14*(1-$H$46/100)*$H$47*(1+$H$48)","v":0}]
[null,"закупка заполнителей фильтров (песок, гравий и пр.)","х",null,null,null,"х",{"$f":"D15*(1-$H$46/100)*$H$47*(1+$H$48)","v":0},0,0]
[null,"горюче-смазочные материалы","х",null,null,null,"х",0,0,0]
[null,"материалы и малоценные основные средства, в т.ч.","х",null,null,null,"х",0,0,0]
[null,"материалы на техническое обслуживание","х",null,null,null,"х",0,0,0]
[null,"специальная одежда","х",null,null,null,"х",0,0,0]
[null,"хозяйственный инвентарь и другие  вспомогательные материалы","х",null,null,null,"х",{"$f":"D20*(1-$H$46/100)*$H$47*(1+$H$48)","v":0},0,0]
["1.1.2","расходы на оплату регулируемыми организациями выполняемых сторонними организациями работ и (или) услуг","х",{"$f":"'ОР 2017'!D14","v":84814.760000000009},{"$f":"'ОР 2017'!E14","v":41575.862745098042},{"$f":"'ОР 2017'!F14","v":43238.897254901967},"х",{"$f":"D21*(1-$H$46/100)*$H$47*(1+$H$48)","v":88584.776082000011},{"$f":"E21*(1-$H$46/100)*$H$47*(1+$H$48)","v":43423.909844117647},{"$f":"F21*(1-$H$46/100)*$H$47*(1+$H$48)","v":45160.866237882357},"х","х","х","х"]
[null,"охрана труда всего, в том числе:","х",null,null,null,"х",{"$f":"D22*(1-$H$46/100)*$H$47*(1+$H$48)","v":0},{"$f":"E22*(1-$H$46/100)*$H$47*(1+$H$48)","v":0},{"$f":"F22*(1-$H$46/100)*$H$47*(1+$H$48)","v":0}]
[null,"моющие средства","х",null,null,null,"х",0,0,0]
[null,"специальное питание","х",null,null,null,"х",0,0,0]
[null,"страхование персонала (кроме ДМС)","х",null,null,null,"х",0,0,0]
[null,"аттестация","х",null,null,null,"х",0,0,0]
[null,"медицинский осмотр",null,null,null,null,null,0,0,0]
[null,"Прочие расходы","х",null,null,null,"х",0,0,0]
[null,"Расходы на оплату работ и услуг, выполняемых сторонними организациями (услуги связи, вневедомственная охрана, юридические, аудиторкие, информационные услуги и т.д.)","х",null,null,null,"х",0,0,0]
[null,"Расходы на служебные командировки","х",null,null,null,"х",0,0,0]
[null,"Расходы на обучение персонала","х",null,null,null,"х",0,0,0]
[null,"Расходы на страхование производственных объектов","х",null,null,null,"х",0,0,0]
[null,"Прочие расходы","х",null,null,null,"х",0,0,0]
["1.1.3","расходы на оплату труда и отчисления на социальные нужды основного производственного персонала,\nв том числе:","х",{"$f":"'ОР 2017'!D15","v":6483224.6344696935},{"$f":"'ОР 2017'!E15","v":3116934.9204181219},{"$f":"'ОР 2017'!F15","v":3366289.7140515717},"х",{"$f":"D34*(1-$H$46/100)*$H$47*(1+$H$48)","v":6771403.9694718709},3255482.6776307072,3515921.2918411638,"х","х","х","х"]
["1.1.3.1","налоги и сборы с фонда оплаты труда","х",{"$f":"'ОР 2017'!D16","v":1503789.431343969},{"$f":"'ОР 2017'!E16","v":722975.6881461388},{"$f":"'ОР 2017'!F16","v":780813.74319783004},"х",1570632.8715672083,755111.95748423471,815520.9140829735,"х","х","х","х"]
["1.1.4","расходы на уплату процентов по займам и кредитам","х",{"$f":"'ОР 2017'!D17","v":0},{"$f":"'ОР 2017'!E17","v":0},{"$f":"'ОР 2017'!F17","v":0},"х",0,0,0,"х","х","х","х"]
["1.1.5","прочие производственные расходы:","х",{"$f":"'ОР 2017'!D18","v":1411430.3330631477},{"$f":"'ОР 2017'!E18","v":687183.15937924886},{"$f":"'ОР 2017'!F18","v":724247.17368389887},"х",1474168.4113678045,717728.45081365632,756439.96055414807,"х","х","х","х"]
["1.1.5.1","расходы на эксплуатацию, техническое обслуживание и ремонт автотранспорта","х",{"$f":"'ОР 2017'!D19","v":1206370.6630631478},{"$f":"'ОР 2017'!E19","v":586663.71330081753},{"$f":"'ОР 2017'!F19","v":619706.94976233027},"х",1259993.8390363045,612740.91535703884,647252.92367926578,"х","х","х","х"]
["1.1.5.2","контроль качества воды и сточных вод","х",{"$f":"'ОР 2017'!D20","v":158044},{"$f":"'ОР 2017'!E20","v":77472.549019607846},{"$f":"'ОР 2017'!F20","v":80571.450980392168},"х",165069.0558,80916.203823529402,84152.8519764706,"х","х","х","х"]
["1.1.5.3","Прочие расходы","х",{"$f":"'ОР 2017'!D21","v":47015.67},{"$f":"'ОР 2017'!E21","v":23046.897058823528},{"$f":"'ОР 2017'!F21","v":23968.77294117647},"х",49105.516531499998,24071.331633088234,25034.184898411761,"х","х","х","х"]
[null,"расходы на льготный проезд","х",null,null,null,"х",{"$f":"D41*(1-$H$46/100)*$H$47*(1+$H$48)","v":0},{"$f":"E41*(1-$H$46/100)*$H$47*(1+$H$48)","v":0},{"$f":"F41*(1-$H$46/100)*$H$47*(1+$H$48)","v":0}]
[null,"расходы на содержание зданий (за исключением расходов на энергетические ресурсы)","х",null,null,null,"х",0,0,0]
["1.2.","Ремонтные расходы","х",{"$f":"'ОР 2017'!D22","v":461345.75},{"$f":"'ОР 2017'!E22","v":226149.87745098039},{"$f":"'ОР 2017'!F22","v":235195.87254901961},"х",{"$f":"D43*(1-$H$46/100)*$H$47*(1+$H$48)","v":481852.56858749996},236202.23950367645,245650.32908382351,"х","х","х","х"]
["1.3.","Административные расходы","х",{"$f":"'ОР 2017'!D23","v":1188288.3470510817},{"$f":"'ОР 2017'!E23","v":576563.50334128318},{"$f":"'ОР 2017'!F23","v":611724.84370979841},"х",1241107.7640775023,602191.75106480322,638916.01301269885,"х","х","х","х"]
["1.4.","Сбытовые расходы гарантирующей организации","х",{"$f":"'ОР 2017'!D24","v":0},{"$f":"'ОР 2017'!E24","v":0},{"$f":"'ОР 2017'!F24","v":0},"х",0,0,0,"х","х","х","х"]
["2.","индекс эффективности расходов","х",null,null,null,"х",1,null,null,"х","х","х","х"]
["3.","индекс потребительских цен","х",null,null,null,"х",1.0549999999999999,null,null,"х","х","х","х"]
["4.","индекс количества активов","х",null,null,null,"х",0,null,null,"х","х","х","х"]
["II","Расходы на электрическую энергию","х","х","х","х","х",null,null,null,"х","х","х","х",null,"заполняется в соответствии с утвержденной сметой индексации"]
["III","Неподконтрольные расходы","х","х","х","х","х",null,null,null,"х","х","х","х"]
["5.","Расходы на оплату товаров (услуг, работ), приобретаемых у других организаций","х","х","х","х","х",null,null,null,"х","х","х","х"]
["5.1","Расходы на тепловую энергию","х","х","х","х","х",null,null,null,"х","х","х","х"]
["5.2","Расходы на покупку воды","х","х","х","х","х",null,null,null,"х","х","х","х"]
["5.3","Услуги по холодному водоснабжению","х","х","х","х","х",null,null,null,"х","х","х","х"]
["5.4","Услуги по транспортировке холодной воды","х","х","х","х","х",null,null,null,"х","х","х","х"]
["5.5","Расходы на прочие энергоресурсы","х","х","х","х","х",null,null,null,"х","х","х","х"]
["3","Налоги и сборы","х","х","х","х","х",null,null,null,"х","х","х","х"]
["3.1","Налог на прибыль (единый налог, уплачиваемый при УСН)","х","х","х","х","х",null,null,null,"х","х","х","х"]
["3.2","Налог на имущество организаций","х","х","х","х","х",null,null,null,"х","х","х","х"]
["3.3","Земельный налог и арендная плата за землю","х","х","х","х","х",null,null,null,"х","х","х","х"]
["3.4","Водный налог (плата за пользование водным объктом)","х","х","х","х","х",null,null,null,"х","х","х","х"]
["3.5","Транспортный налог","х","х","х","х","х",null,null,null,"х","х","х","х"]
["3.6","Плата за негативное воздействие на окружающую среду","х","х","х","х","х",null,null,null,"х","х","х","х"]
["3.7","Прочие налоги и сборы","х","х","х","х","х",null,null,null,"х","х","х","х"]
["4","Арендная и концессионная плата, лизинговые платежи","х","х","х","х","х",null,null,null,"х","х","х","х"]
["5","Резерв по сомнительным долгам гарантирующей организации","х","х","х","х","х",null,null,null,"х","х","х","х"]
["6","Экономия расходов","х","х","х","х","х",null,null,null,"х","х","х","х"]
["7","Расходы на обслуживание бесхозяйных сетей","х","х","х","х","х",null,null,null,"х","х","х","х"]
["8","Расходы на компенсацию экономически обоснованных расходов","х","х","х","х","х",null,null,null,"х","х","х","х"]
["9","Займы и кредиты (для метода индексации)","х","х","х","х","х",null,null,null,"х","х","х","х"]
["IV","Амортизация","х","х","х","х","х",null,null,null,"х","х","х","х"]
["V","Нормативная прибыль","х","х","х","х","х",null,null,null,"х","х","х","х"]
["1","расходы на капитальные вложения (инвестиции)","х","х","х","х","х",null,null,null,"х","х","х","х"]
["2","денежные выплаты социального характера (по коллективному договору)","х","х","х","х","х",null,null,null,"х","х","х","х"]
["3","прочие расходы","х","х","х","х","х",null,null,null,"х","х","х","х"]
["4","норматив прибыли, %","х","х","х","х","х",null,null,null,"х","х","х","х"]
["VI","Расчетная предпринимательская прибыль","х","х","х","х","х",null,null,null,"х","х","х","х"]
["VII","Величина сглаживания НВВ","х","х","х","х","х",null,null,null,"х","х","х","х"]
[null,null,"х","х","х","х","х",null,null,null,"х","х","х","х"]
[null,null,"х","х","х","х","х",null,null,null,"х","х","х","х"]
[null,null,"х","х","х","х","х",null,null,null,"х","х","х","х"]
[null,null,"х","х","х","х","х",null,null,null,"х","х","х","х"]
[null,null,"х","х","х","х","х",null,null,null,"х","х","х","х"]
[null,null,"х","х","х","х","х",null,null,null,"х","х","х","х"]
[null,null,"х","х","х","х","х",null,null,null,"х","х","х","х"]
[null,null,"х","х","х","х","х",null,null,null,"х","х","х","х"]
[null,null,"х","х","х","х","х",null,null,null,"х","х","х","х"]
[null,null,"х","х","х","х","х",null,null,null,"х","х","х","х"]
[null,null,"х","х","х","х","х",null,null,null,"х","х","х","х"]
[null,null,"х","х","х","х","х",null,null,null,"х","х","х","х"]
[null,null,"х","х","х","х","х",null,null,null,"х","х","х","х"]
[null,null,"х","х","х","х","х",null,null,null,"х","х","х","х"]
[null,null,"х","х","х","х","х",null,null,null,"х","х","х","х"]
["VI","Итого НВВ для расчета тарифов","х","х","х","х","х",null,null,null,"х","х","х","х"]
["VII","Объем реализации, куб.м.","х","х","х","х","х",null,null,null,"х","х","х","х"]
["VIII","Тариф, руб/куб.м.","х","х","х","х","х","х",79.48,82.552629711175797,"х","х","х","х"]
[null,"Темп роста","х","х","х","х","х",null,null,1.0386591559030673,"х","х","х","х"]
[null,null,null,null,null,null,null,{"$f":"H10+H49+H50+H71+H72++H77+H78-H94","v":10167903.36538123},{"$f":"I10+I49+I50+I71+I72++I77+I78-I94","v":4909335.8307170346},5258567.5346641932]
[]
[]
[]
[]
[]
[]
[null,"Др"]

{"sheet":"Смета 2017 КОРР ","index":33,"n_rows":85,"n_cols":11,"rows_kept":85,"cut":false,"hidden":true,"merged":[[10,10,48,10],[49,10,82,10],[0,0,0,2],[2,0,2,2],[3,0,3,2],[8,0,9,0],[8,1,9,1],[8,2,8,8],[9,7,9,8],[4,4,5,8]]}
["Необходимая валовая выручка, определенная на основе фактических значений параметров расчета и расчет тарифов на 2017 год"]
[]
[{"$f":"Титульный!C10","v":" "}]
[{"$f":"Титульный!C19","v":0}]
[null,null,null,null,"2017 (за исключением плановых операционных расходов (переносятся из вкладки \"ОР 2017\"),  остальные расходы (начиная со строки 50) вносятся вручную из утвержденной сметы корректировки"]
["Район",{"$f":"Титульный!C6","v":0}]
["МО",{"$f":"Титульный!C7","v":0}]
[null,null,"рублей"]
["№ п/п","Показатель","2017 год"]
[null,null,"предложение организации по корректировке","утв. ДТР ТО","предложение ДТР ТО по корректировке","01.01-30.06","01.07-31.12","отклонение скорректированного показателя от утвержденной величины"]
["I","Операционные расходы","х","х",{"$f":"'ОР 2017'!G10","v":10167903.36538123},{"$f":"'ОР 2017'!H10","v":4909335.8307170346},{"$f":"'ОР 2017'!I10","v":5258567.5346641932},"х","х",null,"перенос базовых статей из листа \"ОР 2017\", (зеленые ячейки); более детальной разделение вносится вручную (серые ячейки)"]
["1.1.","Производственные расходы:","х","х",{"$f":"'ОР 2017'!G12","v":8444943.0327162258},{"$f":"'ОР 2017'!H12","v":4070941.8401485551},{"$f":"'ОР 2017'!I12","v":4374001.1925676707},"х","х"]
["1.1.1","расходы на приобретение сырья и материалов и их хранение","х","х",{"$f":"'ОР 2017'!G13","v":110785.87579455},{"$f":"'ОР 2017'!H13","v":54306.801860073523},{"$f":"'ОР 2017'!I13","v":56479.073934476466},"х","х"]
[null,"реагенты","х","х",null,null,null,"х","х"]
[null,"закупка заполнителей фильтров (песок, гравий и пр.)","х","х",null,null,null,"х","х"]
[null,"горюче-смазочные материалы","х","х",null,null,null,"х","х"]
[null,"материалы и малоценные основные средства, в т.ч.","х","х",null,null,null,"х","х"]
[null,"материалы на техническое обслуживание","х","х",null,null,null,"х","х"]
[null,"специальная одежда","х","х",null,null,null,"х","х"]
[null,"хозяйственный инвентарь и другие  вспомогательные материалы","х","х",null,null,null,"х","х"]
["1.1.2","расходы на оплату регулируемыми организациями выполняемых сторонними организациями работ и (или) услуг","х","х",{"$f":"'ОР 2017'!G14","v":88584.776082000011},{"$f":"'ОР 2017'!H14","v":43423.909844117647},{"$f":"'ОР 2017'!I14","v":45160.866237882357},"х","х"]
[null,"охрана труда всего, в том числе:","х","х",null,null,null,"х","х"]
[null,"моющие средства","х","х",null,null,null,"х","х"]
[null,"специальное питание","х","х",null,null,null,"х","х"]
[null,"страхование персонала (кроме ДМС)","х","х",null,null,null,"х","х"]
[null,"аттестация","х","х",null,null,null,"х","х"]
[null,"медицинский осмотр","х","х",null,null,null,"х","х"]
[null,"Прочие расходы","х","х",null,null,null,"х","х"]
[null,"Расходы на оплату работ и услуг, выполняемых сторонними организациями (услуги связи, вневедомственная охрана, юридические, аудиторкие, информационные услуги и т.д.)","х","х",null,null,null,"х","х"]
[null,"Расходы на служебные командировки","х","х",null,null,null,"х","х"]
[null,"Расходы на обучение персонала","х","х",null,null,null,"х","х"]
[null,"Расходы на страхование производственных объектов","х","х",null,null,null,"х","х"]
[null,"Прочие расходы","х","х",null,null,null,"х","х"]
["1.1.3","расходы на оплату труда и отчисления на социальные нужды основного производственного персонала,\nв том числе:","х","х",{"$f":"'ОР 2017'!G15","v":6771403.9694718709},{"$f":"'ОР 2017'!H15","v":3255482.6776307072},{"$f":"'ОР 2017'!I15","v":3515921.2918411638},"х","х"]
["1.1.3.1","налоги и сборы с фонда оплаты труда","х","х",{"$f":"'ОР 2017'!G16","v":1570632.8715672083},{"$f":"'ОР 2017'!H16","v":755111.95748423471},{"$f":"'ОР 2017'!I16","v":815520.9140829735},"х","х"]
["1.1.4","расходы на уплату процентов по займам и кредитам","х","х",{"$f":"'ОР 2017'!G17","v":0},{"$f":"'ОР 2017'!H17","v":0},{"$f":"'ОР 2017'!I17","v":0},"х","х"]
["1.1.5","прочие производственные расходы:","х","х",{"$f":"'ОР 2017'!G18","v":1474168.4113678045},{"$f":"'ОР 2017'!H18","v":717728.45081365632},{"$f":"'ОР 2017'!I18","v":756439.96055414807},"х","х"]
["1.1.5.1","расходы на эксплуатацию, техническое обслуживание и ремонт автотранспорта","х","х",{"$f":"'ОР 2017'!G19","v":1259993.8390363045},{"$f":"'ОР 2017'!H19","v":612740.91535703884},{"$f":"'ОР 2017'!I19","v":647252.92367926578},"х","х"]
["1.1.5.2","контроль качества воды и сточных вод","х","х",{"$f":"'ОР 2017'!G20","v":165069.0558},{"$f":"'ОР 2017'!H20","v":80916.203823529402},{"$f":"'ОР 2017'!I20","v":84152.8519764706},"х","х"]
["1.1.5.3","Прочие расходы","х","х",{"$f":"'ОР 2017'!G21","v":49105.516531499998},{"$f":"'ОР 2017'!H21","v":24071.331633088234},{"$f":"'ОР 2017'!I21","v":25034.184898411761},"х","х"]
[null,"расходы на льготный проезд","х","х",null,null,null,"х","х"]
[null,"расходы на содержание зданий (за исключением расходов на энергетические ресурсы)","х","х",null,null,null,"х","х"]
["1.2.","Ремонтные расходы","х","х",{"$f":"'ОР 2017'!G22","v":481852.56858749996},{"$f":"'ОР 2017'!H22","v":236202.23950367645},{"$f":"'ОР 2017'!I22","v":245650.32908382351},"х","х"]
["1.3.","Административные расходы","х","х",{"$f":"'ОР 2017'!G23","v":1241107.7640775023},{"$f":"'ОР 2017'!H23","v":602191.75106480322},{"$f":"'ОР 2017'!I23","v":638916.01301269885},"х","х"]
["1.4.","Сбытовые расходы гарантирующей организации","х","х",{"$f":"'ОР 2017'!G24","v":0},{"$f":"'ОР 2017'!H24","v":0},{"$f":"'ОР 2017'!I24","v":0},"х","х"]
["1.","Базовый уровень операционных расходов","х","х",{"$f":"'ОР 2017'!G11","v":9735174.8435839247},{"$f":"'ОР 2017'!H11","v":4700402.9208837524},{"$f":"'ОР 2017'!I11","v":5034771.9227001714},"х","х"]
["2.","индекс эффективности расходов","х","х",{"$f":"'ОР 2017'!G25","v":1},null,null,"х","х"]
["3.","индекс потребительских цен","х","х",{"$f":"'ОР 2017'!G26","v":1.0549999999999999},null,null,"х","х"]
["4.","индекс количества активов","х","х",{"$f":"'ОР 2017'!G27","v":0},null,null,"х","х"]
["II","Расходы на электрическую энергию","х","х",888995.84094817913,429466.58983003814,459529.25111814094,"х","х",null,"заполняется в соответствии с утвержденной сметой корректировки"]
["III","Неподконтрольные расходы","х","х",1639302.2828237286,816403.95685578557,822898.32596794306,"х","х"]
["5.","Расходы на оплату товаров (услуг, работ), приобретаемых у других организаций","х","х",174794.56039496817,87521.967229367932,87272.593165600236,"х","х"]
["5.1","Расходы на тепловую энергию","х","х",93655.447164297482,47670.621601126215,45984.825563171267,"х","х"]
["5.2","Расходы на покупку воды","х","х",0,0,0,"х","х"]
["5.3","Услуги по холодному водоснабжению","х","х",0,0,0,"х","х"]
["5.4","Услуги по транспортировке холодной воды","х","х",0,0,0,"х","х"]
["5.5","Расходы на прочие энергоресурсы","х","х",81139.113230670686,39851.345628241725,41287.767602428969,"х","х"]
["3","Налоги и сборы","х","х",1240223.8768036319,620111.93840181595,620111.93840181595,"х","х"]
["3.1","Налог на прибыль (единый налог, уплачиваемый при УСН)","х","х",0,0,0,"х","х"]
["3.2","Налог на имущество организаций","х","х",1190862.3026292487,595431.15131462435,595431.15131462435,"х","х"]
["3.3","Земельный налог и арендная плата за землю","х","х",73.63,36.814999999999998,36.814999999999998,"х","х"]
["3.4","Водный налог (плата за пользование водным объктом)","х","х",49287.944174383265,24643.972087191632,24643.972087191632,"х","х"]
["3.5","Транспортный налог","х","х",0,0,0,"х","х"]
["3.6","Плата за негативное воздействие на окружающую среду","х","х",0,0,0,"х","х"]
["3.7","Прочие налоги и сборы","х","х",0,0,0,"х","х"]
["4","Арендная и концессионная плата, лизинговые платежи","х","х",0,0,0,"х","х"]
["5","Резерв по сомнительным долгам гарантирующей организации","х","х",0,0,0,"х","х"]
["6","Экономия расходов","х","х",0,0,0,"х","х"]
["7","Расходы на обслуживание бесхозяйных сетей","х","х",0,0,0,"х","х"]
["8","Расходы на компенсацию экономически обоснованных расходов","х","х",224283.8456251286,108770.05122460163,115513.79440052694,"х","х"]
["9","Займы и кредиты (для метода индексации)","х","х",0,0,0,"х","х"]
["IV","Амортизация","х","х",2951987.8733759737,1475993.9366879868,1475993.9366879868,"х","х"]
["V","Нормативная прибыль","х","х",0,0,0,"х","х"]
["VI","Расчетная предпринимательская прибыль гарантирующей организации","х","х",null,null,null,"х","х"]
["VII","Величина сглаживания НВВ, учтенная при утверждении тарифов на 2017 год","х","х",10518.397470890544,33004.914112478495,-22486.51664158795,"х","х"]
["VIII","Итого НВВ, определенная на основании фактических параметров","х","х",15658707.760000002,7664205.2282033246,7994502.5317966761,"х","х"]
["XI","Полезный отпуск, куб.м.","х","х",193278.44999999998,96639.224999999991,96639.224999999991,"х","х"]
[null,"в том числе собственное потребление","х","х",10381,5190.5,5190.5,"х","х"]
[null,"                          сторонним потребителям","х","х",182897.44999999998,91448.724999999991,91448.724999999991,"х","х"]
["XII","Тариф на водоснабжение, руб/куб.м.","х","х",null,null,null,"х","х"]
[null,"01.01.2017-30.06.2017","х","х",null,79.48,null,"х","х"]
[null,"01.07.2017-31.12.2017","х","х",null,null,82.552629711175797,"х","х"]
["XIII","Темп роста тарифа","х","х",null,null,1.0386591559030673,"х","х"]
[null,null,null,null,{"$f":"E11+E50+E51+E72+E73+E74+E75-E76","v":0},{"$f":"F11+F50+F51+F72+F73+F74+F75-F76","v":0},0]
[null,null,"факт 2015г",193320.68999999997]

{"sheet":"анализ факт сметы  КОРР","index":34,"n_rows":98,"n_cols":11,"rows_kept":98,"cut":false,"hidden":true,"merged":[[0,0,0,1],[2,0,2,1],[8,5,9,6],[7,2,7,10],[8,7,8,10],[9,7,9,8],[9,9,9,10],[7,0,10,0],[7,1,10,1],[8,2,10,2],[8,3,10,3],[8,4,10,4]]}
["Необходимая валовая выручка, определенная на основе фактических значений параметров расчета и расчет тарифов на 2017 год"]
[]
[{"$f":"Титульный!C19","v":0}]
[]
["Район",{"$f":"Титульный!C6","v":0}]
["МО",{"$f":"Титульный!C7","v":0}]
[]
["№ п/п","Показатель",{"$f":"CONCATENATE(Титульный!C17,\" год\")","v":"2017 год"}]
[null,null,"план",{"$f":"'анализ факт сметы МЭОР'!D7","v":"факт организации"},"факт по данным бухгалтерского учета","факт принятый экспертом",null,"отклонение факта принятого экспертом  от утвержденной величины"]
[null,null,null,null,null,null,null,"при сравнении факта принятого экспертом в соответствии с данными бухгалтерского учета",null,"при сравнении факта принятого  в соответствии с Методическими указаниями (корректировка второго и последующего периодов)"]
[null,null,null,null,null,"в соответствии с данными бухгалтерского учета","в соответствии с Методическими указаниями (корректировка второго и последующего периодов)","абсолютной отклонение","относительное отклонение","абсолютной отклонение","относительное отклонение"]
["I","Операционные расходы",{"$f":"C13+C50+C53+C59","v":10167903.36538123},0,0,0,{"$f":"G13+G50+G53+G59","v":10167903.36538123},{"$f":"H13+H50+H53+H59","v":-8196466.8643081756},{"$f":"IF(C12=0,0,F12/C12)","v":0},{"$f":"J13+J50+J53+J59","v":0},{"$f":"IF(E12=0,0,H12/E12)","v":0}]
["1.1.","Производственные расходы:",{"$f":"'Смета 2017 КОРР '!E12","v":8444943.0327162258},{"$f":"D14+D22+D35+D42+D43","v":0},{"$f":"E14+E22+E35+E42+E43","v":0},{"$f":"F14+F22+F35+F42+F43","v":0},{"$f":"G14+G22+G35+G42+G43","v":8444943.0327162258},{"$f":"H14+H22+H35+H42+H43","v":-8196466.8643081756},{"$f":"IF(C13=0,0,F13/C13)","v":0},{"$f":"G13-C13","v":0},{"$f":"IF(C13=0,0,G13/C13)","v":1}]
["1.1.1","расходы на приобретение сырья и материалов и их хранение",{"$f":"'Смета 2017 КОРР '!E13","v":110785.87579455},{"$f":"SUM(D15:D18)","v":0},{"$f":"SUM(E15:E18)","v":0},{"$f":"SUM(F15:F18)","v":0},{"$f":"C14","v":110785.87579455},{"$f":"SUM(H15:H18)","v":0},0,{"$f":"G14-C14","v":0},1]
[null,"реагенты",{"$f":"'Смета 2017 КОРР '!E14","v":0},{"$f":"'Смета факт'!C13","v":0},null,null,null,{"$f":"F15-C15","v":0},{"$f":"IF(C15=0,0,F15/C15)","v":0},{"$f":"G15-C15","v":0},{"$f":"IF(C15=0,0,G15/C15)","v":0}]
[null,"закупка заполнителей фильтров (песок, гравий и пр.)",{"$f":"'Смета 2017 КОРР '!E15","v":0},{"$f":"'Смета факт'!C14","v":0},null,null,null,{"$f":"F16-C16","v":0},0,{"$f":"G16-C16","v":0},{"$f":"IF(C16=0,0,G16/C16)","v":0}]
[null,"горюче-смазочные материалы",{"$f":"'Смета 2017 КОРР '!E16","v":0},{"$f":"'Смета факт'!C15","v":0},null,null,null,{"$f":"F17-C17","v":0},0,0,0]
[null,"материалы и малоценные основные средства, в т.ч.",{"$f":"'Смета 2017 КОРР '!E17","v":0},{"$f":"'Смета факт'!C16","v":0},null,null,null,0,0,0,0]
[null,"материалы на техническое обслуживание",{"$f":"'Смета 2017 КОРР '!E18","v":0},{"$f":"'Смета факт'!C17","v":0},null,null,null,0,0,0,0]
[null,"специальная одежда",{"$f":"'Смета 2017 КОРР '!E19","v":0},{"$f":"'Смета факт'!C18","v":0},null,null,null,{"$f":"F20-C20","v":0},{"$f":"IF(C20=0,0,F20/C20)","v":0},0,0]
[null,"хозяйственный инвентарь и другие  вспомогательные материалы",{"$f":"'Смета 2017 КОРР '!E20","v":0},{"$f":"'Смета факт'!C19","v":0},null,null,null,0,0,0,0]
["1.1.2","расходы на оплату регулируемыми организациями выполняемых сторонними организациями работ и (или) услуг",{"$f":"'Смета 2017 КОРР '!E21","v":88584.776082000011},{"$f":"D23+D29","v":0},{"$f":"E23+E29","v":0},{"$f":"F23+F29","v":0},{"$f":"C22","v":88584.776082000011},{"$f":"H23+H29","v":0},0,{"$f":"G22-C22","v":0},{"$f":"IF(C22=0,0,G22/C22)","v":1}]
[null,"охрана труда всего, в том числе:",{"$f":"'Смета 2017 КОРР '!E22","v":0},{"$f":"SUM(D24:D28)","v":0},null,null,null,0,0,0,0]
[null,"моющие средства",{"$f":"'Смета 2017 КОРР '!E23","v":0},{"$f":"'Смета факт'!C73","v":0},null,null,null,0,0,{"$f":"G24-C24","v":0},{"$f":"IF(C24=0,0,G24/C24)","v":0}]
[null,"специальное питание",{"$f":"'Смета 2017 КОРР '!E24","v":0},{"$f":"'Смета факт'!C74","v":0},null,null,null,0,0,0,0]
[null,"страхование персонала (кроме ДМС)",{"$f":"'Смета 2017 КОРР '!E25","v":0},{"$f":"'Смета факт'!C75","v":0},null,null,null,0,0,0,0]
[null,"аттестация",{"$f":"'Смета 2017 КОРР '!E26","v":0},{"$f":"'Смета факт'!C76","v":0},null,null,null,0,0,0,0]
[null,"медицинский осмотр",{"$f":"'Смета 2017 КОРР '!E27","v":0},{"$f":"'Смета факт'!C77","v":0},null,null,null,0,0,0,0]
[null,"Прочие расходы",{"$f":"'Смета 2017 КОРР '!E28","v":0},{"$f":"SUM(D30:D34)","v":0},null,null,null,0,0,0,0]
[null,"Расходы на оплату работ и услуг, выполняемых сторонними организациями (услуги связи, вневедомственная охрана, юридические, аудиторкие, информационные услуги и т.д.)",{"$f":"'Смета 2017 КОРР '!E29","v":0},{"$f":"'Смета факт'!C109+'Смета факт'!C110+'Смета факт'!C114","v":0},null,null,null,0,0,0,0]
[null,"Расходы на служебные командировки",{"$f":"'Смета 2017 КОРР '!E30","v":0},{"$f":"'Смета факт'!C112","v":0},null,null,null,0,0,0,0]
[null,"Расходы на обучение персонала",{"$f":"'Смета 2017 КОРР '!E31","v":0},{"$f":"'Смета факт'!C111","v":0},null,null,null,0,0,0,0]
[null,"Расходы на страхование производственных объектов",{"$f":"'Смета 2017 КОРР '!E32","v":0},{"$f":"'Смета факт'!C113","v":0},null,null,null,0,0,0,0]
[null,"Прочие расходы",{"$f":"'Смета 2017 КОРР '!E33","v":0},{"$f":"'Смета факт'!C115","v":0},null,null,null,0,0,0,0]
["1.1.3","расходы на оплату труда и отчисления на социальные нужды основного производственного персонала,\nв том числе:",{"$f":"'Смета 2017 КОРР '!E34","v":6771403.9694718709},{"$f":"'Смета факт'!C40+'Смета факт'!C43","v":0},{"$f":"E36+E39","v":0},{"$f":"F36+F39","v":0},{"$f":"C35","v":6771403.9694718709},{"$f":"H36+H39","v":-6771403.9694718709},0,{"$f":"G35-C35","v":0},{"$f":"IF(C35=0,0,G35/C35)","v":1}]
[null,"Расходы на оплату труда основного персонала",{"$f":"C35-C39","v":5200771.0979046626},{"$f":"'Смета факт'!C40","v":0},null,null,null,-5200771.0979046626,0,-5200771.0979046626,0]
[null,"Численность основного персонала, относимого на регулируемый вид деятельности, чел",null,{"$f":"'Смета факт'!C41","v":0},null,null,null,0,0,{"$f":"G37-C37","v":0},{"$f":"IF(C37=0,0,G37/C37)","v":0}]
[null,"средняя заработная плата",{"$f":"IF(C37=0,0,C36/C37/12)","v":0},0,0,0,0,0,0,{"$f":"IF(J37=0,0,J36/J37/12)","v":0},{"$f":"IF(E38=0,0,H38/E38)","v":0}]
["1.1.3.1","Отчисления на социальные нужды от расходов на оплату труда",{"$f":"'Смета 2017 КОРР '!E35","v":1570632.8715672083},{"$f":"'Смета факт'!C43","v":0},null,null,null,-1570632.8715672083,0,{"$f":"G39-C39","v":-1570632.8715672083},{"$f":"IF(C39=0,0,G39/C39)","v":0}]
[null," % расходов на уплату страховых взносов в ПФ, ФСС, ОМС",null,{"$f":"'Смета факт'!C44","v":0},null,null,null,0,0,0,0]
[null,"% платежей в фонд социального страхования от несчастных случаев",null,{"$f":"'Смета факт'!C45","v":0},null,null,null,0,0,0,0]
["1.1.4","расходы на уплату процентов по займам и кредитам",{"$f":"'Смета 2017 КОРР '!E36","v":0},{"$f":"'Смета факт'!C178","v":0},null,null,null,0,0,0,0]
["1.1.5","прочие производственные расходы:",{"$f":"'Смета 2017 КОРР '!E37","v":1474168.4113678045},{"$f":"SUM(D44:D46)","v":0},{"$f":"SUM(E44:E46)","v":0},{"$f":"SUM(F44:F46)","v":0},{"$f":"C43","v":1474168.4113678045},{"$f":"SUM(H44:H46)","v":-1425062.8948363045},0,{"$f":"G43-C43","v":0},{"$f":"IF(C43=0,0,G43/C43)","v":1}]
["1.1.5.1","расходы на эксплуатацию, техническое обслуживание и ремонт автотранспорта",{"$f":"'Смета 2017 КОРР '!E38","v":1259993.8390363045},{"$f":"'Смета факт'!C54","v":0},null,null,{"$f":"C44","v":1259993.8390363045},-1259993.8390363045,0,{"$f":"G44-C44","v":0},{"$f":"IF(C44=0,0,G44/C44)","v":1}]
["1.1.5.2","контроль качества воды и сточных вод",{"$f":"'Смета 2017 КОРР '!E39","v":165069.0558},{"$f":"'Смета факт'!C80","v":0},null,null,{"$f":"C45","v":165069.0558},-165069.0558,0,0,1]
["1.1.5.3","Прочие расходы",{"$f":"'Смета 2017 КОРР '!E40","v":49105.516531499998},{"$f":"SUM(D47:D49)","v":0},{"$f":"SUM(E47:E49)","v":0},{"$f":"SUM(F47:F49)","v":0},{"$f":"C46","v":49105.516531499998},{"$f":"SUM(H47:H49)","v":0},0,0,1]
[null,"расходы на льготный проезд",{"$f":"'Смета 2017 КОРР '!E41","v":0},{"$f":"'Смета факт'!C78","v":0},null,null,null,0,0,0,0]
[null,"расходы на содержание зданий (за исключением расходов на энергетические ресурсы)",{"$f":"'Смета 2017 КОРР '!E42","v":0},{"$f":"'Смета факт'!C79","v":0},null,null,null,0,0,0,0]
[null,"услуги собственных подразделений(за исключением транспортных расходов)",null,{"$f":"'Смета факт'!C47-'Смета факт'!C54","v":0},null,null,null,0,0,0,0]
["1.2.","Ремонтные расходы",{"$f":"'Смета 2017 КОРР '!E43","v":481852.56858749996},{"$f":"D51+D52","v":0},{"$f":"E51+E52","v":0},{"$f":"F51+F52","v":0},{"$f":"C50","v":481852.56858749996},{"$f":"H51+H52","v":0},0,0,1]
[null,{"$f":"'Смета факт'!B84","v":"Текущий ремонт централизованных систем водоснабжения, объектов, входящих в состав таких систем, в том числе:"},null,{"$f":"'Смета факт'!C84","v":0},null,null,null,0,0,0,0]
[null,{"$f":"'Смета факт'!B96","v":"Капитальный ремонт централизованных систем водоснабжения, объектов, входящих в состав таких систем, в том числе:"},null,{"$f":"'Смета факт'!C96","v":0},null,null,null,0,0,0,0]
["1.3.","Административные расходы",{"$f":"'Смета 2017 КОРР '!E44","v":1241107.7640775023},{"$f":"D54+D57+D58","v":0},{"$f":"E54+E57+E58","v":0},{"$f":"F54+F57+F58","v":0},{"$f":"C53","v":1241107.7640775023},{"$f":"H54+H57+H58","v":0},0,{"$f":"G53-C53","v":0},{"$f":"IF(C53=0,0,G53/C53)","v":1}]
[null,{"$f":"'Смета факт'!B137","v":"Расходы на оплату труда, относимую на регулируемый вид деятельности"},null,{"$f":"'Смета факт'!C137","v":0},null,null,null,0,0,0,0]
[null,{"$f":"'Смета факт'!B138","v":"Численность, относимая на регулируемый вид деятельности, чел"},null,{"$f":"'Смета факт'!C138","v":0},null,null,null,0,0,0,0]
[null,{"$f":"'Смета факт'!B139","v":"средняя заработная плата"},null,{"$f":"'Смета факт'!C139","v":0},null,null,null,0,0,0,0]
[null,{"$f":"'Смета факт'!B140","v":"Отчисления на социальные нужды от расходов на оплату труда"},null,{"$f":"'Смета факт'!C140","v":0},null,null,null,0,0,0,0]
[null,{"$f":"'Смета факт'!B141","v":"Прочие расходы"},null,{"$f":"'Смета факт'!C141","v":0},null,null,null,0,0,0,0]
["1.4.","Сбытовые расходы гарантирующей организации",{"$f":"'Смета 2017 КОРР '!E45","v":0},{"$f":"'Смета факт'!C157-'Смета факт'!C158","v":0},{"$f":"'ОР 2017'!H24","v":0},{"$f":"'ОР 2017'!I24","v":0},{"$f":"'ОР 2017'!J24","v":0},{"$f":"F59-C59","v":0},{"$f":"IF(C59=0,0,F59/C59)","v":0},0,0]
["1.","Базовый уровень операционных расходов",{"$f":"'Смета 2017 КОРР '!E46","v":9735174.8435839247},"х",null,null,{"$f":"C60","v":9735174.8435839247},-9735174.8435839247,0,{"$f":"G60-C60","v":0},1]
["2.","индекс эффективности расходов",{"$f":"'Смета 2017 КОРР '!E47","v":1},"х",null,null,null,-1,0,-1,0]
["3.","индекс потребительских цен",{"$f":"'Смета 2017 КОРР '!E48","v":1.0549999999999999},"х",null,null,null,-1.0549999999999999,0,-1.0549999999999999,0]
["4.","индекс количества активов",{"$f":"'Смета 2017 КОРР '!E49","v":0},"х",null,null,null,0,0,{"$f":"G63-C63","v":0},0]
["II","Расходы на электрическую энергию",{"$f":"'Смета 2017 КОРР '!E50","v":888995.84094817913},{"$f":"'Смета факт'!C21","v":0},null,null,null,-888995.84094817913,0,{"$f":"G64-C64","v":-888995.84094817913},{"$f":"IF(C64=0,0,G64/C64)","v":0}]
["III","Неподконтрольные расходы",{"$f":"'Смета 2017 КОРР '!E51","v":1639302.2828237286},{"$f":"D66+D72+D80+D81+D82+D83+D84+D85","v":0},{"$f":"E66+E72+E80+E81+E82+E83+E84+E85","v":0},{"$f":"F66+F72+F80+F81+F82+F83+F84+F85","v":0},{"$f":"G66+G72+G80+G81+G82+G83+G84+G85","v":0},{"$f":"H66+H72+H80+H81+H82+H83+H84+H85","v":-1639302.2828237286},0,{"$f":"J66+J72+J80+J81+J82+J83+J84+J85","v":-1639302.2828237286},0]
["5.","Расходы на оплату товаров (услуг, работ), приобретаемых у других организаций",{"$f":"'Смета 2017 КОРР '!E52","v":174794.56039496817},{"$f":"SUM(D67:D71)","v":0},{"$f":"SUM(E67:E71)","v":0},{"$f":"SUM(F67:F71)","v":0},{"$f":"SUM(G67:G71)","v":0},{"$f":"SUM(H67:H71)","v":-174794.56039496817},0,{"$f":"G66-C66","v":-174794.56039496817},{"$f":"IF(C66=0,0,G66/C66)","v":0}]
["5.1","Расходы на тепловую энергию",{"$f":"'Смета 2017 КОРР '!E53","v":93655.447164297482},{"$f":"'Смета факт'!C24","v":0},null,null,null,{"$f":"F67-C67","v":-93655.447164297482},{"$f":"IF(C67=0,0,F67/C67)","v":0},{"$f":"G67-C67","v":-93655.447164297482},{"$f":"IF(C67=0,0,G67/C67)","v":0}]
["5.2","Расходы на покупку воды",{"$f":"'Смета 2017 КОРР '!E54","v":0},{"$f":"'Смета факт'!C28","v":0},null,null,null,0,0,0,0]
["5.3","Услуги по холодному водоснабжению",{"$f":"'Смета 2017 КОРР '!E55","v":0},{"$f":"'Смета факт'!C34+'Смета факт'!C35","v":0},null,null,null,0,0,0,0]
["5.4","Услуги по транспортировке холодной воды",{"$f":"'Смета 2017 КОРР '!E56","v":0},{"$f":"'Смета факт'!C36","v":0},null,null,null,0,0,0,0]
["5.5","Расходы на прочие энергоресурсы",{"$f":"'Смета 2017 КОРР '!E57","v":81139.113230670686},{"$f":"'Смета факт'!C27+'Смета факт'!C25+'Смета факт'!C26","v":0},null,null,null,-81139.113230670686,0,-81139.113230670686,0]
["3","Налоги и сборы",{"$f":"'Смета 2017 КОРР '!E58","v":1240223.8768036319},{"$f":"'Смета факт'!C168+'Смета факт'!C182+'Смета факт'!C183","v":0},{"$f":"SUM(E73:E79)","v":0},{"$f":"SUM(F73:F79)","v":0},{"$f":"SUM(G73:G79)","v":0},{"$f":"SUM(H73:H79)","v":-1240223.8768036319},0,{"$f":"G72-C72","v":-1240223.8768036319},0]
["3.1","Налог на прибыль (единый налог, уплачиваемый при УСН)",{"$f":"'Смета 2017 КОРР '!E59","v":0},{"$f":"'Смета факт'!C182+'Смета факт'!C183","v":0},null,null,null,{"$f":"F73-C73","v":0},{"$f":"IF(C73=0,0,F73/C73)","v":0},{"$f":"G73-C73","v":0},{"$f":"IF(C73=0,0,G73/C73)","v":0}]
["3.2","Налог на имущество организаций",{"$f":"'Смета 2017 КОРР '!E60","v":1190862.3026292487},{"$f":"'Смета факт'!C171","v":0},null,null,null,-1190862.3026292487,0,-1190862.3026292487,0]
["3.3","Земельный налог и арендная плата за землю",{"$f":"'Смета 2017 КОРР '!E61","v":73.63},{"$f":"'Смета факт'!C170","v":0},null,null,null,-73.63,0,-73.63,0]
["3.4","Водный налог (плата за пользование водным объктом)",{"$f":"'Смета 2017 КОРР '!E62","v":49287.944174383265},{"$f":"'Смета факт'!C169","v":0},null,null,null,-49287.944174383265,0,-49287.944174383265,0]
["3.5","Транспортный налог",{"$f":"'Смета 2017 КОРР '!E63","v":0},{"$f":"'Смета факт'!C173","v":0},null,null,null,0,0,0,0]
["3.6","Плата за негативное воздействие на окружающую среду",{"$f":"'Смета 2017 КОРР '!E64","v":0},{"$f":"'Смета факт'!C172","v":0},null,null,null,0,0,0,0]
["3.7","Прочие налоги и сборы",{"$f":"'Смета 2017 КОРР '!E65","v":0},{"$f":"'Смета факт'!C174","v":0},null,null,null,0,0,0,0]
["4","Арендная и концессионная плата, лизинговые платежи",{"$f":"'Смета 2017 КОРР '!E66","v":0},{"$f":"'Смета факт'!C163","v":0},null,null,null,0,0,0,0]
["5","Резерв по сомнительным долгам гарантирующей организации",{"$f":"'Смета 2017 КОРР '!E67","v":0},{"$f":"'Смета факт'!C158","v":0},null,null,null,0,0,0,0]
["6","Экономия расходов",{"$f":"'Смета 2017 КОРР '!E68","v":0},null,null,null,null,0,0,0,0]
["7","Расходы на обслуживание бесхозяйных сетей",{"$f":"'Смета 2017 КОРР '!E69","v":0},null,null,null,null,0,0,0,0]
["8","Расходы на компенсацию экономически обоснованных расходов",{"$f":"'Смета 2017 КОРР '!E70","v":224283.8456251286},null,null,null,null,-224283.8456251286,0,-224283.8456251286,0]
["9","Займы и кредиты (для метода индексации)",{"$f":"'Смета 2017 КОРР '!E71","v":0},null,null,null,null,0,0,0,0]
["IV","Амортизация",{"$f":"'Смета 2017 КОРР '!E72","v":2951987.8733759737},{"$f":"'Смета факт'!C160","v":0},null,null,null,-2951987.8733759737,0,{"$f":"G86-C86","v":-2951987.8733759737},0]
["V","Нормативная прибыль",{"$f":"'Смета 2017 КОРР '!E73","v":0},{"$f":"'Смета факт'!C179+'Смета факт'!C180+'Смета факт'!C181","v":0},null,null,null,0,0,0,0]
["VI","Расчетная предпринимательская прибыль гарантирующей организации",{"$f":"'Смета 2017 КОРР '!E74","v":0},null,null,null,null,0,0,0,0]
["VII","Величина сглаживания НВВ, учтенная при утверждении тарифов на 2017 год",{"$f":"'Смета 2017 КОРР '!E75","v":10518.397470890544},null,null,null,null,-10518.397470890544,0,-10518.397470890544,0]
["VIII","Итого НВВ, определенная на основании фактических параметров",{"$f":"C12+C64+C65+C86+C87+C88+C89","v":15658707.760000002},0,0,0,{"$f":"G12+G64+G65+G86+G87+G88+G89","v":10167903.36538123},{"$f":"H12+H64+H65+H86+H87+H88+H89","v":-13687271.258926947},{"$f":"IF(C90=0,0,F90/C90)","v":0},{"$f":"J12+J64+J65+J86+J87+J88+J89","v":-5490804.394618772},{"$f":"IF(E90=0,0,H90/E90)","v":0}]
["XI","Полезный отпуск, куб.м.",{"$f":"C92+C93","v":193278.44999999998},0,0,0,{"$f":"G92+G93","v":0},-193278.44999999998,0,{"$f":"J92+J93","v":-193278.44999999998},0]
[null,"в том числе собственное потребление",{"$f":"'Смета 2017 КОРР '!E78","v":10381},{"$f":"'Смета факт'!C188","v":0},{"$f":"'баланс ВСН'!L31","v":0},{"$f":"'баланс ВСН'!M31","v":0},{"$f":"'баланс ВСН'!L31","v":0},{"$f":"F92-C92","v":-10381},0,{"$f":"G92-C92","v":-10381},{"$f":"IF(C92=0,0,G92/C92)","v":0}]
[null,"                          сторонним потребителям",{"$f":"'Смета 2017 КОРР '!E79","v":182897.44999999998},{"$f":"'Смета факт'!C189","v":0},{"$f":"'баланс ВСН'!L32+'баланс ВСН'!L33","v":0},{"$f":"'баланс ВСН'!M32+'баланс ВСН'!M33","v":0},{"$f":"'баланс ВСН'!L32+'баланс ВСН'!L33","v":0},-182897.44999999998,0,-182897.44999999998,0]
["XII","Тариф на водоснабжение, руб/куб.м.",null,null,null,null,null,"х","х","х","х"]
[null,"01.01.2017-30.06.2017",{"$f":"'Смета 2017 КОРР '!F81","v":79.48},null,{"$f":"C95","v":79.48},0,79.48,"х","х","х","х"]
[null,"01.07.2017-31.12.2017",{"$f":"'Смета 2017 КОРР '!G82","v":82.552629711175797},null,82.552629711175797,0,82.552629711175797,"х","х","х","х"]
["XIII","Темп роста тарифа","х","х","х","х","х","х","х","х","х"]
[null,null,{"$f":"C12+C64+C65+C86+C87+C88+C89-C90","v":0},{"$f":"D12+D64+D65+D86+D87+D88+D89-D90","v":0},{"$f":"E12+E64+E65+E86+E87+E88+E89-E90","v":0},{"$f":"F12+F64+F65+F86+F87+F88+F89-F90","v":0},{"$f":"G12+G64+G65+G86+G87+G88+G89-G90","v":0},{"$f":"H12+H64+H65+H86+H87+H88+H89-H90","v":0},0,{"$f":"J12+J64+J65+J86+J87+J88+J89-J90","v":0},0]

{"sheet":"НВВ16ф","index":35,"n_rows":103,"n_cols":8,"rows_kept":103,"cut":false,"hidden":false,"merged":[[69,4,70,4],[0,0,0,4],[1,0,1,4],[9,4,11,4],[20,4,21,4],[31,0,32,0],[31,1,32,1],[31,2,32,2],[31,4,32,4],[20,7,21,7],[31,7,32,7],[45,7,46,7],[47,7,64,7],[75,0,76,0],[75,1,76,1],[75,2,76,2],[75,4,76,4],[75,7,76,7],[45,0,46,0],[45,1,46,1],[45,2,46,2],[45,4,46,4],[69,0,70,0],[69,1,70,1],[69,2,70,2],[69,7,70,7],[86,7,87,7],[98,7,99,7],[6,3,6,4],[6,6,6,7],[97,0,97,4],[98,0,99,0],[98,1,99,1],[98,2,99,2],[98,4,99,4],[86,0,87,0],[86,1,87,1],[86,2,87,2],[86,4,87,4],[47,4,64,4],[9,7,11,7]]}
["Расчет корректировки НВВ с целью учета отклонения фактических значений параметров расчета тарифов от значений, учтенных при установлении тарифов на 2017 год"]
[{"$f":"Титульный!C10","v":" "}]
[]
["Район",{"$f":"Титульный!C6","v":0},null,"МО",{"$f":"Титульный!C7","v":0}]
[]
["I. ПРИНИМАЕМЫЙ К РАСЧЕТУ ФАКТИЧЕСКИЙ БАЛАНС ВОДОСНАБЖЕНИЯ"]
[null,null,null,"по данным организации",null,null,"по данным эксперта"]
["№ п/п","Наименование показателей","Ед.изм",{"$f":"CONCATENATE(Титульный!C17,\" год\")","v":"2017 год"},"Примечание",null,{"$f":"CONCATENATE(Титульный!C17,\" год\")","v":"2017 год"},"Примечание"]
["1.","Поднято воды","куб.м.",{"$f":"D13+D11-D10-D12","v":0},null,null,{"$f":"G13+G11-G10-G12","v":0}]
["2.","Доочищенная сточная вода для нужд технического водоснабжения","куб.м.",{"$f":"'баланс ВСН'!I14","v":0},"фактические данные организации в соответствии с отчетом о выполнении ПП за 2017 год, представленным к 01.04.2017 г",null,{"$f":"'баланс ВСН'!L14","v":0},"фактические данные организации в соответствии с отчетом о выполнении ПП за 2017 год, представленным к 01.04.2017 г"]
["3.","Расход воды на хозяйственные и технологические нужды","куб.м.",{"$f":"'баланс ВСН'!I16","v":0},null,null,{"$f":"'баланс ВСН'!L16","v":0}]
["4.","Получено воды  со стороны","куб.м.",{"$f":"'баланс ВСН'!I22","v":0},null,null,{"$f":"'баланс ВСН'!L22","v":0}]
["5.","Подано воды в водопроводную сеть","куб.м.",{"$f":"D14+D16","v":0},null,null,{"$f":"G14+G16","v":0}]
["6.","Потери воды в водопроводных сетях    ","куб.м.",{"$f":"IF(D15=0,0,D16/(1-D15/100)-D16)","v":0},null,null,{"$f":"IF(G15=0,0,G16/(1-G15/100)-G16)","v":0}]
["6.1."," то же в % к отпуску в сеть","%",{"$f":"'баланс ВСН'!I28","v":0},"величина, утвержденная в Приложении 2 к приказу  \"Об утверждении производственной программы, установлении долгосрочных параметров регулирования и тарифов\" ",null,{"$f":"'баланс ВСН'!L28","v":0},"величина, утвержденная в Приложении 2 к приказу  \"Об утверждении производственной программы, установлении долгосрочных параметров регулирования и тарифов\" "]
["7.","Отпущено (реализовано) воды  всего","куб.м.",{"$f":"'баланс ВСН'!I30","v":0},"фактические данные организации в соответствии с отчетом о выполнении ПП за 2017 год, представленным к 01.04.2017 г",null,{"$f":"'баланс ВСН'!L30","v":0},"фактические данные организации в соответствии с отчетом о выполнении ПП за 2017 год, представленным к 01.04.2017 г"]
[]
[]
["II. ОПЕРАЦИОННЫЕ РАСХОДЫ"]
["№ п/п","Показатель","Ед.изм",{"$f":"Титульный!C17","v":"2017"},null,null,{"$f":"Титульный!C17","v":"2017"}]
["1.","Базовый уровень операционных расходов","руб",{"$f":"'данные об организации'!F50*1000","v":0},"значения показателей, утвержденных в Приложении 2 к приказу  \"Об утверждении производственной программы, установлении долгосрочных параметров регулирования и тарифов\" ",null,{"$f":"'данные об организации'!F50","v":0},"значения показателей, утвержденных в Приложении 2 к приказу  \"Об утверждении производственной программы, установлении долгосрочных параметров регулирования и тарифов\" "]
["2.","индекс эффективности расходов","%",{"$f":"IF('данные об организации'!F49=НВВ16ф!D20,'данные об организации'!F51,IF('данные об организации'!G49=НВВ16ф!D20,'данные об организации'!G51,IF('данные об организации'!H49=НВВ16ф!D20,'данные об организации'!H51,0)))","v":0},null,null,{"$f":"IF('данные об организации'!F49=НВВ16ф!D20,'данные об организации'!F51,IF('данные об организации'!G49=НВВ16ф!D20,'данные об организации'!G51,IF('данные об организации'!H49=НВВ16ф!D20,'данные об организации'!H51,0)))","v":0}]
["3.","фактический индекс потребительских цен","-"]
["4.","индекс количества активов","%",{"$f":"IF(D21=0,0,0.75*D26/100*D25/100+D27/D21)","v":0},null,null,{"$f":"IF(G21=0,0,0.75*G26/100*G25/100+G27/G21)","v":0}]
["4.1","изменение количества условных метров водопроводной  сети","%",{"$f":"'Техн характер системы'!G104","v":0},null,null,{"$f":"'Техн характер системы'!F105","v":0}]
["4.2","доля операционных расходов на транспортировку воды, установленная исходя из размера соответствующей доли расходов за последний отчетный год\n","%",null,"приложить расчет-обоснование с пояснительной запиской",null,null,"приложить расчет-обоснование с пояснительной запиской"]
["4.3","изменение операционных расходов на водоподготовку, связанное с вводом в эксплуатацию нового объекта водоподготовки\n","руб",null,"приложить расчет-обоснование с пояснительной запиской",null,null,"приложить расчет-обоснование с пояснительной запиской"]
["II","Операционные расходы","руб",{"$f":"D21*(1+D24)","v":0},null,null,{"$f":"G21*(1+G24)","v":0}]
[]
[]
["III. РАСХОДЫ НА ЭЛЕКТРОЭНЕРГИЮ"]
["№ п/п","Показатель","Ед.изм",{"$f":"CONCATENATE(Титульный!C17,\" год\")","v":"2017 год"},"Примечание",null,{"$f":"CONCATENATE(Титульный!C17,\" год\")","v":"2017 год"},"Примечание"]
[null,null,null,"Значение",null,null,"Значение"]
["1.1","Удельный расход электроэнергии, потребляемой в технологическом процессе для подготовки воды на единицу объема воды, отпускаемой в сеть","кВт.ч / куб.м",{"$f":"'данные об организации'!F54","v":0},"величина, утвержденная в Приложении 2 к приказу  \"Об утверждении производственной программы, установлении долгосрочных параметров регулирования и тарифов\" ",null,{"$f":"D34","v":0},"величина, утвержденная в Приложении 2 к приказу  \"Об утверждении производственной программы, установлении долгосрочных параметров регулирования и тарифов\" "]
["1.2","Объем воды, отпускаемой в сеть","куб.м.",{"$f":"D13","v":0},null,null,{"$f":"G13","v":0}]
["1.3","Расход электроэнергии на подготовку воды","кВтч",{"$f":"D34*D35","v":0},null,null,{"$f":"G34*G35","v":0}]
["2.1","Удельный расход электроэнергии, потребляемой в технологическом процессе транспортировки воды на единицу объема транспортируемой воды","кВт.ч / куб.м",{"$f":"'данные об организации'!F55","v":0},"величина, утвержденная в Приложении 2 к приказу  \"Об утверждении производственной программы, установлении долгосрочных параметров регулирования и тарифов\" ",null,{"$f":"D37","v":0},"величина, утвержденная в Приложении 2 к приказу  \"Об утверждении производственной программы, установлении долгосрочных параметров регулирования и тарифов\" "]
["2.2","Объем реализации воды","куб.м.",{"$f":"D16","v":0},null,null,{"$f":"G16","v":0}]
["2.3","Расход электроэнергии на транспортировку воды","кВтч",{"$f":"D37*D38","v":0},null,null,{"$f":"G37*G38","v":0}]
[3,"Итого расход электроэнергии","кВтч",{"$f":"D36+D39","v":0},null,null,{"$f":"G36+G39","v":0}]
[4,"Фактический тариф на электроэнергию с учетом оплаты мощности","руб/кВт",{"$f":"'отчет по электроэнергии'!E13","v":0},"расчет фактического тарифа на листе \"РЭ\"",null,{"$f":"D41","v":0},"расчет фактического тарифа на листе \"РЭ\""]
["III","Расходы на электроэнергию","руб",{"$f":"D40*D41","v":0},null,null,{"$f":"G40*G41","v":0}]
[]
[]
["IV.НЕПОДКОНТРОЛЬНЫЕ РАСХОДЫ"]
["№ п/п","Показатель","Ед.изм",{"$f":"CONCATENATE(Титульный!C17,\" год\")","v":"2017 год"},"Примечание",null,{"$f":"CONCATENATE(Титульный!C17,\" год\")","v":"2017 год"},"Примечание"]
[null,null,null,"Значение",null,null,"Значение"]
["1","Расходы на оплату товаров (услуг, работ), приобретаемых у других организаций","руб",{"$f":"D49+D50+D51+D52+D53","v":0},"фактические данные организации в соответствии с отчетом о выполнении ПП за 2017 год, представленным к 01.04.2017 г",null,{"$f":"G49+G50+G51+G52+G53","v":0},"фактические данные организации в соответствии с отчетом о выполнении ПП за 2017 год, представленным к 01.04.2017 г"]
["1.1.","Расходы на тепловую энергию","руб",{"$f":"IF(Титульный!C25=\"метод экономически обоснованных расходов\",'анализ факт сметы МЭОР'!D21,'анализ факт сметы  КОРР'!D67)","v":0},null,null,{"$f":"IF(Титульный!C25=\"метод экономически обоснованных расходов\",'анализ факт сметы МЭОР'!F21,'анализ факт сметы  КОРР'!G67)","v":0}]
["1.2","Расходы на покупку воды","руб",{"$f":"IF(Титульный!C25=\"метод экономически обоснованных расходов\",'анализ факт сметы МЭОР'!D25,'анализ факт сметы  КОРР'!D68)","v":0},null,null,{"$f":"IF(Титульный!C26=\"метод экономически обоснованных расходов\",'анализ факт сметы МЭОР'!F25,'анализ факт сметы  КОРР'!G68)","v":0}]
["1.3","Услуги по холодному водоснабжению (подъем, очистка)","руб",{"$f":"IF(Титульный!C25=\"метод экономически обоснованных расходов\",'анализ факт сметы МЭОР'!D31+'анализ факт сметы МЭОР'!D32,'анализ факт сметы  КОРР'!D69)","v":0},null,null,{"$f":"IF(Титульный!C27=\"метод экономически обоснованных расходов\",'анализ факт сметы МЭОР'!F31+'анализ факт сметы МЭОР'!F32,'анализ факт сметы  КОРР'!G69)","v":0}]
["1.4","Услуги по транспортировке холодной воды","руб",{"$f":"IF(Титульный!C25=\"метод экономически обоснованных расходов\",'анализ факт сметы МЭОР'!D33,'анализ факт сметы  КОРР'!D70)","v":0},null,null,{"$f":"IF(Титульный!C28=\"метод экономически обоснованных расходов\",'анализ факт сметы МЭОР'!F33,'анализ факт сметы  КОРР'!G70)","v":0}]
["1.5","Расходы на прочие энергоресурсы","руб",{"$f":"IF(Титульный!C25=\"метод экономически обоснованных расходов\",'анализ факт сметы МЭОР'!D24+'анализ факт сметы МЭОР'!D23+'анализ факт сметы МЭОР'!D22,'анализ факт сметы  КОРР'!D71)","v":0},null,null,{"$f":"IF(Титульный!C29=\"метод экономически обоснованных расходов\",'анализ факт сметы МЭОР'!F24+'анализ факт сметы МЭОР'!F23+'анализ факт сметы МЭОР'!F22,'анализ факт сметы  КОРР'!G71)","v":0}]
["2","Налоги и сборы","руб",{"$f":"D55+D56+D57+D58+D59+D60+D61","v":0},null,null,{"$f":"G55+G56+G57+G58+G59+G60+G61","v":0}]
["2.1","Налог на прибыль (единый налог, уплачиваемый при УСН)","руб",{"$f":"IF(Титульный!C25=\"метод экономически обоснованных расходов\",'анализ факт сметы МЭОР'!D179+'анализ факт сметы МЭОР'!D180,'анализ факт сметы  КОРР'!D73)","v":0},null,null,{"$f":"IF(Титульный!C25=\"метод экономически обоснованных расходов\",'анализ факт сметы МЭОР'!F179+'анализ факт сметы МЭОР'!F180,'анализ факт сметы  КОРР'!G73)","v":0}]
["2.2","Налог на имущество организаций","руб",{"$f":"IF(Титульный!C25=\"метод экономически обоснованных расходов\",'анализ факт сметы МЭОР'!D168,'анализ факт сметы  КОРР'!D74)","v":0},null,null,{"$f":"IF(Титульный!C26=\"метод экономически обоснованных расходов\",'анализ факт сметы МЭОР'!F168,'анализ факт сметы  КОРР'!G74)","v":0}]
["2.3","Земельный налог и арендная плата за землю","руб",{"$f":"IF(Титульный!C25=\"метод экономически обоснованных расходов\",'анализ факт сметы МЭОР'!D167,'анализ факт сметы  КОРР'!D75)","v":0},null,null,{"$f":"IF(Титульный!C27=\"метод экономически обоснованных расходов\",'анализ факт сметы МЭОР'!F167,'анализ факт сметы  КОРР'!G75)","v":0}]
["2.4","Водный налог (плата за пользование водным объктом)","руб",{"$f":"IF(Титульный!C25=\"метод экономически обоснованных расходов\",'анализ факт сметы МЭОР'!D166,'анализ факт сметы  КОРР'!D76)","v":0},null,null,{"$f":"IF(Титульный!C28=\"метод экономически обоснованных расходов\",'анализ факт сметы МЭОР'!F166,'анализ факт сметы  КОРР'!G76)","v":0}]
["2.5","Транспортный налог","руб",{"$f":"IF(Титульный!C25=\"метод экономически обоснованных расходов\",'анализ факт сметы МЭОР'!D170,'анализ факт сметы  КОРР'!D77)","v":0},null,null,{"$f":"IF(Титульный!C29=\"метод экономически обоснованных расходов\",'анализ факт сметы МЭОР'!F170,'анализ факт сметы  КОРР'!G77)","v":0}]
["2.6","Плата за негативное воздействие на окружающую среду","руб",{"$f":"IF(Титульный!C25=\"метод экономически обоснованных расходов\",'анализ факт сметы МЭОР'!D169,'анализ факт сметы  КОРР'!D78)","v":0},null,null,{"$f":"IF(Титульный!C30=\"метод экономически обоснованных расходов\",'анализ факт сметы МЭОР'!F169,'анализ факт сметы  КОРР'!G78)","v":0}]
["2.7","Прочие налоги и сборы","руб",{"$f":"IF(Титульный!C25=\"метод экономически обоснованных расходов\",'анализ факт сметы МЭОР'!D171,'анализ факт сметы  КОРР'!D79)","v":0},null,null,{"$f":"IF(Титульный!C31=\"метод экономически обоснованных расходов\",'анализ факт сметы МЭОР'!F171,'анализ факт сметы  КОРР'!G79)","v":0}]
["3","Арендная и концессионная плата, лизинговые платежи","руб",{"$f":"IF(Титульный!C26=\"метод экономически обоснованных расходов\",'анализ факт сметы МЭОР'!D160,'анализ факт сметы  КОРР'!D80)","v":0},null,null,{"$f":"IF(Титульный!C32=\"метод экономически обоснованных расходов\",'анализ факт сметы МЭОР'!F160,'анализ факт сметы  КОРР'!G80)","v":0}]
["4","Расходы на обслуживание бесхозяйных сетей","руб",{"$f":"IF(Титульный!C25=\"метод экономически обоснованных расходов\",'анализ факт сметы МЭОР'!P187,'анализ факт сметы  КОРР'!D83)","v":0},null,null,{"$f":"IF(Титульный!C25=\"метод экономически обоснованных расходов\",'анализ факт сметы МЭОР'!R187,'анализ факт сметы  КОРР'!G83)","v":0}]
["5","Займы и кредиты (для метода индексации)","руб",{"$f":"IF(Титульный!C26=\"метод экономически обоснованных расходов\",'анализ факт сметы МЭОР'!D175,'анализ факт сметы  КОРР'!D85)","v":0},null,null,{"$f":"IF(Титульный!C26=\"метод экономически обоснованных расходов\",'анализ факт сметы МЭОР'!F175,'анализ факт сметы  КОРР'!G85)","v":0}]
["6",null,"руб"]
["IV.","Неподконтрольные расходы всего","руб",{"$f":"D48+D54+D62+D63+D64+D65","v":0},null,null,{"$f":"G48+G54+G62+G63+G64+G65","v":0}]
[]
[]
["V.АМОРТИЗАЦИЯ"]
["№ п/п","Показатель","Ед.изм",{"$f":"CONCATENATE(Титульный!C17,\" год\")","v":"2017 год"},"Примечание",null,{"$f":"CONCATENATE(Титульный!C17,\" год\")","v":"2017 год"},"Примечание"]
[null,null,null,"Значение",null,null,"Значение"]
["V.","Расходы на амортизацию основных средств","руб",{"$f":"IF(Титульный!C25=\"метод экономически обоснованных расходов\",'анализ факт сметы МЭОР'!D157,'анализ факт сметы  КОРР'!D86)","v":0},"если у организации отсутствует утвержденная в установленном порядке ИПР, то сумма амортизации принимается по плану на 2017 год",null,{"$f":"IF(Титульный!C26=\"метод экономически обоснованных расходов\",'анализ факт сметы МЭОР'!F157,'анализ факт сметы  КОРР'!G86)","v":0},"если у организации отсутствует утвержденная в установленном порядке ИПР, то сумма амортизации принимается по плану на 2017 год"]
[]
[]
["VI.НОРМАТИВНАЯ ПРИБЫЛЬ"]
["№ п/п","Показатель","Ед.изм",{"$f":"Титульный!C17","v":"2017"},"Примечание",null,{"$f":"Титульный!C17","v":"2017"},"Примечание"]
[null,null,null,"Значение",null,null,"Значение"]
[1,"Нормативный уровень прибыли","%",{"$f":"IF('данные об организации'!F49=D76,'данные об организации'!F52,IF('данные об организации'!G49=D76,'данные об организации'!G52,IF('данные об организации'!H49=D76,'данные об организации'!H52,0)))","v":0},"величина, утвержденная в Приложении 2 к приказу  \"Об утверждении производственной программы, установлении долгосрочных параметров регулирования и тарифов\" ",null,{"$f":"IF('данные об организации'!F49=D76,'данные об организации'!F52,IF('данные об организации'!G49=D76,'данные об организации'!G52,IF('данные об организации'!H49=D76,'данные об организации'!H52,0)))","v":0},"величина, утвержденная в Приложении 2 к приказу  \"Об утверждении производственной программы, установлении долгосрочных параметров регулирования и тарифов\" "]
[2,"Текущие расходы","руб",{"$f":"D28+D42+D66","v":0},null,null,{"$f":"G28+G42+G66","v":0}]
[3,"Расходы на амортизацию основных средств","руб",{"$f":"D72","v":0},null,null,{"$f":"G72","v":0}]
["4.1.","Нормативная прибыль","руб",{"$f":"D78*(D79+D80)/100","v":0},"для организаций, которым установлен нормативный уровень прибыли в Приложении 2 к приказу  \"Об утверждении производственной программы, установлении долгосрочных параметров регулирования и тарифов\" ",null,{"$f":"G78*(G79+G80)/100","v":0},"для организаций, которым установлен нормативный уровень прибыли в Приложении 2 к приказу  \"Об утверждении производственной программы, установлении долгосрочных параметров регулирования и тарифов\" "]
["4.2.","Прибыль","руб",null,"организациям, которым в силу п.79 Основ ценообразования не устанавливается нормативный уровень прибыли, приложить расчет-обоснование с пояснительной запиской",null,null,"организациям, которым в силу п.79 Основ ценообразования не устанавливается нормативный уровень прибыли, приложить расчет-обоснование с пояснительной запиской"]
["VI.","Нормативная прибыль","руб",{"$f":"D81+D82","v":0},null,null,{"$f":"G81+G82","v":0}]
[]
[]
["VII.НЕОБХОДИМАЯ ВАЛОВАЯ ВЫРУЧКА ЗА 2017 ГОД НА ОСНОВЕ ФАКТИЧЕСКИХ ЗНАЧЕНИЙ ПАРАМЕТРОВ РАСЧЕТА ТАРИФОВ"]
["№ п/п","Показатель","Ед.изм",{"$f":"CONCATENATE(Титульный!C17,\" год\")","v":"2017 год"},"Примечание",null,{"$f":"CONCATENATE(Титульный!C17,\" год\")","v":"2017 год"},"Примечание"]
[null,null,null,"Значение",null,null,"Значение"]
["1","Операционные расходы","руб",{"$f":"D28","v":0},null,null,{"$f":"G28","v":0}]
["2","Расходы на электроэнергию","руб",{"$f":"D42","v":0},null,null,{"$f":"G42","v":0}]
["3","Неподконтрольные расходы","руб",{"$f":"D66","v":0},null,null,{"$f":"G66","v":0}]
["4","Амортизация","руб",{"$f":"D72","v":0},null,null,{"$f":"G72","v":0}]
["5","Нормативная прибыль","руб",{"$f":"D83","v":0},null,null,{"$f":"G83","v":0}]
["6","Величина изменения НВВ в целях сглаживания тарифов, учтенная на 2017 год","руб"]
["VII.","ВСЕГО НВВ за 2017 год","руб",{"$f":"SUM(D89:D94)","v":0},null,null,{"$f":"SUM(G89:G94)","v":0}]
[]
[]
["VIII. РАСЧЕТ КОРРЕКТИРОВКИ НВВ С ЦЕЛЬЮ УЧЕТА ОТКЛОНЕНИЯ ФАКТИЧЕСКИХ ЗНАЧЕНИЙ ПАРАМЕТРОВ РАСЧЕТА ТАРИФОВ ОТ ЗНАЧЕНИЙ, УЧТЕННЫХ ПРИ УСТАНОВЛЕНИИ ТАРИФОВ"]
["№ п/п","Показатель","Ед.изм",{"$f":"CONCATENATE(Титульный!C17,\" год\")","v":"2017 год"},"Примечание",null,{"$f":"CONCATENATE(Титульный!C17,\" год\")","v":"2017 год"},"Примечание"]
[null,null,null,"Значение",null,null,"Значение"]
["1","НВВ на основе фактических значений параметров расчета","руб",{"$f":"D95","v":0},null,null,{"$f":"G95","v":0}]
["2","Фактическая выручка организации за 2017 год","руб",{"$f":"'проверка баланса всн и реализац'!F23","v":0},"фактические данные организации в соответствии с отчетом о выполнении ПП за 2017 год, представленным к 01.04.2017 г с учетом реализации собственных нужд",null,null,"фактические данные организации в соответствии с отчетом о выполнении ПП за 2017 год, представленным к 01.04.2017 г с учетом реализации собственных нужд"]
["VIII.","Размер корректировки НВВ с целью учета отклонения фактических значений параметров расчета тарифов от плановых","руб",{"$f":"D101-D102","v":0},null,null,{"$f":"G101-G102","v":0}]

{"sheet":"расчет выпадающих","index":36,"n_rows":31,"n_cols":10,"rows_kept":31,"cut":false,"hidden":true,"merged":[[11,5,12,7],[11,8,12,9],[0,0,0,9],[2,0,4,0],[2,1,4,1],[2,2,3,4],[2,5,3,7],[2,8,3,9],[9,0,9,9],[11,0,13,0],[11,1,13,1],[11,2,12,4]]}
["Расчет выпадающих по полезному отпуску"]
[]
["№ п/п","Наименование показателя","План",null,null,"Факт по данным организации",null,null,"Отклонение"]
[]
[null,null,"01.01.-30.06.","01.07.-31.12.","2016 год","01.01.-30.06.","01.07.-31.12.","2016 год","абсолютное","в %"]
[1,"Полезный отпуск, куб.м",{"$f":"'Смета пл 2017 МЭОР'!B139/2","v":0},{"$f":"C6","v":0},{"$f":"C6+D6","v":0},{"$f":"SUM('полезный отпуск'!C18:C23)","v":0},{"$f":"SUM('полезный отпуск'!C24:C29)","v":0},{"$f":"F6+G6","v":0},{"$f":"H6-E6","v":0},{"$f":"IF(E6=0,0,H6/E6*100)","v":0}]
[2,"Тариф, руб/куб.м.",{"$f":"F7","v":0},{"$f":"G7","v":0},"х",{"$f":"'данные об организации'!I29","v":0},{"$f":"'данные об организации'!I31","v":0},"х","х","х"]
[3,"Выручка, руб.",{"$f":"C6*C7","v":0},{"$f":"D6*D7","v":0},{"$f":"C8+D8","v":0},{"$f":"F6*F7","v":0},{"$f":"G6*G7","v":0},{"$f":"F8+G8","v":0},{"$f":"H8-E8","v":0},{"$f":"IF(E8=0,0,H8/E8*100)","v":0}]
[]
["Расчет выпадающих по полезному отпуску"]
[]
["№ п/п","Наименование показателя","План",null,null,"Факт по данным эксперта",null,null,"Отклонение"]
[]
[null,null,"01.01.-30.06.","01.07.-31.12.","2016 год","01.01.-30.06.","01.07.-31.12.","2016 год","абсолютное","в %"]
[1,"Полезный отпуск, куб.м",{"$f":"C6","v":0},{"$f":"D6","v":0},{"$f":"C15+D15","v":0},{"$f":"IF(H6=0,,F6/H6*'баланс ВСН'!L30)","v":0},{"$f":"H15-F15","v":0},{"$f":"'баланс ВСН'!L30","v":0},{"$f":"H15-E15","v":0},{"$f":"IF(E15=0,0,H15/E15*100)","v":0}]
[2,"Тариф, руб/куб.м.",{"$f":"C7","v":0},{"$f":"D7","v":0},"х",{"$f":"F7","v":0},{"$f":"G7","v":0},"х","х","х"]
[3,"Выручка, руб.",{"$f":"C15*C16","v":0},{"$f":"D15*D16","v":0},{"$f":"C17+D17","v":0},{"$f":"F15*F16","v":0},{"$f":"G15*G16","v":0},{"$f":"F17+G17","v":0},{"$f":"H17-E17","v":0},{"$f":"IF(E17=0,0,H17/E17*100)","v":0}]
[]
[]
[]
[null,"Корректировка НВВ по результатам 2017 года (МЭОР)"]
[]
[null,"ПО",{"$f":"-'расчет выпадающих'!I17","v":0}]
[null,"Смета расходов",{"$f":"'анализ факт сметы МЭОР'!M187","v":0}]
[null,"ВСЕГО",{"$f":"C23+C24","v":0}]
[]
[null,"Корректировка НВВ по результатам 2017 года (КОРР)"]
[]
[null,"ПО",{"$f":"-'расчет выпадающих'!I17","v":0}]
[null,"Смета расходов",{"$f":"'анализ факт сметы  КОРР'!H90","v":-13687271.258926947}]
[null,"ВСЕГО",{"$f":"C29+C30","v":-13687271.258926947}]

{"sheet":"ЭЗ","index":37,"n_rows":80,"n_cols":10,"rows_kept":80,"cut":false,"hidden":true,"merged":[[13,0,14,1],[13,2,13,4],[13,5,14,5],[0,0,0,9],[2,0,4,0],[2,1,4,1],[2,2,3,4],[2,5,3,7],[2,8,3,9]]}
["Расчет выпадающих по полезному отпуску"]
[]
["№ п/п","Наименование показателя","План",null,null,"Факт по данным эксперта",null,null,"Отклонение"]
[]
[null,null,"01.01.-30.06.","01.07.-31.12.","2016 год","01.01.-30.06.","01.07.-31.12.","2016 год","абсолютное","в %"]
[1,"Полезный отпуск, тыс.куб.м",{"$f":"'расчет выпадающих'!C15/1000","v":0},{"$f":"'расчет выпадающих'!D15/1000","v":0},{"$f":"C6+D6","v":0},{"$f":"'расчет выпадающих'!F15/1000","v":0},{"$f":"'расчет выпадающих'!G15/1000","v":0},{"$f":"F6+G6","v":0},{"$f":"H6-E6","v":0},{"$f":"IF(E6=0,0,H6/E6*100)","v":0}]
[2,"Тариф, руб/куб.м.",{"$f":"'расчет выпадающих'!C16","v":0},{"$f":"'расчет выпадающих'!D16","v":0},null,{"$f":"'расчет выпадающих'!F16","v":0},{"$f":"'расчет выпадающих'!G16","v":0}]
[3,"Выручка, тыс.руб.",{"$f":"C6*C7","v":0},{"$f":"D6*D7","v":0},{"$f":"C8+D8","v":0},{"$f":"F6*F7","v":0},{"$f":"G6*G7","v":0},{"$f":"F8+G8","v":0},{"$f":"H8-E8","v":0},{"$f":"IF(E8=0,0,H8/E8*100)","v":0}]
[]
[]
[]
[]
[null,null,null,null,null,"тыс.рублей"]
["Наименование показателя",null,"2016 год",null,null,"отклонение (\"-\" - экономия, \"+\" - перерасход)            гр. 6=(гр. 5-гр.3)"]
[null,null,"план   ДТР ТО по установленным тарифам","факт по данным организации","Факт, принятый экспертом"]
[1,"Производственные расходы",{"$f":"C17+C20+C25+C29+C34","v":0},{"$f":"D17+D20+D25+D29+D34","v":0},0,{"$f":"E16-C16","v":0}]
["1.1.","Расходы на приобретение сырья и материалов и их хранение",{"$f":"C18+C19","v":0},{"$f":"D18+D19","v":0},0,{"$f":"E17-C17","v":0}]
["1.1.1.","Реагенты",{"$f":"'анализ факт сметы МЭОР'!I10/1000","v":0},{"$f":"'анализ факт сметы МЭОР'!J10/1000","v":0},{"$f":"'анализ факт сметы МЭОР'!L10/1000","v":0},0]
["1.1.2.","Материалы и малоценные основные средства",{"$f":"'анализ факт сметы МЭОР'!I9/1000-C18","v":0},{"$f":"'анализ факт сметы МЭОР'!J9/1000-D18","v":0},{"$f":"'анализ факт сметы МЭОР'!L9/1000-E18","v":0},0]
["1.2.","Расходы на энергетические ресурсы и холодную воду",{"$f":"C21+C22+C23+C24","v":0},{"$f":"D21+D22+D23+D24","v":0},0,0]
["1.2.1.","электроэнергия",{"$f":"'анализ факт сметы МЭОР'!I18/1000","v":0},{"$f":"'анализ факт сметы МЭОР'!J18/1000","v":0},{"$f":"'анализ факт сметы МЭОР'!L18/1000","v":0},0]
["1.2.2.","теплоэнергия",{"$f":"'анализ факт сметы МЭОР'!I21/1000","v":0},{"$f":"'анализ факт сметы МЭОР'!J21/1000","v":0},{"$f":"'анализ факт сметы МЭОР'!L21/1000","v":0},0]
["1.2.3.","вода",{"$f":"'анализ факт сметы МЭОР'!I25/1000","v":0},{"$f":"'анализ факт сметы МЭОР'!J25/1000","v":0},{"$f":"'анализ факт сметы МЭОР'!L25/1000","v":0},0]
["1.2.4.","прочие энергетические ресурсы на хозбытовые нужды",{"$f":"'анализ факт сметы МЭОР'!I17/1000-C23-C22-C21","v":0},{"$f":"'анализ факт сметы МЭОР'!J17/1000-D23-D22-D21","v":0},{"$f":"'анализ факт сметы МЭОР'!L17/1000-E23-E22-E21","v":0},0]
["1.3.","Услуги, оказываемые сторонними организациями",{"$f":"C26+C27+C28","v":0},{"$f":"D26+D27+D28","v":0},0,0]
["1.3.1.","услуги по подъему воды",{"$f":"'анализ факт сметы МЭОР'!I31/1000","v":0},{"$f":"'анализ факт сметы МЭОР'!J31/1000","v":0},{"$f":"'анализ факт сметы МЭОР'!L31/1000","v":0},0]
["1.3.2.","услуги по очистке воды",{"$f":"'анализ факт сметы МЭОР'!I32/1000","v":0},{"$f":"'анализ факт сметы МЭОР'!J32/1000","v":0},{"$f":"'анализ факт сметы МЭОР'!L32/1000","v":0},0]
["1.3.3.","услуги  по транспортированию воды",{"$f":"'анализ факт сметы МЭОР'!I33/1000","v":0},{"$f":"'анализ факт сметы МЭОР'!J33/1000","v":0},{"$f":"'анализ факт сметы МЭОР'!L33/1000","v":0},0]
["1.4.","Расходы на оплату труда и отчисления на социальные нужды основного производственного персонала, в том числе налоги и сборы:",{"$f":"C30+C33","v":0},{"$f":"D30+D33","v":0},0,0]
["1.4.1.","Расходы на оплату труда производственного персонала",{"$f":"'анализ факт сметы МЭОР'!I37/1000","v":0},{"$f":"'анализ факт сметы МЭОР'!J37/1000","v":0},{"$f":"'анализ факт сметы МЭОР'!L37/1000","v":0},0]
["1.4.1.1","численность ППП, чел",{"$f":"'анализ факт сметы МЭОР'!I38","v":0},{"$f":"'анализ факт сметы МЭОР'!J38","v":0},{"$f":"'анализ факт сметы МЭОР'!L38","v":0}]
[null,"средняя заработная плата, руб/чел",{"$f":"IF(C31=0,,C30/12/C31*1000)","v":0},{"$f":"IF(D31=0,,D30/12/D31*1000)","v":0},0]
["1.4.2.","Отчисления на социальные нужды производственного персонала, в том числе налоги и сборы",{"$f":"'анализ факт сметы МЭОР'!I40/1000","v":0},{"$f":"'анализ факт сметы МЭОР'!J40/1000","v":0},{"$f":"'анализ факт сметы МЭОР'!L40/1000","v":0},0]
["1.5.","Прочие производственные расходы",{"$f":"SUM(C35:C40)","v":0},{"$f":"SUM(D35:D40)","v":0},0,0]
["1.5.1.","Услуги вспомогательных производств",{"$f":"'анализ факт сметы МЭОР'!I45/1000","v":0},{"$f":"'анализ факт сметы МЭОР'!J45/1000","v":0},{"$f":"'анализ факт сметы МЭОР'!L45/1000","v":0},0]
["1.5.2.","Расходы на эксплуатацию, техническое обслуживание и ремонт автотранспорта",{"$f":"'анализ факт сметы МЭОР'!I51/1000","v":0},{"$f":"'анализ факт сметы МЭОР'!J51/1000","v":0},{"$f":"'анализ факт сметы МЭОР'!L51/1000","v":0},0]
["1.5.3.","Цеховые расходы",{"$f":"'анализ факт сметы МЭОР'!I57/1000","v":0},{"$f":"'анализ факт сметы МЭОР'!J57/1000","v":0},{"$f":"'анализ факт сметы МЭОР'!L57/1000","v":0},0]
["1.5.4.","Общепроизводственные расходы",{"$f":"'анализ факт сметы МЭОР'!I63/1000","v":0},{"$f":"'анализ факт сметы МЭОР'!J63/1000","v":0},{"$f":"'анализ факт сметы МЭОР'!L63/1000","v":0},0]
["1.5.5.","Контроль качества воды и сточных вод",{"$f":"'анализ факт сметы МЭОР'!I77/1000","v":0},{"$f":"'анализ факт сметы МЭОР'!J77/1000","v":0},{"$f":"'анализ факт сметы МЭОР'!L77/1000","v":0},0]
["1.5.6.","Прочие расходы",{"$f":"SUM(C41:C44)","v":0},{"$f":"SUM(D41:D44)","v":0},0,0]
["1.5.3.2.","расходы на охрану труда",{"$f":"'анализ факт сметы МЭОР'!I69/1000","v":0},{"$f":"'анализ факт сметы МЭОР'!J69/1000","v":0},{"$f":"'анализ факт сметы МЭОР'!L69/1000","v":0},0]
["1.5.3.3.","расходы на льготный проезд",{"$f":"'анализ факт сметы МЭОР'!I75/1000","v":0},{"$f":"'анализ факт сметы МЭОР'!J75/1000","v":0},{"$f":"'анализ факт сметы МЭОР'!L75/1000","v":0},0]
["1.5.3.4.","расходы на содержание зданий",{"$f":"'анализ факт сметы МЭОР'!I76/1000","v":0},{"$f":"'анализ факт сметы МЭОР'!J76/1000","v":0},{"$f":"'анализ факт сметы МЭОР'!L76/1000","v":0},0]
["1.5.3.5.","прочие цеховые расходы",{"$f":"'анализ факт сметы МЭОР'!I105/1000","v":0},{"$f":"'анализ факт сметы МЭОР'!J105/1000","v":0},{"$f":"'анализ факт сметы МЭОР'!L105/1000","v":0}]
[2,"Ремонтные расходы",{"$f":"C46+C47","v":0},{"$f":"D46+D47","v":0},0,0]
["2.1.","Расходы на текущий ремонт централизованных систем водоснабжения и (или) водоотведения либо объектов, входящих в состав таких систем",{"$f":"'анализ факт сметы МЭОР'!I81/1000","v":0},{"$f":"'анализ факт сметы МЭОР'!J81/1000","v":0},{"$f":"'анализ факт сметы МЭОР'!L81/1000","v":0},0]
["2.2.","Расходы на капитальный ремонт централизованных систем водоснабжения и (или) водоотведения либо объектов, входящих в состав таких систем",{"$f":"'анализ факт сметы МЭОР'!I93/1000","v":0},{"$f":"'анализ факт сметы МЭОР'!J93/1000","v":0},{"$f":"'анализ факт сметы МЭОР'!L93/1000","v":0},0]
[3,"Расходы на обслуживание и ремонт бесхозяйных сетей",{"$f":"'анализ факт сметы МЭОР'!O187/1000","v":0},{"$f":"'анализ факт сметы МЭОР'!P187/1000","v":0},{"$f":"'анализ факт сметы МЭОР'!R187/1000","v":0},0]
[4,"Административные расходы",{"$f":"C50+C53+C54","v":0},{"$f":"D50+D53+D54","v":0},0,0]
["4.1.","Расходы на оплату труда административно-управленческого персонала",{"$f":"'анализ факт сметы МЭОР'!I134/1000","v":0},{"$f":"'анализ факт сметы МЭОР'!J134/1000","v":0},{"$f":"'анализ факт сметы МЭОР'!L134/1000","v":0},0]
["4.1.1.","численность персонала, относимого на данный вид деятельности, чел",{"$f":"'анализ факт сметы МЭОР'!I135","v":0},{"$f":"'анализ факт сметы МЭОР'!J135","v":0},{"$f":"'анализ факт сметы МЭОР'!L135","v":0}]
["4.1.2.","средняя заработная плата, руб/чел",{"$f":"IF(C51=0,,C50/12/C51*1000)","v":0},{"$f":"IF(D51=0,,D50/12/D51*1000)","v":0},0]
["4.2.","Отчисления на социальные нужды административно-управленческого персонала, в том числе налоги и сборы",{"$f":"'анализ факт сметы МЭОР'!I137/1000","v":0},{"$f":"'анализ факт сметы МЭОР'!J137/1000","v":0},{"$f":"'анализ факт сметы МЭОР'!L137/1000","v":0},0]
["4.3.","Прочие административные расходы",{"$f":"'анализ факт сметы МЭОР'!I138/1000","v":0},{"$f":"'анализ факт сметы МЭОР'!J138/1000","v":0},{"$f":"'анализ факт сметы МЭОР'!L138/1000","v":0},0]
[5,"Сбытовые расходы гарантирующих организаций",{"$f":"'анализ факт сметы МЭОР'!I154/1000","v":0},{"$f":"'анализ факт сметы МЭОР'!J154/1000","v":0},{"$f":"'анализ факт сметы МЭОР'!L154/1000","v":0},0]
["5.1.","Расходы ГО по сомнительным долгам, в размере не более 2% НВВ",{"$f":"'анализ факт сметы МЭОР'!I155/1000","v":0},{"$f":"'анализ факт сметы МЭОР'!J155/1000","v":0},{"$f":"'анализ факт сметы МЭОР'!L155/1000","v":0},0]
[6,"Амортизация",{"$f":"'анализ факт сметы МЭОР'!I157/1000","v":0},{"$f":"'анализ факт сметы МЭОР'!J157/1000","v":0},{"$f":"'анализ факт сметы МЭОР'!L157/1000","v":0},0]
[7,"Расходы на арендную плату, лизинговые платежи, концессионную плату",{"$f":"C59+C60+C61+C62","v":0},{"$f":"D59+D60+D61+D62","v":0},0,0]
["7.1.","Аренда имущества",{"$f":"'анализ факт сметы МЭОР'!I163/1000","v":0},{"$f":"'анализ факт сметы МЭОР'!J163/1000","v":0},{"$f":"'анализ факт сметы МЭОР'!L163/1000","v":0},0]
["7.2.","Концессионная плата",{"$f":"'анализ факт сметы МЭОР'!I162/1000","v":0},{"$f":"'анализ факт сметы МЭОР'!J162/1000","v":0},{"$f":"'анализ факт сметы МЭОР'!L162/1000","v":0},0]
["7.3.","Лизинговые платежи",{"$f":"'анализ факт сметы МЭОР'!I161/1000","v":0},{"$f":"'анализ факт сметы МЭОР'!J161/1000","v":0},{"$f":"'анализ факт сметы МЭОР'!L161/1000","v":0},0]
["7.4.","Аренда земельных участков",{"$f":"'анализ факт сметы МЭОР'!I164/1000","v":0},{"$f":"'анализ факт сметы МЭОР'!J164/1000","v":0},{"$f":"'анализ факт сметы МЭОР'!L164/1000","v":0},0]
[8,"Расходы, связанные с уплатой налогов и сборов",{"$f":"SUM(C64:C69)","v":0},{"$f":"SUM(D64:D69)","v":0},0,0]
["8.1.","водный налог",{"$f":"'анализ факт сметы МЭОР'!I166/1000","v":0},{"$f":"'анализ факт сметы МЭОР'!J166/1000","v":0},{"$f":"'анализ факт сметы МЭОР'!L166/1000","v":0},0]
["8.2.","налог на землю",{"$f":"'анализ факт сметы МЭОР'!I167/1000","v":0},{"$f":"'анализ факт сметы МЭОР'!J167/1000","v":0},{"$f":"'анализ факт сметы МЭОР'!L167/1000","v":0},0]
["8.3.","налог на имущество",{"$f":"'анализ факт сметы МЭОР'!I168/1000","v":0},{"$f":"'анализ факт сметы МЭОР'!J168/1000","v":0},{"$f":"'анализ факт сметы МЭОР'!L168/1000","v":0},0]
["8.4.","плата за загрязнение окружающей среды",{"$f":"'анализ факт сметы МЭОР'!I169/1000","v":0},{"$f":"'анализ факт сметы МЭОР'!J169/1000","v":0},{"$f":"'анализ факт сметы МЭОР'!L169/1000","v":0},0]
["8.5.","транспортный налог",{"$f":"'анализ факт сметы МЭОР'!I170/1000","v":0},{"$f":"'анализ факт сметы МЭОР'!J170/1000","v":0},{"$f":"'анализ факт сметы МЭОР'!L170/1000","v":0},0]
["8.6.","прочие налоги и сборы",{"$f":"'анализ факт сметы МЭОР'!I171/1000","v":0},{"$f":"'анализ факт сметы МЭОР'!J171/1000","v":0},{"$f":"'анализ факт сметы МЭОР'!L171/1000","v":0},0]
[9,"ИТОГО СЕБЕСТОИМОСТЬ (сумма стр 1+стр 2+…+ стр 8)",{"$f":"SUM(C16,C45,C48,C49,C55,C57:C58,C63)","v":0},{"$f":"SUM(D16,D45,D48,D49,D55,D57:D58,D63)","v":0},0]
[10,"Нормативная прибыль",{"$f":"C73+C74+C75+C76","v":0},{"$f":"D73+D74+D75+D76","v":0},0,0]
[null,"в том числе в %",{"$f":"(C71-C77-C78)/C70","v":{"$error":"#DIV/0!"}},{"$f":"(D71-D77-D78)/D70","v":{"$error":"#DIV/0!"}},{"$error":"#DIV/0!"},{"$error":"#DIV/0!"}]
["9.1.","средства на возврат займов и кредитов и процентов по ним",{"$f":"'анализ факт сметы МЭОР'!I175/1000","v":0},{"$f":"'анализ факт сметы МЭОР'!J175/1000","v":0},{"$f":"'анализ факт сметы МЭОР'!L175/1000","v":0},0]
["9.2.","расходы на капитальные вложения (инвестиции)",{"$f":"'анализ факт сметы МЭОР'!I176/1000","v":0},{"$f":"'анализ факт сметы МЭОР'!J176/1000","v":0},{"$f":"'анализ факт сметы МЭОР'!L176/1000","v":0},0]
["9.3.","денежные выплаты социального характера (по коллективному договору)",{"$f":"'анализ факт сметы МЭОР'!I177/1000","v":0},{"$f":"'анализ факт сметы МЭОР'!J177/1000","v":0},{"$f":"'анализ факт сметы МЭОР'!L177/1000","v":0},0]
["9.4.","прибыль, обеспечивающая финансирование других расходов, не учитываемых  при определении налоговой бызы налога на прибыль (остающаяся в распоряжении организации)",{"$f":"'анализ факт сметы МЭОР'!I178/1000","v":0},{"$f":"'анализ факт сметы МЭОР'!J178/1000","v":0},{"$f":"'анализ факт сметы МЭОР'!L178/1000","v":0},0]
[11,"Налог на прибыль",{"$f":"'анализ факт сметы МЭОР'!I179/1000","v":0},{"$f":"'анализ факт сметы МЭОР'!J179/1000","v":0},{"$f":"'анализ факт сметы МЭОР'!L179/1000","v":0},0]
[null,"(или)единый налог при УСН ",{"$f":"'анализ факт сметы МЭОР'!I180/1000","v":0},{"$f":"'анализ факт сметы МЭОР'!J180/1000","v":0},{"$f":"'анализ факт сметы МЭОР'!L180/1000","v":0},0]
[12,"ВСЕГО (стр 9+стр 10+стр11)",{"$f":"C70+C71+C77+C78","v":0},{"$f":"D70+D71+D77+D78","v":0},0,0]
[null,null,{"$f":"C79*1000-'анализ факт сметы МЭОР'!C187","v":0},{"$f":"D79*1000-'анализ факт сметы МЭОР'!D187","v":0},{"$f":"E79*1000-'анализ факт сметы МЭОР'!F187","v":0}]